{"text_format":"2","workbook":"xlsx","n_sheets":9,"sheets":["Summary","Base Data Combined","Growth","All_Unall2","RAW DATA_CT0554","Cntrol","Output Areas","Defs","Defs 2"],"not_rendered":{"charts":0,"images":1,"macros":0,"external_links":1,"defined_names":7,"comments":0,"pivot_tables":0},"unopened":[],"bounds":{"document_bytes":16777216,"sheet_cells":100000,"run_cost":"one","rows_first":2000,"rows_last":500,"rows_between":2000,"halvings":0,"cell_chars":16384,"cell_head_chars":4096},"cells_cut":0,"cells_raw":0,"read":"whole","date_system":"1900"}

{"sheet":"Summary","index":0,"n_rows":45,"n_cols":15,"rows_kept":45,"cut":false,"hidden":false,"merged":[[35,10,35,13],[36,10,43,13],[41,1,41,4],[43,1,43,4],[14,1,14,7],[14,8,14,9],[14,10,14,14]]}
[]
[]
[]
[]
[]
[null,"Area"]
{"$rows_empty":8}
[null,"Development Information",{"$nulls":6},"Allocated Parking",null,"Parking Demand"]
[null,"Unit Type","Unit Type","Unit Tenure","Unit Tenure",null,"Bedrooms\n(Per Unit)","Number of Units","Allocated Spaces (Per Unit)","Total Allocated Spaces","Unallocated Demand (Per Unit)","Total Unallocated Demand","Visitor Parking (Per Unit)","Total Visitor Parking","Total Parking"]
["A",null,{"$f":"IF(B17=\"Flat\",\"A flat; maisonette; apartment\",\"Detached; semi-detached; terraced whole house or bungalow\")","v":"Detached; semi-detached; terraced whole house or bungalow"},null,{"$f":"IF(D17=\"Shared Ownership/Rented\",\"Shared ownership or rented (excluding living rent free)\",\"Owned\")","v":"Owned"},{"$f":"CONCATENATE($B$7,C17,E17)","v":"Detached; semi-detached; terraced whole house or bungalowOwned"},null,null,null,{"$f":"I17*H17","v":0},{"$f":"IF(F17=All_Unall2!$B$2,VLOOKUP(G17,All_Unall2!$B$5:$E$8,I17+2),IF(F17=All_Unall2!$B$10,VLOOKUP(G17,All_Unall2!$B$13:$E$16,I17+2),IF(F17=All_Unall2!$B$18,VLOOKUP(G17,All_Unall2!$B$21:$E$24,I17+2),IF(F17=All_Unall2!$B$26,VLOOKUP(G17,All_Unall2!$B$29:$E$32,I17+2),IF(F17=All_Unall2!$B$34,VLOOKUP(G17,All_Unall2!$B$37:$E$40,I17+2),IF(F17=All_Unall2!$B$42,VLOOKUP(G17,All_Unall2!$B$45:$E$48,I17+2),IF(F17=All_Unall2!$B$50,VLOOKUP(G17,All_Unall2!$B$53:$E$56,I17+2),IF(F17=All_Unall2!$B$58,VLOOKUP(G17,All_Unall2!$B$61:$E$64,I17+2),IF(F17=All_Unall2!$B$66,VLOOKUP(G17,All_Unall2!$B$69:$E$72,I17+2),IF(F17=All_Unall2!$B$74,VLOOKUP(G17,All_Unall2!$B$77:$E$80,I17+2),IF(F17=All_Unall2!$B$82,VLOOKUP(G17,All_Unall2!$B$85:$E$88,I17+2),IF(F17=All_Unall2!$B$90,VLOOKUP(G17,All_Unall2!$B$93:$E$96,I17+2),9999999))))))))))))","v":9999999},{"$f":"K17*H17","v":0},{"$f":"IF(J17>L17,0.2,0)","v":0},{"$f":"M17*H17","v":0},{"$f":"N17+L17+J17","v":0}]
["B",null,{"$f":"IF(B18=\"Flat\",\"A flat; maisonette; apartment\",\"Detached; semi-detached; terraced whole house or bungalow\")","v":"Detached; semi-detached; terraced whole house or bungalow"},null,{"$f":"IF(D18=\"Shared Ownership/Rented\",\"Shared ownership or rented (excluding living rent free)\",\"Owned\")","v":"Owned"},"Detached; semi-detached; terraced whole house or bungalowOwned",null,null,null,{"$f":"I18*H18","v":0},{"$f":"IF(F18=All_Unall2!$B$2,VLOOKUP(G18,All_Unall2!$B$5:$E$8,I18+2),IF(F18=All_Unall2!$B$10,VLOOKUP(G18,All_Unall2!$B$13:$E$16,I18+2),IF(F18=All_Unall2!$B$18,VLOOKUP(G18,All_Unall2!$B$21:$E$24,I18+2),IF(F18=All_Unall2!$B$26,VLOOKUP(G18,All_Unall2!$B$29:$E$32,I18+2),IF(F18=All_Unall2!$B$34,VLOOKUP(G18,All_Unall2!$B$37:$E$40,I18+2),IF(F18=All_Unall2!$B$42,VLOOKUP(G18,All_Unall2!$B$45:$E$48,I18+2),IF(F18=All_Unall2!$B$50,VLOOKUP(G18,All_Unall2!$B$53:$E$56,I18+2),IF(F18=All_Unall2!$B$58,VLOOKUP(G18,All_Unall2!$B$61:$E$64,I18+2),IF(F18=All_Unall2!$B$66,VLOOKUP(G18,All_Unall2!$B$69:$E$72,I18+2),IF(F18=All_Unall2!$B$74,VLOOKUP(G18,All_Unall2!$B$77:$E$80,I18+2),IF(F18=All_Unall2!$B$82,VLOOKUP(G18,All_Unall2!$B$85:$E$88,I18+2),IF(F18=All_Unall2!$B$90,VLOOKUP(G18,All_Unall2!$B$93:$E$96,I18+2),9999999))))))))))))","v":9999999},{"$f":"K18*H18","v":0},{"$f":"IF(J18>L18,0.2,0)","v":0},{"$f":"M18*H18","v":0},{"$f":"N18+L18+J18","v":0}]
["C",null,"Detached; semi-detached; terraced whole house or bungalow",null,"Owned","Detached; semi-detached; terraced whole house or bungalowOwned",null,null,null,0,{"$f":"IF(F19=All_Unall2!$B$2,VLOOKUP(G19,All_Unall2!$B$5:$E$8,I19+2),IF(F19=All_Unall2!$B$10,VLOOKUP(G19,All_Unall2!$B$13:$E$16,I19+2),IF(F19=All_Unall2!$B$18,VLOOKUP(G19,All_Unall2!$B$21:$E$24,I19+2),IF(F19=All_Unall2!$B$26,VLOOKUP(G19,All_Unall2!$B$29:$E$32,I19+2),IF(F19=All_Unall2!$B$34,VLOOKUP(G19,All_Unall2!$B$37:$E$40,I19+2),IF(F19=All_Unall2!$B$42,VLOOKUP(G19,All_Unall2!$B$45:$E$48,I19+2),IF(F19=All_Unall2!$B$50,VLOOKUP(G19,All_Unall2!$B$53:$E$56,I19+2),IF(F19=All_Unall2!$B$58,VLOOKUP(G19,All_Unall2!$B$61:$E$64,I19+2),IF(F19=All_Unall2!$B$66,VLOOKUP(G19,All_Unall2!$B$69:$E$72,I19+2),IF(F19=All_Unall2!$B$74,VLOOKUP(G19,All_Unall2!$B$77:$E$80,I19+2),IF(F19=All_Unall2!$B$82,VLOOKUP(G19,All_Unall2!$B$85:$E$88,I19+2),IF(F19=All_Unall2!$B$90,VLOOKUP(G19,All_Unall2!$B$93:$E$96,I19+2),9999999))))))))))))","v":9999999},0,{"$f":"IF(J19>L19,0.2,0)","v":0},0,0]
["D",null,"Detached; semi-detached; terraced whole house or bungalow",null,"Owned","Detached; semi-detached; terraced whole house or bungalowOwned",null,null,null,0,{"$f":"IF(F20=All_Unall2!$B$2,VLOOKUP(G20,All_Unall2!$B$5:$E$8,I20+2),IF(F20=All_Unall2!$B$10,VLOOKUP(G20,All_Unall2!$B$13:$E$16,I20+2),IF(F20=All_Unall2!$B$18,VLOOKUP(G20,All_Unall2!$B$21:$E$24,I20+2),IF(F20=All_Unall2!$B$26,VLOOKUP(G20,All_Unall2!$B$29:$E$32,I20+2),IF(F20=All_Unall2!$B$34,VLOOKUP(G20,All_Unall2!$B$37:$E$40,I20+2),IF(F20=All_Unall2!$B$42,VLOOKUP(G20,All_Unall2!$B$45:$E$48,I20+2),IF(F20=All_Unall2!$B$50,VLOOKUP(G20,All_Unall2!$B$53:$E$56,I20+2),IF(F20=All_Unall2!$B$58,VLOOKUP(G20,All_Unall2!$B$61:$E$64,I20+2),IF(F20=All_Unall2!$B$66,VLOOKUP(G20,All_Unall2!$B$69:$E$72,I20+2),IF(F20=All_Unall2!$B$74,VLOOKUP(G20,All_Unall2!$B$77:$E$80,I20+2),IF(F20=All_Unall2!$B$82,VLOOKUP(G20,All_Unall2!$B$85:$E$88,I20+2),IF(F20=All_Unall2!$B$90,VLOOKUP(G20,All_Unall2!$B$93:$E$96,I20+2),9999999))))))))))))","v":9999999},0,0,0,0]
["E",null,"Detached; semi-detached; terraced whole house or bungalow",null,"Owned","Detached; semi-detached; terraced whole house or bungalowOwned",null,null,null,0,{"$f":"IF(F21=All_Unall2!$B$2,VLOOKUP(G21,All_Unall2!$B$5:$E$8,I21+2),IF(F21=All_Unall2!$B$10,VLOOKUP(G21,All_Unall2!$B$13:$E$16,I21+2),IF(F21=All_Unall2!$B$18,VLOOKUP(G21,All_Unall2!$B$21:$E$24,I21+2),IF(F21=All_Unall2!$B$26,VLOOKUP(G21,All_Unall2!$B$29:$E$32,I21+2),IF(F21=All_Unall2!$B$34,VLOOKUP(G21,All_Unall2!$B$37:$E$40,I21+2),IF(F21=All_Unall2!$B$42,VLOOKUP(G21,All_Unall2!$B$45:$E$48,I21+2),IF(F21=All_Unall2!$B$50,VLOOKUP(G21,All_Unall2!$B$53:$E$56,I21+2),IF(F21=All_Unall2!$B$58,VLOOKUP(G21,All_Unall2!$B$61:$E$64,I21+2),IF(F21=All_Unall2!$B$66,VLOOKUP(G21,All_Unall2!$B$69:$E$72,I21+2),IF(F21=All_Unall2!$B$74,VLOOKUP(G21,All_Unall2!$B$77:$E$80,I21+2),IF(F21=All_Unall2!$B$82,VLOOKUP(G21,All_Unall2!$B$85:$E$88,I21+2),IF(F21=All_Unall2!$B$90,VLOOKUP(G21,All_Unall2!$B$93:$E$96,I21+2),9999999))))))))))))","v":9999999},0,0,0,0]
["F",null,"Detached; semi-detached; terraced whole house or bungalow",null,"Owned","Detached; semi-detached; terraced whole house or bungalowOwned",null,null,null,0,{"$f":"IF(F22=All_Unall2!$B$2,VLOOKUP(G22,All_Unall2!$B$5:$E$8,I22+2),IF(F22=All_Unall2!$B$10,VLOOKUP(G22,All_Unall2!$B$13:$E$16,I22+2),IF(F22=All_Unall2!$B$18,VLOOKUP(G22,All_Unall2!$B$21:$E$24,I22+2),IF(F22=All_Unall2!$B$26,VLOOKUP(G22,All_Unall2!$B$29:$E$32,I22+2),IF(F22=All_Unall2!$B$34,VLOOKUP(G22,All_Unall2!$B$37:$E$40,I22+2),IF(F22=All_Unall2!$B$42,VLOOKUP(G22,All_Unall2!$B$45:$E$48,I22+2),IF(F22=All_Unall2!$B$50,VLOOKUP(G22,All_Unall2!$B$53:$E$56,I22+2),IF(F22=All_Unall2!$B$58,VLOOKUP(G22,All_Unall2!$B$61:$E$64,I22+2),IF(F22=All_Unall2!$B$66,VLOOKUP(G22,All_Unall2!$B$69:$E$72,I22+2),IF(F22=All_Unall2!$B$74,VLOOKUP(G22,All_Unall2!$B$77:$E$80,I22+2),IF(F22=All_Unall2!$B$82,VLOOKUP(G22,All_Unall2!$B$85:$E$88,I22+2),IF(F22=All_Unall2!$B$90,VLOOKUP(G22,All_Unall2!$B$93:$E$96,I22+2),9999999))))))))))))","v":9999999},0,0,0,0]
["G",null,"Detached; semi-detached; terraced whole house or bungalow",null,"Owned","Detached; semi-detached; terraced whole house or bungalowOwned",null,null,null,0,{"$f":"IF(F23=All_Unall2!$B$2,VLOOKUP(G23,All_Unall2!$B$5:$E$8,I23+2),IF(F23=All_Unall2!$B$10,VLOOKUP(G23,All_Unall2!$B$13:$E$16,I23+2),IF(F23=All_Unall2!$B$18,VLOOKUP(G23,All_Unall2!$B$21:$E$24,I23+2),IF(F23=All_Unall2!$B$26,VLOOKUP(G23,All_Unall2!$B$29:$E$32,I23+2),IF(F23=All_Unall2!$B$34,VLOOKUP(G23,All_Unall2!$B$37:$E$40,I23+2),IF(F23=All_Unall2!$B$42,VLOOKUP(G23,All_Unall2!$B$45:$E$48,I23+2),IF(F23=All_Unall2!$B$50,VLOOKUP(G23,All_Unall2!$B$53:$E$56,I23+2),IF(F23=All_Unall2!$B$58,VLOOKUP(G23,All_Unall2!$B$61:$E$64,I23+2),IF(F23=All_Unall2!$B$66,VLOOKUP(G23,All_Unall2!$B$69:$E$72,I23+2),IF(F23=All_Unall2!$B$74,VLOOKUP(G23,All_Unall2!$B$77:$E$80,I23+2),IF(F23=All_Unall2!$B$82,VLOOKUP(G23,All_Unall2!$B$85:$E$88,I23+2),IF(F23=All_Unall2!$B$90,VLOOKUP(G23,All_Unall2!$B$93:$E$96,I23+2),9999999))))))))))))","v":9999999},0,0,0,0]
["H",null,"Detached; semi-detached; terraced whole house or bungalow",null,"Owned","Detached; semi-detached; terraced whole house or bungalowOwned",null,null,null,0,{"$f":"IF(F24=All_Unall2!$B$2,VLOOKUP(G24,All_Unall2!$B$5:$E$8,I24+2),IF(F24=All_Unall2!$B$10,VLOOKUP(G24,All_Unall2!$B$13:$E$16,I24+2),IF(F24=All_Unall2!$B$18,VLOOKUP(G24,All_Unall2!$B$21:$E$24,I24+2),IF(F24=All_Unall2!$B$26,VLOOKUP(G24,All_Unall2!$B$29:$E$32,I24+2),IF(F24=All_Unall2!$B$34,VLOOKUP(G24,All_Unall2!$B$37:$E$40,I24+2),IF(F24=All_Unall2!$B$42,VLOOKUP(G24,All_Unall2!$B$45:$E$48,I24+2),IF(F24=All_Unall2!$B$50,VLOOKUP(G24,All_Unall2!$B$53:$E$56,I24+2),IF(F24=All_Unall2!$B$58,VLOOKUP(G24,All_Unall2!$B$61:$E$64,I24+2),IF(F24=All_Unall2!$B$66,VLOOKUP(G24,All_Unall2!$B$69:$E$72,I24+2),IF(F24=All_Unall2!$B$74,VLOOKUP(G24,All_Unall2!$B$77:$E$80,I24+2),IF(F24=All_Unall2!$B$82,VLOOKUP(G24,All_Unall2!$B$85:$E$88,I24+2),IF(F24=All_Unall2!$B$90,VLOOKUP(G24,All_Unall2!$B$93:$E$96,I24+2),9999999))))))))))))","v":9999999},0,0,0,0]
["I",null,"Detached; semi-detached; terraced whole house or bungalow",null,"Owned","Detached; semi-detached; terraced whole house or bungalowOwned",null,null,null,0,{"$f":"IF(F25=All_Unall2!$B$2,VLOOKUP(G25,All_Unall2!$B$5:$E$8,I25+2),IF(F25=All_Unall2!$B$10,VLOOKUP(G25,All_Unall2!$B$13:$E$16,I25+2),IF(F25=All_Unall2!$B$18,VLOOKUP(G25,All_Unall2!$B$21:$E$24,I25+2),IF(F25=All_Unall2!$B$26,VLOOKUP(G25,All_Unall2!$B$29:$E$32,I25+2),IF(F25=All_Unall2!$B$34,VLOOKUP(G25,All_Unall2!$B$37:$E$40,I25+2),IF(F25=All_Unall2!$B$42,VLOOKUP(G25,All_Unall2!$B$45:$E$48,I25+2),IF(F25=All_Unall2!$B$50,VLOOKUP(G25,All_Unall2!$B$53:$E$56,I25+2),IF(F25=All_Unall2!$B$58,VLOOKUP(G25,All_Unall2!$B$61:$E$64,I25+2),IF(F25=All_Unall2!$B$66,VLOOKUP(G25,All_Unall2!$B$69:$E$72,I25+2),IF(F25=All_Unall2!$B$74,VLOOKUP(G25,All_Unall2!$B$77:$E$80,I25+2),IF(F25=All_Unall2!$B$82,VLOOKUP(G25,All_Unall2!$B$85:$E$88,I25+2),IF(F25=All_Unall2!$B$90,VLOOKUP(G25,All_Unall2!$B$93:$E$96,I25+2),9999999))))))))))))","v":9999999},0,0,0,0]
["J",null,"Detached; semi-detached; terraced whole house or bungalow",null,"Owned","Detached; semi-detached; terraced whole house or bungalowOwned",null,null,null,0,{"$f":"IF(F26=All_Unall2!$B$2,VLOOKUP(G26,All_Unall2!$B$5:$E$8,I26+2),IF(F26=All_Unall2!$B$10,VLOOKUP(G26,All_Unall2!$B$13:$E$16,I26+2),IF(F26=All_Unall2!$B$18,VLOOKUP(G26,All_Unall2!$B$21:$E$24,I26+2),IF(F26=All_Unall2!$B$26,VLOOKUP(G26,All_Unall2!$B$29:$E$32,I26+2),IF(F26=All_Unall2!$B$34,VLOOKUP(G26,All_Unall2!$B$37:$E$40,I26+2),IF(F26=All_Unall2!$B$42,VLOOKUP(G26,All_Unall2!$B$45:$E$48,I26+2),IF(F26=All_Unall2!$B$50,VLOOKUP(G26,All_Unall2!$B$53:$E$56,I26+2),IF(F26=All_Unall2!$B$58,VLOOKUP(G26,All_Unall2!$B$61:$E$64,I26+2),IF(F26=All_Unall2!$B$66,VLOOKUP(G26,All_Unall2!$B$69:$E$72,I26+2),IF(F26=All_Unall2!$B$74,VLOOKUP(G26,All_Unall2!$B$77:$E$80,I26+2),IF(F26=All_Unall2!$B$82,VLOOKUP(G26,All_Unall2!$B$85:$E$88,I26+2),IF(F26=All_Unall2!$B$90,VLOOKUP(G26,All_Unall2!$B$93:$E$96,I26+2),9999999))))))))))))","v":9999999},0,0,0,0]
["K",null,"Detached; semi-detached; terraced whole house or bungalow",null,"Owned","Detached; semi-detached; terraced whole house or bungalowOwned",null,null,null,0,{"$f":"IF(F27=All_Unall2!$B$2,VLOOKUP(G27,All_Unall2!$B$5:$E$8,I27+2),IF(F27=All_Unall2!$B$10,VLOOKUP(G27,All_Unall2!$B$13:$E$16,I27+2),IF(F27=All_Unall2!$B$18,VLOOKUP(G27,All_Unall2!$B$21:$E$24,I27+2),IF(F27=All_Unall2!$B$26,VLOOKUP(G27,All_Unall2!$B$29:$E$32,I27+2),IF(F27=All_Unall2!$B$34,VLOOKUP(G27,All_Unall2!$B$37:$E$40,I27+2),IF(F27=All_Unall2!$B$42,VLOOKUP(G27,All_Unall2!$B$45:$E$48,I27+2),IF(F27=All_Unall2!$B$50,VLOOKUP(G27,All_Unall2!$B$53:$E$56,I27+2),IF(F27=All_Unall2!$B$58,VLOOKUP(G27,All_Unall2!$B$61:$E$64,I27+2),IF(F27=All_Unall2!$B$66,VLOOKUP(G27,All_Unall2!$B$69:$E$72,I27+2),IF(F27=All_Unall2!$B$74,VLOOKUP(G27,All_Unall2!$B$77:$E$80,I27+2),IF(F27=All_Unall2!$B$82,VLOOKUP(G27,All_Unall2!$B$85:$E$88,I27+2),IF(F27=All_Unall2!$B$90,VLOOKUP(G27,All_Unall2!$B$93:$E$96,I27+2),9999999))))))))))))","v":9999999},0,0,0,0]
["L",null,"Detached; semi-detached; terraced whole house or bungalow",null,"Owned","Detached; semi-detached; terraced whole house or bungalowOwned",null,null,null,0,{"$f":"IF(F28=All_Unall2!$B$2,VLOOKUP(G28,All_Unall2!$B$5:$E$8,I28+2),IF(F28=All_Unall2!$B$10,VLOOKUP(G28,All_Unall2!$B$13:$E$16,I28+2),IF(F28=All_Unall2!$B$18,VLOOKUP(G28,All_Unall2!$B$21:$E$24,I28+2),IF(F28=All_Unall2!$B$26,VLOOKUP(G28,All_Unall2!$B$29:$E$32,I28+2),IF(F28=All_Unall2!$B$34,VLOOKUP(G28,All_Unall2!$B$37:$E$40,I28+2),IF(F28=All_Unall2!$B$42,VLOOKUP(G28,All_Unall2!$B$45:$E$48,I28+2),IF(F28=All_Unall2!$B$50,VLOOKUP(G28,All_Unall2!$B$53:$E$56,I28+2),IF(F28=All_Unall2!$B$58,VLOOKUP(G28,All_Unall2!$B$61:$E$64,I28+2),IF(F28=All_Unall2!$B$66,VLOOKUP(G28,All_Unall2!$B$69:$E$72,I28+2),IF(F28=All_Unall2!$B$74,VLOOKUP(G28,All_Unall2!$B$77:$E$80,I28+2),IF(F28=All_Unall2!$B$82,VLOOKUP(G28,All_Unall2!$B$85:$E$88,I28+2),IF(F28=All_Unall2!$B$90,VLOOKUP(G28,All_Unall2!$B$93:$E$96,I28+2),9999999))))))))))))","v":9999999},0,0,0,0]
["M",null,"Detached; semi-detached; terraced whole house or bungalow",null,"Owned","Detached; semi-detached; terraced whole house or bungalowOwned",null,null,null,0,{"$f":"IF(F29=All_Unall2!$B$2,VLOOKUP(G29,All_Unall2!$B$5:$E$8,I29+2),IF(F29=All_Unall2!$B$10,VLOOKUP(G29,All_Unall2!$B$13:$E$16,I29+2),IF(F29=All_Unall2!$B$18,VLOOKUP(G29,All_Unall2!$B$21:$E$24,I29+2),IF(F29=All_Unall2!$B$26,VLOOKUP(G29,All_Unall2!$B$29:$E$32,I29+2),IF(F29=All_Unall2!$B$34,VLOOKUP(G29,All_Unall2!$B$37:$E$40,I29+2),IF(F29=All_Unall2!$B$42,VLOOKUP(G29,All_Unall2!$B$45:$E$48,I29+2),IF(F29=All_Unall2!$B$50,VLOOKUP(G29,All_Unall2!$B$53:$E$56,I29+2),IF(F29=All_Unall2!$B$58,VLOOKUP(G29,All_Unall2!$B$61:$E$64,I29+2),IF(F29=All_Unall2!$B$66,VLOOKUP(G29,All_Unall2!$B$69:$E$72,I29+2),IF(F29=All_Unall2!$B$74,VLOOKUP(G29,All_Unall2!$B$77:$E$80,I29+2),IF(F29=All_Unall2!$B$82,VLOOKUP(G29,All_Unall2!$B$85:$E$88,I29+2),IF(F29=All_Unall2!$B$90,VLOOKUP(G29,All_Unall2!$B$93:$E$96,I29+2),9999999))))))))))))","v":9999999},0,0,0,0]
["N",null,"Detached; semi-detached; terraced whole house or bungalow",null,"Owned","Detached; semi-detached; terraced whole house or bungalowOwned",null,null,null,0,{"$f":"IF(F30=All_Unall2!$B$2,VLOOKUP(G30,All_Unall2!$B$5:$E$8,I30+2),IF(F30=All_Unall2!$B$10,VLOOKUP(G30,All_Unall2!$B$13:$E$16,I30+2),IF(F30=All_Unall2!$B$18,VLOOKUP(G30,All_Unall2!$B$21:$E$24,I30+2),IF(F30=All_Unall2!$B$26,VLOOKUP(G30,All_Unall2!$B$29:$E$32,I30+2),IF(F30=All_Unall2!$B$34,VLOOKUP(G30,All_Unall2!$B$37:$E$40,I30+2),IF(F30=All_Unall2!$B$42,VLOOKUP(G30,All_Unall2!$B$45:$E$48,I30+2),IF(F30=All_Unall2!$B$50,VLOOKUP(G30,All_Unall2!$B$53:$E$56,I30+2),IF(F30=All_Unall2!$B$58,VLOOKUP(G30,All_Unall2!$B$61:$E$64,I30+2),IF(F30=All_Unall2!$B$66,VLOOKUP(G30,All_Unall2!$B$69:$E$72,I30+2),IF(F30=All_Unall2!$B$74,VLOOKUP(G30,All_Unall2!$B$77:$E$80,I30+2),IF(F30=All_Unall2!$B$82,VLOOKUP(G30,All_Unall2!$B$85:$E$88,I30+2),IF(F30=All_Unall2!$B$90,VLOOKUP(G30,All_Unall2!$B$93:$E$96,I30+2),9999999))))))))))))","v":9999999},0,0,0,0]
["O",null,"Detached; semi-detached; terraced whole house or bungalow",null,"Owned","Detached; semi-detached; terraced whole house or bungalowOwned",null,null,null,0,{"$f":"IF(F31=All_Unall2!$B$2,VLOOKUP(G31,All_Unall2!$B$5:$E$8,I31+2),IF(F31=All_Unall2!$B$10,VLOOKUP(G31,All_Unall2!$B$13:$E$16,I31+2),IF(F31=All_Unall2!$B$18,VLOOKUP(G31,All_Unall2!$B$21:$E$24,I31+2),IF(F31=All_Unall2!$B$26,VLOOKUP(G31,All_Unall2!$B$29:$E$32,I31+2),IF(F31=All_Unall2!$B$34,VLOOKUP(G31,All_Unall2!$B$37:$E$40,I31+2),IF(F31=All_Unall2!$B$42,VLOOKUP(G31,All_Unall2!$B$45:$E$48,I31+2),IF(F31=All_Unall2!$B$50,VLOOKUP(G31,All_Unall2!$B$53:$E$56,I31+2),IF(F31=All_Unall2!$B$58,VLOOKUP(G31,All_Unall2!$B$61:$E$64,I31+2),IF(F31=All_Unall2!$B$66,VLOOKUP(G31,All_Unall2!$B$69:$E$72,I31+2),IF(F31=All_Unall2!$B$74,VLOOKUP(G31,All_Unall2!$B$77:$E$80,I31+2),IF(F31=All_Unall2!$B$82,VLOOKUP(G31,All_Unall2!$B$85:$E$88,I31+2),IF(F31=All_Unall2!$B$90,VLOOKUP(G31,All_Unall2!$B$93:$E$96,I31+2),9999999))))))))))))","v":9999999},0,0,0,0]
["P",null,"Detached; semi-detached; terraced whole house or bungalow",null,"Owned","Detached; semi-detached; terraced whole house or bungalowOwned",null,null,null,0,{"$f":"IF(F32=All_Unall2!$B$2,VLOOKUP(G32,All_Unall2!$B$5:$E$8,I32+2),IF(F32=All_Unall2!$B$10,VLOOKUP(G32,All_Unall2!$B$13:$E$16,I32+2),IF(F32=All_Unall2!$B$18,VLOOKUP(G32,All_Unall2!$B$21:$E$24,I32+2),IF(F32=All_Unall2!$B$26,VLOOKUP(G32,All_Unall2!$B$29:$E$32,I32+2),IF(F32=All_Unall2!$B$34,VLOOKUP(G32,All_Unall2!$B$37:$E$40,I32+2),IF(F32=All_Unall2!$B$42,VLOOKUP(G32,All_Unall2!$B$45:$E$48,I32+2),IF(F32=All_Unall2!$B$50,VLOOKUP(G32,All_Unall2!$B$53:$E$56,I32+2),IF(F32=All_Unall2!$B$58,VLOOKUP(G32,All_Unall2!$B$61:$E$64,I32+2),IF(F32=All_Unall2!$B$66,VLOOKUP(G32,All_Unall2!$B$69:$E$72,I32+2),IF(F32=All_Unall2!$B$74,VLOOKUP(G32,All_Unall2!$B$77:$E$80,I32+2),IF(F32=All_Unall2!$B$82,VLOOKUP(G32,All_Unall2!$B$85:$E$88,I32+2),IF(F32=All_Unall2!$B$90,VLOOKUP(G32,All_Unall2!$B$93:$E$96,I32+2),9999999))))))))))))","v":9999999},0,0,0,0]
["Q",null,"Detached; semi-detached; terraced whole house or bungalow",null,"Owned","Detached; semi-detached; terraced whole house or bungalowOwned",null,null,null,0,{"$f":"IF(F33=All_Unall2!$B$2,VLOOKUP(G33,All_Unall2!$B$5:$E$8,I33+2),IF(F33=All_Unall2!$B$10,VLOOKUP(G33,All_Unall2!$B$13:$E$16,I33+2),IF(F33=All_Unall2!$B$18,VLOOKUP(G33,All_Unall2!$B$21:$E$24,I33+2),IF(F33=All_Unall2!$B$26,VLOOKUP(G33,All_Unall2!$B$29:$E$32,I33+2),IF(F33=All_Unall2!$B$34,VLOOKUP(G33,All_Unall2!$B$37:$E$40,I33+2),IF(F33=All_Unall2!$B$42,VLOOKUP(G33,All_Unall2!$B$45:$E$48,I33+2),IF(F33=All_Unall2!$B$50,VLOOKUP(G33,All_Unall2!$B$53:$E$56,I33+2),IF(F33=All_Unall2!$B$58,VLOOKUP(G33,All_Unall2!$B$61:$E$64,I33+2),IF(F33=All_Unall2!$B$66,VLOOKUP(G33,All_Unall2!$B$69:$E$72,I33+2),IF(F33=All_Unall2!$B$74,VLOOKUP(G33,All_Unall2!$B$77:$E$80,I33+2),IF(F33=All_Unall2!$B$82,VLOOKUP(G33,All_Unall2!$B$85:$E$88,I33+2),IF(F33=All_Unall2!$B$90,VLOOKUP(G33,All_Unall2!$B$93:$E$96,I33+2),9999999))))))))))))","v":9999999},0,0,0,0]
[{"$nulls":6},"Total",{"$f":"SUM(H17:H33)","v":0},null,{"$f":"SUM(J17:J33)","v":0},null,{"$f":"SUM(L17:L33)","v":0},null,{"$f":"SUM(N17:N33)","v":0},{"$f":"SUM(O17:O33)","v":0}]
[]
[{"$nulls":10},"Guidance Note"]
[{"$nulls":10},"Further information and guidance can be found at www.cotswold.gov.uk"]
[null,"Total Allocated Parking",null,{"$f":"SUM(J17:J33)","v":0},{"$f":"SUM(J17:J33)","v":0},null,{"$f":"D38","v":0}]
[null,"Total Unallocated Demand",null,{"$f":"SUMIF(L17:L33,\"<>#N/A\")","v":0},{"$f":"SUM(L17:L33)","v":0},null,{"$f":"D39","v":0}]
[null,"Total Visitor Parking",null,{"$f":"SUMIF(N17:N33,\"<>#N/A\")","v":0},{"$f":"SUM(N17:N33)","v":0},null,0]
[null,"Total Development Parking",null,{"$f":"SUMIF(O17:O33,\"<>#N/A\")","v":0},{"$f":"SUM(E38:E40)","v":0},null,0]
[]
[null,"No. of Dwellings",null,{"$f":"H34","v":0},{"$f":"SUM(H17:H33)","v":0},null,{"$f":"D43","v":0}]
[]
[null,"Average Spaces per Dwelling",null,{"$f":"D41/D43","v":{"$error":"#DIV/0!"}},{"$f":"E41/E43","v":{"$error":"#DIV/0!"}},null,{"$f":"D45","v":{"$error":"#DIV/0!"}}]

{"sheet":"Base Data Combined","index":1,"n_rows":96,"n_cols":17,"rows_kept":96,"cut":false,"hidden":true,"merged":[[2,1,3,1],[2,2,2,6],[10,1,11,1],[10,2,10,6],[18,1,19,1],[18,2,18,6],[26,1,27,1],[26,2,26,6],[34,1,35,1],[34,2,34,6],[42,1,43,1],[42,2,42,6],[50,1,51,1],[50,2,50,6],[58,1,59,1],[58,2,58,6],[66,1,67,1],[66,2,66,6],[74,1,75,1],[74,2,74,6],[82,1,83,1],[82,2,82,6],[90,1,91,1],[90,2,90,6]]}
[]
[null,"Town and Fringe","Shared ownership or rented (excluding living rent free)",{"$nulls":5},"Detached; semi-detached; terraced whole house or bungalow"]
[null,"Bedrooms/Number of Cars","Number of Dwellings"]
[null,null,"0 Cars","1 Car","2 Cars","3 Cars","4+ Cars"]
[2,"1 or 2",{"$f":"SUMIFS('RAW DATA_CT0554'!N:N, 'RAW DATA_CT0554'!$H:$H,'Base Data Combined'!$A5,'RAW DATA_CT0554'!$D:$D,'Base Data Combined'!$B$2,'RAW DATA_CT0554'!$F:$F,'Base Data Combined'!$C$2,'RAW DATA_CT0554'!$E:$E,'Base Data Combined'!$I$2)","v":181},{"$f":"SUMIFS('RAW DATA_CT0554'!J:J, 'RAW DATA_CT0554'!$H:$H,'Base Data Combined'!$A5,'RAW DATA_CT0554'!$D:$D,'Base Data Combined'!$B$2,'RAW DATA_CT0554'!$F:$F,'Base Data Combined'!$C$2,'RAW DATA_CT0554'!$E:$E,'Base Data Combined'!$I$2)","v":217},{"$f":"SUMIFS('RAW DATA_CT0554'!K:K, 'RAW DATA_CT0554'!$H:$H,'Base Data Combined'!$A5,'RAW DATA_CT0554'!$D:$D,'Base Data Combined'!$B$2,'RAW DATA_CT0554'!$F:$F,'Base Data Combined'!$C$2,'RAW DATA_CT0554'!$E:$E,'Base Data Combined'!$I$2)","v":86},{"$f":"SUMIFS('RAW DATA_CT0554'!L:L, 'RAW DATA_CT0554'!$H:$H,'Base Data Combined'!$A5,'RAW DATA_CT0554'!$D:$D,'Base Data Combined'!$B$2,'RAW DATA_CT0554'!$F:$F,'Base Data Combined'!$C$2,'RAW DATA_CT0554'!$E:$E,'Base Data Combined'!$I$2)","v":3},{"$f":"SUMIFS('RAW DATA_CT0554'!M:M, 'RAW DATA_CT0554'!$H:$H,'Base Data Combined'!$A5,'RAW DATA_CT0554'!$D:$D,'Base Data Combined'!$B$2,'RAW DATA_CT0554'!$F:$F,'Base Data Combined'!$C$2,'RAW DATA_CT0554'!$E:$E,'Base Data Combined'!$I$2)","v":0}]
[3,3,{"$f":"SUMIFS('RAW DATA_CT0554'!N:N, 'RAW DATA_CT0554'!$H:$H,'Base Data Combined'!$A6,'RAW DATA_CT0554'!$D:$D,'Base Data Combined'!$B$2,'RAW DATA_CT0554'!$F:$F,'Base Data Combined'!$C$2,'RAW DATA_CT0554'!$E:$E,'Base Data Combined'!$I$2)","v":192},{"$f":"SUMIFS('RAW DATA_CT0554'!J:J, 'RAW DATA_CT0554'!$H:$H,'Base Data Combined'!$A6,'RAW DATA_CT0554'!$D:$D,'Base Data Combined'!$B$2,'RAW DATA_CT0554'!$F:$F,'Base Data Combined'!$C$2,'RAW DATA_CT0554'!$E:$E,'Base Data Combined'!$I$2)","v":405},{"$f":"SUMIFS('RAW DATA_CT0554'!K:K, 'RAW DATA_CT0554'!$H:$H,'Base Data Combined'!$A6,'RAW DATA_CT0554'!$D:$D,'Base Data Combined'!$B$2,'RAW DATA_CT0554'!$F:$F,'Base Data Combined'!$C$2,'RAW DATA_CT0554'!$E:$E,'Base Data Combined'!$I$2)","v":192},{"$f":"SUMIFS('RAW DATA_CT0554'!L:L, 'RAW DATA_CT0554'!$H:$H,'Base Data Combined'!$A6,'RAW DATA_CT0554'!$D:$D,'Base Data Combined'!$B$2,'RAW DATA_CT0554'!$F:$F,'Base Data Combined'!$C$2,'RAW DATA_CT0554'!$E:$E,'Base Data Combined'!$I$2)","v":49},{"$f":"SUMIFS('RAW DATA_CT0554'!M:M, 'RAW DATA_CT0554'!$H:$H,'Base Data Combined'!$A6,'RAW DATA_CT0554'!$D:$D,'Base Data Combined'!$B$2,'RAW DATA_CT0554'!$F:$F,'Base Data Combined'!$C$2,'RAW DATA_CT0554'!$E:$E,'Base Data Combined'!$I$2)","v":14}]
[4,4,{"$f":"SUMIFS('RAW DATA_CT0554'!N:N, 'RAW DATA_CT0554'!$H:$H,'Base Data Combined'!$A7,'RAW DATA_CT0554'!$D:$D,'Base Data Combined'!$B$2,'RAW DATA_CT0554'!$F:$F,'Base Data Combined'!$C$2,'RAW DATA_CT0554'!$E:$E,'Base Data Combined'!$I$2)","v":6},{"$f":"SUMIFS('RAW DATA_CT0554'!J:J, 'RAW DATA_CT0554'!$H:$H,'Base Data Combined'!$A7,'RAW DATA_CT0554'!$D:$D,'Base Data Combined'!$B$2,'RAW DATA_CT0554'!$F:$F,'Base Data Combined'!$C$2,'RAW DATA_CT0554'!$E:$E,'Base Data Combined'!$I$2)","v":40},{"$f":"SUMIFS('RAW DATA_CT0554'!K:K, 'RAW DATA_CT0554'!$H:$H,'Base Data Combined'!$A7,'RAW DATA_CT0554'!$D:$D,'Base Data Combined'!$B$2,'RAW DATA_CT0554'!$F:$F,'Base Data Combined'!$C$2,'RAW DATA_CT0554'!$E:$E,'Base Data Combined'!$I$2)","v":18},{"$f":"SUMIFS('RAW DATA_CT0554'!L:L, 'RAW DATA_CT0554'!$H:$H,'Base Data Combined'!$A7,'RAW DATA_CT0554'!$D:$D,'Base Data Combined'!$B$2,'RAW DATA_CT0554'!$F:$F,'Base Data Combined'!$C$2,'RAW DATA_CT0554'!$E:$E,'Base Data Combined'!$I$2)","v":6},{"$f":"SUMIFS('RAW DATA_CT0554'!M:M, 'RAW DATA_CT0554'!$H:$H,'Base Data Combined'!$A7,'RAW DATA_CT0554'!$D:$D,'Base Data Combined'!$B$2,'RAW DATA_CT0554'!$F:$F,'Base Data Combined'!$C$2,'RAW DATA_CT0554'!$E:$E,'Base Data Combined'!$I$2)","v":11}]
[5,"5+",{"$f":"SUMIFS('RAW DATA_CT0554'!N:N, 'RAW DATA_CT0554'!$H:$H,'Base Data Combined'!$A8,'RAW DATA_CT0554'!$D:$D,'Base Data Combined'!$B$2,'RAW DATA_CT0554'!$F:$F,'Base Data Combined'!$C$2,'RAW DATA_CT0554'!$E:$E,'Base Data Combined'!$I$2)","v":3},{"$f":"SUMIFS('RAW DATA_CT0554'!J:J, 'RAW DATA_CT0554'!$H:$H,'Base Data Combined'!$A8,'RAW DATA_CT0554'!$D:$D,'Base Data Combined'!$B$2,'RAW DATA_CT0554'!$F:$F,'Base Data Combined'!$C$2,'RAW DATA_CT0554'!$E:$E,'Base Data Combined'!$I$2)","v":18},{"$f":"SUMIFS('RAW DATA_CT0554'!K:K, 'RAW DATA_CT0554'!$H:$H,'Base Data Combined'!$A8,'RAW DATA_CT0554'!$D:$D,'Base Data Combined'!$B$2,'RAW DATA_CT0554'!$F:$F,'Base Data Combined'!$C$2,'RAW DATA_CT0554'!$E:$E,'Base Data Combined'!$I$2)","v":22},{"$f":"SUMIFS('RAW DATA_CT0554'!L:L, 'RAW DATA_CT0554'!$H:$H,'Base Data Combined'!$A8,'RAW DATA_CT0554'!$D:$D,'Base Data Combined'!$B$2,'RAW DATA_CT0554'!$F:$F,'Base Data Combined'!$C$2,'RAW DATA_CT0554'!$E:$E,'Base Data Combined'!$I$2)","v":6},{"$f":"SUMIFS('RAW DATA_CT0554'!M:M, 'RAW DATA_CT0554'!$H:$H,'Base Data Combined'!$A8,'RAW DATA_CT0554'!$D:$D,'Base Data Combined'!$B$2,'RAW DATA_CT0554'!$F:$F,'Base Data Combined'!$C$2,'RAW DATA_CT0554'!$E:$E,'Base Data Combined'!$I$2)","v":13}]
[]
[null,"Town and Fringe","Owned",{"$nulls":5},"Detached; semi-detached; terraced whole house or bungalow"]
[null,"Bedrooms/Number of Cars","Number of Dwellings"]
[null,null,"0 Cars","1 Car","2 Cars","3 Cars","4+ Cars"]
[2,"1 or 2",{"$f":"SUMIFS('RAW DATA_CT0554'!N:N, 'RAW DATA_CT0554'!$H:$H,'Base Data Combined'!$A13,'RAW DATA_CT0554'!$D:$D,'Base Data Combined'!$B$10,'RAW DATA_CT0554'!$F:$F,'Base Data Combined'!$C$10,'RAW DATA_CT0554'!$E:$E,'Base Data Combined'!$I$10)","v":82},{"$f":"SUMIFS('RAW DATA_CT0554'!J:J, 'RAW DATA_CT0554'!$H:$H,'Base Data Combined'!$A13,'RAW DATA_CT0554'!$D:$D,'Base Data Combined'!$B$10,'RAW DATA_CT0554'!$F:$F,'Base Data Combined'!$C$10,'RAW DATA_CT0554'!$E:$E,'Base Data Combined'!$I$10)","v":208},{"$f":"SUMIFS('RAW DATA_CT0554'!K:K, 'RAW DATA_CT0554'!$H:$H,'Base Data Combined'!$A13,'RAW DATA_CT0554'!$D:$D,'Base Data Combined'!$B$10,'RAW DATA_CT0554'!$F:$F,'Base Data Combined'!$C$10,'RAW DATA_CT0554'!$E:$E,'Base Data Combined'!$I$10)","v":73},{"$f":"SUMIFS('RAW DATA_CT0554'!L:L, 'RAW DATA_CT0554'!$H:$H,'Base Data Combined'!$A13,'RAW DATA_CT0554'!$D:$D,'Base Data Combined'!$B$10,'RAW DATA_CT0554'!$F:$F,'Base Data Combined'!$C$10,'RAW DATA_CT0554'!$E:$E,'Base Data Combined'!$I$10)","v":9},{"$f":"SUMIFS('RAW DATA_CT0554'!M:M, 'RAW DATA_CT0554'!$H:$H,'Base Data Combined'!$A13,'RAW DATA_CT0554'!$D:$D,'Base Data Combined'!$B$10,'RAW DATA_CT0554'!$F:$F,'Base Data Combined'!$C$10,'RAW DATA_CT0554'!$E:$E,'Base Data Combined'!$I$10)","v":1}]
[3,3,{"$f":"SUMIFS('RAW DATA_CT0554'!N:N, 'RAW DATA_CT0554'!$H:$H,'Base Data Combined'!$A14,'RAW DATA_CT0554'!$D:$D,'Base Data Combined'!$B$10,'RAW DATA_CT0554'!$F:$F,'Base Data Combined'!$C$10,'RAW DATA_CT0554'!$E:$E,'Base Data Combined'!$I$10)","v":206},{"$f":"SUMIFS('RAW DATA_CT0554'!J:J, 'RAW DATA_CT0554'!$H:$H,'Base Data Combined'!$A14,'RAW DATA_CT0554'!$D:$D,'Base Data Combined'!$B$10,'RAW DATA_CT0554'!$F:$F,'Base Data Combined'!$C$10,'RAW DATA_CT0554'!$E:$E,'Base Data Combined'!$I$10)","v":898},{"$f":"SUMIFS('RAW DATA_CT0554'!K:K, 'RAW DATA_CT0554'!$H:$H,'Base Data Combined'!$A14,'RAW DATA_CT0554'!$D:$D,'Base Data Combined'!$B$10,'RAW DATA_CT0554'!$F:$F,'Base Data Combined'!$C$10,'RAW DATA_CT0554'!$E:$E,'Base Data Combined'!$I$10)","v":618},{"$f":"SUMIFS('RAW DATA_CT0554'!L:L, 'RAW DATA_CT0554'!$H:$H,'Base Data Combined'!$A14,'RAW DATA_CT0554'!$D:$D,'Base Data Combined'!$B$10,'RAW DATA_CT0554'!$F:$F,'Base Data Combined'!$C$10,'RAW DATA_CT0554'!$E:$E,'Base Data Combined'!$I$10)","v":128},{"$f":"SUMIFS('RAW DATA_CT0554'!M:M, 'RAW DATA_CT0554'!$H:$H,'Base Data Combined'!$A14,'RAW DATA_CT0554'!$D:$D,'Base Data Combined'!$B$10,'RAW DATA_CT0554'!$F:$F,'Base Data Combined'!$C$10,'RAW DATA_CT0554'!$E:$E,'Base Data Combined'!$I$10)","v":30}]
[4,4,{"$f":"SUMIFS('RAW DATA_CT0554'!N:N, 'RAW DATA_CT0554'!$H:$H,'Base Data Combined'!$A15,'RAW DATA_CT0554'!$D:$D,'Base Data Combined'!$B$10,'RAW DATA_CT0554'!$F:$F,'Base Data Combined'!$C$10,'RAW DATA_CT0554'!$E:$E,'Base Data Combined'!$I$10)","v":29},{"$f":"SUMIFS('RAW DATA_CT0554'!J:J, 'RAW DATA_CT0554'!$H:$H,'Base Data Combined'!$A15,'RAW DATA_CT0554'!$D:$D,'Base Data Combined'!$B$10,'RAW DATA_CT0554'!$F:$F,'Base Data Combined'!$C$10,'RAW DATA_CT0554'!$E:$E,'Base Data Combined'!$I$10)","v":237},{"$f":"SUMIFS('RAW DATA_CT0554'!K:K, 'RAW DATA_CT0554'!$H:$H,'Base Data Combined'!$A15,'RAW DATA_CT0554'!$D:$D,'Base Data Combined'!$B$10,'RAW DATA_CT0554'!$F:$F,'Base Data Combined'!$C$10,'RAW DATA_CT0554'!$E:$E,'Base Data Combined'!$I$10)","v":261},{"$f":"SUMIFS('RAW DATA_CT0554'!L:L, 'RAW DATA_CT0554'!$H:$H,'Base Data Combined'!$A15,'RAW DATA_CT0554'!$D:$D,'Base Data Combined'!$B$10,'RAW DATA_CT0554'!$F:$F,'Base Data Combined'!$C$10,'RAW DATA_CT0554'!$E:$E,'Base Data Combined'!$I$10)","v":46},{"$f":"SUMIFS('RAW DATA_CT0554'!M:M, 'RAW DATA_CT0554'!$H:$H,'Base Data Combined'!$A15,'RAW DATA_CT0554'!$D:$D,'Base Data Combined'!$B$10,'RAW DATA_CT0554'!$F:$F,'Base Data Combined'!$C$10,'RAW DATA_CT0554'!$E:$E,'Base Data Combined'!$I$10)","v":19}]
[5,"5+",{"$f":"SUMIFS('RAW DATA_CT0554'!N:N, 'RAW DATA_CT0554'!$H:$H,'Base Data Combined'!$A16,'RAW DATA_CT0554'!$D:$D,'Base Data Combined'!$B$10,'RAW DATA_CT0554'!$F:$F,'Base Data Combined'!$C$10,'RAW DATA_CT0554'!$E:$E,'Base Data Combined'!$I$10)","v":23},{"$f":"SUMIFS('RAW DATA_CT0554'!J:J, 'RAW DATA_CT0554'!$H:$H,'Base Data Combined'!$A16,'RAW DATA_CT0554'!$D:$D,'Base Data Combined'!$B$10,'RAW DATA_CT0554'!$F:$F,'Base Data Combined'!$C$10,'RAW DATA_CT0554'!$E:$E,'Base Data Combined'!$I$10)","v":211},{"$f":"SUMIFS('RAW DATA_CT0554'!K:K, 'RAW DATA_CT0554'!$H:$H,'Base Data Combined'!$A16,'RAW DATA_CT0554'!$D:$D,'Base Data Combined'!$B$10,'RAW DATA_CT0554'!$F:$F,'Base Data Combined'!$C$10,'RAW DATA_CT0554'!$E:$E,'Base Data Combined'!$I$10)","v":426},{"$f":"SUMIFS('RAW DATA_CT0554'!L:L, 'RAW DATA_CT0554'!$H:$H,'Base Data Combined'!$A16,'RAW DATA_CT0554'!$D:$D,'Base Data Combined'!$B$10,'RAW DATA_CT0554'!$F:$F,'Base Data Combined'!$C$10,'RAW DATA_CT0554'!$E:$E,'Base Data Combined'!$I$10)","v":152},{"$f":"SUMIFS('RAW DATA_CT0554'!M:M, 'RAW DATA_CT0554'!$H:$H,'Base Data Combined'!$A16,'RAW DATA_CT0554'!$D:$D,'Base Data Combined'!$B$10,'RAW DATA_CT0554'!$F:$F,'Base Data Combined'!$C$10,'RAW DATA_CT0554'!$E:$E,'Base Data Combined'!$I$10)","v":45}]
[]
[null,"Town and Fringe","Shared ownership or rented (excluding living rent free)",{"$nulls":5},"A flat; maisonette; apartment"]
[null,"Bedrooms/Number of Cars","Number of Dwellings"]
[null,null,"0 Cars","1 Car","2 Cars","3 Cars","4+ Cars"]
[2,"1 or 2",{"$f":"SUMIFS('RAW DATA_CT0554'!N:N, 'RAW DATA_CT0554'!$H:$H,'Base Data Combined'!$A21,'RAW DATA_CT0554'!$D:$D,'Base Data Combined'!$B$18,'RAW DATA_CT0554'!$F:$F,'Base Data Combined'!$C$18,'RAW DATA_CT0554'!$E:$E,'Base Data Combined'!$I$18)","v":608},{"$f":"SUMIFS('RAW DATA_CT0554'!J:J, 'RAW DATA_CT0554'!$H:$H,'Base Data Combined'!$A21,'RAW DATA_CT0554'!$D:$D,'Base Data Combined'!$B$18,'RAW DATA_CT0554'!$F:$F,'Base Data Combined'!$C$18,'RAW DATA_CT0554'!$E:$E,'Base Data Combined'!$I$18)","v":514},{"$f":"SUMIFS('RAW DATA_CT0554'!K:K, 'RAW DATA_CT0554'!$H:$H,'Base Data Combined'!$A21,'RAW DATA_CT0554'!$D:$D,'Base Data Combined'!$B$18,'RAW DATA_CT0554'!$F:$F,'Base Data Combined'!$C$18,'RAW DATA_CT0554'!$E:$E,'Base Data Combined'!$I$18)","v":77},{"$f":"SUMIFS('RAW DATA_CT0554'!L:L, 'RAW DATA_CT0554'!$H:$H,'Base Data Combined'!$A21,'RAW DATA_CT0554'!$D:$D,'Base Data Combined'!$B$18,'RAW DATA_CT0554'!$F:$F,'Base Data Combined'!$C$18,'RAW DATA_CT0554'!$E:$E,'Base Data Combined'!$I$18)","v":10},{"$f":"SUMIFS('RAW DATA_CT0554'!M:M, 'RAW DATA_CT0554'!$H:$H,'Base Data Combined'!$A21,'RAW DATA_CT0554'!$D:$D,'Base Data Combined'!$B$18,'RAW DATA_CT0554'!$F:$F,'Base Data Combined'!$C$18,'RAW DATA_CT0554'!$E:$E,'Base Data Combined'!$I$18)","v":3}]
[3,3,{"$f":"SUMIFS('RAW DATA_CT0554'!N:N, 'RAW DATA_CT0554'!$H:$H,'Base Data Combined'!$A22,'RAW DATA_CT0554'!$D:$D,'Base Data Combined'!$B$18,'RAW DATA_CT0554'!$F:$F,'Base Data Combined'!$C$18,'RAW DATA_CT0554'!$E:$E,'Base Data Combined'!$I$18)","v":26},{"$f":"SUMIFS('RAW DATA_CT0554'!J:J, 'RAW DATA_CT0554'!$H:$H,'Base Data Combined'!$A22,'RAW DATA_CT0554'!$D:$D,'Base Data Combined'!$B$18,'RAW DATA_CT0554'!$F:$F,'Base Data Combined'!$C$18,'RAW DATA_CT0554'!$E:$E,'Base Data Combined'!$I$18)","v":31},{"$f":"SUMIFS('RAW DATA_CT0554'!K:K, 'RAW DATA_CT0554'!$H:$H,'Base Data Combined'!$A22,'RAW DATA_CT0554'!$D:$D,'Base Data Combined'!$B$18,'RAW DATA_CT0554'!$F:$F,'Base Data Combined'!$C$18,'RAW DATA_CT0554'!$E:$E,'Base Data Combined'!$I$18)","v":15},{"$f":"SUMIFS('RAW DATA_CT0554'!L:L, 'RAW DATA_CT0554'!$H:$H,'Base Data Combined'!$A22,'RAW DATA_CT0554'!$D:$D,'Base Data Combined'!$B$18,'RAW DATA_CT0554'!$F:$F,'Base Data Combined'!$C$18,'RAW DATA_CT0554'!$E:$E,'Base Data Combined'!$I$18)","v":0},{"$f":"SUMIFS('RAW DATA_CT0554'!M:M, 'RAW DATA_CT0554'!$H:$H,'Base Data Combined'!$A22,'RAW DATA_CT0554'!$D:$D,'Base Data Combined'!$B$18,'RAW DATA_CT0554'!$F:$F,'Base Data Combined'!$C$18,'RAW DATA_CT0554'!$E:$E,'Base Data Combined'!$I$18)","v":1}]
[4,4,{"$f":"SUMIFS('RAW DATA_CT0554'!N:N, 'RAW DATA_CT0554'!$H:$H,'Base Data Combined'!$A23,'RAW DATA_CT0554'!$D:$D,'Base Data Combined'!$B$18,'RAW DATA_CT0554'!$F:$F,'Base Data Combined'!$C$18,'RAW DATA_CT0554'!$E:$E,'Base Data Combined'!$I$18)","v":2},{"$f":"SUMIFS('RAW DATA_CT0554'!J:J, 'RAW DATA_CT0554'!$H:$H,'Base Data Combined'!$A23,'RAW DATA_CT0554'!$D:$D,'Base Data Combined'!$B$18,'RAW DATA_CT0554'!$F:$F,'Base Data Combined'!$C$18,'RAW DATA_CT0554'!$E:$E,'Base Data Combined'!$I$18)","v":2},{"$f":"SUMIFS('RAW DATA_CT0554'!K:K, 'RAW DATA_CT0554'!$H:$H,'Base Data Combined'!$A23,'RAW DATA_CT0554'!$D:$D,'Base Data Combined'!$B$18,'RAW DATA_CT0554'!$F:$F,'Base Data Combined'!$C$18,'RAW DATA_CT0554'!$E:$E,'Base Data Combined'!$I$18)","v":2},{"$f":"SUMIFS('RAW DATA_CT0554'!L:L, 'RAW DATA_CT0554'!$H:$H,'Base Data Combined'!$A23,'RAW DATA_CT0554'!$D:$D,'Base Data Combined'!$B$18,'RAW DATA_CT0554'!$F:$F,'Base Data Combined'!$C$18,'RAW DATA_CT0554'!$E:$E,'Base Data Combined'!$I$18)","v":1},{"$f":"SUMIFS('RAW DATA_CT0554'!M:M, 'RAW DATA_CT0554'!$H:$H,'Base Data Combined'!$A23,'RAW DATA_CT0554'!$D:$D,'Base Data Combined'!$B$18,'RAW DATA_CT0554'!$F:$F,'Base Data Combined'!$C$18,'RAW DATA_CT0554'!$E:$E,'Base Data Combined'!$I$18)","v":1}]
[5,"5+",{"$f":"SUMIFS('RAW DATA_CT0554'!N:N, 'RAW DATA_CT0554'!$H:$H,'Base Data Combined'!$A24,'RAW DATA_CT0554'!$D:$D,'Base Data Combined'!$B$18,'RAW DATA_CT0554'!$F:$F,'Base Data Combined'!$C$18,'RAW DATA_CT0554'!$E:$E,'Base Data Combined'!$I$18)","v":1},{"$f":"SUMIFS('RAW DATA_CT0554'!J:J, 'RAW DATA_CT0554'!$H:$H,'Base Data Combined'!$A24,'RAW DATA_CT0554'!$D:$D,'Base Data Combined'!$B$18,'RAW DATA_CT0554'!$F:$F,'Base Data Combined'!$C$18,'RAW DATA_CT0554'!$E:$E,'Base Data Combined'!$I$18)","v":2},{"$f":"SUMIFS('RAW DATA_CT0554'!K:K, 'RAW DATA_CT0554'!$H:$H,'Base Data Combined'!$A24,'RAW DATA_CT0554'!$D:$D,'Base Data Combined'!$B$18,'RAW DATA_CT0554'!$F:$F,'Base Data Combined'!$C$18,'RAW DATA_CT0554'!$E:$E,'Base Data Combined'!$I$18)","v":1},{"$f":"SUMIFS('RAW DATA_CT0554'!L:L, 'RAW DATA_CT0554'!$H:$H,'Base Data Combined'!$A24,'RAW DATA_CT0554'!$D:$D,'Base Data Combined'!$B$18,'RAW DATA_CT0554'!$F:$F,'Base Data Combined'!$C$18,'RAW DATA_CT0554'!$E:$E,'Base Data Combined'!$I$18)","v":2},{"$f":"SUMIFS('RAW DATA_CT0554'!M:M, 'RAW DATA_CT0554'!$H:$H,'Base Data Combined'!$A24,'RAW DATA_CT0554'!$D:$D,'Base Data Combined'!$B$18,'RAW DATA_CT0554'!$F:$F,'Base Data Combined'!$C$18,'RAW DATA_CT0554'!$E:$E,'Base Data Combined'!$I$18)","v":0}]
[]
[null,"Town and Fringe","Owned",{"$nulls":5},"A flat; maisonette; apartment"]
[null,"Bedrooms/Number of Cars","Number of Dwellings"]
[null,null,"0 Cars","1 Car","2 Cars","3 Cars","4+ Cars"]
[2,"1 or 2",{"$f":"SUMIFS('RAW DATA_CT0554'!N:N, 'RAW DATA_CT0554'!$H:$H,'Base Data Combined'!$A29,'RAW DATA_CT0554'!$D:$D,'Base Data Combined'!$B$26,'RAW DATA_CT0554'!$F:$F,'Base Data Combined'!$C$26,'RAW DATA_CT0554'!$E:$E,'Base Data Combined'!$I$26)","v":163},{"$f":"SUMIFS('RAW DATA_CT0554'!J:J, 'RAW DATA_CT0554'!$H:$H,'Base Data Combined'!$A29,'RAW DATA_CT0554'!$D:$D,'Base Data Combined'!$B$26,'RAW DATA_CT0554'!$F:$F,'Base Data Combined'!$C$26,'RAW DATA_CT0554'!$E:$E,'Base Data Combined'!$I$26)","v":184},{"$f":"SUMIFS('RAW DATA_CT0554'!K:K, 'RAW DATA_CT0554'!$H:$H,'Base Data Combined'!$A29,'RAW DATA_CT0554'!$D:$D,'Base Data Combined'!$B$26,'RAW DATA_CT0554'!$F:$F,'Base Data Combined'!$C$26,'RAW DATA_CT0554'!$E:$E,'Base Data Combined'!$I$26)","v":34},{"$f":"SUMIFS('RAW DATA_CT0554'!L:L, 'RAW DATA_CT0554'!$H:$H,'Base Data Combined'!$A29,'RAW DATA_CT0554'!$D:$D,'Base Data Combined'!$B$26,'RAW DATA_CT0554'!$F:$F,'Base Data Combined'!$C$26,'RAW DATA_CT0554'!$E:$E,'Base Data Combined'!$I$26)","v":1},{"$f":"SUMIFS('RAW DATA_CT0554'!M:M, 'RAW DATA_CT0554'!$H:$H,'Base Data Combined'!$A29,'RAW DATA_CT0554'!$D:$D,'Base Data Combined'!$B$26,'RAW DATA_CT0554'!$F:$F,'Base Data Combined'!$C$26,'RAW DATA_CT0554'!$E:$E,'Base Data Combined'!$I$26)","v":2}]
[3,3,{"$f":"SUMIFS('RAW DATA_CT0554'!N:N, 'RAW DATA_CT0554'!$H:$H,'Base Data Combined'!$A30,'RAW DATA_CT0554'!$D:$D,'Base Data Combined'!$B$26,'RAW DATA_CT0554'!$F:$F,'Base Data Combined'!$C$26,'RAW DATA_CT0554'!$E:$E,'Base Data Combined'!$I$26)","v":11},{"$f":"SUMIFS('RAW DATA_CT0554'!J:J, 'RAW DATA_CT0554'!$H:$H,'Base Data Combined'!$A30,'RAW DATA_CT0554'!$D:$D,'Base Data Combined'!$B$26,'RAW DATA_CT0554'!$F:$F,'Base Data Combined'!$C$26,'RAW DATA_CT0554'!$E:$E,'Base Data Combined'!$I$26)","v":25},{"$f":"SUMIFS('RAW DATA_CT0554'!K:K, 'RAW DATA_CT0554'!$H:$H,'Base Data Combined'!$A30,'RAW DATA_CT0554'!$D:$D,'Base Data Combined'!$B$26,'RAW DATA_CT0554'!$F:$F,'Base Data Combined'!$C$26,'RAW DATA_CT0554'!$E:$E,'Base Data Combined'!$I$26)","v":6},{"$f":"SUMIFS('RAW DATA_CT0554'!L:L, 'RAW DATA_CT0554'!$H:$H,'Base Data Combined'!$A30,'RAW DATA_CT0554'!$D:$D,'Base Data Combined'!$B$26,'RAW DATA_CT0554'!$F:$F,'Base Data Combined'!$C$26,'RAW DATA_CT0554'!$E:$E,'Base Data Combined'!$I$26)","v":1},{"$f":"SUMIFS('RAW DATA_CT0554'!M:M, 'RAW DATA_CT0554'!$H:$H,'Base Data Combined'!$A30,'RAW DATA_CT0554'!$D:$D,'Base Data Combined'!$B$26,'RAW DATA_CT0554'!$F:$F,'Base Data Combined'!$C$26,'RAW DATA_CT0554'!$E:$E,'Base Data Combined'!$I$26)","v":0}]
[4,4,{"$f":"SUMIFS('RAW DATA_CT0554'!N:N, 'RAW DATA_CT0554'!$H:$H,'Base Data Combined'!$A31,'RAW DATA_CT0554'!$D:$D,'Base Data Combined'!$B$26,'RAW DATA_CT0554'!$F:$F,'Base Data Combined'!$C$26,'RAW DATA_CT0554'!$E:$E,'Base Data Combined'!$I$26)","v":0},{"$f":"SUMIFS('RAW DATA_CT0554'!J:J, 'RAW DATA_CT0554'!$H:$H,'Base Data Combined'!$A31,'RAW DATA_CT0554'!$D:$D,'Base Data Combined'!$B$26,'RAW DATA_CT0554'!$F:$F,'Base Data Combined'!$C$26,'RAW DATA_CT0554'!$E:$E,'Base Data Combined'!$I$26)","v":0},{"$f":"SUMIFS('RAW DATA_CT0554'!K:K, 'RAW DATA_CT0554'!$H:$H,'Base Data Combined'!$A31,'RAW DATA_CT0554'!$D:$D,'Base Data Combined'!$B$26,'RAW DATA_CT0554'!$F:$F,'Base Data Combined'!$C$26,'RAW DATA_CT0554'!$E:$E,'Base Data Combined'!$I$26)","v":0},{"$f":"SUMIFS('RAW DATA_CT0554'!L:L, 'RAW DATA_CT0554'!$H:$H,'Base Data Combined'!$A31,'RAW DATA_CT0554'!$D:$D,'Base Data Combined'!$B$26,'RAW DATA_CT0554'!$F:$F,'Base Data Combined'!$C$26,'RAW DATA_CT0554'!$E:$E,'Base Data Combined'!$I$26)","v":0},{"$f":"SUMIFS('RAW DATA_CT0554'!M:M, 'RAW DATA_CT0554'!$H:$H,'Base Data Combined'!$A31,'RAW DATA_CT0554'!$D:$D,'Base Data Combined'!$B$26,'RAW DATA_CT0554'!$F:$F,'Base Data Combined'!$C$26,'RAW DATA_CT0554'!$E:$E,'Base Data Combined'!$I$26)","v":0}]
[5,"5+",{"$f":"SUMIFS('RAW DATA_CT0554'!N:N, 'RAW DATA_CT0554'!$H:$H,'Base Data Combined'!$A32,'RAW DATA_CT0554'!$D:$D,'Base Data Combined'!$B$26,'RAW DATA_CT0554'!$F:$F,'Base Data Combined'!$C$26,'RAW DATA_CT0554'!$E:$E,'Base Data Combined'!$I$26)","v":1},{"$f":"SUMIFS('RAW DATA_CT0554'!J:J, 'RAW DATA_CT0554'!$H:$H,'Base Data Combined'!$A32,'RAW DATA_CT0554'!$D:$D,'Base Data Combined'!$B$26,'RAW DATA_CT0554'!$F:$F,'Base Data Combined'!$C$26,'RAW DATA_CT0554'!$E:$E,'Base Data Combined'!$I$26)","v":1},{"$f":"SUMIFS('RAW DATA_CT0554'!K:K, 'RAW DATA_CT0554'!$H:$H,'Base Data Combined'!$A32,'RAW DATA_CT0554'!$D:$D,'Base Data Combined'!$B$26,'RAW DATA_CT0554'!$F:$F,'Base Data Combined'!$C$26,'RAW DATA_CT0554'!$E:$E,'Base Data Combined'!$I$26)","v":0},{"$f":"SUMIFS('RAW DATA_CT0554'!L:L, 'RAW DATA_CT0554'!$H:$H,'Base Data Combined'!$A32,'RAW DATA_CT0554'!$D:$D,'Base Data Combined'!$B$26,'RAW DATA_CT0554'!$F:$F,'Base Data Combined'!$C$26,'RAW DATA_CT0554'!$E:$E,'Base Data Combined'!$I$26)","v":1},{"$f":"SUMIFS('RAW DATA_CT0554'!M:M, 'RAW DATA_CT0554'!$H:$H,'Base Data Combined'!$A32,'RAW DATA_CT0554'!$D:$D,'Base Data Combined'!$B$26,'RAW DATA_CT0554'!$F:$F,'Base Data Combined'!$C$26,'RAW DATA_CT0554'!$E:$E,'Base Data Combined'!$I$26)","v":0}]
[]
[null,"Small Settlements","Shared ownership or rented (excluding living rent free)",{"$nulls":5},"Detached; semi-detached; terraced whole house or bungalow"]
[null,"Bedrooms/Number of Cars","Number of Dwellings"]
[null,null,"0 Cars","1 Car","2 Cars","3 Cars","4+ Cars"]
[2,"1 or 2",{"$f":"SUMIFS('RAW DATA_CT0554'!N:N, 'RAW DATA_CT0554'!$H:$H,'Base Data Combined'!$A37,'RAW DATA_CT0554'!$D:$D,'Base Data Combined'!$B$34,'RAW DATA_CT0554'!$F:$F,'Base Data Combined'!$C$34,'RAW DATA_CT0554'!$E:$E,'Base Data Combined'!$I$34)","v":263},{"$f":"SUMIFS('RAW DATA_CT0554'!J:J, 'RAW DATA_CT0554'!$H:$H,'Base Data Combined'!$A37,'RAW DATA_CT0554'!$D:$D,'Base Data Combined'!$B$34,'RAW DATA_CT0554'!$F:$F,'Base Data Combined'!$C$34,'RAW DATA_CT0554'!$E:$E,'Base Data Combined'!$I$34)","v":511},{"$f":"SUMIFS('RAW DATA_CT0554'!K:K, 'RAW DATA_CT0554'!$H:$H,'Base Data Combined'!$A37,'RAW DATA_CT0554'!$D:$D,'Base Data Combined'!$B$34,'RAW DATA_CT0554'!$F:$F,'Base Data Combined'!$C$34,'RAW DATA_CT0554'!$E:$E,'Base Data Combined'!$I$34)","v":199},{"$f":"SUMIFS('RAW DATA_CT0554'!L:L, 'RAW DATA_CT0554'!$H:$H,'Base Data Combined'!$A37,'RAW DATA_CT0554'!$D:$D,'Base Data Combined'!$B$34,'RAW DATA_CT0554'!$F:$F,'Base Data Combined'!$C$34,'RAW DATA_CT0554'!$E:$E,'Base Data Combined'!$I$34)","v":14},{"$f":"SUMIFS('RAW DATA_CT0554'!M:M, 'RAW DATA_CT0554'!$H:$H,'Base Data Combined'!$A37,'RAW DATA_CT0554'!$D:$D,'Base Data Combined'!$B$34,'RAW DATA_CT0554'!$F:$F,'Base Data Combined'!$C$34,'RAW DATA_CT0554'!$E:$E,'Base Data Combined'!$I$34)","v":4}]
[3,3,{"$f":"SUMIFS('RAW DATA_CT0554'!N:N, 'RAW DATA_CT0554'!$H:$H,'Base Data Combined'!$A38,'RAW DATA_CT0554'!$D:$D,'Base Data Combined'!$B$34,'RAW DATA_CT0554'!$F:$F,'Base Data Combined'!$C$34,'RAW DATA_CT0554'!$E:$E,'Base Data Combined'!$I$34)","v":204},{"$f":"SUMIFS('RAW DATA_CT0554'!J:J, 'RAW DATA_CT0554'!$H:$H,'Base Data Combined'!$A38,'RAW DATA_CT0554'!$D:$D,'Base Data Combined'!$B$34,'RAW DATA_CT0554'!$F:$F,'Base Data Combined'!$C$34,'RAW DATA_CT0554'!$E:$E,'Base Data Combined'!$I$34)","v":622},{"$f":"SUMIFS('RAW DATA_CT0554'!K:K, 'RAW DATA_CT0554'!$H:$H,'Base Data Combined'!$A38,'RAW DATA_CT0554'!$D:$D,'Base Data Combined'!$B$34,'RAW DATA_CT0554'!$F:$F,'Base Data Combined'!$C$34,'RAW DATA_CT0554'!$E:$E,'Base Data Combined'!$I$34)","v":357},{"$f":"SUMIFS('RAW DATA_CT0554'!L:L, 'RAW DATA_CT0554'!$H:$H,'Base Data Combined'!$A38,'RAW DATA_CT0554'!$D:$D,'Base Data Combined'!$B$34,'RAW DATA_CT0554'!$F:$F,'Base Data Combined'!$C$34,'RAW DATA_CT0554'!$E:$E,'Base Data Combined'!$I$34)","v":66},{"$f":"SUMIFS('RAW DATA_CT0554'!M:M, 'RAW DATA_CT0554'!$H:$H,'Base Data Combined'!$A38,'RAW DATA_CT0554'!$D:$D,'Base Data Combined'!$B$34,'RAW DATA_CT0554'!$F:$F,'Base Data Combined'!$C$34,'RAW DATA_CT0554'!$E:$E,'Base Data Combined'!$I$34)","v":9}]
[4,4,{"$f":"SUMIFS('RAW DATA_CT0554'!N:N, 'RAW DATA_CT0554'!$H:$H,'Base Data Combined'!$A39,'RAW DATA_CT0554'!$D:$D,'Base Data Combined'!$B$34,'RAW DATA_CT0554'!$F:$F,'Base Data Combined'!$C$34,'RAW DATA_CT0554'!$E:$E,'Base Data Combined'!$I$34)","v":11},{"$f":"SUMIFS('RAW DATA_CT0554'!J:J, 'RAW DATA_CT0554'!$H:$H,'Base Data Combined'!$A39,'RAW DATA_CT0554'!$D:$D,'Base Data Combined'!$B$34,'RAW DATA_CT0554'!$F:$F,'Base Data Combined'!$C$34,'RAW DATA_CT0554'!$E:$E,'Base Data Combined'!$I$34)","v":57},{"$f":"SUMIFS('RAW DATA_CT0554'!K:K, 'RAW DATA_CT0554'!$H:$H,'Base Data Combined'!$A39,'RAW DATA_CT0554'!$D:$D,'Base Data Combined'!$B$34,'RAW DATA_CT0554'!$F:$F,'Base Data Combined'!$C$34,'RAW DATA_CT0554'!$E:$E,'Base Data Combined'!$I$34)","v":58},{"$f":"SUMIFS('RAW DATA_CT0554'!L:L, 'RAW DATA_CT0554'!$H:$H,'Base Data Combined'!$A39,'RAW DATA_CT0554'!$D:$D,'Base Data Combined'!$B$34,'RAW DATA_CT0554'!$F:$F,'Base Data Combined'!$C$34,'RAW DATA_CT0554'!$E:$E,'Base Data Combined'!$I$34)","v":12},{"$f":"SUMIFS('RAW DATA_CT0554'!M:M, 'RAW DATA_CT0554'!$H:$H,'Base Data Combined'!$A39,'RAW DATA_CT0554'!$D:$D,'Base Data Combined'!$B$34,'RAW DATA_CT0554'!$F:$F,'Base Data Combined'!$C$34,'RAW DATA_CT0554'!$E:$E,'Base Data Combined'!$I$34)","v":1}]
[5,"5+",{"$f":"SUMIFS('RAW DATA_CT0554'!N:N, 'RAW DATA_CT0554'!$H:$H,'Base Data Combined'!$A40,'RAW DATA_CT0554'!$D:$D,'Base Data Combined'!$B$34,'RAW DATA_CT0554'!$F:$F,'Base Data Combined'!$C$34,'RAW DATA_CT0554'!$E:$E,'Base Data Combined'!$I$34)","v":11},{"$f":"SUMIFS('RAW DATA_CT0554'!J:J, 'RAW DATA_CT0554'!$H:$H,'Base Data Combined'!$A40,'RAW DATA_CT0554'!$D:$D,'Base Data Combined'!$B$34,'RAW DATA_CT0554'!$F:$F,'Base Data Combined'!$C$34,'RAW DATA_CT0554'!$E:$E,'Base Data Combined'!$I$34)","v":45},{"$f":"SUMIFS('RAW DATA_CT0554'!K:K, 'RAW DATA_CT0554'!$H:$H,'Base Data Combined'!$A40,'RAW DATA_CT0554'!$D:$D,'Base Data Combined'!$B$34,'RAW DATA_CT0554'!$F:$F,'Base Data Combined'!$C$34,'RAW DATA_CT0554'!$E:$E,'Base Data Combined'!$I$34)","v":53},{"$f":"SUMIFS('RAW DATA_CT0554'!L:L, 'RAW DATA_CT0554'!$H:$H,'Base Data Combined'!$A40,'RAW DATA_CT0554'!$D:$D,'Base Data Combined'!$B$34,'RAW DATA_CT0554'!$F:$F,'Base Data Combined'!$C$34,'RAW DATA_CT0554'!$E:$E,'Base Data Combined'!$I$34)","v":5},{"$f":"SUMIFS('RAW DATA_CT0554'!M:M, 'RAW DATA_CT0554'!$H:$H,'Base Data Combined'!$A40,'RAW DATA_CT0554'!$D:$D,'Base Data Combined'!$B$34,'RAW DATA_CT0554'!$F:$F,'Base Data Combined'!$C$34,'RAW DATA_CT0554'!$E:$E,'Base Data Combined'!$I$34)","v":6}]
[]
[null,"Small Settlements","Owned",{"$nulls":5},"Detached; semi-detached; terraced whole house or bungalow"]
[null,"Bedrooms/Number of Cars","Number of Dwellings"]
[null,null,"0 Cars","1 Car","2 Cars","3 Cars","4+ Cars"]
[2,"1 or 2",{"$f":"SUMIFS('RAW DATA_CT0554'!N:N, 'RAW DATA_CT0554'!$H:$H,'Base Data Combined'!$A45,'RAW DATA_CT0554'!$D:$D,'Base Data Combined'!$B$42,'RAW DATA_CT0554'!$F:$F,'Base Data Combined'!$C$42,'RAW DATA_CT0554'!$E:$E,'Base Data Combined'!$I$42)","v":110},{"$f":"SUMIFS('RAW DATA_CT0554'!J:J, 'RAW DATA_CT0554'!$H:$H,'Base Data Combined'!$A45,'RAW DATA_CT0554'!$D:$D,'Base Data Combined'!$B$42,'RAW DATA_CT0554'!$F:$F,'Base Data Combined'!$C$42,'RAW DATA_CT0554'!$E:$E,'Base Data Combined'!$I$42)","v":353},{"$f":"SUMIFS('RAW DATA_CT0554'!K:K, 'RAW DATA_CT0554'!$H:$H,'Base Data Combined'!$A45,'RAW DATA_CT0554'!$D:$D,'Base Data Combined'!$B$42,'RAW DATA_CT0554'!$F:$F,'Base Data Combined'!$C$42,'RAW DATA_CT0554'!$E:$E,'Base Data Combined'!$I$42)","v":154},{"$f":"SUMIFS('RAW DATA_CT0554'!L:L, 'RAW DATA_CT0554'!$H:$H,'Base Data Combined'!$A45,'RAW DATA_CT0554'!$D:$D,'Base Data Combined'!$B$42,'RAW DATA_CT0554'!$F:$F,'Base Data Combined'!$C$42,'RAW DATA_CT0554'!$E:$E,'Base Data Combined'!$I$42)","v":22},{"$f":"SUMIFS('RAW DATA_CT0554'!M:M, 'RAW DATA_CT0554'!$H:$H,'Base Data Combined'!$A45,'RAW DATA_CT0554'!$D:$D,'Base Data Combined'!$B$42,'RAW DATA_CT0554'!$F:$F,'Base Data Combined'!$C$42,'RAW DATA_CT0554'!$E:$E,'Base Data Combined'!$I$42)","v":3}]
[3,3,{"$f":"SUMIFS('RAW DATA_CT0554'!N:N, 'RAW DATA_CT0554'!$H:$H,'Base Data Combined'!$A46,'RAW DATA_CT0554'!$D:$D,'Base Data Combined'!$B$42,'RAW DATA_CT0554'!$F:$F,'Base Data Combined'!$C$42,'RAW DATA_CT0554'!$E:$E,'Base Data Combined'!$I$42)","v":310},{"$f":"SUMIFS('RAW DATA_CT0554'!J:J, 'RAW DATA_CT0554'!$H:$H,'Base Data Combined'!$A46,'RAW DATA_CT0554'!$D:$D,'Base Data Combined'!$B$42,'RAW DATA_CT0554'!$F:$F,'Base Data Combined'!$C$42,'RAW DATA_CT0554'!$E:$E,'Base Data Combined'!$I$42)","v":1382},{"$f":"SUMIFS('RAW DATA_CT0554'!K:K, 'RAW DATA_CT0554'!$H:$H,'Base Data Combined'!$A46,'RAW DATA_CT0554'!$D:$D,'Base Data Combined'!$B$42,'RAW DATA_CT0554'!$F:$F,'Base Data Combined'!$C$42,'RAW DATA_CT0554'!$E:$E,'Base Data Combined'!$I$42)","v":936},{"$f":"SUMIFS('RAW DATA_CT0554'!L:L, 'RAW DATA_CT0554'!$H:$H,'Base Data Combined'!$A46,'RAW DATA_CT0554'!$D:$D,'Base Data Combined'!$B$42,'RAW DATA_CT0554'!$F:$F,'Base Data Combined'!$C$42,'RAW DATA_CT0554'!$E:$E,'Base Data Combined'!$I$42)","v":208},{"$f":"SUMIFS('RAW DATA_CT0554'!M:M, 'RAW DATA_CT0554'!$H:$H,'Base Data Combined'!$A46,'RAW DATA_CT0554'!$D:$D,'Base Data Combined'!$B$42,'RAW DATA_CT0554'!$F:$F,'Base Data Combined'!$C$42,'RAW DATA_CT0554'!$E:$E,'Base Data Combined'!$I$42)","v":67}]
[4,4,{"$f":"SUMIFS('RAW DATA_CT0554'!N:N, 'RAW DATA_CT0554'!$H:$H,'Base Data Combined'!$A47,'RAW DATA_CT0554'!$D:$D,'Base Data Combined'!$B$42,'RAW DATA_CT0554'!$F:$F,'Base Data Combined'!$C$42,'RAW DATA_CT0554'!$E:$E,'Base Data Combined'!$I$42)","v":46},{"$f":"SUMIFS('RAW DATA_CT0554'!J:J, 'RAW DATA_CT0554'!$H:$H,'Base Data Combined'!$A47,'RAW DATA_CT0554'!$D:$D,'Base Data Combined'!$B$42,'RAW DATA_CT0554'!$F:$F,'Base Data Combined'!$C$42,'RAW DATA_CT0554'!$E:$E,'Base Data Combined'!$I$42)","v":382},{"$f":"SUMIFS('RAW DATA_CT0554'!K:K, 'RAW DATA_CT0554'!$H:$H,'Base Data Combined'!$A47,'RAW DATA_CT0554'!$D:$D,'Base Data Combined'!$B$42,'RAW DATA_CT0554'!$F:$F,'Base Data Combined'!$C$42,'RAW DATA_CT0554'!$E:$E,'Base Data Combined'!$I$42)","v":454},{"$f":"SUMIFS('RAW DATA_CT0554'!L:L, 'RAW DATA_CT0554'!$H:$H,'Base Data Combined'!$A47,'RAW DATA_CT0554'!$D:$D,'Base Data Combined'!$B$42,'RAW DATA_CT0554'!$F:$F,'Base Data Combined'!$C$42,'RAW DATA_CT0554'!$E:$E,'Base Data Combined'!$I$42)","v":117},{"$f":"SUMIFS('RAW DATA_CT0554'!M:M, 'RAW DATA_CT0554'!$H:$H,'Base Data Combined'!$A47,'RAW DATA_CT0554'!$D:$D,'Base Data Combined'!$B$42,'RAW DATA_CT0554'!$F:$F,'Base Data Combined'!$C$42,'RAW DATA_CT0554'!$E:$E,'Base Data Combined'!$I$42)","v":50}]
[5,"5+",{"$f":"SUMIFS('RAW DATA_CT0554'!N:N, 'RAW DATA_CT0554'!$H:$H,'Base Data Combined'!$A48,'RAW DATA_CT0554'!$D:$D,'Base Data Combined'!$B$42,'RAW DATA_CT0554'!$F:$F,'Base Data Combined'!$C$42,'RAW DATA_CT0554'!$E:$E,'Base Data Combined'!$I$42)","v":41},{"$f":"SUMIFS('RAW DATA_CT0554'!J:J, 'RAW DATA_CT0554'!$H:$H,'Base Data Combined'!$A48,'RAW DATA_CT0554'!$D:$D,'Base Data Combined'!$B$42,'RAW DATA_CT0554'!$F:$F,'Base Data Combined'!$C$42,'RAW DATA_CT0554'!$E:$E,'Base Data Combined'!$I$42)","v":452},{"$f":"SUMIFS('RAW DATA_CT0554'!K:K, 'RAW DATA_CT0554'!$H:$H,'Base Data Combined'!$A48,'RAW DATA_CT0554'!$D:$D,'Base Data Combined'!$B$42,'RAW DATA_CT0554'!$F:$F,'Base Data Combined'!$C$42,'RAW DATA_CT0554'!$E:$E,'Base Data Combined'!$I$42)","v":926},{"$f":"SUMIFS('RAW DATA_CT0554'!L:L, 'RAW DATA_CT0554'!$H:$H,'Base Data Combined'!$A48,'RAW DATA_CT0554'!$D:$D,'Base Data Combined'!$B$42,'RAW DATA_CT0554'!$F:$F,'Base Data Combined'!$C$42,'RAW DATA_CT0554'!$E:$E,'Base Data Combined'!$I$42)","v":267},{"$f":"SUMIFS('RAW DATA_CT0554'!M:M, 'RAW DATA_CT0554'!$H:$H,'Base Data Combined'!$A48,'RAW DATA_CT0554'!$D:$D,'Base Data Combined'!$B$42,'RAW DATA_CT0554'!$F:$F,'Base Data Combined'!$C$42,'RAW DATA_CT0554'!$E:$E,'Base Data Combined'!$I$42)","v":121}]
[]
[null,"Small Settlements","Shared ownership or rented (excluding living rent free)",{"$nulls":5},"A flat; maisonette; apartment"]
[null,"Bedrooms/Number of Cars","Number of Dwellings"]
[null,null,"0 Cars","1 Car","2 Cars","3 Cars","4+ Cars"]
[2,"1 or 2",{"$f":"SUMIFS('RAW DATA_CT0554'!N:N, 'RAW DATA_CT0554'!$H:$H,'Base Data Combined'!$A53,'RAW DATA_CT0554'!$D:$D,'Base Data Combined'!$B$50,'RAW DATA_CT0554'!$F:$F,'Base Data Combined'!$C$50,'RAW DATA_CT0554'!$E:$E,'Base Data Combined'!$I$50)","v":342},{"$f":"SUMIFS('RAW DATA_CT0554'!J:J, 'RAW DATA_CT0554'!$H:$H,'Base Data Combined'!$A53,'RAW DATA_CT0554'!$D:$D,'Base Data Combined'!$B$50,'RAW DATA_CT0554'!$F:$F,'Base Data Combined'!$C$50,'RAW DATA_CT0554'!$E:$E,'Base Data Combined'!$I$50)","v":348},{"$f":"SUMIFS('RAW DATA_CT0554'!K:K, 'RAW DATA_CT0554'!$H:$H,'Base Data Combined'!$A53,'RAW DATA_CT0554'!$D:$D,'Base Data Combined'!$B$50,'RAW DATA_CT0554'!$F:$F,'Base Data Combined'!$C$50,'RAW DATA_CT0554'!$E:$E,'Base Data Combined'!$I$50)","v":62},{"$f":"SUMIFS('RAW DATA_CT0554'!L:L, 'RAW DATA_CT0554'!$H:$H,'Base Data Combined'!$A53,'RAW DATA_CT0554'!$D:$D,'Base Data Combined'!$B$50,'RAW DATA_CT0554'!$F:$F,'Base Data Combined'!$C$50,'RAW DATA_CT0554'!$E:$E,'Base Data Combined'!$I$50)","v":2},{"$f":"SUMIFS('RAW DATA_CT0554'!M:M, 'RAW DATA_CT0554'!$H:$H,'Base Data Combined'!$A53,'RAW DATA_CT0554'!$D:$D,'Base Data Combined'!$B$50,'RAW DATA_CT0554'!$F:$F,'Base Data Combined'!$C$50,'RAW DATA_CT0554'!$E:$E,'Base Data Combined'!$I$50)","v":3}]
[3,3,{"$f":"SUMIFS('RAW DATA_CT0554'!N:N, 'RAW DATA_CT0554'!$H:$H,'Base Data Combined'!$A54,'RAW DATA_CT0554'!$D:$D,'Base Data Combined'!$B$50,'RAW DATA_CT0554'!$F:$F,'Base Data Combined'!$C$50,'RAW DATA_CT0554'!$E:$E,'Base Data Combined'!$I$50)","v":13},{"$f":"SUMIFS('RAW DATA_CT0554'!J:J, 'RAW DATA_CT0554'!$H:$H,'Base Data Combined'!$A54,'RAW DATA_CT0554'!$D:$D,'Base Data Combined'!$B$50,'RAW DATA_CT0554'!$F:$F,'Base Data Combined'!$C$50,'RAW DATA_CT0554'!$E:$E,'Base Data Combined'!$I$50)","v":50},{"$f":"SUMIFS('RAW DATA_CT0554'!K:K, 'RAW DATA_CT0554'!$H:$H,'Base Data Combined'!$A54,'RAW DATA_CT0554'!$D:$D,'Base Data Combined'!$B$50,'RAW DATA_CT0554'!$F:$F,'Base Data Combined'!$C$50,'RAW DATA_CT0554'!$E:$E,'Base Data Combined'!$I$50)","v":14},{"$f":"SUMIFS('RAW DATA_CT0554'!L:L, 'RAW DATA_CT0554'!$H:$H,'Base Data Combined'!$A54,'RAW DATA_CT0554'!$D:$D,'Base Data Combined'!$B$50,'RAW DATA_CT0554'!$F:$F,'Base Data Combined'!$C$50,'RAW DATA_CT0554'!$E:$E,'Base Data Combined'!$I$50)","v":0},{"$f":"SUMIFS('RAW DATA_CT0554'!M:M, 'RAW DATA_CT0554'!$H:$H,'Base Data Combined'!$A54,'RAW DATA_CT0554'!$D:$D,'Base Data Combined'!$B$50,'RAW DATA_CT0554'!$F:$F,'Base Data Combined'!$C$50,'RAW DATA_CT0554'!$E:$E,'Base Data Combined'!$I$50)","v":1}]
[4,4,{"$f":"SUMIFS('RAW DATA_CT0554'!N:N, 'RAW DATA_CT0554'!$H:$H,'Base Data Combined'!$A55,'RAW DATA_CT0554'!$D:$D,'Base Data Combined'!$B$50,'RAW DATA_CT0554'!$F:$F,'Base Data Combined'!$C$50,'RAW DATA_CT0554'!$E:$E,'Base Data Combined'!$I$50)","v":1},{"$f":"SUMIFS('RAW DATA_CT0554'!J:J, 'RAW DATA_CT0554'!$H:$H,'Base Data Combined'!$A55,'RAW DATA_CT0554'!$D:$D,'Base Data Combined'!$B$50,'RAW DATA_CT0554'!$F:$F,'Base Data Combined'!$C$50,'RAW DATA_CT0554'!$E:$E,'Base Data Combined'!$I$50)","v":2},{"$f":"SUMIFS('RAW DATA_CT0554'!K:K, 'RAW DATA_CT0554'!$H:$H,'Base Data Combined'!$A55,'RAW DATA_CT0554'!$D:$D,'Base Data Combined'!$B$50,'RAW DATA_CT0554'!$F:$F,'Base Data Combined'!$C$50,'RAW DATA_CT0554'!$E:$E,'Base Data Combined'!$I$50)","v":2},{"$f":"SUMIFS('RAW DATA_CT0554'!L:L, 'RAW DATA_CT0554'!$H:$H,'Base Data Combined'!$A55,'RAW DATA_CT0554'!$D:$D,'Base Data Combined'!$B$50,'RAW DATA_CT0554'!$F:$F,'Base Data Combined'!$C$50,'RAW DATA_CT0554'!$E:$E,'Base Data Combined'!$I$50)","v":0},{"$f":"SUMIFS('RAW DATA_CT0554'!M:M, 'RAW DATA_CT0554'!$H:$H,'Base Data Combined'!$A55,'RAW DATA_CT0554'!$D:$D,'Base Data Combined'!$B$50,'RAW DATA_CT0554'!$F:$F,'Base Data Combined'!$C$50,'RAW DATA_CT0554'!$E:$E,'Base Data Combined'!$I$50)","v":0}]
[5,"5+",{"$f":"SUMIFS('RAW DATA_CT0554'!N:N, 'RAW DATA_CT0554'!$H:$H,'Base Data Combined'!$A56,'RAW DATA_CT0554'!$D:$D,'Base Data Combined'!$B$50,'RAW DATA_CT0554'!$F:$F,'Base Data Combined'!$C$50,'RAW DATA_CT0554'!$E:$E,'Base Data Combined'!$I$50)","v":4},{"$f":"SUMIFS('RAW DATA_CT0554'!J:J, 'RAW DATA_CT0554'!$H:$H,'Base Data Combined'!$A56,'RAW DATA_CT0554'!$D:$D,'Base Data Combined'!$B$50,'RAW DATA_CT0554'!$F:$F,'Base Data Combined'!$C$50,'RAW DATA_CT0554'!$E:$E,'Base Data Combined'!$I$50)","v":1},{"$f":"SUMIFS('RAW DATA_CT0554'!K:K, 'RAW DATA_CT0554'!$H:$H,'Base Data Combined'!$A56,'RAW DATA_CT0554'!$D:$D,'Base Data Combined'!$B$50,'RAW DATA_CT0554'!$F:$F,'Base Data Combined'!$C$50,'RAW DATA_CT0554'!$E:$E,'Base Data Combined'!$I$50)","v":2},{"$f":"SUMIFS('RAW DATA_CT0554'!L:L, 'RAW DATA_CT0554'!$H:$H,'Base Data Combined'!$A56,'RAW DATA_CT0554'!$D:$D,'Base Data Combined'!$B$50,'RAW DATA_CT0554'!$F:$F,'Base Data Combined'!$C$50,'RAW DATA_CT0554'!$E:$E,'Base Data Combined'!$I$50)","v":0},{"$f":"SUMIFS('RAW DATA_CT0554'!M:M, 'RAW DATA_CT0554'!$H:$H,'Base Data Combined'!$A56,'RAW DATA_CT0554'!$D:$D,'Base Data Combined'!$B$50,'RAW DATA_CT0554'!$F:$F,'Base Data Combined'!$C$50,'RAW DATA_CT0554'!$E:$E,'Base Data Combined'!$I$50)","v":0}]
[]
[null,"Small Settlements","Owned",{"$nulls":5},"A flat; maisonette; apartment"]
[null,"Bedrooms/Number of Cars","Number of Dwellings"]
[null,null,"0 Cars","1 Car","2 Cars","3 Cars","4+ Cars"]
[2,"1 or 2",{"$f":"SUMIFS('RAW DATA_CT0554'!N:N, 'RAW DATA_CT0554'!$H:$H,'Base Data Combined'!$A61,'RAW DATA_CT0554'!$D:$D,'Base Data Combined'!$B$58,'RAW DATA_CT0554'!$F:$F,'Base Data Combined'!$C$58,'RAW DATA_CT0554'!$E:$E,'Base Data Combined'!$I$58)","v":54},{"$f":"SUMIFS('RAW DATA_CT0554'!J:J, 'RAW DATA_CT0554'!$H:$H,'Base Data Combined'!$A61,'RAW DATA_CT0554'!$D:$D,'Base Data Combined'!$B$58,'RAW DATA_CT0554'!$F:$F,'Base Data Combined'!$C$58,'RAW DATA_CT0554'!$E:$E,'Base Data Combined'!$I$58)","v":121},{"$f":"SUMIFS('RAW DATA_CT0554'!K:K, 'RAW DATA_CT0554'!$H:$H,'Base Data Combined'!$A61,'RAW DATA_CT0554'!$D:$D,'Base Data Combined'!$B$58,'RAW DATA_CT0554'!$F:$F,'Base Data Combined'!$C$58,'RAW DATA_CT0554'!$E:$E,'Base Data Combined'!$I$58)","v":34},{"$f":"SUMIFS('RAW DATA_CT0554'!L:L, 'RAW DATA_CT0554'!$H:$H,'Base Data Combined'!$A61,'RAW DATA_CT0554'!$D:$D,'Base Data Combined'!$B$58,'RAW DATA_CT0554'!$F:$F,'Base Data Combined'!$C$58,'RAW DATA_CT0554'!$E:$E,'Base Data Combined'!$I$58)","v":6},{"$f":"SUMIFS('RAW DATA_CT0554'!M:M, 'RAW DATA_CT0554'!$H:$H,'Base Data Combined'!$A61,'RAW DATA_CT0554'!$D:$D,'Base Data Combined'!$B$58,'RAW DATA_CT0554'!$F:$F,'Base Data Combined'!$C$58,'RAW DATA_CT0554'!$E:$E,'Base Data Combined'!$I$58)","v":1}]
[3,3,{"$f":"SUMIFS('RAW DATA_CT0554'!N:N, 'RAW DATA_CT0554'!$H:$H,'Base Data Combined'!$A62,'RAW DATA_CT0554'!$D:$D,'Base Data Combined'!$B$58,'RAW DATA_CT0554'!$F:$F,'Base Data Combined'!$C$58,'RAW DATA_CT0554'!$E:$E,'Base Data Combined'!$I$58)","v":6},{"$f":"SUMIFS('RAW DATA_CT0554'!J:J, 'RAW DATA_CT0554'!$H:$H,'Base Data Combined'!$A62,'RAW DATA_CT0554'!$D:$D,'Base Data Combined'!$B$58,'RAW DATA_CT0554'!$F:$F,'Base Data Combined'!$C$58,'RAW DATA_CT0554'!$E:$E,'Base Data Combined'!$I$58)","v":34},{"$f":"SUMIFS('RAW DATA_CT0554'!K:K, 'RAW DATA_CT0554'!$H:$H,'Base Data Combined'!$A62,'RAW DATA_CT0554'!$D:$D,'Base Data Combined'!$B$58,'RAW DATA_CT0554'!$F:$F,'Base Data Combined'!$C$58,'RAW DATA_CT0554'!$E:$E,'Base Data Combined'!$I$58)","v":15},{"$f":"SUMIFS('RAW DATA_CT0554'!L:L, 'RAW DATA_CT0554'!$H:$H,'Base Data Combined'!$A62,'RAW DATA_CT0554'!$D:$D,'Base Data Combined'!$B$58,'RAW DATA_CT0554'!$F:$F,'Base Data Combined'!$C$58,'RAW DATA_CT0554'!$E:$E,'Base Data Combined'!$I$58)","v":3},{"$f":"SUMIFS('RAW DATA_CT0554'!M:M, 'RAW DATA_CT0554'!$H:$H,'Base Data Combined'!$A62,'RAW DATA_CT0554'!$D:$D,'Base Data Combined'!$B$58,'RAW DATA_CT0554'!$F:$F,'Base Data Combined'!$C$58,'RAW DATA_CT0554'!$E:$E,'Base Data Combined'!$I$58)","v":1}]
[4,4,{"$f":"SUMIFS('RAW DATA_CT0554'!N:N, 'RAW DATA_CT0554'!$H:$H,'Base Data Combined'!$A63,'RAW DATA_CT0554'!$D:$D,'Base Data Combined'!$B$58,'RAW DATA_CT0554'!$F:$F,'Base Data Combined'!$C$58,'RAW DATA_CT0554'!$E:$E,'Base Data Combined'!$I$58)","v":0},{"$f":"SUMIFS('RAW DATA_CT0554'!J:J, 'RAW DATA_CT0554'!$H:$H,'Base Data Combined'!$A63,'RAW DATA_CT0554'!$D:$D,'Base Data Combined'!$B$58,'RAW DATA_CT0554'!$F:$F,'Base Data Combined'!$C$58,'RAW DATA_CT0554'!$E:$E,'Base Data Combined'!$I$58)","v":3},{"$f":"SUMIFS('RAW DATA_CT0554'!K:K, 'RAW DATA_CT0554'!$H:$H,'Base Data Combined'!$A63,'RAW DATA_CT0554'!$D:$D,'Base Data Combined'!$B$58,'RAW DATA_CT0554'!$F:$F,'Base Data Combined'!$C$58,'RAW DATA_CT0554'!$E:$E,'Base Data Combined'!$I$58)","v":2},{"$f":"SUMIFS('RAW DATA_CT0554'!L:L, 'RAW DATA_CT0554'!$H:$H,'Base Data Combined'!$A63,'RAW DATA_CT0554'!$D:$D,'Base Data Combined'!$B$58,'RAW DATA_CT0554'!$F:$F,'Base Data Combined'!$C$58,'RAW DATA_CT0554'!$E:$E,'Base Data Combined'!$I$58)","v":2},{"$f":"SUMIFS('RAW DATA_CT0554'!M:M, 'RAW DATA_CT0554'!$H:$H,'Base Data Combined'!$A63,'RAW DATA_CT0554'!$D:$D,'Base Data Combined'!$B$58,'RAW DATA_CT0554'!$F:$F,'Base Data Combined'!$C$58,'RAW DATA_CT0554'!$E:$E,'Base Data Combined'!$I$58)","v":0}]
[5,"5+",{"$f":"SUMIFS('RAW DATA_CT0554'!N:N, 'RAW DATA_CT0554'!$H:$H,'Base Data Combined'!$A64,'RAW DATA_CT0554'!$D:$D,'Base Data Combined'!$B$58,'RAW DATA_CT0554'!$F:$F,'Base Data Combined'!$C$58,'RAW DATA_CT0554'!$E:$E,'Base Data Combined'!$I$58)","v":1},{"$f":"SUMIFS('RAW DATA_CT0554'!J:J, 'RAW DATA_CT0554'!$H:$H,'Base Data Combined'!$A64,'RAW DATA_CT0554'!$D:$D,'Base Data Combined'!$B$58,'RAW DATA_CT0554'!$F:$F,'Base Data Combined'!$C$58,'RAW DATA_CT0554'!$E:$E,'Base Data Combined'!$I$58)","v":1},{"$f":"SUMIFS('RAW DATA_CT0554'!K:K, 'RAW DATA_CT0554'!$H:$H,'Base Data Combined'!$A64,'RAW DATA_CT0554'!$D:$D,'Base Data Combined'!$B$58,'RAW DATA_CT0554'!$F:$F,'Base Data Combined'!$C$58,'RAW DATA_CT0554'!$E:$E,'Base Data Combined'!$I$58)","v":6},{"$f":"SUMIFS('RAW DATA_CT0554'!L:L, 'RAW DATA_CT0554'!$H:$H,'Base Data Combined'!$A64,'RAW DATA_CT0554'!$D:$D,'Base Data Combined'!$B$58,'RAW DATA_CT0554'!$F:$F,'Base Data Combined'!$C$58,'RAW DATA_CT0554'!$E:$E,'Base Data Combined'!$I$58)","v":2},{"$f":"SUMIFS('RAW DATA_CT0554'!M:M, 'RAW DATA_CT0554'!$H:$H,'Base Data Combined'!$A64,'RAW DATA_CT0554'!$D:$D,'Base Data Combined'!$B$58,'RAW DATA_CT0554'!$F:$F,'Base Data Combined'!$C$58,'RAW DATA_CT0554'!$E:$E,'Base Data Combined'!$I$58)","v":1}]
[]
[null,"Rural","Shared ownership or rented (excluding living rent free)",{"$nulls":5},"Detached; semi-detached; terraced whole house or bungalow"]
[null,"Bedrooms/Number of Cars","Number of Dwellings"]
[null,null,"0 Cars","1 Car","2 Cars","3 Cars","4+ Cars"]
[2,"1 or 2",{"$f":"SUMIFS('RAW DATA_CT0554'!N:N, 'RAW DATA_CT0554'!$H:$H,'Base Data Combined'!$A69,'RAW DATA_CT0554'!$D:$D,'Base Data Combined'!$B$66,'RAW DATA_CT0554'!$F:$F,'Base Data Combined'!$C$66,'RAW DATA_CT0554'!$E:$E,'Base Data Combined'!$I$66)","v":256},{"$f":"SUMIFS('RAW DATA_CT0554'!J:J, 'RAW DATA_CT0554'!$H:$H,'Base Data Combined'!$A69,'RAW DATA_CT0554'!$D:$D,'Base Data Combined'!$B$66,'RAW DATA_CT0554'!$F:$F,'Base Data Combined'!$C$66,'RAW DATA_CT0554'!$E:$E,'Base Data Combined'!$I$66)","v":803},{"$f":"SUMIFS('RAW DATA_CT0554'!K:K, 'RAW DATA_CT0554'!$H:$H,'Base Data Combined'!$A69,'RAW DATA_CT0554'!$D:$D,'Base Data Combined'!$B$66,'RAW DATA_CT0554'!$F:$F,'Base Data Combined'!$C$66,'RAW DATA_CT0554'!$E:$E,'Base Data Combined'!$I$66)","v":320},{"$f":"SUMIFS('RAW DATA_CT0554'!L:L, 'RAW DATA_CT0554'!$H:$H,'Base Data Combined'!$A69,'RAW DATA_CT0554'!$D:$D,'Base Data Combined'!$B$66,'RAW DATA_CT0554'!$F:$F,'Base Data Combined'!$C$66,'RAW DATA_CT0554'!$E:$E,'Base Data Combined'!$I$66)","v":40},{"$f":"SUMIFS('RAW DATA_CT0554'!M:M, 'RAW DATA_CT0554'!$H:$H,'Base Data Combined'!$A69,'RAW DATA_CT0554'!$D:$D,'Base Data Combined'!$B$66,'RAW DATA_CT0554'!$F:$F,'Base Data Combined'!$C$66,'RAW DATA_CT0554'!$E:$E,'Base Data Combined'!$I$66)","v":7}]
[3,3,{"$f":"SUMIFS('RAW DATA_CT0554'!N:N, 'RAW DATA_CT0554'!$H:$H,'Base Data Combined'!$A70,'RAW DATA_CT0554'!$D:$D,'Base Data Combined'!$B$66,'RAW DATA_CT0554'!$F:$F,'Base Data Combined'!$C$66,'RAW DATA_CT0554'!$E:$E,'Base Data Combined'!$I$66)","v":235},{"$f":"SUMIFS('RAW DATA_CT0554'!J:J, 'RAW DATA_CT0554'!$H:$H,'Base Data Combined'!$A70,'RAW DATA_CT0554'!$D:$D,'Base Data Combined'!$B$66,'RAW DATA_CT0554'!$F:$F,'Base Data Combined'!$C$66,'RAW DATA_CT0554'!$E:$E,'Base Data Combined'!$I$66)","v":1038},{"$f":"SUMIFS('RAW DATA_CT0554'!K:K, 'RAW DATA_CT0554'!$H:$H,'Base Data Combined'!$A70,'RAW DATA_CT0554'!$D:$D,'Base Data Combined'!$B$66,'RAW DATA_CT0554'!$F:$F,'Base Data Combined'!$C$66,'RAW DATA_CT0554'!$E:$E,'Base Data Combined'!$I$66)","v":826},{"$f":"SUMIFS('RAW DATA_CT0554'!L:L, 'RAW DATA_CT0554'!$H:$H,'Base Data Combined'!$A70,'RAW DATA_CT0554'!$D:$D,'Base Data Combined'!$B$66,'RAW DATA_CT0554'!$F:$F,'Base Data Combined'!$C$66,'RAW DATA_CT0554'!$E:$E,'Base Data Combined'!$I$66)","v":183},{"$f":"SUMIFS('RAW DATA_CT0554'!M:M, 'RAW DATA_CT0554'!$H:$H,'Base Data Combined'!$A70,'RAW DATA_CT0554'!$D:$D,'Base Data Combined'!$B$66,'RAW DATA_CT0554'!$F:$F,'Base Data Combined'!$C$66,'RAW DATA_CT0554'!$E:$E,'Base Data Combined'!$I$66)","v":64}]
[4,4,{"$f":"SUMIFS('RAW DATA_CT0554'!N:N, 'RAW DATA_CT0554'!$H:$H,'Base Data Combined'!$A71,'RAW DATA_CT0554'!$D:$D,'Base Data Combined'!$B$66,'RAW DATA_CT0554'!$F:$F,'Base Data Combined'!$C$66,'RAW DATA_CT0554'!$E:$E,'Base Data Combined'!$I$66)","v":17},{"$f":"SUMIFS('RAW DATA_CT0554'!J:J, 'RAW DATA_CT0554'!$H:$H,'Base Data Combined'!$A71,'RAW DATA_CT0554'!$D:$D,'Base Data Combined'!$B$66,'RAW DATA_CT0554'!$F:$F,'Base Data Combined'!$C$66,'RAW DATA_CT0554'!$E:$E,'Base Data Combined'!$I$66)","v":119},{"$f":"SUMIFS('RAW DATA_CT0554'!K:K, 'RAW DATA_CT0554'!$H:$H,'Base Data Combined'!$A71,'RAW DATA_CT0554'!$D:$D,'Base Data Combined'!$B$66,'RAW DATA_CT0554'!$F:$F,'Base Data Combined'!$C$66,'RAW DATA_CT0554'!$E:$E,'Base Data Combined'!$I$66)","v":165},{"$f":"SUMIFS('RAW DATA_CT0554'!L:L, 'RAW DATA_CT0554'!$H:$H,'Base Data Combined'!$A71,'RAW DATA_CT0554'!$D:$D,'Base Data Combined'!$B$66,'RAW DATA_CT0554'!$F:$F,'Base Data Combined'!$C$66,'RAW DATA_CT0554'!$E:$E,'Base Data Combined'!$I$66)","v":50},{"$f":"SUMIFS('RAW DATA_CT0554'!M:M, 'RAW DATA_CT0554'!$H:$H,'Base Data Combined'!$A71,'RAW DATA_CT0554'!$D:$D,'Base Data Combined'!$B$66,'RAW DATA_CT0554'!$F:$F,'Base Data Combined'!$C$66,'RAW DATA_CT0554'!$E:$E,'Base Data Combined'!$I$66)","v":9}]
[5,"5+",{"$f":"SUMIFS('RAW DATA_CT0554'!N:N, 'RAW DATA_CT0554'!$H:$H,'Base Data Combined'!$A72,'RAW DATA_CT0554'!$D:$D,'Base Data Combined'!$B$66,'RAW DATA_CT0554'!$F:$F,'Base Data Combined'!$C$66,'RAW DATA_CT0554'!$E:$E,'Base Data Combined'!$I$66)","v":22},{"$f":"SUMIFS('RAW DATA_CT0554'!J:J, 'RAW DATA_CT0554'!$H:$H,'Base Data Combined'!$A72,'RAW DATA_CT0554'!$D:$D,'Base Data Combined'!$B$66,'RAW DATA_CT0554'!$F:$F,'Base Data Combined'!$C$66,'RAW DATA_CT0554'!$E:$E,'Base Data Combined'!$I$66)","v":95},{"$f":"SUMIFS('RAW DATA_CT0554'!K:K, 'RAW DATA_CT0554'!$H:$H,'Base Data Combined'!$A72,'RAW DATA_CT0554'!$D:$D,'Base Data Combined'!$B$66,'RAW DATA_CT0554'!$F:$F,'Base Data Combined'!$C$66,'RAW DATA_CT0554'!$E:$E,'Base Data Combined'!$I$66)","v":220},{"$f":"SUMIFS('RAW DATA_CT0554'!L:L, 'RAW DATA_CT0554'!$H:$H,'Base Data Combined'!$A72,'RAW DATA_CT0554'!$D:$D,'Base Data Combined'!$B$66,'RAW DATA_CT0554'!$F:$F,'Base Data Combined'!$C$66,'RAW DATA_CT0554'!$E:$E,'Base Data Combined'!$I$66)","v":94},{"$f":"SUMIFS('RAW DATA_CT0554'!M:M, 'RAW DATA_CT0554'!$H:$H,'Base Data Combined'!$A72,'RAW DATA_CT0554'!$D:$D,'Base Data Combined'!$B$66,'RAW DATA_CT0554'!$F:$F,'Base Data Combined'!$C$66,'RAW DATA_CT0554'!$E:$E,'Base Data Combined'!$I$66)","v":48}]
[]
[null,"Rural","Owned",{"$nulls":5},"Detached; semi-detached; terraced whole house or bungalow"]
[null,"Bedrooms/Number of Cars","Number of Dwellings"]
[null,null,"0 Cars","1 Car","2 Cars","3 Cars","4+ Cars"]
[2,"1 or 2",{"$f":"SUMIFS('RAW DATA_CT0554'!N:N, 'RAW DATA_CT0554'!$H:$H,'Base Data Combined'!$A77,'RAW DATA_CT0554'!$D:$D,'Base Data Combined'!$B$74,'RAW DATA_CT0554'!$F:$F,'Base Data Combined'!$C$74,'RAW DATA_CT0554'!$E:$E,'Base Data Combined'!$I$74)","v":147},{"$f":"SUMIFS('RAW DATA_CT0554'!J:J, 'RAW DATA_CT0554'!$H:$H,'Base Data Combined'!$A77,'RAW DATA_CT0554'!$D:$D,'Base Data Combined'!$B$74,'RAW DATA_CT0554'!$F:$F,'Base Data Combined'!$C$74,'RAW DATA_CT0554'!$E:$E,'Base Data Combined'!$I$74)","v":563},{"$f":"SUMIFS('RAW DATA_CT0554'!K:K, 'RAW DATA_CT0554'!$H:$H,'Base Data Combined'!$A77,'RAW DATA_CT0554'!$D:$D,'Base Data Combined'!$B$74,'RAW DATA_CT0554'!$F:$F,'Base Data Combined'!$C$74,'RAW DATA_CT0554'!$E:$E,'Base Data Combined'!$I$74)","v":235},{"$f":"SUMIFS('RAW DATA_CT0554'!L:L, 'RAW DATA_CT0554'!$H:$H,'Base Data Combined'!$A77,'RAW DATA_CT0554'!$D:$D,'Base Data Combined'!$B$74,'RAW DATA_CT0554'!$F:$F,'Base Data Combined'!$C$74,'RAW DATA_CT0554'!$E:$E,'Base Data Combined'!$I$74)","v":55},{"$f":"SUMIFS('RAW DATA_CT0554'!M:M, 'RAW DATA_CT0554'!$H:$H,'Base Data Combined'!$A77,'RAW DATA_CT0554'!$D:$D,'Base Data Combined'!$B$74,'RAW DATA_CT0554'!$F:$F,'Base Data Combined'!$C$74,'RAW DATA_CT0554'!$E:$E,'Base Data Combined'!$I$74)","v":20},{"$nulls":9},{"$f":"34824*8","v":278592}]
[3,3,{"$f":"SUMIFS('RAW DATA_CT0554'!N:N, 'RAW DATA_CT0554'!$H:$H,'Base Data Combined'!$A78,'RAW DATA_CT0554'!$D:$D,'Base Data Combined'!$B$74,'RAW DATA_CT0554'!$F:$F,'Base Data Combined'!$C$74,'RAW DATA_CT0554'!$E:$E,'Base Data Combined'!$I$74)","v":349},{"$f":"SUMIFS('RAW DATA_CT0554'!J:J, 'RAW DATA_CT0554'!$H:$H,'Base Data Combined'!$A78,'RAW DATA_CT0554'!$D:$D,'Base Data Combined'!$B$74,'RAW DATA_CT0554'!$F:$F,'Base Data Combined'!$C$74,'RAW DATA_CT0554'!$E:$E,'Base Data Combined'!$I$74)","v":1897},{"$f":"SUMIFS('RAW DATA_CT0554'!K:K, 'RAW DATA_CT0554'!$H:$H,'Base Data Combined'!$A78,'RAW DATA_CT0554'!$D:$D,'Base Data Combined'!$B$74,'RAW DATA_CT0554'!$F:$F,'Base Data Combined'!$C$74,'RAW DATA_CT0554'!$E:$E,'Base Data Combined'!$I$74)","v":1561},{"$f":"SUMIFS('RAW DATA_CT0554'!L:L, 'RAW DATA_CT0554'!$H:$H,'Base Data Combined'!$A78,'RAW DATA_CT0554'!$D:$D,'Base Data Combined'!$B$74,'RAW DATA_CT0554'!$F:$F,'Base Data Combined'!$C$74,'RAW DATA_CT0554'!$E:$E,'Base Data Combined'!$I$74)","v":394},{"$f":"SUMIFS('RAW DATA_CT0554'!M:M, 'RAW DATA_CT0554'!$H:$H,'Base Data Combined'!$A78,'RAW DATA_CT0554'!$D:$D,'Base Data Combined'!$B$74,'RAW DATA_CT0554'!$F:$F,'Base Data Combined'!$C$74,'RAW DATA_CT0554'!$E:$E,'Base Data Combined'!$I$74)","v":122}]
[4,4,{"$f":"SUMIFS('RAW DATA_CT0554'!N:N, 'RAW DATA_CT0554'!$H:$H,'Base Data Combined'!$A79,'RAW DATA_CT0554'!$D:$D,'Base Data Combined'!$B$74,'RAW DATA_CT0554'!$F:$F,'Base Data Combined'!$C$74,'RAW DATA_CT0554'!$E:$E,'Base Data Combined'!$I$74)","v":76},{"$f":"SUMIFS('RAW DATA_CT0554'!J:J, 'RAW DATA_CT0554'!$H:$H,'Base Data Combined'!$A79,'RAW DATA_CT0554'!$D:$D,'Base Data Combined'!$B$74,'RAW DATA_CT0554'!$F:$F,'Base Data Combined'!$C$74,'RAW DATA_CT0554'!$E:$E,'Base Data Combined'!$I$74)","v":691},{"$f":"SUMIFS('RAW DATA_CT0554'!K:K, 'RAW DATA_CT0554'!$H:$H,'Base Data Combined'!$A79,'RAW DATA_CT0554'!$D:$D,'Base Data Combined'!$B$74,'RAW DATA_CT0554'!$F:$F,'Base Data Combined'!$C$74,'RAW DATA_CT0554'!$E:$E,'Base Data Combined'!$I$74)","v":1003},{"$f":"SUMIFS('RAW DATA_CT0554'!L:L, 'RAW DATA_CT0554'!$H:$H,'Base Data Combined'!$A79,'RAW DATA_CT0554'!$D:$D,'Base Data Combined'!$B$74,'RAW DATA_CT0554'!$F:$F,'Base Data Combined'!$C$74,'RAW DATA_CT0554'!$E:$E,'Base Data Combined'!$I$74)","v":281},{"$f":"SUMIFS('RAW DATA_CT0554'!M:M, 'RAW DATA_CT0554'!$H:$H,'Base Data Combined'!$A79,'RAW DATA_CT0554'!$D:$D,'Base Data Combined'!$B$74,'RAW DATA_CT0554'!$F:$F,'Base Data Combined'!$C$74,'RAW DATA_CT0554'!$E:$E,'Base Data Combined'!$I$74)","v":99}]
[5,"5+",{"$f":"SUMIFS('RAW DATA_CT0554'!N:N, 'RAW DATA_CT0554'!$H:$H,'Base Data Combined'!$A80,'RAW DATA_CT0554'!$D:$D,'Base Data Combined'!$B$74,'RAW DATA_CT0554'!$F:$F,'Base Data Combined'!$C$74,'RAW DATA_CT0554'!$E:$E,'Base Data Combined'!$I$74)","v":60},{"$f":"SUMIFS('RAW DATA_CT0554'!J:J, 'RAW DATA_CT0554'!$H:$H,'Base Data Combined'!$A80,'RAW DATA_CT0554'!$D:$D,'Base Data Combined'!$B$74,'RAW DATA_CT0554'!$F:$F,'Base Data Combined'!$C$74,'RAW DATA_CT0554'!$E:$E,'Base Data Combined'!$I$74)","v":911},{"$f":"SUMIFS('RAW DATA_CT0554'!K:K, 'RAW DATA_CT0554'!$H:$H,'Base Data Combined'!$A80,'RAW DATA_CT0554'!$D:$D,'Base Data Combined'!$B$74,'RAW DATA_CT0554'!$F:$F,'Base Data Combined'!$C$74,'RAW DATA_CT0554'!$E:$E,'Base Data Combined'!$I$74)","v":2521},{"$f":"SUMIFS('RAW DATA_CT0554'!L:L, 'RAW DATA_CT0554'!$H:$H,'Base Data Combined'!$A80,'RAW DATA_CT0554'!$D:$D,'Base Data Combined'!$B$74,'RAW DATA_CT0554'!$F:$F,'Base Data Combined'!$C$74,'RAW DATA_CT0554'!$E:$E,'Base Data Combined'!$I$74)","v":983},{"$f":"SUMIFS('RAW DATA_CT0554'!M:M, 'RAW DATA_CT0554'!$H:$H,'Base Data Combined'!$A80,'RAW DATA_CT0554'!$D:$D,'Base Data Combined'!$B$74,'RAW DATA_CT0554'!$F:$F,'Base Data Combined'!$C$74,'RAW DATA_CT0554'!$E:$E,'Base Data Combined'!$I$74)","v":540}]
[]
[null,"Rural","Shared ownership or rented (excluding living rent free)",{"$nulls":5},"A flat; maisonette; apartment"]
[null,"Bedrooms/Number of Cars","Number of Dwellings"]
[null,null,"0 Cars","1 Car","2 Cars","3 Cars","4+ Cars"]
[2,"1 or 2",{"$f":"SUMIFS('RAW DATA_CT0554'!N:N, 'RAW DATA_CT0554'!$H:$H,'Base Data Combined'!$A85,'RAW DATA_CT0554'!$D:$D,'Base Data Combined'!$B$82,'RAW DATA_CT0554'!$F:$F,'Base Data Combined'!$C$82,'RAW DATA_CT0554'!$E:$E,'Base Data Combined'!$I$82)","v":149},{"$f":"SUMIFS('RAW DATA_CT0554'!J:J, 'RAW DATA_CT0554'!$H:$H,'Base Data Combined'!$A85,'RAW DATA_CT0554'!$D:$D,'Base Data Combined'!$B$82,'RAW DATA_CT0554'!$F:$F,'Base Data Combined'!$C$82,'RAW DATA_CT0554'!$E:$E,'Base Data Combined'!$I$82)","v":247},{"$f":"SUMIFS('RAW DATA_CT0554'!K:K, 'RAW DATA_CT0554'!$H:$H,'Base Data Combined'!$A85,'RAW DATA_CT0554'!$D:$D,'Base Data Combined'!$B$82,'RAW DATA_CT0554'!$F:$F,'Base Data Combined'!$C$82,'RAW DATA_CT0554'!$E:$E,'Base Data Combined'!$I$82)","v":74},{"$f":"SUMIFS('RAW DATA_CT0554'!L:L, 'RAW DATA_CT0554'!$H:$H,'Base Data Combined'!$A85,'RAW DATA_CT0554'!$D:$D,'Base Data Combined'!$B$82,'RAW DATA_CT0554'!$F:$F,'Base Data Combined'!$C$82,'RAW DATA_CT0554'!$E:$E,'Base Data Combined'!$I$82)","v":9},{"$f":"SUMIFS('RAW DATA_CT0554'!M:M, 'RAW DATA_CT0554'!$H:$H,'Base Data Combined'!$A85,'RAW DATA_CT0554'!$D:$D,'Base Data Combined'!$B$82,'RAW DATA_CT0554'!$F:$F,'Base Data Combined'!$C$82,'RAW DATA_CT0554'!$E:$E,'Base Data Combined'!$I$82)","v":6}]
[3,3,{"$f":"SUMIFS('RAW DATA_CT0554'!N:N, 'RAW DATA_CT0554'!$H:$H,'Base Data Combined'!$A86,'RAW DATA_CT0554'!$D:$D,'Base Data Combined'!$B$82,'RAW DATA_CT0554'!$F:$F,'Base Data Combined'!$C$82,'RAW DATA_CT0554'!$E:$E,'Base Data Combined'!$I$82)","v":8},{"$f":"SUMIFS('RAW DATA_CT0554'!J:J, 'RAW DATA_CT0554'!$H:$H,'Base Data Combined'!$A86,'RAW DATA_CT0554'!$D:$D,'Base Data Combined'!$B$82,'RAW DATA_CT0554'!$F:$F,'Base Data Combined'!$C$82,'RAW DATA_CT0554'!$E:$E,'Base Data Combined'!$I$82)","v":36},{"$f":"SUMIFS('RAW DATA_CT0554'!K:K, 'RAW DATA_CT0554'!$H:$H,'Base Data Combined'!$A86,'RAW DATA_CT0554'!$D:$D,'Base Data Combined'!$B$82,'RAW DATA_CT0554'!$F:$F,'Base Data Combined'!$C$82,'RAW DATA_CT0554'!$E:$E,'Base Data Combined'!$I$82)","v":18},{"$f":"SUMIFS('RAW DATA_CT0554'!L:L, 'RAW DATA_CT0554'!$H:$H,'Base Data Combined'!$A86,'RAW DATA_CT0554'!$D:$D,'Base Data Combined'!$B$82,'RAW DATA_CT0554'!$F:$F,'Base Data Combined'!$C$82,'RAW DATA_CT0554'!$E:$E,'Base Data Combined'!$I$82)","v":2},{"$f":"SUMIFS('RAW DATA_CT0554'!M:M, 'RAW DATA_CT0554'!$H:$H,'Base Data Combined'!$A86,'RAW DATA_CT0554'!$D:$D,'Base Data Combined'!$B$82,'RAW DATA_CT0554'!$F:$F,'Base Data Combined'!$C$82,'RAW DATA_CT0554'!$E:$E,'Base Data Combined'!$I$82)","v":3}]
[4,4,{"$f":"SUMIFS('RAW DATA_CT0554'!N:N, 'RAW DATA_CT0554'!$H:$H,'Base Data Combined'!$A87,'RAW DATA_CT0554'!$D:$D,'Base Data Combined'!$B$82,'RAW DATA_CT0554'!$F:$F,'Base Data Combined'!$C$82,'RAW DATA_CT0554'!$E:$E,'Base Data Combined'!$I$82)","v":2},{"$f":"SUMIFS('RAW DATA_CT0554'!J:J, 'RAW DATA_CT0554'!$H:$H,'Base Data Combined'!$A87,'RAW DATA_CT0554'!$D:$D,'Base Data Combined'!$B$82,'RAW DATA_CT0554'!$F:$F,'Base Data Combined'!$C$82,'RAW DATA_CT0554'!$E:$E,'Base Data Combined'!$I$82)","v":4},{"$f":"SUMIFS('RAW DATA_CT0554'!K:K, 'RAW DATA_CT0554'!$H:$H,'Base Data Combined'!$A87,'RAW DATA_CT0554'!$D:$D,'Base Data Combined'!$B$82,'RAW DATA_CT0554'!$F:$F,'Base Data Combined'!$C$82,'RAW DATA_CT0554'!$E:$E,'Base Data Combined'!$I$82)","v":3},{"$f":"SUMIFS('RAW DATA_CT0554'!L:L, 'RAW DATA_CT0554'!$H:$H,'Base Data Combined'!$A87,'RAW DATA_CT0554'!$D:$D,'Base Data Combined'!$B$82,'RAW DATA_CT0554'!$F:$F,'Base Data Combined'!$C$82,'RAW DATA_CT0554'!$E:$E,'Base Data Combined'!$I$82)","v":0},{"$f":"SUMIFS('RAW DATA_CT0554'!M:M, 'RAW DATA_CT0554'!$H:$H,'Base Data Combined'!$A87,'RAW DATA_CT0554'!$D:$D,'Base Data Combined'!$B$82,'RAW DATA_CT0554'!$F:$F,'Base Data Combined'!$C$82,'RAW DATA_CT0554'!$E:$E,'Base Data Combined'!$I$82)","v":2}]
[5,"5+",{"$f":"SUMIFS('RAW DATA_CT0554'!N:N, 'RAW DATA_CT0554'!$H:$H,'Base Data Combined'!$A88,'RAW DATA_CT0554'!$D:$D,'Base Data Combined'!$B$82,'RAW DATA_CT0554'!$F:$F,'Base Data Combined'!$C$82,'RAW DATA_CT0554'!$E:$E,'Base Data Combined'!$I$82)","v":2},{"$f":"SUMIFS('RAW DATA_CT0554'!J:J, 'RAW DATA_CT0554'!$H:$H,'Base Data Combined'!$A88,'RAW DATA_CT0554'!$D:$D,'Base Data Combined'!$B$82,'RAW DATA_CT0554'!$F:$F,'Base Data Combined'!$C$82,'RAW DATA_CT0554'!$E:$E,'Base Data Combined'!$I$82)","v":2},{"$f":"SUMIFS('RAW DATA_CT0554'!K:K, 'RAW DATA_CT0554'!$H:$H,'Base Data Combined'!$A88,'RAW DATA_CT0554'!$D:$D,'Base Data Combined'!$B$82,'RAW DATA_CT0554'!$F:$F,'Base Data Combined'!$C$82,'RAW DATA_CT0554'!$E:$E,'Base Data Combined'!$I$82)","v":3},{"$f":"SUMIFS('RAW DATA_CT0554'!L:L, 'RAW DATA_CT0554'!$H:$H,'Base Data Combined'!$A88,'RAW DATA_CT0554'!$D:$D,'Base Data Combined'!$B$82,'RAW DATA_CT0554'!$F:$F,'Base Data Combined'!$C$82,'RAW DATA_CT0554'!$E:$E,'Base Data Combined'!$I$82)","v":0},{"$f":"SUMIFS('RAW DATA_CT0554'!M:M, 'RAW DATA_CT0554'!$H:$H,'Base Data Combined'!$A88,'RAW DATA_CT0554'!$D:$D,'Base Data Combined'!$B$82,'RAW DATA_CT0554'!$F:$F,'Base Data Combined'!$C$82,'RAW DATA_CT0554'!$E:$E,'Base Data Combined'!$I$82)","v":1}]
[]
[null,"Rural","Owned",{"$nulls":5},"A flat; maisonette; apartment"]
[null,"Bedrooms/Number of Cars","Number of Dwellings"]
[null,null,"0 Cars","1 Car","2 Cars","3 Cars","4+ Cars"]
[2,"1 or 2",{"$f":"SUMIFS('RAW DATA_CT0554'!N:N, 'RAW DATA_CT0554'!$H:$H,'Base Data Combined'!$A93,'RAW DATA_CT0554'!$D:$D,'Base Data Combined'!$B$90,'RAW DATA_CT0554'!$F:$F,'Base Data Combined'!$C$90,'RAW DATA_CT0554'!$E:$E,'Base Data Combined'!$I$90)","v":25},{"$f":"SUMIFS('RAW DATA_CT0554'!J:J, 'RAW DATA_CT0554'!$H:$H,'Base Data Combined'!$A93,'RAW DATA_CT0554'!$D:$D,'Base Data Combined'!$B$90,'RAW DATA_CT0554'!$F:$F,'Base Data Combined'!$C$90,'RAW DATA_CT0554'!$E:$E,'Base Data Combined'!$I$90)","v":55},{"$f":"SUMIFS('RAW DATA_CT0554'!K:K, 'RAW DATA_CT0554'!$H:$H,'Base Data Combined'!$A93,'RAW DATA_CT0554'!$D:$D,'Base Data Combined'!$B$90,'RAW DATA_CT0554'!$F:$F,'Base Data Combined'!$C$90,'RAW DATA_CT0554'!$E:$E,'Base Data Combined'!$I$90)","v":16},{"$f":"SUMIFS('RAW DATA_CT0554'!L:L, 'RAW DATA_CT0554'!$H:$H,'Base Data Combined'!$A93,'RAW DATA_CT0554'!$D:$D,'Base Data Combined'!$B$90,'RAW DATA_CT0554'!$F:$F,'Base Data Combined'!$C$90,'RAW DATA_CT0554'!$E:$E,'Base Data Combined'!$I$90)","v":4},{"$f":"SUMIFS('RAW DATA_CT0554'!M:M, 'RAW DATA_CT0554'!$H:$H,'Base Data Combined'!$A93,'RAW DATA_CT0554'!$D:$D,'Base Data Combined'!$B$90,'RAW DATA_CT0554'!$F:$F,'Base Data Combined'!$C$90,'RAW DATA_CT0554'!$E:$E,'Base Data Combined'!$I$90)","v":0}]
[3,3,{"$f":"SUMIFS('RAW DATA_CT0554'!N:N, 'RAW DATA_CT0554'!$H:$H,'Base Data Combined'!$A94,'RAW DATA_CT0554'!$D:$D,'Base Data Combined'!$B$90,'RAW DATA_CT0554'!$F:$F,'Base Data Combined'!$C$90,'RAW DATA_CT0554'!$E:$E,'Base Data Combined'!$I$90)","v":7},{"$f":"SUMIFS('RAW DATA_CT0554'!J:J, 'RAW DATA_CT0554'!$H:$H,'Base Data Combined'!$A94,'RAW DATA_CT0554'!$D:$D,'Base Data Combined'!$B$90,'RAW DATA_CT0554'!$F:$F,'Base Data Combined'!$C$90,'RAW DATA_CT0554'!$E:$E,'Base Data Combined'!$I$90)","v":29},{"$f":"SUMIFS('RAW DATA_CT0554'!K:K, 'RAW DATA_CT0554'!$H:$H,'Base Data Combined'!$A94,'RAW DATA_CT0554'!$D:$D,'Base Data Combined'!$B$90,'RAW DATA_CT0554'!$F:$F,'Base Data Combined'!$C$90,'RAW DATA_CT0554'!$E:$E,'Base Data Combined'!$I$90)","v":14},{"$f":"SUMIFS('RAW DATA_CT0554'!L:L, 'RAW DATA_CT0554'!$H:$H,'Base Data Combined'!$A94,'RAW DATA_CT0554'!$D:$D,'Base Data Combined'!$B$90,'RAW DATA_CT0554'!$F:$F,'Base Data Combined'!$C$90,'RAW DATA_CT0554'!$E:$E,'Base Data Combined'!$I$90)","v":2},{"$f":"SUMIFS('RAW DATA_CT0554'!M:M, 'RAW DATA_CT0554'!$H:$H,'Base Data Combined'!$A94,'RAW DATA_CT0554'!$D:$D,'Base Data Combined'!$B$90,'RAW DATA_CT0554'!$F:$F,'Base Data Combined'!$C$90,'RAW DATA_CT0554'!$E:$E,'Base Data Combined'!$I$90)","v":1}]
[4,4,{"$f":"SUMIFS('RAW DATA_CT0554'!N:N, 'RAW DATA_CT0554'!$H:$H,'Base Data Combined'!$A95,'RAW DATA_CT0554'!$D:$D,'Base Data Combined'!$B$90,'RAW DATA_CT0554'!$F:$F,'Base Data Combined'!$C$90,'RAW DATA_CT0554'!$E:$E,'Base Data Combined'!$I$90)","v":1},{"$f":"SUMIFS('RAW DATA_CT0554'!J:J, 'RAW DATA_CT0554'!$H:$H,'Base Data Combined'!$A95,'RAW DATA_CT0554'!$D:$D,'Base Data Combined'!$B$90,'RAW DATA_CT0554'!$F:$F,'Base Data Combined'!$C$90,'RAW DATA_CT0554'!$E:$E,'Base Data Combined'!$I$90)","v":2},{"$f":"SUMIFS('RAW DATA_CT0554'!K:K, 'RAW DATA_CT0554'!$H:$H,'Base Data Combined'!$A95,'RAW DATA_CT0554'!$D:$D,'Base Data Combined'!$B$90,'RAW DATA_CT0554'!$F:$F,'Base Data Combined'!$C$90,'RAW DATA_CT0554'!$E:$E,'Base Data Combined'!$I$90)","v":1},{"$f":"SUMIFS('RAW DATA_CT0554'!L:L, 'RAW DATA_CT0554'!$H:$H,'Base Data Combined'!$A95,'RAW DATA_CT0554'!$D:$D,'Base Data Combined'!$B$90,'RAW DATA_CT0554'!$F:$F,'Base Data Combined'!$C$90,'RAW DATA_CT0554'!$E:$E,'Base Data Combined'!$I$90)","v":1},{"$f":"SUMIFS('RAW DATA_CT0554'!M:M, 'RAW DATA_CT0554'!$H:$H,'Base Data Combined'!$A95,'RAW DATA_CT0554'!$D:$D,'Base Data Combined'!$B$90,'RAW DATA_CT0554'!$F:$F,'Base Data Combined'!$C$90,'RAW DATA_CT0554'!$E:$E,'Base Data Combined'!$I$90)","v":0}]
[5,"5+",{"$f":"SUMIFS('RAW DATA_CT0554'!N:N, 'RAW DATA_CT0554'!$H:$H,'Base Data Combined'!$A96,'RAW DATA_CT0554'!$D:$D,'Base Data Combined'!$B$90,'RAW DATA_CT0554'!$F:$F,'Base Data Combined'!$C$90,'RAW DATA_CT0554'!$E:$E,'Base Data Combined'!$I$90)","v":0},{"$f":"SUMIFS('RAW DATA_CT0554'!J:J, 'RAW DATA_CT0554'!$H:$H,'Base Data Combined'!$A96,'RAW DATA_CT0554'!$D:$D,'Base Data Combined'!$B$90,'RAW DATA_CT0554'!$F:$F,'Base Data Combined'!$C$90,'RAW DATA_CT0554'!$E:$E,'Base Data Combined'!$I$90)","v":6},{"$f":"SUMIFS('RAW DATA_CT0554'!K:K, 'RAW DATA_CT0554'!$H:$H,'Base Data Combined'!$A96,'RAW DATA_CT0554'!$D:$D,'Base Data Combined'!$B$90,'RAW DATA_CT0554'!$F:$F,'Base Data Combined'!$C$90,'RAW DATA_CT0554'!$E:$E,'Base Data Combined'!$I$90)","v":5},{"$f":"SUMIFS('RAW DATA_CT0554'!L:L, 'RAW DATA_CT0554'!$H:$H,'Base Data Combined'!$A96,'RAW DATA_CT0554'!$D:$D,'Base Data Combined'!$B$90,'RAW DATA_CT0554'!$F:$F,'Base Data Combined'!$C$90,'RAW DATA_CT0554'!$E:$E,'Base Data Combined'!$I$90)","v":2},{"$f":"SUMIFS('RAW DATA_CT0554'!M:M, 'RAW DATA_CT0554'!$H:$H,'Base Data Combined'!$A96,'RAW DATA_CT0554'!$D:$D,'Base Data Combined'!$B$90,'RAW DATA_CT0554'!$F:$F,'Base Data Combined'!$C$90,'RAW DATA_CT0554'!$E:$E,'Base Data Combined'!$I$90)","v":1}]

{"sheet":"Growth","index":2,"n_rows":96,"n_cols":23,"rows_kept":96,"cut":false,"hidden":true,"merged":[[74,1,75,1],[74,2,74,6],[82,1,83,1],[82,2,82,6],[90,1,91,1],[90,2,90,6],[50,1,51,1],[50,2,50,6],[58,1,59,1],[58,2,58,6],[66,1,67,1],[66,2,66,6],[26,1,27,1],[26,2,26,6],[34,1,35,1],[34,2,34,6],[42,1,43,1],[42,2,42,6],[2,1,3,1],[2,2,2,6],[10,1,11,1],[10,2,10,6],[18,1,19,1],[18,2,18,6]]}
[]
[null,"Town and Fringe","Shared ownership or rented (excluding living rent free)",{"$nulls":5},"Detached; semi-detached; terraced whole house or bungalow",{"$nulls":7},"TEMPRO"]
[null,"Bedrooms/Number of Cars","Number of Dwellings",{"$nulls":13},"Area Description","Area Name","No Car","1 Car","2 Cars","3+ Cars","Total Cars"]
[null,null,"0 Cars","1 Car","2 Cars","3 Cars","4+ Cars",{"$nulls":9},"Authority","Cotswold",0.89500000000000002,1.0647,1.071,1.1293,1.0826]
[2,"1 or 2",{"$f":"'Base Data Combined'!C5*Growth!$S$4","v":161.995},{"$f":"'Base Data Combined'!D5*Growth!$T$4","v":231.03989999999999},{"$f":"'Base Data Combined'!E5*Growth!$U$4","v":92.105999999999995},{"$f":"'Base Data Combined'!F5*Growth!$V$4","v":3.3879000000000001},{"$f":"'Base Data Combined'!G5*Growth!$W$4","v":0}]
[3,3,{"$f":"'Base Data Combined'!C6*Growth!$S$4","v":171.84},{"$f":"'Base Data Combined'!D6*Growth!$T$4","v":431.20350000000002},{"$f":"'Base Data Combined'!E6*Growth!$U$4","v":205.63200000000001},{"$f":"'Base Data Combined'!F6*Growth!$V$4","v":55.335699999999996},{"$f":"'Base Data Combined'!G6*Growth!$W$4","v":15.1564}]
[4,4,{"$f":"'Base Data Combined'!C7*Growth!$S$4","v":5.37},{"$f":"'Base Data Combined'!D7*Growth!$T$4","v":42.588000000000001},{"$f":"'Base Data Combined'!E7*Growth!$U$4","v":19.277999999999999},{"$f":"'Base Data Combined'!F7*Growth!$V$4","v":6.7758000000000003},{"$f":"'Base Data Combined'!G7*Growth!$W$4","v":11.9086}]
[5,"5+",{"$f":"'Base Data Combined'!C8*Growth!$S$4","v":2.6850000000000001},{"$f":"'Base Data Combined'!D8*Growth!$T$4","v":19.1646},{"$f":"'Base Data Combined'!E8*Growth!$U$4","v":23.561999999999998},{"$f":"'Base Data Combined'!F8*Growth!$V$4","v":6.7758000000000003},{"$f":"'Base Data Combined'!G8*Growth!$W$4","v":14.0738}]
[]
[null,"Town and Fringe","Owned",{"$nulls":5},"Detached; semi-detached; terraced whole house or bungalow"]
[null,"Bedrooms/Number of Cars","Number of Dwellings"]
[null,null,"0 Cars","1 Car","2 Cars","3 Cars","4+ Cars"]
[2,"1 or 2",{"$f":"'Base Data Combined'!C13*Growth!$S$4","v":73.39},{"$f":"'Base Data Combined'!D13*Growth!$T$4","v":221.45759999999999},{"$f":"'Base Data Combined'!E13*Growth!$U$4","v":78.182999999999993},{"$f":"'Base Data Combined'!F13*Growth!$V$4","v":10.1637},{"$f":"'Base Data Combined'!G13*Growth!$W$4","v":1.0826}]
[3,3,{"$f":"'Base Data Combined'!C14*Growth!$S$4","v":184.37},{"$f":"'Base Data Combined'!D14*Growth!$T$4","v":956.10059999999999},{"$f":"'Base Data Combined'!E14*Growth!$U$4","v":661.87799999999993},{"$f":"'Base Data Combined'!F14*Growth!$V$4","v":144.5504},{"$f":"'Base Data Combined'!G14*Growth!$W$4","v":32.478000000000002}]
[4,4,{"$f":"'Base Data Combined'!C15*Growth!$S$4","v":25.955000000000002},{"$f":"'Base Data Combined'!D15*Growth!$T$4","v":252.3339},{"$f":"'Base Data Combined'!E15*Growth!$U$4","v":279.53100000000001},{"$f":"'Base Data Combined'!F15*Growth!$V$4","v":51.947800000000001},{"$f":"'Base Data Combined'!G15*Growth!$W$4","v":20.569400000000002}]
[5,"5+",{"$f":"'Base Data Combined'!C16*Growth!$S$4","v":20.585000000000001},{"$f":"'Base Data Combined'!D16*Growth!$T$4","v":224.65170000000001},{"$f":"'Base Data Combined'!E16*Growth!$U$4","v":456.24599999999998},{"$f":"'Base Data Combined'!F16*Growth!$V$4","v":171.65359999999998},{"$f":"'Base Data Combined'!G16*Growth!$W$4","v":48.716999999999999}]
[]
[null,"Town and Fringe","Shared ownership or rented (excluding living rent free)",{"$nulls":5},"A flat; maisonette; apartment"]
[null,"Bedrooms/Number of Cars","Number of Dwellings"]
[null,null,"0 Cars","1 Car","2 Cars","3 Cars","4+ Cars"]
[2,"1 or 2",{"$f":"'Base Data Combined'!C21*Growth!$S$4","v":544.16},{"$f":"'Base Data Combined'!D21*Growth!$T$4","v":547.25580000000002},{"$f":"'Base Data Combined'!E21*Growth!$U$4","v":82.466999999999999},{"$f":"'Base Data Combined'!F21*Growth!$V$4","v":11.292999999999999},{"$f":"'Base Data Combined'!G21*Growth!$W$4","v":3.2477999999999998}]
[3,3,{"$f":"'Base Data Combined'!C22*Growth!$S$4","v":23.27},{"$f":"'Base Data Combined'!D22*Growth!$T$4","v":33.005699999999997},{"$f":"'Base Data Combined'!E22*Growth!$U$4","v":16.064999999999998},{"$f":"'Base Data Combined'!F22*Growth!$V$4","v":0},{"$f":"'Base Data Combined'!G22*Growth!$W$4","v":1.0826}]
[4,4,{"$f":"'Base Data Combined'!C23*Growth!$S$4","v":1.79},{"$f":"'Base Data Combined'!D23*Growth!$T$4","v":2.1294},{"$f":"'Base Data Combined'!E23*Growth!$U$4","v":2.1419999999999999},{"$f":"'Base Data Combined'!F23*Growth!$V$4","v":1.1293},{"$f":"'Base Data Combined'!G23*Growth!$W$4","v":1.0826}]
[5,"5+",{"$f":"'Base Data Combined'!C24*Growth!$S$4","v":0.89500000000000002},{"$f":"'Base Data Combined'!D24*Growth!$T$4","v":2.1294},{"$f":"'Base Data Combined'!E24*Growth!$U$4","v":1.071},{"$f":"'Base Data Combined'!F24*Growth!$V$4","v":2.2585999999999999},{"$f":"'Base Data Combined'!G24*Growth!$W$4","v":0}]
[]
[null,"Town and Fringe","Owned",{"$nulls":5},"A flat; maisonette; apartment"]
[null,"Bedrooms/Number of Cars","Number of Dwellings"]
[null,null,"0 Cars","1 Car","2 Cars","3 Cars","4+ Cars"]
[2,"1 or 2",{"$f":"'Base Data Combined'!C29*Growth!$S$4","v":145.88499999999999},{"$f":"'Base Data Combined'!D29*Growth!$T$4","v":195.90479999999999},{"$f":"'Base Data Combined'!E29*Growth!$U$4","v":36.414000000000001},{"$f":"'Base Data Combined'!F29*Growth!$V$4","v":1.1293},{"$f":"'Base Data Combined'!G29*Growth!$W$4","v":2.1652}]
[3,3,{"$f":"'Base Data Combined'!C30*Growth!$S$4","v":9.8450000000000006},{"$f":"'Base Data Combined'!D30*Growth!$T$4","v":26.6175},{"$f":"'Base Data Combined'!E30*Growth!$U$4","v":6.4260000000000002},{"$f":"'Base Data Combined'!F30*Growth!$V$4","v":1.1293},{"$f":"'Base Data Combined'!G30*Growth!$W$4","v":0}]
[4,4,{"$f":"'Base Data Combined'!C31*Growth!$S$4","v":0},{"$f":"'Base Data Combined'!D31*Growth!$T$4","v":0},{"$f":"'Base Data Combined'!E31*Growth!$U$4","v":0},{"$f":"'Base Data Combined'!F31*Growth!$V$4","v":0},{"$f":"'Base Data Combined'!G31*Growth!$W$4","v":0}]
[5,"5+",{"$f":"'Base Data Combined'!C32*Growth!$S$4","v":0.89500000000000002},{"$f":"'Base Data Combined'!D32*Growth!$T$4","v":1.0647},{"$f":"'Base Data Combined'!E32*Growth!$U$4","v":0},{"$f":"'Base Data Combined'!F32*Growth!$V$4","v":1.1293},{"$f":"'Base Data Combined'!G32*Growth!$W$4","v":0}]
[]
[null,"Small Settlements","Shared ownership or rented (excluding living rent free)",{"$nulls":5},"Detached; semi-detached; terraced whole house or bungalow"]
[null,"Bedrooms/Number of Cars","Number of Dwellings"]
[null,null,"0 Cars","1 Car","2 Cars","3 Cars","4+ Cars"]
[2,"1 or 2",{"$f":"'Base Data Combined'!C37*Growth!$S$4","v":235.38499999999999},{"$f":"'Base Data Combined'!D37*Growth!$T$4","v":544.06169999999997},{"$f":"'Base Data Combined'!E37*Growth!$U$4","v":213.12899999999999},{"$f":"'Base Data Combined'!F37*Growth!$V$4","v":15.8102},{"$f":"'Base Data Combined'!G37*Growth!$W$4","v":4.3304}]
[3,3,{"$f":"'Base Data Combined'!C38*Growth!$S$4","v":182.58},{"$f":"'Base Data Combined'!D38*Growth!$T$4","v":662.24339999999995},{"$f":"'Base Data Combined'!E38*Growth!$U$4","v":382.34699999999998},{"$f":"'Base Data Combined'!F38*Growth!$V$4","v":74.533799999999999},{"$f":"'Base Data Combined'!G38*Growth!$W$4","v":9.7433999999999994}]
[4,4,{"$f":"'Base Data Combined'!C39*Growth!$S$4","v":9.8450000000000006},{"$f":"'Base Data Combined'!D39*Growth!$T$4","v":60.687899999999999},{"$f":"'Base Data Combined'!E39*Growth!$U$4","v":62.117999999999995},{"$f":"'Base Data Combined'!F39*Growth!$V$4","v":13.551600000000001},{"$f":"'Base Data Combined'!G39*Growth!$W$4","v":1.0826}]
[5,"5+",{"$f":"'Base Data Combined'!C40*Growth!$S$4","v":9.8450000000000006},{"$f":"'Base Data Combined'!D40*Growth!$T$4","v":47.911499999999997},{"$f":"'Base Data Combined'!E40*Growth!$U$4","v":56.762999999999998},{"$f":"'Base Data Combined'!F40*Growth!$V$4","v":5.6464999999999996},{"$f":"'Base Data Combined'!G40*Growth!$W$4","v":6.4955999999999996}]
[]
[null,"Small Settlements","Owned",{"$nulls":5},"Detached; semi-detached; terraced whole house or bungalow"]
[null,"Bedrooms/Number of Cars","Number of Dwellings"]
[null,null,"0 Cars","1 Car","2 Cars","3 Cars","4+ Cars"]
[2,"1 or 2",{"$f":"'Base Data Combined'!C45*Growth!$S$4","v":98.45},{"$f":"'Base Data Combined'!D45*Growth!$T$4","v":375.83909999999997},{"$f":"'Base Data Combined'!E45*Growth!$U$4","v":164.934},{"$f":"'Base Data Combined'!F45*Growth!$V$4","v":24.8446},{"$f":"'Base Data Combined'!G45*Growth!$W$4","v":3.2477999999999998}]
[3,3,{"$f":"'Base Data Combined'!C46*Growth!$S$4","v":277.45},{"$f":"'Base Data Combined'!D46*Growth!$T$4","v":1471.4153999999999},{"$f":"'Base Data Combined'!E46*Growth!$U$4","v":1002.4559999999999},{"$f":"'Base Data Combined'!F46*Growth!$V$4","v":234.89439999999999},{"$f":"'Base Data Combined'!G46*Growth!$W$4","v":72.534199999999998}]
[4,4,{"$f":"'Base Data Combined'!C47*Growth!$S$4","v":41.17},{"$f":"'Base Data Combined'!D47*Growth!$T$4","v":406.71539999999999},{"$f":"'Base Data Combined'!E47*Growth!$U$4","v":486.23399999999998},{"$f":"'Base Data Combined'!F47*Growth!$V$4","v":132.12809999999999},{"$f":"'Base Data Combined'!G47*Growth!$W$4","v":54.13}]
[5,"5+",{"$f":"'Base Data Combined'!C48*Growth!$S$4","v":36.695},{"$f":"'Base Data Combined'!D48*Growth!$T$4","v":481.24439999999998},{"$f":"'Base Data Combined'!E48*Growth!$U$4","v":991.74599999999998},{"$f":"'Base Data Combined'!F48*Growth!$V$4","v":301.5231},{"$f":"'Base Data Combined'!G48*Growth!$W$4","v":130.99459999999999}]
[]
[null,"Small Settlements","Shared ownership or rented (excluding living rent free)",{"$nulls":5},"A flat; maisonette; apartment"]
[null,"Bedrooms/Number of Cars","Number of Dwellings"]
[null,null,"0 Cars","1 Car","2 Cars","3 Cars","4+ Cars"]
[2,"1 or 2",{"$f":"'Base Data Combined'!C53*Growth!$S$4","v":306.09000000000003},{"$f":"'Base Data Combined'!D53*Growth!$T$4","v":370.51560000000001},{"$f":"'Base Data Combined'!E53*Growth!$U$4","v":66.402000000000001},{"$f":"'Base Data Combined'!F53*Growth!$V$4","v":2.2585999999999999},{"$f":"'Base Data Combined'!G53*Growth!$W$4","v":3.2477999999999998}]
[3,3,{"$f":"'Base Data Combined'!C54*Growth!$S$4","v":11.635},{"$f":"'Base Data Combined'!D54*Growth!$T$4","v":53.234999999999999},{"$f":"'Base Data Combined'!E54*Growth!$U$4","v":14.994},{"$f":"'Base Data Combined'!F54*Growth!$V$4","v":0},{"$f":"'Base Data Combined'!G54*Growth!$W$4","v":1.0826}]
[4,4,{"$f":"'Base Data Combined'!C55*Growth!$S$4","v":0.89500000000000002},{"$f":"'Base Data Combined'!D55*Growth!$T$4","v":2.1294},{"$f":"'Base Data Combined'!E55*Growth!$U$4","v":2.1419999999999999},{"$f":"'Base Data Combined'!F55*Growth!$V$4","v":0},{"$f":"'Base Data Combined'!G55*Growth!$W$4","v":0}]
[5,"5+",{"$f":"'Base Data Combined'!C56*Growth!$S$4","v":3.58},{"$f":"'Base Data Combined'!D56*Growth!$T$4","v":1.0647},{"$f":"'Base Data Combined'!E56*Growth!$U$4","v":2.1419999999999999},{"$f":"'Base Data Combined'!F56*Growth!$V$4","v":0},{"$f":"'Base Data Combined'!G56*Growth!$W$4","v":0}]
[]
[null,"Small Settlements","Owned",{"$nulls":5},"A flat; maisonette; apartment"]
[null,"Bedrooms/Number of Cars","Number of Dwellings"]
[null,null,"0 Cars","1 Car","2 Cars","3 Cars","4+ Cars"]
[2,"1 or 2",{"$f":"'Base Data Combined'!C61*Growth!$S$4","v":48.33},{"$f":"'Base Data Combined'!D61*Growth!$T$4","v":128.8287},{"$f":"'Base Data Combined'!E61*Growth!$U$4","v":36.414000000000001},{"$f":"'Base Data Combined'!F61*Growth!$V$4","v":6.7758000000000003},{"$f":"'Base Data Combined'!G61*Growth!$W$4","v":1.0826}]
[3,3,{"$f":"'Base Data Combined'!C62*Growth!$S$4","v":5.37},{"$f":"'Base Data Combined'!D62*Growth!$T$4","v":36.199799999999996},{"$f":"'Base Data Combined'!E62*Growth!$U$4","v":16.064999999999998},{"$f":"'Base Data Combined'!F62*Growth!$V$4","v":3.3879000000000001},{"$f":"'Base Data Combined'!G62*Growth!$W$4","v":1.0826}]
[4,4,{"$f":"'Base Data Combined'!C63*Growth!$S$4","v":0},{"$f":"'Base Data Combined'!D63*Growth!$T$4","v":3.1940999999999997},{"$f":"'Base Data Combined'!E63*Growth!$U$4","v":2.1419999999999999},{"$f":"'Base Data Combined'!F63*Growth!$V$4","v":2.2585999999999999},{"$f":"'Base Data Combined'!G63*Growth!$W$4","v":0}]
[5,"5+",{"$f":"'Base Data Combined'!C64*Growth!$S$4","v":0.89500000000000002},{"$f":"'Base Data Combined'!D64*Growth!$T$4","v":1.0647},{"$f":"'Base Data Combined'!E64*Growth!$U$4","v":6.4260000000000002},{"$f":"'Base Data Combined'!F64*Growth!$V$4","v":2.2585999999999999},{"$f":"'Base Data Combined'!G64*Growth!$W$4","v":1.0826}]
[]
[null,"Rural","Shared ownership or rented (excluding living rent free)",{"$nulls":5},"Detached; semi-detached; terraced whole house or bungalow"]
[null,"Bedrooms/Number of Cars","Number of Dwellings"]
[null,null,"0 Cars","1 Car","2 Cars","3 Cars","4+ Cars"]
[2,"1 or 2",{"$f":"'Base Data Combined'!C69*Growth!$S$4","v":229.12},{"$f":"'Base Data Combined'!D69*Growth!$T$4","v":854.95410000000004},{"$f":"'Base Data Combined'!E69*Growth!$U$4","v":342.71999999999997},{"$f":"'Base Data Combined'!F69*Growth!$V$4","v":45.171999999999997},{"$f":"'Base Data Combined'!G69*Growth!$W$4","v":7.5781999999999998}]
[3,3,{"$f":"'Base Data Combined'!C70*Growth!$S$4","v":210.32500000000002},{"$f":"'Base Data Combined'!D70*Growth!$T$4","v":1105.1586},{"$f":"'Base Data Combined'!E70*Growth!$U$4","v":884.64599999999996},{"$f":"'Base Data Combined'!F70*Growth!$V$4","v":206.6619},{"$f":"'Base Data Combined'!G70*Growth!$W$4","v":69.2864}]
[4,4,{"$f":"'Base Data Combined'!C71*Growth!$S$4","v":15.215},{"$f":"'Base Data Combined'!D71*Growth!$T$4","v":126.69929999999999},{"$f":"'Base Data Combined'!E71*Growth!$U$4","v":176.715},{"$f":"'Base Data Combined'!F71*Growth!$V$4","v":56.464999999999996},{"$f":"'Base Data Combined'!G71*Growth!$W$4","v":9.7433999999999994}]
[5,"5+",{"$f":"'Base Data Combined'!C72*Growth!$S$4","v":19.690000000000001},{"$f":"'Base Data Combined'!D72*Growth!$T$4","v":101.1465},{"$f":"'Base Data Combined'!E72*Growth!$U$4","v":235.61999999999998},{"$f":"'Base Data Combined'!F72*Growth!$V$4","v":106.1542},{"$f":"'Base Data Combined'!G72*Growth!$W$4","v":51.964799999999997}]
[]
[null,"Rural","Owned",{"$nulls":5},"Detached; semi-detached; terraced whole house or bungalow"]
[null,"Bedrooms/Number of Cars","Number of Dwellings"]
[null,null,"0 Cars","1 Car","2 Cars","3 Cars","4+ Cars"]
[2,"1 or 2",{"$f":"'Base Data Combined'!C77*Growth!$S$4","v":131.565},{"$f":"'Base Data Combined'!D77*Growth!$T$4","v":599.42610000000002},{"$f":"'Base Data Combined'!E77*Growth!$U$4","v":251.685},{"$f":"'Base Data Combined'!F77*Growth!$V$4","v":62.111499999999999},{"$f":"'Base Data Combined'!G77*Growth!$W$4","v":21.652000000000001}]
[3,3,{"$f":"'Base Data Combined'!C78*Growth!$S$4","v":312.35500000000002},{"$f":"'Base Data Combined'!D78*Growth!$T$4","v":2019.7358999999999},{"$f":"'Base Data Combined'!E78*Growth!$U$4","v":1671.8309999999999},{"$f":"'Base Data Combined'!F78*Growth!$V$4","v":444.94419999999997},{"$f":"'Base Data Combined'!G78*Growth!$W$4","v":132.0772}]
[4,4,{"$f":"'Base Data Combined'!C79*Growth!$S$4","v":68.02},{"$f":"'Base Data Combined'!D79*Growth!$T$4","v":735.70769999999993},{"$f":"'Base Data Combined'!E79*Growth!$U$4","v":1074.213},{"$f":"'Base Data Combined'!F79*Growth!$V$4","v":317.33330000000001},{"$f":"'Base Data Combined'!G79*Growth!$W$4","v":107.17740000000001}]
[5,"5+",{"$f":"'Base Data Combined'!C80*Growth!$S$4","v":53.7},{"$f":"'Base Data Combined'!D80*Growth!$T$4","v":969.94169999999997},{"$f":"'Base Data Combined'!E80*Growth!$U$4","v":2699.991},{"$f":"'Base Data Combined'!F80*Growth!$V$4","v":1110.1018999999999},{"$f":"'Base Data Combined'!G80*Growth!$W$4","v":584.60400000000004}]
[]
[null,"Rural","Shared ownership or rented (excluding living rent free)",{"$nulls":5},"A flat; maisonette; apartment"]
[null,"Bedrooms/Number of Cars","Number of Dwellings"]
[null,null,"0 Cars","1 Car","2 Cars","3 Cars","4+ Cars"]
[2,"1 or 2",{"$f":"'Base Data Combined'!C85*Growth!$S$4","v":133.35499999999999},{"$f":"'Base Data Combined'!D85*Growth!$T$4","v":262.98090000000002},{"$f":"'Base Data Combined'!E85*Growth!$U$4","v":79.253999999999991},{"$f":"'Base Data Combined'!F85*Growth!$V$4","v":10.1637},{"$f":"'Base Data Combined'!G85*Growth!$W$4","v":6.4955999999999996}]
[3,3,{"$f":"'Base Data Combined'!C86*Growth!$S$4","v":7.16},{"$f":"'Base Data Combined'!D86*Growth!$T$4","v":38.3292},{"$f":"'Base Data Combined'!E86*Growth!$U$4","v":19.277999999999999},{"$f":"'Base Data Combined'!F86*Growth!$V$4","v":2.2585999999999999},{"$f":"'Base Data Combined'!G86*Growth!$W$4","v":3.2477999999999998}]
[4,4,{"$f":"'Base Data Combined'!C87*Growth!$S$4","v":1.79},{"$f":"'Base Data Combined'!D87*Growth!$T$4","v":4.2587999999999999},{"$f":"'Base Data Combined'!E87*Growth!$U$4","v":3.2130000000000001},{"$f":"'Base Data Combined'!F87*Growth!$V$4","v":0},{"$f":"'Base Data Combined'!G87*Growth!$W$4","v":2.1652}]
[5,"5+",{"$f":"'Base Data Combined'!C88*Growth!$S$4","v":1.79},{"$f":"'Base Data Combined'!D88*Growth!$T$4","v":2.1294},{"$f":"'Base Data Combined'!E88*Growth!$U$4","v":3.2130000000000001},{"$f":"'Base Data Combined'!F88*Growth!$V$4","v":0},{"$f":"'Base Data Combined'!G88*Growth!$W$4","v":1.0826}]
[]
[null,"Rural","Owned",{"$nulls":5},"A flat; maisonette; apartment"]
[null,"Bedrooms/Number of Cars","Number of Dwellings"]
[null,null,"0 Cars","1 Car","2 Cars","3 Cars","4+ Cars"]
[2,"1 or 2",{"$f":"'Base Data Combined'!C93*Growth!$S$4","v":22.375},{"$f":"'Base Data Combined'!D93*Growth!$T$4","v":58.558500000000002},{"$f":"'Base Data Combined'!E93*Growth!$U$4","v":17.135999999999999},{"$f":"'Base Data Combined'!F93*Growth!$V$4","v":4.5171999999999999},{"$f":"'Base Data Combined'!G93*Growth!$W$4","v":0}]
[3,3,{"$f":"'Base Data Combined'!C94*Growth!$S$4","v":6.2650000000000006},{"$f":"'Base Data Combined'!D94*Growth!$T$4","v":30.876300000000001},{"$f":"'Base Data Combined'!E94*Growth!$U$4","v":14.994},{"$f":"'Base Data Combined'!F94*Growth!$V$4","v":2.2585999999999999},{"$f":"'Base Data Combined'!G94*Growth!$W$4","v":1.0826}]
[4,4,{"$f":"'Base Data Combined'!C95*Growth!$S$4","v":0.89500000000000002},{"$f":"'Base Data Combined'!D95*Growth!$T$4","v":2.1294},{"$f":"'Base Data Combined'!E95*Growth!$U$4","v":1.071},{"$f":"'Base Data Combined'!F95*Growth!$V$4","v":1.1293},{"$f":"'Base Data Combined'!G95*Growth!$W$4","v":0}]
[5,"5+",{"$f":"'Base Data Combined'!C96*Growth!$S$4","v":0},{"$f":"'Base Data Combined'!D96*Growth!$T$4","v":6.3881999999999994},{"$f":"'Base Data Combined'!E96*Growth!$U$4","v":5.3549999999999995},{"$f":"'Base Data Combined'!F96*Growth!$V$4","v":2.2585999999999999},{"$f":"'Base Data Combined'!G96*Growth!$W$4","v":1.0826}]

{"sheet":"All_Unall2","index":3,"n_rows":96,"n_cols":6,"rows_kept":96,"cut":false,"hidden":true,"merged":[[74,1,75,1],[74,2,74,4],[82,1,83,1],[82,2,82,4],[90,1,91,1],[90,2,90,4],[50,1,51,1],[50,2,50,4],[58,1,59,1],[58,2,58,4],[66,1,67,1],[66,2,66,4],[26,1,27,1],[26,2,26,4],[34,1,35,1],[34,2,34,4],[42,1,43,1],[42,2,42,4],[2,1,3,1],[2,2,2,4],[10,1,11,1],[10,2,10,4],[18,1,19,1],[18,2,18,4]]}
[]
[null,"Town and FringeDetached; semi-detached; terraced whole house or bungalowShared ownership or rented (excluding living rent free)"]
[null,"Bedrooms/Unallocated Demand","Allocated Spaces"]
[null,null,0,1,2]
[null,"1 or 2",{"$f":"SUM(1*Growth!D5+2*Growth!E5+3*Growth!F5+4*Growth!G5)/SUM(Growth!C5:G5)","v":0.87080966362679124},{"$f":"SUM(1*Growth!E5+2*Growth!F5+3*Growth!G5)/SUM(Growth!C5:G5)","v":0.20240730945647423},{"$f":"SUM(1*Growth!F5+2*Growth!G5)/SUM(Growth!C5:G5)","v":6.9349033260679826E-3}]
[null,3,{"$f":"SUM(1*Growth!D6+2*Growth!E6+3*Growth!F6+4*Growth!G6)/SUM(Growth!C6:G6)","v":1.216036851221542},{"$f":"SUM(1*Growth!E6+2*Growth!F6+3*Growth!G6)/SUM(Growth!C6:G6)","v":0.41149446362673059},{"$f":"SUM(1*Growth!F6+2*Growth!G6)/SUM(Growth!C6:G6)","v":9.7419991364558936E-2}]
[null,4,{"$f":"SUM(1*Growth!D7+2*Growth!E7+3*Growth!F7+4*Growth!G7)/SUM(Growth!C7:G7)","v":1.7353946210678719},{"$f":"SUM(1*Growth!E7+2*Growth!F7+3*Growth!G7)/SUM(Growth!C7:G7)","v":0.79789433010088395},{"$f":"SUM(1*Growth!F7+2*Growth!G7)/SUM(Growth!C7:G7)","v":0.35606212261581649}]
[null,"5+",{"$f":"SUM(1*Growth!D8+2*Growth!E8+3*Growth!F8+4*Growth!G8)/SUM(Growth!C8:G8)","v":2.156785569835741},{"$f":"SUM(1*Growth!E8+2*Growth!F8+3*Growth!G8)/SUM(Growth!C8:G8)","v":1.1973070213035684},{"$f":"SUM(1*Growth!F8+2*Growth!G8)/SUM(Growth!C8:G8)","v":0.52705655798566886}]
[]
[null,"Town and FringeDetached; semi-detached; terraced whole house or bungalowOwned"]
[null,"Bedrooms/Unallocated Demand","Allocated Spaces"]
[null,null,0,1,2]
[null,"1 or 2",{"$f":"SUM(1*Growth!D13+2*Growth!E13+3*Growth!F13+4*Growth!G13)/SUM(Growth!C13:G13)","v":1.0738222880428148},{"$f":"SUM(1*Growth!E13+2*Growth!F13+3*Growth!G13)/SUM(Growth!C13:G13)","v":0.26480436372834271},{"$f":"SUM(1*Growth!F13+2*Growth!G13)/SUM(Growth!C13:G13)","v":3.2083375295262347E-2}]
[null,3,{"$f":"SUM(1*Growth!D14+2*Growth!E14+3*Growth!F14+4*Growth!G14)/SUM(Growth!C14:G14)","v":1.4365226028189677},{"$f":"SUM(1*Growth!E14+2*Growth!F14+3*Growth!G14)/SUM(Growth!C14:G14)","v":0.5296680723278081},{"$f":"SUM(1*Growth!F14+2*Growth!G14)/SUM(Growth!C14:G14)","v":0.10584461676578033}]
[null,4,{"$f":"SUM(1*Growth!D15+2*Growth!E15+3*Growth!F15+4*Growth!G15)/SUM(Growth!C15:G15)","v":1.665008929349074},{"$f":"SUM(1*Growth!E15+2*Growth!F15+3*Growth!G15)/SUM(Growth!C15:G15)","v":0.70618530941618396},{"$f":"SUM(1*Growth!F15+2*Growth!G15)/SUM(Growth!C15:G15)","v":0.14767748875958595}]
[null,"5+",{"$f":"SUM(1*Growth!D16+2*Growth!E16+3*Growth!F16+4*Growth!G16)/SUM(Growth!C16:G16)","v":2.0035427545792803},{"$f":"SUM(1*Growth!E16+2*Growth!F16+3*Growth!G16)/SUM(Growth!C16:G16)","v":1.0258727717305995},{"$f":"SUM(1*Growth!F16+2*Growth!G16)/SUM(Growth!C16:G16)","v":0.29189850489226427}]
[]
[null,"Town and FringeA flat; maisonette; apartmentShared ownership or rented (excluding living rent free)"]
[null,"Bedrooms/Unallocated Demand","Allocated Spaces"]
[null,null,0,1,2]
[null,"1 or 2",{"$f":"SUM(1*Growth!D21+2*Growth!E21+3*Growth!F21+4*Growth!G21)/SUM(Growth!C21:G21)","v":0.638711651300092},{"$f":"SUM(1*Growth!E21+2*Growth!F21+3*Growth!G21)/SUM(Growth!C21:G21)","v":9.6595523683642756E-2},{"$f":"SUM(1*Growth!F21+2*Growth!G21)/SUM(Growth!C21:G21)","v":1.4968231866146042E-2}]
[null,3,{"$f":"SUM(1*Growth!D22+2*Growth!E22+3*Growth!F22+4*Growth!G22)/SUM(Growth!C22:G22)","v":0.94610430204036033},{"$f":"SUM(1*Growth!E22+2*Growth!F22+3*Growth!G22)/SUM(Growth!C22:G22)","v":0.2630336691486217},{"$f":"SUM(1*Growth!F22+2*Growth!G22)/SUM(Growth!C22:G22)","v":2.9489276564796191E-2}]
[null,4,{"$f":"SUM(1*Growth!D23+2*Growth!E23+3*Growth!F23+4*Growth!G23)/SUM(Growth!C23:G23)","v":1.7081092188123239},{"$f":"SUM(1*Growth!E23+2*Growth!F23+3*Growth!G23)/SUM(Growth!C23:G23)","v":0.92446786651034052},{"$f":"SUM(1*Growth!F23+2*Growth!G23)/SUM(Growth!C23:G23)","v":0.39820869544196397}]
[null,"5+",{"$f":"SUM(1*Growth!D24+2*Growth!E24+3*Growth!F24+4*Growth!G24)/SUM(Growth!C24:G24)","v":1.7386213408876301},{"$f":"SUM(1*Growth!E24+2*Growth!F24+3*Growth!G24)/SUM(Growth!C24:G24)","v":0.8794774944916588},{"$f":"SUM(1*Growth!F24+2*Growth!G24)/SUM(Growth!C24:G24)","v":0.35546112684922887}]
[]
[null,"Town and FringeA flat; maisonette; apartmentOwned"]
[null,"Bedrooms/Unallocated Demand","Allocated Spaces"]
[null,null,0,1,2]
[null,"1 or 2",{"$f":"SUM(1*Growth!D29+2*Growth!E29+3*Growth!F29+4*Growth!G29)/SUM(Growth!C29:G29)","v":0.73599672659091786},{"$f":"SUM(1*Growth!E29+2*Growth!F29+3*Growth!G29)/SUM(Growth!C29:G29)","v":0.11839685786280042},{"$f":"SUM(1*Growth!F29+2*Growth!G29)/SUM(Growth!C29:G29)","v":1.4311204007986404E-2}]
[null,3,{"$f":"SUM(1*Growth!D30+2*Growth!E30+3*Growth!F30+4*Growth!G30)/SUM(Growth!C30:G30)","v":0.97363793737987803},{"$f":"SUM(1*Growth!E30+2*Growth!F30+3*Growth!G30)/SUM(Growth!C30:G30)","v":0.19729745693787512},{"$f":"SUM(1*Growth!F30+2*Growth!G30)/SUM(Growth!C30:G30)","v":2.5655530262757336E-2}]
[null,4,{"$f":"AVERAGE(C32,C30)","v":1.2075376478741411},{"$f":"AVERAGE(D32,D30)","v":0.46423629726142707},0.19562154952762342,"Manually amended from 0"]
[null,"5+",{"$f":"SUM(1*Growth!D32+2*Growth!E32+3*Growth!F32+4*Growth!G32)/SUM(Growth!C32:G32)","v":1.4414373583684041},{"$f":"SUM(1*Growth!E32+2*Growth!F32+3*Growth!G32)/SUM(Growth!C32:G32)","v":0.73117513758497898},{"$f":"SUM(1*Growth!F32+2*Growth!G32)/SUM(Growth!C32:G32)","v":0.36558756879248949}]
[]
[null,"Smaller SettlementsDetached; semi-detached; terraced whole house or bungalowShared ownership or rented (excluding living rent free)"]
[null,"Bedrooms/Unallocated Demand","Allocated Spaces"]
[null,null,0,1,2]
[null,"1 or 2",{"$f":"SUM(1*Growth!D37+2*Growth!E37+3*Growth!F37+4*Growth!G37)/SUM(Growth!C37:G37)","v":1.0220748890878917},{"$f":"SUM(1*Growth!E37+2*Growth!F37+3*Growth!G37)/SUM(Growth!C37:G37)","v":0.25450424763578899},{"$f":"SUM(1*Growth!F37+2*Growth!G37)/SUM(Growth!C37:G37)","v":2.4163726800881944E-2}]
[null,3,{"$f":"SUM(1*Growth!D38+2*Growth!E38+3*Growth!F38+4*Growth!G38)/SUM(Growth!C38:G38)","v":1.2882805229884899},{"$f":"SUM(1*Growth!E38+2*Growth!F38+3*Growth!G38)/SUM(Growth!C38:G38)","v":0.42750072515287679},{"$f":"SUM(1*Growth!F38+2*Growth!G38)/SUM(Growth!C38:G38)","v":7.1692227733689093E-2}]
[null,4,{"$f":"SUM(1*Growth!D39+2*Growth!E39+3*Growth!F39+4*Growth!G39)/SUM(Growth!C39:G39)","v":1.5609800312455231},{"$f":"SUM(1*Growth!E39+2*Growth!F39+3*Growth!G39)/SUM(Growth!C39:G39)","v":0.62782318102781609},{"$f":"SUM(1*Growth!F39+2*Growth!G39)/SUM(Growth!C39:G39)","v":0.10671004738429074}]
[null,"5+",{"$f":"SUM(1*Growth!D40+2*Growth!E40+3*Growth!F40+4*Growth!G40)/SUM(Growth!C40:G40)","v":1.61342822133938},{"$f":"SUM(1*Growth!E40+2*Growth!F40+3*Growth!G40)/SUM(Growth!C40:G40)","v":0.69115501462163753},{"$f":"SUM(1*Growth!F40+2*Growth!G40)/SUM(Growth!C40:G40)","v":0.14714562266701195}]
[]
[null,"Smaller SettlementsDetached; semi-detached; terraced whole house or bungalowOwned"]
[null,"Bedrooms/Unallocated Demand","Allocated Spaces"]
[null,null,0,1,2]
[null,"1 or 2",{"$f":"SUM(1*Growth!D45+2*Growth!E45+3*Growth!F45+4*Growth!G45)/SUM(Growth!C45:G45)","v":1.1886912562348697},{"$f":"SUM(1*Growth!E45+2*Growth!F45+3*Growth!G45)/SUM(Growth!C45:G45)","v":0.33622267128517175},{"$f":"SUM(1*Growth!F45+2*Growth!G45)/SUM(Growth!C45:G45)","v":4.6964591711117158E-2}]
[null,3,{"$f":"SUM(1*Growth!D46+2*Growth!E46+3*Growth!F46+4*Growth!G46)/SUM(Growth!C46:G46)","v":1.4617564037597057},{"$f":"SUM(1*Growth!E46+2*Growth!F46+3*Growth!G46)/SUM(Growth!C46:G46)","v":0.55246339190845928},{"$f":"SUM(1*Growth!F46+2*Growth!G46)/SUM(Growth!C46:G46)","v":0.12422159378831223}]
[null,4,{"$f":"SUM(1*Growth!D47+2*Growth!E47+3*Growth!F47+4*Growth!G47)/SUM(Growth!C47:G47)","v":1.7780504338939329},{"$f":"SUM(1*Growth!E47+2*Growth!F47+3*Growth!G47)/SUM(Growth!C47:G47)","v":0.81479697691179975},{"$f":"SUM(1*Growth!F47+2*Growth!G47)/SUM(Growth!C47:G47)","v":0.21455991395757235}]
[null,"5+",{"$f":"SUM(1*Growth!D48+2*Growth!E48+3*Growth!F48+4*Growth!G48)/SUM(Growth!C48:G48)","v":2.0045710461485724},{"$f":"SUM(1*Growth!E48+2*Growth!F48+3*Growth!G48)/SUM(Growth!C48:G48)","v":1.0234645388013233},{"$f":"SUM(1*Growth!F48+2*Growth!G48)/SUM(Growth!C48:G48)","v":0.29014076849120468}]
[]
[null,"Smaller SettlementsA flat; maisonette; apartmentShared ownership or rented (excluding living rent free)"]
[null,"Bedrooms/Unallocated Demand","Allocated Spaces"]
[null,null,0,1,2]
[null,"1 or 2",{"$f":"SUM(1*Growth!D53+2*Growth!E53+3*Growth!F53+4*Growth!G53)/SUM(Growth!C53:G53)","v":0.69883342195336362},{"$f":"SUM(1*Growth!E53+2*Growth!F53+3*Growth!G53)/SUM(Growth!C53:G53)","v":0.10776364904330445},{"$f":"SUM(1*Growth!F53+2*Growth!G53)/SUM(Growth!C53:G53)","v":1.1695439230261555E-2}]
[null,3,{"$f":"SUM(1*Growth!D54+2*Growth!E54+3*Growth!F54+4*Growth!G54)/SUM(Growth!C54:G54)","v":1.0816192403386924},{"$f":"SUM(1*Growth!E54+2*Growth!F54+3*Growth!G54)/SUM(Growth!C54:G54)","v":0.22535597542083297},{"$f":"SUM(1*Growth!F54+2*Growth!G54)/SUM(Growth!C54:G54)","v":2.6748498392767578E-2}]
[null,4,{"$f":"SUM(1*Growth!D55+2*Growth!E55+3*Growth!F55+4*Growth!G55)/SUM(Growth!C55:G55)","v":1.2413672963765872},{"$f":"SUM(1*Growth!E55+2*Growth!F55+3*Growth!G55)/SUM(Growth!C55:G55)","v":0.41460204397646333},{"$f":"SUM(1*Growth!F55+2*Growth!G55)/SUM(Growth!C55:G55)","v":0}]
[null,"5+",{"$f":"SUM(1*Growth!D56+2*Growth!E56+3*Growth!F56+4*Growth!G56)/SUM(Growth!C56:G56)","v":0.7881149896120353},{"$f":"SUM(1*Growth!E56+2*Growth!F56+3*Growth!G56)/SUM(Growth!C56:G56)","v":0.31561731032755241},{"$f":"SUM(1*Growth!F56+2*Growth!G56)/SUM(Growth!C56:G56)","v":0}]
[]
[null,"Smaller SettlementsA flat; maisonette; apartmentOwned"]
[null,"Bedrooms/Unallocated Demand","Allocated Spaces"]
[null,null,0,1,2]
[null,"1 or 2",{"$f":"SUM(1*Growth!D61+2*Growth!E61+3*Growth!F61+4*Growth!G61)/SUM(Growth!C61:G61)","v":1.0220538126758165},{"$f":"SUM(1*Growth!E61+2*Growth!F61+3*Growth!G61)/SUM(Growth!C61:G61)","v":0.24031583639335213},{"$f":"SUM(1*Growth!F61+2*Growth!G61)/SUM(Growth!C61:G61)","v":4.0378248583871013E-2}]
[null,3,{"$f":"SUM(1*Growth!D62+2*Growth!E62+3*Growth!F62+4*Growth!G62)/SUM(Growth!C62:G62)","v":1.333604378370284},{"$f":"SUM(1*Growth!E62+2*Growth!F62+3*Growth!G62)/SUM(Growth!C62:G62)","v":0.42007042877177958},{"$f":"SUM(1*Growth!F62+2*Growth!G62)/SUM(Growth!C62:G62)","v":8.9414268991535359E-2}]
[null,4,{"$f":"SUM(1*Growth!D63+2*Growth!E63+3*Growth!F63+4*Growth!G63)/SUM(Growth!C63:G63)","v":1.8768219942854887},{"$f":"SUM(1*Growth!E63+2*Growth!F63+3*Growth!G63)/SUM(Growth!C63:G63)","v":0.87682199428548868},{"$f":"SUM(1*Growth!F63+2*Growth!G63)/SUM(Growth!C63:G63)","v":0.29739160203826354}]
[null,"5+",{"$f":"SUM(1*Growth!D64+2*Growth!E64+3*Growth!F64+4*Growth!G64)/SUM(Growth!C64:G64)","v":2.1338034774748662},{"$f":"SUM(1*Growth!E64+2*Growth!F64+3*Growth!G64)/SUM(Growth!C64:G64)","v":1.2101237326147578},{"$f":"SUM(1*Growth!F64+2*Growth!G64)/SUM(Growth!C64:G64)","v":0.37723524546128989}]
[]
[null,"RuralDetached; semi-detached; terraced whole house or bungalowShared ownership or rented (excluding living rent free)"]
[null,"Bedrooms/Unallocated Demand","Allocated Spaces"]
[null,null,0,1,2]
[null,"1 or 2",{"$f":"SUM(1*Growth!D69+2*Growth!E69+3*Growth!F69+4*Growth!G69)/SUM(Growth!C69:G69)","v":1.1532083899076222},{"$f":"SUM(1*Growth!E69+2*Growth!F69+3*Growth!G69)/SUM(Growth!C69:G69)","v":0.30806688248537062},{"$f":"SUM(1*Growth!F69+2*Growth!G69)/SUM(Growth!C69:G69)","v":4.0774987271418636E-2}]
[null,3,{"$f":"SUM(1*Growth!D70+2*Growth!E70+3*Growth!F70+4*Growth!G70)/SUM(Growth!C70:G70)","v":1.5232080945433906},{"$f":"SUM(1*Growth!E70+2*Growth!F70+3*Growth!G70)/SUM(Growth!C70:G70)","v":0.60815089864498995},{"$f":"SUM(1*Growth!F70+2*Growth!G70)/SUM(Growth!C70:G70)","v":0.1394280446507761}]
[null,4,{"$f":"SUM(1*Growth!D71+2*Growth!E71+3*Growth!F71+4*Growth!G71)/SUM(Growth!C71:G71)","v":1.7890604272918171},{"$f":"SUM(1*Growth!E71+2*Growth!F71+3*Growth!G71)/SUM(Growth!C71:G71)","v":0.828596574607945},{"$f":"SUM(1*Growth!F71+2*Growth!G71)/SUM(Growth!C71:G71)","v":0.19736060162504868}]
[null,"5+",{"$f":"SUM(1*Growth!D72+2*Growth!E72+3*Growth!F72+4*Growth!G72)/SUM(Growth!C72:G72)","v":2.1351741386832441},{"$f":"SUM(1*Growth!E72+2*Growth!F72+3*Growth!G72)/SUM(Growth!C72:G72)","v":1.1734386887832786},{"$f":"SUM(1*Growth!F72+2*Growth!G72)/SUM(Growth!C72:G72)","v":0.40826623109728305}]
[]
[null,"RuralDetached; semi-detached; terraced whole house or bungalowOwned"]
[null,"Bedrooms/Unallocated Demand","Allocated Spaces"]
[null,null,0,1,2]
[null,"1 or 2",{"$f":"SUM(1*Growth!D77+2*Growth!E77+3*Growth!F77+4*Growth!G77)/SUM(Growth!C77:G77)","v":1.2900295525409973},{"$f":"SUM(1*Growth!E77+2*Growth!F77+3*Growth!G77)/SUM(Growth!C77:G77)","v":0.41339800209969702},{"$f":"SUM(1*Growth!F77+2*Growth!G77)/SUM(Growth!C77:G77)","v":9.8848073533653491E-2}]
[null,3,{"$f":"SUM(1*Growth!D78+2*Growth!E78+3*Growth!F78+4*Growth!G78)/SUM(Growth!C78:G78)","v":1.5775221011794667},{"$f":"SUM(1*Growth!E78+2*Growth!F78+3*Growth!G78)/SUM(Growth!C78:G78)","v":0.64570783925660025},{"$f":"SUM(1*Growth!F78+2*Growth!G78)/SUM(Growth!C78:G78)","v":0.15479314053068502}]
[null,4,{"$f":"SUM(1*Growth!D79+2*Growth!E79+3*Growth!F79+4*Growth!G79)/SUM(Growth!C79:G79)","v":1.852305416739741},{"$f":"SUM(1*Growth!E79+2*Growth!F79+3*Growth!G79)/SUM(Growth!C79:G79)","v":0.88184784269496408},{"$f":"SUM(1*Growth!F79+2*Growth!G79)/SUM(Growth!C79:G79)","v":0.23092261578246565}]
[null,"5+",{"$f":"SUM(1*Growth!D80+2*Growth!E80+3*Growth!F80+4*Growth!G80)/SUM(Growth!C80:G80)","v":2.2218333494329796},{"$f":"SUM(1*Growth!E80+2*Growth!F80+3*Growth!G80)/SUM(Growth!C80:G80)","v":1.2317441364775541},{"$f":"SUM(1*Growth!F80+2*Growth!G80)/SUM(Growth!C80:G80)","v":0.42066582918978157}]
[]
[null,"RuralA flat; maisonette; apartmentShared ownership or rented (excluding living rent free)"]
[null,"Bedrooms/Unallocated Demand","Allocated Spaces"]
[null,null,0,1,2]
[null,"1 or 2",{"$f":"SUM(1*Growth!D85+2*Growth!E85+3*Growth!F85+4*Growth!G85)/SUM(Growth!C85:G85)","v":0.97097648914411627},{"$f":"SUM(1*Growth!E85+2*Growth!F85+3*Growth!G85)/SUM(Growth!C85:G85)","v":0.24188602033279072},{"$f":"SUM(1*Growth!F85+2*Growth!G85)/SUM(Growth!C85:G85)","v":4.7038979443745146E-2}]
[null,3,{"$f":"SUM(1*Growth!D86+2*Growth!E86+3*Growth!F86+4*Growth!G86)/SUM(Growth!C86:G86)","v":1.3753699824685228},{"$f":"SUM(1*Growth!E86+2*Growth!F86+3*Growth!G86)/SUM(Growth!C86:G86)","v":0.47725746226178811},{"$f":"SUM(1*Growth!F86+2*Growth!G86)/SUM(Growth!C86:G86)","v":0.12457309715170418}]
[null,4,{"$f":"SUM(1*Growth!D87+2*Growth!E87+3*Growth!F87+4*Growth!G87)/SUM(Growth!C87:G87)","v":1.6929727837577662},{"$f":"SUM(1*Growth!E87+2*Growth!F87+3*Growth!G87)/SUM(Growth!C87:G87)","v":0.84961932265686524},{"$f":"SUM(1*Growth!F87+2*Growth!G87)/SUM(Growth!C87:G87)","v":0.37896210728975227}]
[null,"5+",{"$f":"SUM(1*Growth!D88+2*Growth!E88+3*Growth!F88+4*Growth!G88)/SUM(Growth!C88:G88)","v":1.5685696895922094},{"$f":"SUM(1*Growth!E88+2*Growth!F88+3*Growth!G88)/SUM(Growth!C88:G88)","v":0.78646378575776021},{"$f":"SUM(1*Growth!F88+2*Growth!G88)/SUM(Growth!C88:G88)","v":0.2635666463785758}]
[]
[null,"RuralA flat; maisonette; apartmentOwned"]
[null,"Bedrooms/Unallocated Demand","Allocated Spaces"]
[null,null,0,1,2]
[null,"1 or 2",{"$f":"SUM(1*Growth!D93+2*Growth!E93+3*Growth!F93+4*Growth!G93)/SUM(Growth!C93:G93)","v":1.0369969986362755},{"$f":"SUM(1*Growth!E93+2*Growth!F93+3*Growth!G93)/SUM(Growth!C93:G93)","v":0.25510519394814335},{"$f":"SUM(1*Growth!F93+2*Growth!G93)/SUM(Growth!C93:G93)","v":4.4032998429620988E-2}]
[null,3,{"$f":"SUM(1*Growth!D94+2*Growth!E94+3*Growth!F94+4*Growth!G94)/SUM(Growth!C94:G94)","v":1.2973150793579262},{"$f":"SUM(1*Growth!E94+2*Growth!F94+3*Growth!G94)/SUM(Growth!C94:G94)","v":0.41024577974457654},{"$f":"SUM(1*Growth!F94+2*Growth!G94)/SUM(Growth!C94:G94)","v":7.9741872684830517E-2}]
[null,4,{"$f":"SUM(1*Growth!D95+2*Growth!E95+3*Growth!F95+4*Growth!G95)/SUM(Growth!C95:G95)","v":1.4659789078798784},{"$f":"SUM(1*Growth!E95+2*Growth!F95+3*Growth!G95)/SUM(Growth!C95:G95)","v":0.6372806094129807},{"$f":"SUM(1*Growth!F95+2*Growth!G95)/SUM(Growth!C95:G95)","v":0.2161463816104274}]
[null,"5+",{"$f":"SUM(1*Growth!D96+2*Growth!E96+3*Growth!F96+4*Growth!G96)/SUM(Growth!C96:G96)","v":1.8697727453528152},{"$f":"SUM(1*Growth!E96+2*Growth!F96+3*Growth!G96)/SUM(Growth!C96:G96)","v":0.8697727453528149},{"$f":"SUM(1*Growth!F96+2*Growth!G96)/SUM(Growth!C96:G96)","v":0.29326986820821516}]

{"sheet":"RAW DATA_CT0554","index":4,"n_rows":2971,"n_cols":14,"rows_kept":2971,"cut":false,"hidden":true,"merged":[]}
[null,"Office for National Statistics"]
[]
[null,"CT0554 - Accommodation type (excluding caravans / temporary structures) by tenure (excluding living rent free) by number of rooms by car or van availability"]
[]
[null,"Dataset population: All households (excluding caravans/temporary structures)"]
[null,"Geographical level: LSOAs in Cotswold local authority (South West region)"]
[]
[null,"Source : 2011 Census (27 March)"]
[]
[]
[null,"Output Area",null,"Classification",null,null,"Number of Bedrooms","Number of Bedrooms Conversion","Total: All households","1 car or van in household","2 cars or vans in household","3 cars or vans in household","4 cars or vans or more in household","No cars or vans in household"]
["E07000079","E07000079 Cotswold","TOTAL COTSWOLDS",null,"Total: Accommodation type (excluding caravans / temporary structures)","Total: Tenure (excluding living rent free)","Total: Number of rooms","Total: Number of rooms",34824,13855,12090,3241,1331,4307]
["E07000079","E07000079 Cotswold","TOTAL COTSWOLDS",null,"Total: Accommodation type (excluding caravans / temporary structures)","Total: Tenure (excluding living rent free)","3 rooms or less",2,2887,1337,270,41,13,1226]
["E07000079","E07000079 Cotswold","TOTAL COTSWOLDS",null,"Total: Accommodation type (excluding caravans / temporary structures)","Total: Tenure (excluding living rent free)","4 rooms",2,5206,2787,1094,134,37,1154]
["E07000079","E07000079 Cotswold","TOTAL COTSWOLDS",null,"Total: Accommodation type (excluding caravans / temporary structures)","Total: Tenure (excluding living rent free)","5 rooms",3,7395,3648,2200,467,133,947]
["E07000079","E07000079 Cotswold","TOTAL COTSWOLDS",null,"Total: Accommodation type (excluding caravans / temporary structures)","Total: Tenure (excluding living rent free)","6 rooms",3,6540,2799,2372,569,180,620]
["E07000079","E07000079 Cotswold","TOTAL COTSWOLDS",null,"Total: Accommodation type (excluding caravans / temporary structures)","Total: Tenure (excluding living rent free)","7 rooms",4,4407,1539,1969,516,192,191]
["E07000079","E07000079 Cotswold","TOTAL COTSWOLDS",null,"Total: Accommodation type (excluding caravans / temporary structures)","Total: Tenure (excluding living rent free)","8 rooms or more",5,8389,1745,4185,1514,776,169]
["E07000079","E07000079 Cotswold","TOTAL COTSWOLDS",null,"Total: Accommodation type (excluding caravans / temporary structures)","Owned","Total: Number of rooms","Total: Number of rooms",23506,8646,9301,2687,1124,1748]
["E07000079","E07000079 Cotswold","TOTAL COTSWOLDS",null,"Total: Accommodation type (excluding caravans / temporary structures)","Owned","3 rooms or less",2,581,300,89,19,6,167]
["E07000079","E07000079 Cotswold","TOTAL COTSWOLDS",null,"Total: Accommodation type (excluding caravans / temporary structures)","Owned","4 rooms",2,2154,1184,457,78,21,414]
["E07000079","E07000079 Cotswold","TOTAL COTSWOLDS",null,"Total: Accommodation type (excluding caravans / temporary structures)","Owned","5 rooms",3,4386,2156,1335,302,88,505]
["E07000079","E07000079 Cotswold","TOTAL COTSWOLDS",null,"Total: Accommodation type (excluding caravans / temporary structures)","Owned","6 rooms",3,4875,2109,1815,434,133,384]
["E07000079","E07000079 Cotswold","TOTAL COTSWOLDS",null,"Total: Accommodation type (excluding caravans / temporary structures)","Owned","7 rooms",4,3803,1315,1721,447,168,152]
["E07000079","E07000079 Cotswold","TOTAL COTSWOLDS",null,"Total: Accommodation type (excluding caravans / temporary structures)","Owned","8 rooms or more",5,7707,1582,3884,1407,708,126]
["E07000079","E07000079 Cotswold","TOTAL COTSWOLDS",null,"Total: Accommodation type (excluding caravans / temporary structures)","Shared ownership or rented (excluding living rent free)","Total: Number of rooms","Total: Number of rooms",11318,5209,2789,554,207,2559]
["E07000079","E07000079 Cotswold","TOTAL COTSWOLDS",null,"Total: Accommodation type (excluding caravans / temporary structures)","Shared ownership or rented (excluding living rent free)","3 rooms or less",2,2306,1037,181,22,7,1059]
["E07000079","E07000079 Cotswold","TOTAL COTSWOLDS",null,"Total: Accommodation type (excluding caravans / temporary structures)","Shared ownership or rented (excluding living rent free)","4 rooms",2,3052,1603,637,56,16,740]
["E07000079","E07000079 Cotswold","TOTAL COTSWOLDS",null,"Total: Accommodation type (excluding caravans / temporary structures)","Shared ownership or rented (excluding living rent free)","5 rooms",3,3009,1492,865,165,45,442]
["E07000079","E07000079 Cotswold","TOTAL COTSWOLDS",null,"Total: Accommodation type (excluding caravans / temporary structures)","Shared ownership or rented (excluding living rent free)","6 rooms",3,1665,690,557,135,47,236]
["E07000079","E07000079 Cotswold","TOTAL COTSWOLDS",null,"Total: Accommodation type (excluding caravans / temporary structures)","Shared ownership or rented (excluding living rent free)","7 rooms",4,604,224,248,69,24,39]
["E07000079","E07000079 Cotswold","TOTAL COTSWOLDS",null,"Total: Accommodation type (excluding caravans / temporary structures)","Shared ownership or rented (excluding living rent free)","8 rooms or more",5,682,163,301,107,68,43]
["E07000079","E07000079 Cotswold","TOTAL COTSWOLDS",null,"Detached; semi-detached; terraced whole house or bungalow","Total: Tenure (excluding living rent free)","Total: Number of rooms","Total: Number of rooms",31212,12155,11684,3190,1303,2880]
["E07000079","E07000079 Cotswold","TOTAL COTSWOLDS",null,"Detached; semi-detached; terraced whole house or bungalow","Total: Tenure (excluding living rent free)","3 rooms or less",2,983,511,140,24,5,303]
["E07000079","E07000079 Cotswold","TOTAL COTSWOLDS",null,"Detached; semi-detached; terraced whole house or bungalow","Total: Tenure (excluding living rent free)","4 rooms",2,3956,2144,927,119,30,736]
["E07000079","E07000079 Cotswold","TOTAL COTSWOLDS",null,"Detached; semi-detached; terraced whole house or bungalow","Total: Tenure (excluding living rent free)","5 rooms",3,7123,3492,2146,462,129,894]
["E07000079","E07000079 Cotswold","TOTAL COTSWOLDS",null,"Detached; semi-detached; terraced whole house or bungalow","Total: Tenure (excluding living rent free)","6 rooms",3,6439,2750,2344,566,177,602]
["E07000079","E07000079 Cotswold","TOTAL COTSWOLDS",null,"Detached; semi-detached; terraced whole house or bungalow","Total: Tenure (excluding living rent free)","7 rooms",4,4371,1526,1959,512,189,185]
["E07000079","E07000079 Cotswold","TOTAL COTSWOLDS",null,"Detached; semi-detached; terraced whole house or bungalow","Total: Tenure (excluding living rent free)","8 rooms or more",5,8340,1732,4168,1507,773,160]
["E07000079","E07000079 Cotswold","TOTAL COTSWOLDS",null,"Detached; semi-detached; terraced whole house or bungalow","Owned","Total: Number of rooms","Total: Number of rooms",22611,8185,9168,2662,1117,1479]
["E07000079","E07000079 Cotswold","TOTAL COTSWOLDS",null,"Detached; semi-detached; terraced whole house or bungalow","Owned","3 rooms or less",2,295,160,57,14,5,59]
["E07000079","E07000079 Cotswold","TOTAL COTSWOLDS",null,"Detached; semi-detached; terraced whole house or bungalow","Owned","4 rooms",2,1740,964,405,72,19,280]
["E07000079","E07000079 Cotswold","TOTAL COTSWOLDS",null,"Detached; semi-detached; terraced whole house or bungalow","Owned","5 rooms",3,4272,2090,1313,298,86,485]
["E07000079","E07000079 Cotswold","TOTAL COTSWOLDS",null,"Detached; semi-detached; terraced whole house or bungalow","Owned","6 rooms",3,4834,2087,1802,432,133,380]
["E07000079","E07000079 Cotswold","TOTAL COTSWOLDS",null,"Detached; semi-detached; terraced whole house or bungalow","Owned","7 rooms",4,3791,1310,1718,444,168,151]
["E07000079","E07000079 Cotswold","TOTAL COTSWOLDS",null,"Detached; semi-detached; terraced whole house or bungalow","Owned","8 rooms or more",5,7679,1574,3873,1402,706,124]
["E07000079","E07000079 Cotswold","TOTAL COTSWOLDS",null,"Detached; semi-detached; terraced whole house or bungalow","Shared ownership or rented (excluding living rent free)","Total: Number of rooms","Total: Number of rooms",8601,3970,2516,528,186,1401]
["E07000079","E07000079 Cotswold","TOTAL COTSWOLDS",null,"Detached; semi-detached; terraced whole house or bungalow","Shared ownership or rented (excluding living rent free)","3 rooms or less",2,688,351,83,10,0,244]
["E07000079","E07000079 Cotswold","TOTAL COTSWOLDS",null,"Detached; semi-detached; terraced whole house or bungalow","Shared ownership or rented (excluding living rent free)","4 rooms",2,2216,1180,522,47,11,456]
["E07000079","E07000079 Cotswold","TOTAL COTSWOLDS",null,"Detached; semi-detached; terraced whole house or bungalow","Shared ownership or rented (excluding living rent free)","5 rooms",3,2851,1402,833,164,43,409]
["E07000079","E07000079 Cotswold","TOTAL COTSWOLDS",null,"Detached; semi-detached; terraced whole house or bungalow","Shared ownership or rented (excluding living rent free)","6 rooms",3,1605,663,542,134,44,222]
["E07000079","E07000079 Cotswold","TOTAL COTSWOLDS",null,"Detached; semi-detached; terraced whole house or bungalow","Shared ownership or rented (excluding living rent free)","7 rooms",4,580,216,241,68,21,34]
["E07000079","E07000079 Cotswold","TOTAL COTSWOLDS",null,"Detached; semi-detached; terraced whole house or bungalow","Shared ownership or rented (excluding living rent free)","8 rooms or more",5,661,158,295,105,67,36]
["E07000079","E07000079 Cotswold","TOTAL COTSWOLDS",null,"A flat; maisonette; apartment","Total: Tenure (excluding living rent free)","Total: Number of rooms","Total: Number of rooms",3612,1700,406,51,28,1427]
["E07000079","E07000079 Cotswold","TOTAL COTSWOLDS",null,"A flat; maisonette; apartment","Total: Tenure (excluding living rent free)","3 rooms or less",2,1904,826,130,17,8,923]
["E07000079","E07000079 Cotswold","TOTAL COTSWOLDS",null,"A flat; maisonette; apartment","Total: Tenure (excluding living rent free)","4 rooms",2,1250,643,167,15,7,418]
["E07000079","E07000079 Cotswold","TOTAL COTSWOLDS",null,"A flat; maisonette; apartment","Total: Tenure (excluding living rent free)","5 rooms",3,272,156,54,5,4,53]
["E07000079","E07000079 Cotswold","TOTAL COTSWOLDS",null,"A flat; maisonette; apartment","Total: Tenure (excluding living rent free)","6 rooms",3,101,49,28,3,3,18]
["E07000079","E07000079 Cotswold","TOTAL COTSWOLDS",null,"A flat; maisonette; apartment","Total: Tenure (excluding living rent free)","7 rooms",4,36,13,10,4,3,6]
["E07000079","E07000079 Cotswold","TOTAL COTSWOLDS",null,"A flat; maisonette; apartment","Total: Tenure (excluding living rent free)","8 rooms or more",5,49,13,17,7,3,9]
["E07000079","E07000079 Cotswold","TOTAL COTSWOLDS",null,"A flat; maisonette; apartment","Owned","Total: Number of rooms","Total: Number of rooms",895,461,133,25,7,269]
["E07000079","E07000079 Cotswold","TOTAL COTSWOLDS",null,"A flat; maisonette; apartment","Owned","3 rooms or less",2,286,140,32,5,1,108]
["E07000079","E07000079 Cotswold","TOTAL COTSWOLDS",null,"A flat; maisonette; apartment","Owned","4 rooms",2,414,220,52,6,2,134]
["E07000079","E07000079 Cotswold","TOTAL COTSWOLDS",null,"A flat; maisonette; apartment","Owned","5 rooms",3,114,66,22,4,2,20]
["E07000079","E07000079 Cotswold","TOTAL COTSWOLDS",null,"A flat; maisonette; apartment","Owned","6 rooms",3,41,22,13,2,0,4]
["E07000079","E07000079 Cotswold","TOTAL COTSWOLDS",null,"A flat; maisonette; apartment","Owned","7 rooms",4,12,5,3,3,0,1]
["E07000079","E07000079 Cotswold","TOTAL COTSWOLDS",null,"A flat; maisonette; apartment","Owned","8 rooms or more",5,28,8,11,5,2,2]
["E07000079","E07000079 Cotswold","TOTAL COTSWOLDS",null,"A flat; maisonette; apartment","Shared ownership or rented (excluding living rent free)","Total: Number of rooms","Total: Number of rooms",2717,1239,273,26,21,1158]
["E07000079","E07000079 Cotswold","TOTAL COTSWOLDS",null,"A flat; maisonette; apartment","Shared ownership or rented (excluding living rent free)","3 rooms or less",2,1618,686,98,12,7,815]
["E07000079","E07000079 Cotswold","TOTAL COTSWOLDS",null,"A flat; maisonette; apartment","Shared ownership or rented (excluding living rent free)","4 rooms",2,836,423,115,9,5,284]
["E07000079","E07000079 Cotswold","TOTAL COTSWOLDS",null,"A flat; maisonette; apartment","Shared ownership or rented (excluding living rent free)","5 rooms",3,158,90,32,1,2,33]
["E07000079","E07000079 Cotswold","TOTAL COTSWOLDS",null,"A flat; maisonette; apartment","Shared ownership or rented (excluding living rent free)","6 rooms",3,60,27,15,1,3,14]
["E07000079","E07000079 Cotswold","TOTAL COTSWOLDS",null,"A flat; maisonette; apartment","Shared ownership or rented (excluding living rent free)","7 rooms",4,24,8,7,1,3,5]
["E07000079","E07000079 Cotswold","TOTAL COTSWOLDS",null,"A flat; maisonette; apartment","Shared ownership or rented (excluding living rent free)","8 rooms or more",null,21,5,6,2,1,7]
["E01022179","E01022179 Cotswold 001A","E01022179",{"$f":"VLOOKUP(A75,'Output Areas'!$A:$E,5,FALSE)","v":"Rural"},"Total: Accommodation type (excluding caravans / temporary structures)","Total: Tenure (excluding living rent free)","Total: Number of rooms",{"$f":"VLOOKUP(G75,Cntrol!$F$3:$G$9,2,FALSE)","v":0},882,373,331,83,29,66]
["E01022179","E01022179 Cotswold 001A","E01022179",{"$f":"VLOOKUP(A76,'Output Areas'!$A:$E,5,FALSE)","v":"Rural"},"Total: Accommodation type (excluding caravans / temporary structures)","Total: Tenure (excluding living rent free)","3 rooms or less",{"$f":"VLOOKUP(G76,Cntrol!$F$3:$G$9,2,FALSE)","v":2},54,24,6,1,1,22]
["E01022179","E01022179 Cotswold 001A","E01022179",{"$f":"VLOOKUP(A77,'Output Areas'!$A:$E,5,FALSE)","v":"Rural"},"Total: Accommodation type (excluding caravans / temporary structures)","Total: Tenure (excluding living rent free)","4 rooms",{"$f":"VLOOKUP(G77,Cntrol!$F$3:$G$9,2,FALSE)","v":2},147,84,39,5,1,18]
["E01022179","E01022179 Cotswold 001A","E01022179",{"$f":"VLOOKUP(A78,'Output Areas'!$A:$E,5,FALSE)","v":"Rural"},"Total: Accommodation type (excluding caravans / temporary structures)","Total: Tenure (excluding living rent free)","5 rooms",{"$f":"VLOOKUP(G78,Cntrol!$F$3:$G$9,2,FALSE)","v":3},167,79,57,15,2,14]
["E01022179","E01022179 Cotswold 001A","E01022179",{"$f":"VLOOKUP(A79,'Output Areas'!$A:$E,5,FALSE)","v":"Rural"},"Total: Accommodation type (excluding caravans / temporary structures)","Total: Tenure (excluding living rent free)","6 rooms",{"$f":"VLOOKUP(G79,Cntrol!$F$3:$G$9,2,FALSE)","v":3},164,89,52,10,4,9]
["E01022179","E01022179 Cotswold 001A","E01022179",{"$f":"VLOOKUP(A80,'Output Areas'!$A:$E,5,FALSE)","v":"Rural"},"Total: Accommodation type (excluding caravans / temporary structures)","Total: Tenure (excluding living rent free)","7 rooms",{"$f":"VLOOKUP(G80,Cntrol!$F$3:$G$9,2,FALSE)","v":4},121,41,62,12,3,3]
["E01022179","E01022179 Cotswold 001A","E01022179",{"$f":"VLOOKUP(A81,'Output Areas'!$A:$E,5,FALSE)","v":"Rural"},"Total: Accommodation type (excluding caravans / temporary structures)","Total: Tenure (excluding living rent free)","8 rooms or more",{"$f":"VLOOKUP(G81,Cntrol!$F$3:$G$9,2,FALSE)","v":5},229,56,115,40,18,0]
["E01022179","E01022179 Cotswold 001A","E01022179",{"$f":"VLOOKUP(A82,'Output Areas'!$A:$E,5,FALSE)","v":"Rural"},"Total: Accommodation type (excluding caravans / temporary structures)","Owned","Total: Number of rooms",{"$f":"VLOOKUP(G82,Cntrol!$F$3:$G$9,2,FALSE)","v":0},641,265,260,69,24,23]
["E01022179","E01022179 Cotswold 001A","E01022179",{"$f":"VLOOKUP(A83,'Output Areas'!$A:$E,5,FALSE)","v":"Rural"},"Total: Accommodation type (excluding caravans / temporary structures)","Owned","3 rooms or less",{"$f":"VLOOKUP(G83,Cntrol!$F$3:$G$9,2,FALSE)","v":2},13,5,3,1,0,4]
["E01022179","E01022179 Cotswold 001A","E01022179",{"$f":"VLOOKUP(A84,'Output Areas'!$A:$E,5,FALSE)","v":"Rural"},"Total: Accommodation type (excluding caravans / temporary structures)","Owned","4 rooms",{"$f":"VLOOKUP(G84,Cntrol!$F$3:$G$9,2,FALSE)","v":2},82,47,23,4,1,7]
["E01022179","E01022179 Cotswold 001A","E01022179",{"$f":"VLOOKUP(A85,'Output Areas'!$A:$E,5,FALSE)","v":"Rural"},"Total: Accommodation type (excluding caravans / temporary structures)","Owned","5 rooms",{"$f":"VLOOKUP(G85,Cntrol!$F$3:$G$9,2,FALSE)","v":3},96,46,33,9,2,6]
["E01022179","E01022179 Cotswold 001A","E01022179",{"$f":"VLOOKUP(A86,'Output Areas'!$A:$E,5,FALSE)","v":"Rural"},"Total: Accommodation type (excluding caravans / temporary structures)","Owned","6 rooms",{"$f":"VLOOKUP(G86,Cntrol!$F$3:$G$9,2,FALSE)","v":3},131,78,40,8,1,4]
["E01022179","E01022179 Cotswold 001A","E01022179",{"$f":"VLOOKUP(A87,'Output Areas'!$A:$E,5,FALSE)","v":"Rural"},"Total: Accommodation type (excluding caravans / temporary structures)","Owned","7 rooms",{"$f":"VLOOKUP(G87,Cntrol!$F$3:$G$9,2,FALSE)","v":4},107,38,55,9,3,2]
["E01022179","E01022179 Cotswold 001A","E01022179",{"$f":"VLOOKUP(A88,'Output Areas'!$A:$E,5,FALSE)","v":"Rural"},"Total: Accommodation type (excluding caravans / temporary structures)","Owned","8 rooms or more",{"$f":"VLOOKUP(G88,Cntrol!$F$3:$G$9,2,FALSE)","v":5},212,51,106,38,17,0]
["E01022179","E01022179 Cotswold 001A","E01022179",{"$f":"VLOOKUP(A89,'Output Areas'!$A:$E,5,FALSE)","v":"Rural"},"Total: Accommodation type (excluding caravans / temporary structures)","Shared ownership or rented (excluding living rent free)","Total: Number of rooms",{"$f":"VLOOKUP(G89,Cntrol!$F$3:$G$9,2,FALSE)","v":0},241,108,71,14,5,43]
["E01022179","E01022179 Cotswold 001A","E01022179",{"$f":"VLOOKUP(A90,'Output Areas'!$A:$E,5,FALSE)","v":"Rural"},"Total: Accommodation type (excluding caravans / temporary structures)","Shared ownership or rented (excluding living rent free)","3 rooms or less",{"$f":"VLOOKUP(G90,Cntrol!$F$3:$G$9,2,FALSE)","v":2},41,19,3,0,1,18]
["E01022179","E01022179 Cotswold 001A","E01022179",{"$f":"VLOOKUP(A91,'Output Areas'!$A:$E,5,FALSE)","v":"Rural"},"Total: Accommodation type (excluding caravans / temporary structures)","Shared ownership or rented (excluding living rent free)","4 rooms",{"$f":"VLOOKUP(G91,Cntrol!$F$3:$G$9,2,FALSE)","v":2},65,37,16,1,0,11]
["E01022179","E01022179 Cotswold 001A","E01022179",{"$f":"VLOOKUP(A92,'Output Areas'!$A:$E,5,FALSE)","v":"Rural"},"Total: Accommodation type (excluding caravans / temporary structures)","Shared ownership or rented (excluding living rent free)","5 rooms",{"$f":"VLOOKUP(G92,Cntrol!$F$3:$G$9,2,FALSE)","v":3},71,33,24,6,0,8]
["E01022179","E01022179 Cotswold 001A","E01022179",{"$f":"VLOOKUP(A93,'Output Areas'!$A:$E,5,FALSE)","v":"Rural"},"Total: Accommodation type (excluding caravans / temporary structures)","Shared ownership or rented (excluding living rent free)","6 rooms",{"$f":"VLOOKUP(G93,Cntrol!$F$3:$G$9,2,FALSE)","v":3},33,11,12,2,3,5]
["E01022179","E01022179 Cotswold 001A","E01022179",{"$f":"VLOOKUP(A94,'Output Areas'!$A:$E,5,FALSE)","v":"Rural"},"Total: Accommodation type (excluding caravans / temporary structures)","Shared ownership or rented (excluding living rent free)","7 rooms",{"$f":"VLOOKUP(G94,Cntrol!$F$3:$G$9,2,FALSE)","v":4},14,3,7,3,0,1]
["E01022179","E01022179 Cotswold 001A","E01022179",{"$f":"VLOOKUP(A95,'Output Areas'!$A:$E,5,FALSE)","v":"Rural"},"Total: Accommodation type (excluding caravans / temporary structures)","Shared ownership or rented (excluding living rent free)","8 rooms or more",{"$f":"VLOOKUP(G95,Cntrol!$F$3:$G$9,2,FALSE)","v":5},17,5,9,2,1,0]
["E01022179","E01022179 Cotswold 001A","E01022179",{"$f":"VLOOKUP(A96,'Output Areas'!$A:$E,5,FALSE)","v":"Rural"},"Detached; semi-detached; terraced whole house or bungalow","Total: Tenure (excluding living rent free)","Total: Number of rooms",{"$f":"VLOOKUP(G96,Cntrol!$F$3:$G$9,2,FALSE)","v":0},825,343,323,82,28,49]
["E01022179","E01022179 Cotswold 001A","E01022179",{"$f":"VLOOKUP(A97,'Output Areas'!$A:$E,5,FALSE)","v":"Rural"},"Detached; semi-detached; terraced whole house or bungalow","Total: Tenure (excluding living rent free)","3 rooms or less",{"$f":"VLOOKUP(G97,Cntrol!$F$3:$G$9,2,FALSE)","v":2},24,14,2,0,0,8]
["E01022179","E01022179 Cotswold 001A","E01022179",{"$f":"VLOOKUP(A98,'Output Areas'!$A:$E,5,FALSE)","v":"Rural"},"Detached; semi-detached; terraced whole house or bungalow","Total: Tenure (excluding living rent free)","4 rooms",{"$f":"VLOOKUP(G98,Cntrol!$F$3:$G$9,2,FALSE)","v":2},132,73,37,5,1,16]
["E01022179","E01022179 Cotswold 001A","E01022179",{"$f":"VLOOKUP(A99,'Output Areas'!$A:$E,5,FALSE)","v":"Rural"},"Detached; semi-detached; terraced whole house or bungalow","Total: Tenure (excluding living rent free)","5 rooms",{"$f":"VLOOKUP(G99,Cntrol!$F$3:$G$9,2,FALSE)","v":3},163,76,56,15,2,14]
["E01022179","E01022179 Cotswold 001A","E01022179",{"$f":"VLOOKUP(A100,'Output Areas'!$A:$E,5,FALSE)","v":"Rural"},"Detached; semi-detached; terraced whole house or bungalow","Total: Tenure (excluding living rent free)","6 rooms",{"$f":"VLOOKUP(G100,Cntrol!$F$3:$G$9,2,FALSE)","v":3},158,84,52,10,4,8]
["E01022179","E01022179 Cotswold 001A","E01022179",{"$f":"VLOOKUP(A101,'Output Areas'!$A:$E,5,FALSE)","v":"Rural"},"Detached; semi-detached; terraced whole house or bungalow","Total: Tenure (excluding living rent free)","7 rooms",{"$f":"VLOOKUP(G101,Cntrol!$F$3:$G$9,2,FALSE)","v":4},120,41,61,12,3,3]
["E01022179","E01022179 Cotswold 001A","E01022179",{"$f":"VLOOKUP(A102,'Output Areas'!$A:$E,5,FALSE)","v":"Rural"},"Detached; semi-detached; terraced whole house or bungalow","Total: Tenure (excluding living rent free)","8 rooms or more",{"$f":"VLOOKUP(G102,Cntrol!$F$3:$G$9,2,FALSE)","v":5},228,55,115,40,18,0]
["E01022179","E01022179 Cotswold 001A","E01022179",{"$f":"VLOOKUP(A103,'Output Areas'!$A:$E,5,FALSE)","v":"Rural"},"Detached; semi-detached; terraced whole house or bungalow","Owned","Total: Number of rooms",{"$f":"VLOOKUP(G103,Cntrol!$F$3:$G$9,2,FALSE)","v":0},629,256,258,68,24,23]
["E01022179","E01022179 Cotswold 001A","E01022179",{"$f":"VLOOKUP(A104,'Output Areas'!$A:$E,5,FALSE)","v":"Rural"},"Detached; semi-detached; terraced whole house or bungalow","Owned","3 rooms or less",{"$f":"VLOOKUP(G104,Cntrol!$F$3:$G$9,2,FALSE)","v":2},11,5,2,0,0,4]
["E01022179","E01022179 Cotswold 001A","E01022179",{"$f":"VLOOKUP(A105,'Output Areas'!$A:$E,5,FALSE)","v":"Rural"},"Detached; semi-detached; terraced whole house or bungalow","Owned","4 rooms",{"$f":"VLOOKUP(G105,Cntrol!$F$3:$G$9,2,FALSE)","v":2},77,42,23,4,1,7]
["E01022179","E01022179 Cotswold 001A","E01022179",{"$f":"VLOOKUP(A106,'Output Areas'!$A:$E,5,FALSE)","v":"Rural"},"Detached; semi-detached; terraced whole house or bungalow","Owned","5 rooms",{"$f":"VLOOKUP(G106,Cntrol!$F$3:$G$9,2,FALSE)","v":3},93,44,32,9,2,6]
["E01022179","E01022179 Cotswold 001A","E01022179",{"$f":"VLOOKUP(A107,'Output Areas'!$A:$E,5,FALSE)","v":"Rural"},"Detached; semi-detached; terraced whole house or bungalow","Owned","6 rooms",{"$f":"VLOOKUP(G107,Cntrol!$F$3:$G$9,2,FALSE)","v":3},130,77,40,8,1,4]
["E01022179","E01022179 Cotswold 001A","E01022179",{"$f":"VLOOKUP(A108,'Output Areas'!$A:$E,5,FALSE)","v":"Rural"},"Detached; semi-detached; terraced whole house or bungalow","Owned","7 rooms",{"$f":"VLOOKUP(G108,Cntrol!$F$3:$G$9,2,FALSE)","v":4},107,38,55,9,3,2]
["E01022179","E01022179 Cotswold 001A","E01022179",{"$f":"VLOOKUP(A109,'Output Areas'!$A:$E,5,FALSE)","v":"Rural"},"Detached; semi-detached; terraced whole house or bungalow","Owned","8 rooms or more",{"$f":"VLOOKUP(G109,Cntrol!$F$3:$G$9,2,FALSE)","v":5},211,50,106,38,17,0]
["E01022179","E01022179 Cotswold 001A","E01022179",{"$f":"VLOOKUP(A110,'Output Areas'!$A:$E,5,FALSE)","v":"Rural"},"Detached; semi-detached; terraced whole house or bungalow","Shared ownership or rented (excluding living rent free)","Total: Number of rooms",{"$f":"VLOOKUP(G110,Cntrol!$F$3:$G$9,2,FALSE)","v":0},196,87,65,14,4,26]
["E01022179","E01022179 Cotswold 001A","E01022179",{"$f":"VLOOKUP(A111,'Output Areas'!$A:$E,5,FALSE)","v":"Rural"},"Detached; semi-detached; terraced whole house or bungalow","Shared ownership or rented (excluding living rent free)","3 rooms or less",{"$f":"VLOOKUP(G111,Cntrol!$F$3:$G$9,2,FALSE)","v":2},13,9,0,0,0,4]
["E01022179","E01022179 Cotswold 001A","E01022179",{"$f":"VLOOKUP(A112,'Output Areas'!$A:$E,5,FALSE)","v":"Rural"},"Detached; semi-detached; terraced whole house or bungalow","Shared ownership or rented (excluding living rent free)","4 rooms",{"$f":"VLOOKUP(G112,Cntrol!$F$3:$G$9,2,FALSE)","v":2},55,31,14,1,0,9]
["E01022179","E01022179 Cotswold 001A","E01022179",{"$f":"VLOOKUP(A113,'Output Areas'!$A:$E,5,FALSE)","v":"Rural"},"Detached; semi-detached; terraced whole house or bungalow","Shared ownership or rented (excluding living rent free)","5 rooms",{"$f":"VLOOKUP(G113,Cntrol!$F$3:$G$9,2,FALSE)","v":3},70,32,24,6,0,8]
["E01022179","E01022179 Cotswold 001A","E01022179",{"$f":"VLOOKUP(A114,'Output Areas'!$A:$E,5,FALSE)","v":"Rural"},"Detached; semi-detached; terraced whole house or bungalow","Shared ownership or rented (excluding living rent free)","6 rooms",{"$f":"VLOOKUP(G114,Cntrol!$F$3:$G$9,2,FALSE)","v":3},28,7,12,2,3,4]
["E01022179","E01022179 Cotswold 001A","E01022179",{"$f":"VLOOKUP(A115,'Output Areas'!$A:$E,5,FALSE)","v":"Rural"},"Detached; semi-detached; terraced whole house or bungalow","Shared ownership or rented (excluding living rent free)","7 rooms",{"$f":"VLOOKUP(G115,Cntrol!$F$3:$G$9,2,FALSE)","v":4},13,3,6,3,0,1]
["E01022179","E01022179 Cotswold 001A","E01022179",{"$f":"VLOOKUP(A116,'Output Areas'!$A:$E,5,FALSE)","v":"Rural"},"Detached; semi-detached; terraced whole house or bungalow","Shared ownership or rented (excluding living rent free)","8 rooms or more",{"$f":"VLOOKUP(G116,Cntrol!$F$3:$G$9,2,FALSE)","v":5},17,5,9,2,1,0]
["E01022179","E01022179 Cotswold 001A","E01022179",{"$f":"VLOOKUP(A117,'Output Areas'!$A:$E,5,FALSE)","v":"Rural"},"A flat; maisonette; apartment","Total: Tenure (excluding living rent free)","Total: Number of rooms",{"$f":"VLOOKUP(G117,Cntrol!$F$3:$G$9,2,FALSE)","v":0},57,30,8,1,1,17]
["E01022179","E01022179 Cotswold 001A","E01022179",{"$f":"VLOOKUP(A118,'Output Areas'!$A:$E,5,FALSE)","v":"Rural"},"A flat; maisonette; apartment","Total: Tenure (excluding living rent free)","3 rooms or less",{"$f":"VLOOKUP(G118,Cntrol!$F$3:$G$9,2,FALSE)","v":2},30,10,4,1,1,14]
["E01022179","E01022179 Cotswold 001A","E01022179",{"$f":"VLOOKUP(A119,'Output Areas'!$A:$E,5,FALSE)","v":"Rural"},"A flat; maisonette; apartment","Total: Tenure (excluding living rent free)","4 rooms",{"$f":"VLOOKUP(G119,Cntrol!$F$3:$G$9,2,FALSE)","v":2},15,11,2,0,0,2]
["E01022179","E01022179 Cotswold 001A","E01022179",{"$f":"VLOOKUP(A120,'Output Areas'!$A:$E,5,FALSE)","v":"Rural"},"A flat; maisonette; apartment","Total: Tenure (excluding living rent free)","5 rooms",{"$f":"VLOOKUP(G120,Cntrol!$F$3:$G$9,2,FALSE)","v":3},4,3,1,0,0,0]
["E01022179","E01022179 Cotswold 001A","E01022179",{"$f":"VLOOKUP(A121,'Output Areas'!$A:$E,5,FALSE)","v":"Rural"},"A flat; maisonette; apartment","Total: Tenure (excluding living rent free)","6 rooms",{"$f":"VLOOKUP(G121,Cntrol!$F$3:$G$9,2,FALSE)","v":3},6,5,0,0,0,1]
["E01022179","E01022179 Cotswold 001A","E01022179",{"$f":"VLOOKUP(A122,'Output Areas'!$A:$E,5,FALSE)","v":"Rural"},"A flat; maisonette; apartment","Total: Tenure (excluding living rent free)","7 rooms",{"$f":"VLOOKUP(G122,Cntrol!$F$3:$G$9,2,FALSE)","v":4},1,0,1,0,0,0]
["E01022179","E01022179 Cotswold 001A","E01022179",{"$f":"VLOOKUP(A123,'Output Areas'!$A:$E,5,FALSE)","v":"Rural"},"A flat; maisonette; apartment","Total: Tenure (excluding living rent free)","8 rooms or more",{"$f":"VLOOKUP(G123,Cntrol!$F$3:$G$9,2,FALSE)","v":5},1,1,0,0,0,0]
["E01022179","E01022179 Cotswold 001A","E01022179",{"$f":"VLOOKUP(A124,'Output Areas'!$A:$E,5,FALSE)","v":"Rural"},"A flat; maisonette; apartment","Owned","Total: Number of rooms",{"$f":"VLOOKUP(G124,Cntrol!$F$3:$G$9,2,FALSE)","v":0},12,9,2,1,0,0]
["E01022179","E01022179 Cotswold 001A","E01022179",{"$f":"VLOOKUP(A125,'Output Areas'!$A:$E,5,FALSE)","v":"Rural"},"A flat; maisonette; apartment","Owned","3 rooms or less",{"$f":"VLOOKUP(G125,Cntrol!$F$3:$G$9,2,FALSE)","v":2},2,0,1,1,0,0]
["E01022179","E01022179 Cotswold 001A","E01022179",{"$f":"VLOOKUP(A126,'Output Areas'!$A:$E,5,FALSE)","v":"Rural"},"A flat; maisonette; apartment","Owned","4 rooms",{"$f":"VLOOKUP(G126,Cntrol!$F$3:$G$9,2,FALSE)","v":2},5,5,0,0,0,0]
["E01022179","E01022179 Cotswold 001A","E01022179",{"$f":"VLOOKUP(A127,'Output Areas'!$A:$E,5,FALSE)","v":"Rural"},"A flat; maisonette; apartment","Owned","5 rooms",{"$f":"VLOOKUP(G127,Cntrol!$F$3:$G$9,2,FALSE)","v":3},3,2,1,0,0,0]
["E01022179","E01022179 Cotswold 001A","E01022179",{"$f":"VLOOKUP(A128,'Output Areas'!$A:$E,5,FALSE)","v":"Rural"},"A flat; maisonette; apartment","Owned","6 rooms",{"$f":"VLOOKUP(G128,Cntrol!$F$3:$G$9,2,FALSE)","v":3},1,1,0,0,0,0]
["E01022179","E01022179 Cotswold 001A","E01022179",{"$f":"VLOOKUP(A129,'Output Areas'!$A:$E,5,FALSE)","v":"Rural"},"A flat; maisonette; apartment","Owned","8 rooms or more",{"$f":"VLOOKUP(G129,Cntrol!$F$3:$G$9,2,FALSE)","v":5},1,1,0,0,0,0]
["E01022179","E01022179 Cotswold 001A","E01022179",{"$f":"VLOOKUP(A130,'Output Areas'!$A:$E,5,FALSE)","v":"Rural"},"A flat; maisonette; apartment","Shared ownership or rented (excluding living rent free)","Total: Number of rooms",{"$f":"VLOOKUP(G130,Cntrol!$F$3:$G$9,2,FALSE)","v":0},45,21,6,0,1,17]
["E01022179","E01022179 Cotswold 001A","E01022179",{"$f":"VLOOKUP(A131,'Output Areas'!$A:$E,5,FALSE)","v":"Rural"},"A flat; maisonette; apartment","Shared ownership or rented (excluding living rent free)","3 rooms or less",{"$f":"VLOOKUP(G131,Cntrol!$F$3:$G$9,2,FALSE)","v":2},28,10,3,0,1,14]
["E01022179","E01022179 Cotswold 001A","E01022179",{"$f":"VLOOKUP(A132,'Output Areas'!$A:$E,5,FALSE)","v":"Rural"},"A flat; maisonette; apartment","Shared ownership or rented (excluding living rent free)","4 rooms",{"$f":"VLOOKUP(G132,Cntrol!$F$3:$G$9,2,FALSE)","v":2},10,6,2,0,0,2]
["E01022179","E01022179 Cotswold 001A","E01022179",{"$f":"VLOOKUP(A133,'Output Areas'!$A:$E,5,FALSE)","v":"Rural"},"A flat; maisonette; apartment","Shared ownership or rented (excluding living rent free)","5 rooms",{"$f":"VLOOKUP(G133,Cntrol!$F$3:$G$9,2,FALSE)","v":3},1,1,0,0,0,0]
["E01022179","E01022179 Cotswold 001A","E01022179",{"$f":"VLOOKUP(A134,'Output Areas'!$A:$E,5,FALSE)","v":"Rural"},"A flat; maisonette; apartment","Shared ownership or rented (excluding living rent free)","6 rooms",{"$f":"VLOOKUP(G134,Cntrol!$F$3:$G$9,2,FALSE)","v":3},5,4,0,0,0,1]
["E01022179","E01022179 Cotswold 001A","E01022179",{"$f":"VLOOKUP(A135,'Output Areas'!$A:$E,5,FALSE)","v":"Rural"},"A flat; maisonette; apartment","Shared ownership or rented (excluding living rent free)","7 rooms",{"$f":"VLOOKUP(G135,Cntrol!$F$3:$G$9,2,FALSE)","v":4},1,0,1,0,0,0]
["E01022182","E01022182 Cotswold 001B","E01022182",{"$f":"VLOOKUP(A136,'Output Areas'!$A:$E,5,FALSE)","v":"Rural"},"Total: Accommodation type (excluding caravans / temporary structures)","Total: Tenure (excluding living rent free)","Total: Number of rooms",{"$f":"VLOOKUP(G136,Cntrol!$F$3:$G$9,2,FALSE)","v":0},658,264,252,58,28,56]
["E01022182","E01022182 Cotswold 001B","E01022182",{"$f":"VLOOKUP(A137,'Output Areas'!$A:$E,5,FALSE)","v":"Rural"},"Total: Accommodation type (excluding caravans / temporary structures)","Total: Tenure (excluding living rent free)","3 rooms or less",{"$f":"VLOOKUP(G137,Cntrol!$F$3:$G$9,2,FALSE)","v":2},35,17,7,3,0,8]
["E01022182","E01022182 Cotswold 001B","E01022182",{"$f":"VLOOKUP(A138,'Output Areas'!$A:$E,5,FALSE)","v":"Rural"},"Total: Accommodation type (excluding caravans / temporary structures)","Total: Tenure (excluding living rent free)","4 rooms",{"$f":"VLOOKUP(G138,Cntrol!$F$3:$G$9,2,FALSE)","v":2},82,50,18,0,0,14]
["E01022182","E01022182 Cotswold 001B","E01022182",{"$f":"VLOOKUP(A139,'Output Areas'!$A:$E,5,FALSE)","v":"Rural"},"Total: Accommodation type (excluding caravans / temporary structures)","Total: Tenure (excluding living rent free)","5 rooms",{"$f":"VLOOKUP(G139,Cntrol!$F$3:$G$9,2,FALSE)","v":3},124,60,39,9,2,14]
["E01022182","E01022182 Cotswold 001B","E01022182",{"$f":"VLOOKUP(A140,'Output Areas'!$A:$E,5,FALSE)","v":"Rural"},"Total: Accommodation type (excluding caravans / temporary structures)","Total: Tenure (excluding living rent free)","6 rooms",{"$f":"VLOOKUP(G140,Cntrol!$F$3:$G$9,2,FALSE)","v":3},137,51,65,7,2,12]
["E01022182","E01022182 Cotswold 001B","E01022182",{"$f":"VLOOKUP(A141,'Output Areas'!$A:$E,5,FALSE)","v":"Rural"},"Total: Accommodation type (excluding caravans / temporary structures)","Total: Tenure (excluding living rent free)","7 rooms",{"$f":"VLOOKUP(G141,Cntrol!$F$3:$G$9,2,FALSE)","v":4},121,52,42,14,8,5]
["E01022182","E01022182 Cotswold 001B","E01022182",{"$f":"VLOOKUP(A142,'Output Areas'!$A:$E,5,FALSE)","v":"Rural"},"Total: Accommodation type (excluding caravans / temporary structures)","Total: Tenure (excluding living rent free)","8 rooms or more",{"$f":"VLOOKUP(G142,Cntrol!$F$3:$G$9,2,FALSE)","v":5},159,34,81,25,16,3]
["E01022182","E01022182 Cotswold 001B","E01022182",{"$f":"VLOOKUP(A143,'Output Areas'!$A:$E,5,FALSE)","v":"Rural"},"Total: Accommodation type (excluding caravans / temporary structures)","Owned","Total: Number of rooms",{"$f":"VLOOKUP(G143,Cntrol!$F$3:$G$9,2,FALSE)","v":0},494,190,202,47,26,29]
["E01022182","E01022182 Cotswold 001B","E01022182",{"$f":"VLOOKUP(A144,'Output Areas'!$A:$E,5,FALSE)","v":"Rural"},"Total: Accommodation type (excluding caravans / temporary structures)","Owned","3 rooms or less",{"$f":"VLOOKUP(G144,Cntrol!$F$3:$G$9,2,FALSE)","v":2},7,5,2,0,0,0]
["E01022182","E01022182 Cotswold 001B","E01022182",{"$f":"VLOOKUP(A145,'Output Areas'!$A:$E,5,FALSE)","v":"Rural"},"Total: Accommodation type (excluding caravans / temporary structures)","Owned","4 rooms",{"$f":"VLOOKUP(G145,Cntrol!$F$3:$G$9,2,FALSE)","v":2},45,27,11,0,0,7]
["E01022182","E01022182 Cotswold 001B","E01022182",{"$f":"VLOOKUP(A146,'Output Areas'!$A:$E,5,FALSE)","v":"Rural"},"Total: Accommodation type (excluding caravans / temporary structures)","Owned","5 rooms",{"$f":"VLOOKUP(G146,Cntrol!$F$3:$G$9,2,FALSE)","v":3},77,35,28,6,1,7]
["E01022182","E01022182 Cotswold 001B","E01022182",{"$f":"VLOOKUP(A147,'Output Areas'!$A:$E,5,FALSE)","v":"Rural"},"Total: Accommodation type (excluding caravans / temporary structures)","Owned","6 rooms",{"$f":"VLOOKUP(G147,Cntrol!$F$3:$G$9,2,FALSE)","v":3},114,44,52,7,2,9]
["E01022182","E01022182 Cotswold 001B","E01022182",{"$f":"VLOOKUP(A148,'Output Areas'!$A:$E,5,FALSE)","v":"Rural"},"Total: Accommodation type (excluding caravans / temporary structures)","Owned","7 rooms",{"$f":"VLOOKUP(G148,Cntrol!$F$3:$G$9,2,FALSE)","v":4},104,46,36,10,8,4]
["E01022182","E01022182 Cotswold 001B","E01022182",{"$f":"VLOOKUP(A149,'Output Areas'!$A:$E,5,FALSE)","v":"Rural"},"Total: Accommodation type (excluding caravans / temporary structures)","Owned","8 rooms or more",{"$f":"VLOOKUP(G149,Cntrol!$F$3:$G$9,2,FALSE)","v":5},147,33,73,24,15,2]
["E01022182","E01022182 Cotswold 001B","E01022182",{"$f":"VLOOKUP(A150,'Output Areas'!$A:$E,5,FALSE)","v":"Rural"},"Total: Accommodation type (excluding caravans / temporary structures)","Shared ownership or rented (excluding living rent free)","Total: Number of rooms",{"$f":"VLOOKUP(G150,Cntrol!$F$3:$G$9,2,FALSE)","v":0},164,74,50,11,2,27]
["E01022182","E01022182 Cotswold 001B","E01022182",{"$f":"VLOOKUP(A151,'Output Areas'!$A:$E,5,FALSE)","v":"Rural"},"Total: Accommodation type (excluding caravans / temporary structures)","Shared ownership or rented (excluding living rent free)","3 rooms or less",{"$f":"VLOOKUP(G151,Cntrol!$F$3:$G$9,2,FALSE)","v":2},28,12,5,3,0,8]
["E01022182","E01022182 Cotswold 001B","E01022182",{"$f":"VLOOKUP(A152,'Output Areas'!$A:$E,5,FALSE)","v":"Rural"},"Total: Accommodation type (excluding caravans / temporary structures)","Shared ownership or rented (excluding living rent free)","4 rooms",{"$f":"VLOOKUP(G152,Cntrol!$F$3:$G$9,2,FALSE)","v":2},37,23,7,0,0,7]
["E01022182","E01022182 Cotswold 001B","E01022182",{"$f":"VLOOKUP(A153,'Output Areas'!$A:$E,5,FALSE)","v":"Rural"},"Total: Accommodation type (excluding caravans / temporary structures)","Shared ownership or rented (excluding living rent free)","5 rooms",{"$f":"VLOOKUP(G153,Cntrol!$F$3:$G$9,2,FALSE)","v":3},47,25,11,3,1,7]
["E01022182","E01022182 Cotswold 001B","E01022182",{"$f":"VLOOKUP(A154,'Output Areas'!$A:$E,5,FALSE)","v":"Rural"},"Total: Accommodation type (excluding caravans / temporary structures)","Shared ownership or rented (excluding living rent free)","6 rooms",{"$f":"VLOOKUP(G154,Cntrol!$F$3:$G$9,2,FALSE)","v":3},23,7,13,0,0,3]
["E01022182","E01022182 Cotswold 001B","E01022182",{"$f":"VLOOKUP(A155,'Output Areas'!$A:$E,5,FALSE)","v":"Rural"},"Total: Accommodation type (excluding caravans / temporary structures)","Shared ownership or rented (excluding living rent free)","7 rooms",{"$f":"VLOOKUP(G155,Cntrol!$F$3:$G$9,2,FALSE)","v":4},17,6,6,4,0,1]
["E01022182","E01022182 Cotswold 001B","E01022182",{"$f":"VLOOKUP(A156,'Output Areas'!$A:$E,5,FALSE)","v":"Rural"},"Total: Accommodation type (excluding caravans / temporary structures)","Shared ownership or rented (excluding living rent free)","8 rooms or more",{"$f":"VLOOKUP(G156,Cntrol!$F$3:$G$9,2,FALSE)","v":5},12,1,8,1,1,1]
["E01022182","E01022182 Cotswold 001B","E01022182",{"$f":"VLOOKUP(A157,'Output Areas'!$A:$E,5,FALSE)","v":"Rural"},"Detached; semi-detached; terraced whole house or bungalow","Total: Tenure (excluding living rent free)","Total: Number of rooms",{"$f":"VLOOKUP(G157,Cntrol!$F$3:$G$9,2,FALSE)","v":0},643,259,247,57,28,52]
["E01022182","E01022182 Cotswold 001B","E01022182",{"$f":"VLOOKUP(A158,'Output Areas'!$A:$E,5,FALSE)","v":"Rural"},"Detached; semi-detached; terraced whole house or bungalow","Total: Tenure (excluding living rent free)","3 rooms or less",{"$f":"VLOOKUP(G158,Cntrol!$F$3:$G$9,2,FALSE)","v":2},25,14,4,2,0,5]
["E01022182","E01022182 Cotswold 001B","E01022182",{"$f":"VLOOKUP(A159,'Output Areas'!$A:$E,5,FALSE)","v":"Rural"},"Detached; semi-detached; terraced whole house or bungalow","Total: Tenure (excluding living rent free)","4 rooms",{"$f":"VLOOKUP(G159,Cntrol!$F$3:$G$9,2,FALSE)","v":2},79,49,17,0,0,13]
["E01022182","E01022182 Cotswold 001B","E01022182",{"$f":"VLOOKUP(A160,'Output Areas'!$A:$E,5,FALSE)","v":"Rural"},"Detached; semi-detached; terraced whole house or bungalow","Total: Tenure (excluding living rent free)","5 rooms",{"$f":"VLOOKUP(G160,Cntrol!$F$3:$G$9,2,FALSE)","v":3},122,59,38,9,2,14]
["E01022182","E01022182 Cotswold 001B","E01022182",{"$f":"VLOOKUP(A161,'Output Areas'!$A:$E,5,FALSE)","v":"Rural"},"Detached; semi-detached; terraced whole house or bungalow","Total: Tenure (excluding living rent free)","6 rooms",{"$f":"VLOOKUP(G161,Cntrol!$F$3:$G$9,2,FALSE)","v":3},137,51,65,7,2,12]
["E01022182","E01022182 Cotswold 001B","E01022182",{"$f":"VLOOKUP(A162,'Output Areas'!$A:$E,5,FALSE)","v":"Rural"},"Detached; semi-detached; terraced whole house or bungalow","Total: Tenure (excluding living rent free)","7 rooms",{"$f":"VLOOKUP(G162,Cntrol!$F$3:$G$9,2,FALSE)","v":4},121,52,42,14,8,5]
["E01022182","E01022182 Cotswold 001B","E01022182",{"$f":"VLOOKUP(A163,'Output Areas'!$A:$E,5,FALSE)","v":"Rural"},"Detached; semi-detached; terraced whole house or bungalow","Total: Tenure (excluding living rent free)","8 rooms or more",{"$f":"VLOOKUP(G163,Cntrol!$F$3:$G$9,2,FALSE)","v":5},159,34,81,25,16,3]
["E01022182","E01022182 Cotswold 001B","E01022182",{"$f":"VLOOKUP(A164,'Output Areas'!$A:$E,5,FALSE)","v":"Rural"},"Detached; semi-detached; terraced whole house or bungalow","Owned","Total: Number of rooms",{"$f":"VLOOKUP(G164,Cntrol!$F$3:$G$9,2,FALSE)","v":0},492,189,201,47,26,29]
["E01022182","E01022182 Cotswold 001B","E01022182",{"$f":"VLOOKUP(A165,'Output Areas'!$A:$E,5,FALSE)","v":"Rural"},"Detached; semi-detached; terraced whole house or bungalow","Owned","3 rooms or less",{"$f":"VLOOKUP(G165,Cntrol!$F$3:$G$9,2,FALSE)","v":2},5,4,1,0,0,0]
["E01022182","E01022182 Cotswold 001B","E01022182",{"$f":"VLOOKUP(A166,'Output Areas'!$A:$E,5,FALSE)","v":"Rural"},"Detached; semi-detached; terraced whole house or bungalow","Owned","4 rooms",{"$f":"VLOOKUP(G166,Cntrol!$F$3:$G$9,2,FALSE)","v":2},45,27,11,0,0,7]
["E01022182","E01022182 Cotswold 001B","E01022182",{"$f":"VLOOKUP(A167,'Output Areas'!$A:$E,5,FALSE)","v":"Rural"},"Detached; semi-detached; terraced whole house or bungalow","Owned","5 rooms",{"$f":"VLOOKUP(G167,Cntrol!$F$3:$G$9,2,FALSE)","v":3},77,35,28,6,1,7]
["E01022182","E01022182 Cotswold 001B","E01022182",{"$f":"VLOOKUP(A168,'Output Areas'!$A:$E,5,FALSE)","v":"Rural"},"Detached; semi-detached; terraced whole house or bungalow","Owned","6 rooms",{"$f":"VLOOKUP(G168,Cntrol!$F$3:$G$9,2,FALSE)","v":3},114,44,52,7,2,9]
["E01022182","E01022182 Cotswold 001B","E01022182",{"$f":"VLOOKUP(A169,'Output Areas'!$A:$E,5,FALSE)","v":"Rural"},"Detached; semi-detached; terraced whole house or bungalow","Owned","7 rooms",{"$f":"VLOOKUP(G169,Cntrol!$F$3:$G$9,2,FALSE)","v":4},104,46,36,10,8,4]
["E01022182","E01022182 Cotswold 001B","E01022182",{"$f":"VLOOKUP(A170,'Output Areas'!$A:$E,5,FALSE)","v":"Rural"},"Detached; semi-detached; terraced whole house or bungalow","Owned","8 rooms or more",{"$f":"VLOOKUP(G170,Cntrol!$F$3:$G$9,2,FALSE)","v":5},147,33,73,24,15,2]
["E01022182","E01022182 Cotswold 001B","E01022182",{"$f":"VLOOKUP(A171,'Output Areas'!$A:$E,5,FALSE)","v":"Rural"},"Detached; semi-detached; terraced whole house or bungalow","Shared ownership or rented (excluding living rent free)","Total: Number of rooms",{"$f":"VLOOKUP(G171,Cntrol!$F$3:$G$9,2,FALSE)","v":0},151,70,46,10,2,23]
["E01022182","E01022182 Cotswold 001B","E01022182",{"$f":"VLOOKUP(A172,'Output Areas'!$A:$E,5,FALSE)","v":"Rural"},"Detached; semi-detached; terraced whole house or bungalow","Shared ownership or rented (excluding living rent free)","3 rooms or less",{"$f":"VLOOKUP(G172,Cntrol!$F$3:$G$9,2,FALSE)","v":2},20,10,3,2,0,5]
["E01022182","E01022182 Cotswold 001B","E01022182",{"$f":"VLOOKUP(A173,'Output Areas'!$A:$E,5,FALSE)","v":"Rural"},"Detached; semi-detached; terraced whole house or bungalow","Shared ownership or rented (excluding living rent free)","4 rooms",{"$f":"VLOOKUP(G173,Cntrol!$F$3:$G$9,2,FALSE)","v":2},34,22,6,0,0,6]
["E01022182","E01022182 Cotswold 001B","E01022182",{"$f":"VLOOKUP(A174,'Output Areas'!$A:$E,5,FALSE)","v":"Rural"},"Detached; semi-detached; terraced whole house or bungalow","Shared ownership or rented (excluding living rent free)","5 rooms",{"$f":"VLOOKUP(G174,Cntrol!$F$3:$G$9,2,FALSE)","v":3},45,24,10,3,1,7]
["E01022182","E01022182 Cotswold 001B","E01022182",{"$f":"VLOOKUP(A175,'Output Areas'!$A:$E,5,FALSE)","v":"Rural"},"Detached; semi-detached; terraced whole house or bungalow","Shared ownership or rented (excluding living rent free)","6 rooms",{"$f":"VLOOKUP(G175,Cntrol!$F$3:$G$9,2,FALSE)","v":3},23,7,13,0,0,3]
["E01022182","E01022182 Cotswold 001B","E01022182",{"$f":"VLOOKUP(A176,'Output Areas'!$A:$E,5,FALSE)","v":"Rural"},"Detached; semi-detached; terraced whole house or bungalow","Shared ownership or rented (excluding living rent free)","7 rooms",{"$f":"VLOOKUP(G176,Cntrol!$F$3:$G$9,2,FALSE)","v":4},17,6,6,4,0,1]
["E01022182","E01022182 Cotswold 001B","E01022182",{"$f":"VLOOKUP(A177,'Output Areas'!$A:$E,5,FALSE)","v":"Rural"},"Detached; semi-detached; terraced whole house or bungalow","Shared ownership or rented (excluding living rent free)","8 rooms or more",{"$f":"VLOOKUP(G177,Cntrol!$F$3:$G$9,2,FALSE)","v":5},12,1,8,1,1,1]
["E01022182","E01022182 Cotswold 001B","E01022182",{"$f":"VLOOKUP(A178,'Output Areas'!$A:$E,5,FALSE)","v":"Rural"},"A flat; maisonette; apartment","Total: Tenure (excluding living rent free)","Total: Number of rooms",{"$f":"VLOOKUP(G178,Cntrol!$F$3:$G$9,2,FALSE)","v":0},15,5,5,1,0,4]
["E01022182","E01022182 Cotswold 001B","E01022182",{"$f":"VLOOKUP(A179,'Output Areas'!$A:$E,5,FALSE)","v":"Rural"},"A flat; maisonette; apartment","Total: Tenure (excluding living rent free)","3 rooms or less",{"$f":"VLOOKUP(G179,Cntrol!$F$3:$G$9,2,FALSE)","v":2},10,3,3,1,0,3]
["E01022182","E01022182 Cotswold 001B","E01022182",{"$f":"VLOOKUP(A180,'Output Areas'!$A:$E,5,FALSE)","v":"Rural"},"A flat; maisonette; apartment","Total: Tenure (excluding living rent free)","4 rooms",{"$f":"VLOOKUP(G180,Cntrol!$F$3:$G$9,2,FALSE)","v":2},3,1,1,0,0,1]
["E01022182","E01022182 Cotswold 001B","E01022182",{"$f":"VLOOKUP(A181,'Output Areas'!$A:$E,5,FALSE)","v":"Rural"},"A flat; maisonette; apartment","Total: Tenure (excluding living rent free)","5 rooms",{"$f":"VLOOKUP(G181,Cntrol!$F$3:$G$9,2,FALSE)","v":3},2,1,1,0,0,0]
["E01022182","E01022182 Cotswold 001B","E01022182",{"$f":"VLOOKUP(A182,'Output Areas'!$A:$E,5,FALSE)","v":"Rural"},"A flat; maisonette; apartment","Owned","Total: Number of rooms",{"$f":"VLOOKUP(G182,Cntrol!$F$3:$G$9,2,FALSE)","v":0},2,1,1,0,0,0]
["E01022182","E01022182 Cotswold 001B","E01022182",{"$f":"VLOOKUP(A183,'Output Areas'!$A:$E,5,FALSE)","v":"Rural"},"A flat; maisonette; apartment","Owned","3 rooms or less",{"$f":"VLOOKUP(G183,Cntrol!$F$3:$G$9,2,FALSE)","v":2},2,1,1,0,0,0]
["E01022182","E01022182 Cotswold 001B","E01022182",{"$f":"VLOOKUP(A184,'Output Areas'!$A:$E,5,FALSE)","v":"Rural"},"A flat; maisonette; apartment","Shared ownership or rented (excluding living rent free)","Total: Number of rooms",{"$f":"VLOOKUP(G184,Cntrol!$F$3:$G$9,2,FALSE)","v":0},13,4,4,1,0,4]
["E01022182","E01022182 Cotswold 001B","E01022182",{"$f":"VLOOKUP(A185,'Output Areas'!$A:$E,5,FALSE)","v":"Rural"},"A flat; maisonette; apartment","Shared ownership or rented (excluding living rent free)","3 rooms or less",{"$f":"VLOOKUP(G185,Cntrol!$F$3:$G$9,2,FALSE)","v":2},8,2,2,1,0,3]
["E01022182","E01022182 Cotswold 001B","E01022182",{"$f":"VLOOKUP(A186,'Output Areas'!$A:$E,5,FALSE)","v":"Rural"},"A flat; maisonette; apartment","Shared ownership or rented (excluding living rent free)","4 rooms",{"$f":"VLOOKUP(G186,Cntrol!$F$3:$G$9,2,FALSE)","v":2},3,1,1,0,0,1]
["E01022182","E01022182 Cotswold 001B","E01022182",{"$f":"VLOOKUP(A187,'Output Areas'!$A:$E,5,FALSE)","v":"Rural"},"A flat; maisonette; apartment","Shared ownership or rented (excluding living rent free)","5 rooms",{"$f":"VLOOKUP(G187,Cntrol!$F$3:$G$9,2,FALSE)","v":3},2,1,1,0,0,0]
["E01022183","E01022183 Cotswold 001C","E01022183",{"$f":"VLOOKUP(A188,'Output Areas'!$A:$E,5,FALSE)","v":"Small Settlements"},"Total: Accommodation type (excluding caravans / temporary structures)","Total: Tenure (excluding living rent free)","Total: Number of rooms",{"$f":"VLOOKUP(G188,Cntrol!$F$3:$G$9,2,FALSE)","v":0},676,314,214,55,21,72]
["E01022183","E01022183 Cotswold 001C","E01022183",{"$f":"VLOOKUP(A189,'Output Areas'!$A:$E,5,FALSE)","v":"Small Settlements"},"Total: Accommodation type (excluding caravans / temporary structures)","Total: Tenure (excluding living rent free)","3 rooms or less",{"$f":"VLOOKUP(G189,Cntrol!$F$3:$G$9,2,FALSE)","v":2},62,31,3,1,1,26]
["E01022183","E01022183 Cotswold 001C","E01022183",{"$f":"VLOOKUP(A190,'Output Areas'!$A:$E,5,FALSE)","v":"Small Settlements"},"Total: Accommodation type (excluding caravans / temporary structures)","Total: Tenure (excluding living rent free)","4 rooms",{"$f":"VLOOKUP(G190,Cntrol!$F$3:$G$9,2,FALSE)","v":2},119,66,25,2,3,23]
["E01022183","E01022183 Cotswold 001C","E01022183",{"$f":"VLOOKUP(A191,'Output Areas'!$A:$E,5,FALSE)","v":"Small Settlements"},"Total: Accommodation type (excluding caravans / temporary structures)","Total: Tenure (excluding living rent free)","5 rooms",{"$f":"VLOOKUP(G191,Cntrol!$F$3:$G$9,2,FALSE)","v":3},141,83,37,7,1,13]
["E01022183","E01022183 Cotswold 001C","E01022183",{"$f":"VLOOKUP(A192,'Output Areas'!$A:$E,5,FALSE)","v":"Small Settlements"},"Total: Accommodation type (excluding caravans / temporary structures)","Total: Tenure (excluding living rent free)","6 rooms",{"$f":"VLOOKUP(G192,Cntrol!$F$3:$G$9,2,FALSE)","v":3},111,56,37,14,2,2]
["E01022183","E01022183 Cotswold 001C","E01022183",{"$f":"VLOOKUP(A193,'Output Areas'!$A:$E,5,FALSE)","v":"Small Settlements"},"Total: Accommodation type (excluding caravans / temporary structures)","Total: Tenure (excluding living rent free)","7 rooms",{"$f":"VLOOKUP(G193,Cntrol!$F$3:$G$9,2,FALSE)","v":4},74,36,27,4,4,3]
["E01022183","E01022183 Cotswold 001C","E01022183",{"$f":"VLOOKUP(A194,'Output Areas'!$A:$E,5,FALSE)","v":"Small Settlements"},"Total: Accommodation type (excluding caravans / temporary structures)","Total: Tenure (excluding living rent free)","8 rooms or more",{"$f":"VLOOKUP(G194,Cntrol!$F$3:$G$9,2,FALSE)","v":5},169,42,85,27,10,5]
["E01022183","E01022183 Cotswold 001C","E01022183",{"$f":"VLOOKUP(A195,'Output Areas'!$A:$E,5,FALSE)","v":"Small Settlements"},"Total: Accommodation type (excluding caravans / temporary structures)","Owned","Total: Number of rooms",{"$f":"VLOOKUP(G195,Cntrol!$F$3:$G$9,2,FALSE)","v":0},451,200,156,50,16,29]
["E01022183","E01022183 Cotswold 001C","E01022183",{"$f":"VLOOKUP(A196,'Output Areas'!$A:$E,5,FALSE)","v":"Small Settlements"},"Total: Accommodation type (excluding caravans / temporary structures)","Owned","3 rooms or less",{"$f":"VLOOKUP(G196,Cntrol!$F$3:$G$9,2,FALSE)","v":2},10,7,0,0,0,3]
["E01022183","E01022183 Cotswold 001C","E01022183",{"$f":"VLOOKUP(A197,'Output Areas'!$A:$E,5,FALSE)","v":"Small Settlements"},"Total: Accommodation type (excluding caravans / temporary structures)","Owned","4 rooms",{"$f":"VLOOKUP(G197,Cntrol!$F$3:$G$9,2,FALSE)","v":2},42,24,6,2,0,10]
["E01022183","E01022183 Cotswold 001C","E01022183",{"$f":"VLOOKUP(A198,'Output Areas'!$A:$E,5,FALSE)","v":"Small Settlements"},"Total: Accommodation type (excluding caravans / temporary structures)","Owned","5 rooms",{"$f":"VLOOKUP(G198,Cntrol!$F$3:$G$9,2,FALSE)","v":3},78,49,16,5,1,7]
["E01022183","E01022183 Cotswold 001C","E01022183",{"$f":"VLOOKUP(A199,'Output Areas'!$A:$E,5,FALSE)","v":"Small Settlements"},"Total: Accommodation type (excluding caravans / temporary structures)","Owned","6 rooms",{"$f":"VLOOKUP(G199,Cntrol!$F$3:$G$9,2,FALSE)","v":3},87,43,28,12,2,2]
["E01022183","E01022183 Cotswold 001C","E01022183",{"$f":"VLOOKUP(A200,'Output Areas'!$A:$E,5,FALSE)","v":"Small Settlements"},"Total: Accommodation type (excluding caravans / temporary structures)","Owned","7 rooms",{"$f":"VLOOKUP(G200,Cntrol!$F$3:$G$9,2,FALSE)","v":4},67,35,22,4,3,3]
["E01022183","E01022183 Cotswold 001C","E01022183",{"$f":"VLOOKUP(A201,'Output Areas'!$A:$E,5,FALSE)","v":"Small Settlements"},"Total: Accommodation type (excluding caravans / temporary structures)","Owned","8 rooms or more",{"$f":"VLOOKUP(G201,Cntrol!$F$3:$G$9,2,FALSE)","v":5},167,42,84,27,10,4]
["E01022183","E01022183 Cotswold 001C","E01022183",{"$f":"VLOOKUP(A202,'Output Areas'!$A:$E,5,FALSE)","v":"Small Settlements"},"Total: Accommodation type (excluding caravans / temporary structures)","Shared ownership or rented (excluding living rent free)","Total: Number of rooms",{"$f":"VLOOKUP(G202,Cntrol!$F$3:$G$9,2,FALSE)","v":0},225,114,58,5,5,43]
["E01022183","E01022183 Cotswold 001C","E01022183",{"$f":"VLOOKUP(A203,'Output Areas'!$A:$E,5,FALSE)","v":"Small Settlements"},"Total: Accommodation type (excluding caravans / temporary structures)","Shared ownership or rented (excluding living rent free)","3 rooms or less",{"$f":"VLOOKUP(G203,Cntrol!$F$3:$G$9,2,FALSE)","v":2},52,24,3,1,1,23]
["E01022183","E01022183 Cotswold 001C","E01022183",{"$f":"VLOOKUP(A204,'Output Areas'!$A:$E,5,FALSE)","v":"Small Settlements"},"Total: Accommodation type (excluding caravans / temporary structures)","Shared ownership or rented (excluding living rent free)","4 rooms",{"$f":"VLOOKUP(G204,Cntrol!$F$3:$G$9,2,FALSE)","v":2},77,42,19,0,3,13]
["E01022183","E01022183 Cotswold 001C","E01022183",{"$f":"VLOOKUP(A205,'Output Areas'!$A:$E,5,FALSE)","v":"Small Settlements"},"Total: Accommodation type (excluding caravans / temporary structures)","Shared ownership or rented (excluding living rent free)","5 rooms",{"$f":"VLOOKUP(G205,Cntrol!$F$3:$G$9,2,FALSE)","v":3},63,34,21,2,0,6]
["E01022183","E01022183 Cotswold 001C","E01022183",{"$f":"VLOOKUP(A206,'Output Areas'!$A:$E,5,FALSE)","v":"Small Settlements"},"Total: Accommodation type (excluding caravans / temporary structures)","Shared ownership or rented (excluding living rent free)","6 rooms",{"$f":"VLOOKUP(G206,Cntrol!$F$3:$G$9,2,FALSE)","v":3},24,13,9,2,0,0]
["E01022183","E01022183 Cotswold 001C","E01022183",{"$f":"VLOOKUP(A207,'Output Areas'!$A:$E,5,FALSE)","v":"Small Settlements"},"Total: Accommodation type (excluding caravans / temporary structures)","Shared ownership or rented (excluding living rent free)","7 rooms",{"$f":"VLOOKUP(G207,Cntrol!$F$3:$G$9,2,FALSE)","v":4},7,1,5,0,1,0]
["E01022183","E01022183 Cotswold 001C","E01022183",{"$f":"VLOOKUP(A208,'Output Areas'!$A:$E,5,FALSE)","v":"Small Settlements"},"Total: Accommodation type (excluding caravans / temporary structures)","Shared ownership or rented (excluding living rent free)","8 rooms or more",{"$f":"VLOOKUP(G208,Cntrol!$F$3:$G$9,2,FALSE)","v":5},2,0,1,0,0,1]
["E01022183","E01022183 Cotswold 001C","E01022183",{"$f":"VLOOKUP(A209,'Output Areas'!$A:$E,5,FALSE)","v":"Small Settlements"},"Detached; semi-detached; terraced whole house or bungalow","Total: Tenure (excluding living rent free)","Total: Number of rooms",{"$f":"VLOOKUP(G209,Cntrol!$F$3:$G$9,2,FALSE)","v":0},611,279,206,55,20,51]
["E01022183","E01022183 Cotswold 001C","E01022183",{"$f":"VLOOKUP(A210,'Output Areas'!$A:$E,5,FALSE)","v":"Small Settlements"},"Detached; semi-detached; terraced whole house or bungalow","Total: Tenure (excluding living rent free)","3 rooms or less",{"$f":"VLOOKUP(G210,Cntrol!$F$3:$G$9,2,FALSE)","v":2},38,25,2,1,0,10]
["E01022183","E01022183 Cotswold 001C","E01022183",{"$f":"VLOOKUP(A211,'Output Areas'!$A:$E,5,FALSE)","v":"Small Settlements"},"Detached; semi-detached; terraced whole house or bungalow","Total: Tenure (excluding living rent free)","4 rooms",{"$f":"VLOOKUP(G211,Cntrol!$F$3:$G$9,2,FALSE)","v":2},98,52,22,2,3,19]
["E01022183","E01022183 Cotswold 001C","E01022183",{"$f":"VLOOKUP(A212,'Output Areas'!$A:$E,5,FALSE)","v":"Small Settlements"},"Detached; semi-detached; terraced whole house or bungalow","Total: Tenure (excluding living rent free)","5 rooms",{"$f":"VLOOKUP(G212,Cntrol!$F$3:$G$9,2,FALSE)","v":3},127,70,37,7,1,12]
["E01022183","E01022183 Cotswold 001C","E01022183",{"$f":"VLOOKUP(A213,'Output Areas'!$A:$E,5,FALSE)","v":"Small Settlements"},"Detached; semi-detached; terraced whole house or bungalow","Total: Tenure (excluding living rent free)","6 rooms",{"$f":"VLOOKUP(G213,Cntrol!$F$3:$G$9,2,FALSE)","v":3},108,55,35,14,2,2]
["E01022183","E01022183 Cotswold 001C","E01022183",{"$f":"VLOOKUP(A214,'Output Areas'!$A:$E,5,FALSE)","v":"Small Settlements"},"Detached; semi-detached; terraced whole house or bungalow","Total: Tenure (excluding living rent free)","7 rooms",{"$f":"VLOOKUP(G214,Cntrol!$F$3:$G$9,2,FALSE)","v":4},72,35,26,4,4,3]
["E01022183","E01022183 Cotswold 001C","E01022183",{"$f":"VLOOKUP(A215,'Output Areas'!$A:$E,5,FALSE)","v":"Small Settlements"},"Detached; semi-detached; terraced whole house or bungalow","Total: Tenure (excluding living rent free)","8 rooms or more",{"$f":"VLOOKUP(G215,Cntrol!$F$3:$G$9,2,FALSE)","v":5},168,42,84,27,10,5]
["E01022183","E01022183 Cotswold 001C","E01022183",{"$f":"VLOOKUP(A216,'Output Areas'!$A:$E,5,FALSE)","v":"Small Settlements"},"Detached; semi-detached; terraced whole house or bungalow","Owned","Total: Number of rooms",{"$f":"VLOOKUP(G216,Cntrol!$F$3:$G$9,2,FALSE)","v":0},425,183,151,50,16,25]
["E01022183","E01022183 Cotswold 001C","E01022183",{"$f":"VLOOKUP(A217,'Output Areas'!$A:$E,5,FALSE)","v":"Small Settlements"},"Detached; semi-detached; terraced whole house or bungalow","Owned","3 rooms or less",{"$f":"VLOOKUP(G217,Cntrol!$F$3:$G$9,2,FALSE)","v":2},8,6,0,0,0,2]
["E01022183","E01022183 Cotswold 001C","E01022183",{"$f":"VLOOKUP(A218,'Output Areas'!$A:$E,5,FALSE)","v":"Small Settlements"},"Detached; semi-detached; terraced whole house or bungalow","Owned","4 rooms",{"$f":"VLOOKUP(G218,Cntrol!$F$3:$G$9,2,FALSE)","v":2},27,14,4,2,0,7]
["E01022183","E01022183 Cotswold 001C","E01022183",{"$f":"VLOOKUP(A219,'Output Areas'!$A:$E,5,FALSE)","v":"Small Settlements"},"Detached; semi-detached; terraced whole house or bungalow","Owned","5 rooms",{"$f":"VLOOKUP(G219,Cntrol!$F$3:$G$9,2,FALSE)","v":3},73,44,16,5,1,7]
["E01022183","E01022183 Cotswold 001C","E01022183",{"$f":"VLOOKUP(A220,'Output Areas'!$A:$E,5,FALSE)","v":"Small Settlements"},"Detached; semi-detached; terraced whole house or bungalow","Owned","6 rooms",{"$f":"VLOOKUP(G220,Cntrol!$F$3:$G$9,2,FALSE)","v":3},86,43,27,12,2,2]
["E01022183","E01022183 Cotswold 001C","E01022183",{"$f":"VLOOKUP(A221,'Output Areas'!$A:$E,5,FALSE)","v":"Small Settlements"},"Detached; semi-detached; terraced whole house or bungalow","Owned","7 rooms",{"$f":"VLOOKUP(G221,Cntrol!$F$3:$G$9,2,FALSE)","v":4},65,34,21,4,3,3]
["E01022183","E01022183 Cotswold 001C","E01022183",{"$f":"VLOOKUP(A222,'Output Areas'!$A:$E,5,FALSE)","v":"Small Settlements"},"Detached; semi-detached; terraced whole house or bungalow","Owned","8 rooms or more",{"$f":"VLOOKUP(G222,Cntrol!$F$3:$G$9,2,FALSE)","v":5},166,42,83,27,10,4]
["E01022183","E01022183 Cotswold 001C","E01022183",{"$f":"VLOOKUP(A223,'Output Areas'!$A:$E,5,FALSE)","v":"Small Settlements"},"Detached; semi-detached; terraced whole house or bungalow","Shared ownership or rented (excluding living rent free)","Total: Number of rooms",{"$f":"VLOOKUP(G223,Cntrol!$F$3:$G$9,2,FALSE)","v":0},186,96,55,5,4,26]
["E01022183","E01022183 Cotswold 001C","E01022183",{"$f":"VLOOKUP(A224,'Output Areas'!$A:$E,5,FALSE)","v":"Small Settlements"},"Detached; semi-detached; terraced whole house or bungalow","Shared ownership or rented (excluding living rent free)","3 rooms or less",{"$f":"VLOOKUP(G224,Cntrol!$F$3:$G$9,2,FALSE)","v":2},30,19,2,1,0,8]
["E01022183","E01022183 Cotswold 001C","E01022183",{"$f":"VLOOKUP(A225,'Output Areas'!$A:$E,5,FALSE)","v":"Small Settlements"},"Detached; semi-detached; terraced whole house or bungalow","Shared ownership or rented (excluding living rent free)","4 rooms",{"$f":"VLOOKUP(G225,Cntrol!$F$3:$G$9,2,FALSE)","v":2},71,38,18,0,3,12]
["E01022183","E01022183 Cotswold 001C","E01022183",{"$f":"VLOOKUP(A226,'Output Areas'!$A:$E,5,FALSE)","v":"Small Settlements"},"Detached; semi-detached; terraced whole house or bungalow","Shared ownership or rented (excluding living rent free)","5 rooms",{"$f":"VLOOKUP(G226,Cntrol!$F$3:$G$9,2,FALSE)","v":3},54,26,21,2,0,5]
["E01022183","E01022183 Cotswold 001C","E01022183",{"$f":"VLOOKUP(A227,'Output Areas'!$A:$E,5,FALSE)","v":"Small Settlements"},"Detached; semi-detached; terraced whole house or bungalow","Shared ownership or rented (excluding living rent free)","6 rooms",{"$f":"VLOOKUP(G227,Cntrol!$F$3:$G$9,2,FALSE)","v":3},22,12,8,2,0,0]
["E01022183","E01022183 Cotswold 001C","E01022183",{"$f":"VLOOKUP(A228,'Output Areas'!$A:$E,5,FALSE)","v":"Small Settlements"},"Detached; semi-detached; terraced whole house or bungalow","Shared ownership or rented (excluding living rent free)","7 rooms",{"$f":"VLOOKUP(G228,Cntrol!$F$3:$G$9,2,FALSE)","v":4},7,1,5,0,1,0]
["E01022183","E01022183 Cotswold 001C","E01022183",{"$f":"VLOOKUP(A229,'Output Areas'!$A:$E,5,FALSE)","v":"Small Settlements"},"Detached; semi-detached; terraced whole house or bungalow","Shared ownership or rented (excluding living rent free)","8 rooms or more",{"$f":"VLOOKUP(G229,Cntrol!$F$3:$G$9,2,FALSE)","v":5},2,0,1,0,0,1]
["E01022183","E01022183 Cotswold 001C","E01022183",{"$f":"VLOOKUP(A230,'Output Areas'!$A:$E,5,FALSE)","v":"Small Settlements"},"A flat; maisonette; apartment","Total: Tenure (excluding living rent free)","Total: Number of rooms",{"$f":"VLOOKUP(G230,Cntrol!$F$3:$G$9,2,FALSE)","v":0},65,35,8,0,1,21]
["E01022183","E01022183 Cotswold 001C","E01022183",{"$f":"VLOOKUP(A231,'Output Areas'!$A:$E,5,FALSE)","v":"Small Settlements"},"A flat; maisonette; apartment","Total: Tenure (excluding living rent free)","3 rooms or less",{"$f":"VLOOKUP(G231,Cntrol!$F$3:$G$9,2,FALSE)","v":2},24,6,1,0,1,16]
["E01022183","E01022183 Cotswold 001C","E01022183",{"$f":"VLOOKUP(A232,'Output Areas'!$A:$E,5,FALSE)","v":"Small Settlements"},"A flat; maisonette; apartment","Total: Tenure (excluding living rent free)","4 rooms",{"$f":"VLOOKUP(G232,Cntrol!$F$3:$G$9,2,FALSE)","v":2},21,14,3,0,0,4]
["E01022183","E01022183 Cotswold 001C","E01022183",{"$f":"VLOOKUP(A233,'Output Areas'!$A:$E,5,FALSE)","v":"Small Settlements"},"A flat; maisonette; apartment","Total: Tenure (excluding living rent free)","5 rooms",{"$f":"VLOOKUP(G233,Cntrol!$F$3:$G$9,2,FALSE)","v":3},14,13,0,0,0,1]
["E01022183","E01022183 Cotswold 001C","E01022183",{"$f":"VLOOKUP(A234,'Output Areas'!$A:$E,5,FALSE)","v":"Small Settlements"},"A flat; maisonette; apartment","Total: Tenure (excluding living rent free)","6 rooms",{"$f":"VLOOKUP(G234,Cntrol!$F$3:$G$9,2,FALSE)","v":3},3,1,2,0,0,0]
["E01022183","E01022183 Cotswold 001C","E01022183",{"$f":"VLOOKUP(A235,'Output Areas'!$A:$E,5,FALSE)","v":"Small Settlements"},"A flat; maisonette; apartment","Total: Tenure (excluding living rent free)","7 rooms",{"$f":"VLOOKUP(G235,Cntrol!$F$3:$G$9,2,FALSE)","v":4},2,1,1,0,0,0]
["E01022183","E01022183 Cotswold 001C","E01022183",{"$f":"VLOOKUP(A236,'Output Areas'!$A:$E,5,FALSE)","v":"Small Settlements"},"A flat; maisonette; apartment","Total: Tenure (excluding living rent free)","8 rooms or more",{"$f":"VLOOKUP(G236,Cntrol!$F$3:$G$9,2,FALSE)","v":5},1,0,1,0,0,0]
["E01022183","E01022183 Cotswold 001C","E01022183",{"$f":"VLOOKUP(A237,'Output Areas'!$A:$E,5,FALSE)","v":"Small Settlements"},"A flat; maisonette; apartment","Owned","Total: Number of rooms",{"$f":"VLOOKUP(G237,Cntrol!$F$3:$G$9,2,FALSE)","v":0},26,17,5,0,0,4]
["E01022183","E01022183 Cotswold 001C","E01022183",{"$f":"VLOOKUP(A238,'Output Areas'!$A:$E,5,FALSE)","v":"Small Settlements"},"A flat; maisonette; apartment","Owned","3 rooms or less",{"$f":"VLOOKUP(G238,Cntrol!$F$3:$G$9,2,FALSE)","v":2},2,1,0,0,0,1]
["E01022183","E01022183 Cotswold 001C","E01022183",{"$f":"VLOOKUP(A239,'Output Areas'!$A:$E,5,FALSE)","v":"Small Settlements"},"A flat; maisonette; apartment","Owned","4 rooms",{"$f":"VLOOKUP(G239,Cntrol!$F$3:$G$9,2,FALSE)","v":2},15,10,2,0,0,3]
["E01022183","E01022183 Cotswold 001C","E01022183",{"$f":"VLOOKUP(A240,'Output Areas'!$A:$E,5,FALSE)","v":"Small Settlements"},"A flat; maisonette; apartment","Owned","5 rooms",{"$f":"VLOOKUP(G240,Cntrol!$F$3:$G$9,2,FALSE)","v":3},5,5,0,0,0,0]
["E01022183","E01022183 Cotswold 001C","E01022183",{"$f":"VLOOKUP(A241,'Output Areas'!$A:$E,5,FALSE)","v":"Small Settlements"},"A flat; maisonette; apartment","Owned","6 rooms",{"$f":"VLOOKUP(G241,Cntrol!$F$3:$G$9,2,FALSE)","v":3},1,0,1,0,0,0]
["E01022183","E01022183 Cotswold 001C","E01022183",{"$f":"VLOOKUP(A242,'Output Areas'!$A:$E,5,FALSE)","v":"Small Settlements"},"A flat; maisonette; apartment","Owned","7 rooms",{"$f":"VLOOKUP(G242,Cntrol!$F$3:$G$9,2,FALSE)","v":4},2,1,1,0,0,0]
["E01022183","E01022183 Cotswold 001C","E01022183",{"$f":"VLOOKUP(A243,'Output Areas'!$A:$E,5,FALSE)","v":"Small Settlements"},"A flat; maisonette; apartment","Owned","8 rooms or more",{"$f":"VLOOKUP(G243,Cntrol!$F$3:$G$9,2,FALSE)","v":5},1,0,1,0,0,0]
["E01022183","E01022183 Cotswold 001C","E01022183",{"$f":"VLOOKUP(A244,'Output Areas'!$A:$E,5,FALSE)","v":"Small Settlements"},"A flat; maisonette; apartment","Shared ownership or rented (excluding living rent free)","Total: Number of rooms",{"$f":"VLOOKUP(G244,Cntrol!$F$3:$G$9,2,FALSE)","v":0},39,18,3,0,1,17]
["E01022183","E01022183 Cotswold 001C","E01022183",{"$f":"VLOOKUP(A245,'Output Areas'!$A:$E,5,FALSE)","v":"Small Settlements"},"A flat; maisonette; apartment","Shared ownership or rented (excluding living rent free)","3 rooms or less",{"$f":"VLOOKUP(G245,Cntrol!$F$3:$G$9,2,FALSE)","v":2},22,5,1,0,1,15]
["E01022183","E01022183 Cotswold 001C","E01022183",{"$f":"VLOOKUP(A246,'Output Areas'!$A:$E,5,FALSE)","v":"Small Settlements"},"A flat; maisonette; apartment","Shared ownership or rented (excluding living rent free)","4 rooms",{"$f":"VLOOKUP(G246,Cntrol!$F$3:$G$9,2,FALSE)","v":2},6,4,1,0,0,1]
["E01022183","E01022183 Cotswold 001C","E01022183",{"$f":"VLOOKUP(A247,'Output Areas'!$A:$E,5,FALSE)","v":"Small Settlements"},"A flat; maisonette; apartment","Shared ownership or rented (excluding living rent free)","5 rooms",{"$f":"VLOOKUP(G247,Cntrol!$F$3:$G$9,2,FALSE)","v":3},9,8,0,0,0,1]
["E01022183","E01022183 Cotswold 001C","E01022183",{"$f":"VLOOKUP(A248,'Output Areas'!$A:$E,5,FALSE)","v":"Small Settlements"},"A flat; maisonette; apartment","Shared ownership or rented (excluding living rent free)","6 rooms",{"$f":"VLOOKUP(G248,Cntrol!$F$3:$G$9,2,FALSE)","v":3},2,1,1,0,0,0]
["E01022184","E01022184 Cotswold 001D","E01022184",{"$f":"VLOOKUP(A249,'Output Areas'!$A:$E,5,FALSE)","v":"Rural"},"Total: Accommodation type (excluding caravans / temporary structures)","Total: Tenure (excluding living rent free)","Total: Number of rooms",{"$f":"VLOOKUP(G249,Cntrol!$F$3:$G$9,2,FALSE)","v":0},650,251,242,63,30,64]
["E01022184","E01022184 Cotswold 001D","E01022184",{"$f":"VLOOKUP(A250,'Output Areas'!$A:$E,5,FALSE)","v":"Rural"},"Total: Accommodation type (excluding caravans / temporary structures)","Total: Tenure (excluding living rent free)","3 rooms or less",{"$f":"VLOOKUP(G250,Cntrol!$F$3:$G$9,2,FALSE)","v":2},19,10,1,0,0,8]
["E01022184","E01022184 Cotswold 001D","E01022184",{"$f":"VLOOKUP(A251,'Output Areas'!$A:$E,5,FALSE)","v":"Rural"},"Total: Accommodation type (excluding caravans / temporary structures)","Total: Tenure (excluding living rent free)","4 rooms",{"$f":"VLOOKUP(G251,Cntrol!$F$3:$G$9,2,FALSE)","v":2},77,43,19,4,0,11]
["E01022184","E01022184 Cotswold 001D","E01022184",{"$f":"VLOOKUP(A252,'Output Areas'!$A:$E,5,FALSE)","v":"Rural"},"Total: Accommodation type (excluding caravans / temporary structures)","Total: Tenure (excluding living rent free)","5 rooms",{"$f":"VLOOKUP(G252,Cntrol!$F$3:$G$9,2,FALSE)","v":3},119,64,30,5,4,16]
["E01022184","E01022184 Cotswold 001D","E01022184",{"$f":"VLOOKUP(A253,'Output Areas'!$A:$E,5,FALSE)","v":"Rural"},"Total: Accommodation type (excluding caravans / temporary structures)","Total: Tenure (excluding living rent free)","6 rooms",{"$f":"VLOOKUP(G253,Cntrol!$F$3:$G$9,2,FALSE)","v":3},112,43,43,10,1,15]
["E01022184","E01022184 Cotswold 001D","E01022184",{"$f":"VLOOKUP(A254,'Output Areas'!$A:$E,5,FALSE)","v":"Rural"},"Total: Accommodation type (excluding caravans / temporary structures)","Total: Tenure (excluding living rent free)","7 rooms",{"$f":"VLOOKUP(G254,Cntrol!$F$3:$G$9,2,FALSE)","v":4},98,35,42,14,1,6]
["E01022184","E01022184 Cotswold 001D","E01022184",{"$f":"VLOOKUP(A255,'Output Areas'!$A:$E,5,FALSE)","v":"Rural"},"Total: Accommodation type (excluding caravans / temporary structures)","Total: Tenure (excluding living rent free)","8 rooms or more",{"$f":"VLOOKUP(G255,Cntrol!$F$3:$G$9,2,FALSE)","v":5},225,56,107,30,24,8]
["E01022184","E01022184 Cotswold 001D","E01022184",{"$f":"VLOOKUP(A256,'Output Areas'!$A:$E,5,FALSE)","v":"Rural"},"Total: Accommodation type (excluding caravans / temporary structures)","Owned","Total: Number of rooms",{"$f":"VLOOKUP(G256,Cntrol!$F$3:$G$9,2,FALSE)","v":0},468,170,188,45,28,37]
["E01022184","E01022184 Cotswold 001D","E01022184",{"$f":"VLOOKUP(A257,'Output Areas'!$A:$E,5,FALSE)","v":"Rural"},"Total: Accommodation type (excluding caravans / temporary structures)","Owned","3 rooms or less",{"$f":"VLOOKUP(G257,Cntrol!$F$3:$G$9,2,FALSE)","v":2},1,0,0,0,0,1]
["E01022184","E01022184 Cotswold 001D","E01022184",{"$f":"VLOOKUP(A258,'Output Areas'!$A:$E,5,FALSE)","v":"Rural"},"Total: Accommodation type (excluding caravans / temporary structures)","Owned","4 rooms",{"$f":"VLOOKUP(G258,Cntrol!$F$3:$G$9,2,FALSE)","v":2},29,17,6,1,0,5]
["E01022184","E01022184 Cotswold 001D","E01022184",{"$f":"VLOOKUP(A259,'Output Areas'!$A:$E,5,FALSE)","v":"Rural"},"Total: Accommodation type (excluding caravans / temporary structures)","Owned","5 rooms",{"$f":"VLOOKUP(G259,Cntrol!$F$3:$G$9,2,FALSE)","v":3},69,39,17,2,3,8]
["E01022184","E01022184 Cotswold 001D","E01022184",{"$f":"VLOOKUP(A260,'Output Areas'!$A:$E,5,FALSE)","v":"Rural"},"Total: Accommodation type (excluding caravans / temporary structures)","Owned","6 rooms",{"$f":"VLOOKUP(G260,Cntrol!$F$3:$G$9,2,FALSE)","v":3},79,31,33,5,1,9]
["E01022184","E01022184 Cotswold 001D","E01022184",{"$f":"VLOOKUP(A261,'Output Areas'!$A:$E,5,FALSE)","v":"Rural"},"Total: Accommodation type (excluding caravans / temporary structures)","Owned","7 rooms",{"$f":"VLOOKUP(G261,Cntrol!$F$3:$G$9,2,FALSE)","v":4},81,29,35,11,0,6]
["E01022184","E01022184 Cotswold 001D","E01022184",{"$f":"VLOOKUP(A262,'Output Areas'!$A:$E,5,FALSE)","v":"Rural"},"Total: Accommodation type (excluding caravans / temporary structures)","Owned","8 rooms or more",{"$f":"VLOOKUP(G262,Cntrol!$F$3:$G$9,2,FALSE)","v":5},209,54,97,26,24,8]
["E01022184","E01022184 Cotswold 001D","E01022184",{"$f":"VLOOKUP(A263,'Output Areas'!$A:$E,5,FALSE)","v":"Rural"},"Total: Accommodation type (excluding caravans / temporary structures)","Shared ownership or rented (excluding living rent free)","Total: Number of rooms",{"$f":"VLOOKUP(G263,Cntrol!$F$3:$G$9,2,FALSE)","v":0},182,81,54,18,2,27]
["E01022184","E01022184 Cotswold 001D","E01022184",{"$f":"VLOOKUP(A264,'Output Areas'!$A:$E,5,FALSE)","v":"Rural"},"Total: Accommodation type (excluding caravans / temporary structures)","Shared ownership or rented (excluding living rent free)","3 rooms or less",{"$f":"VLOOKUP(G264,Cntrol!$F$3:$G$9,2,FALSE)","v":2},18,10,1,0,0,7]
["E01022184","E01022184 Cotswold 001D","E01022184",{"$f":"VLOOKUP(A265,'Output Areas'!$A:$E,5,FALSE)","v":"Rural"},"Total: Accommodation type (excluding caravans / temporary structures)","Shared ownership or rented (excluding living rent free)","4 rooms",{"$f":"VLOOKUP(G265,Cntrol!$F$3:$G$9,2,FALSE)","v":2},48,26,13,3,0,6]
["E01022184","E01022184 Cotswold 001D","E01022184",{"$f":"VLOOKUP(A266,'Output Areas'!$A:$E,5,FALSE)","v":"Rural"},"Total: Accommodation type (excluding caravans / temporary structures)","Shared ownership or rented (excluding living rent free)","5 rooms",{"$f":"VLOOKUP(G266,Cntrol!$F$3:$G$9,2,FALSE)","v":3},50,25,13,3,1,8]
["E01022184","E01022184 Cotswold 001D","E01022184",{"$f":"VLOOKUP(A267,'Output Areas'!$A:$E,5,FALSE)","v":"Rural"},"Total: Accommodation type (excluding caravans / temporary structures)","Shared ownership or rented (excluding living rent free)","6 rooms",{"$f":"VLOOKUP(G267,Cntrol!$F$3:$G$9,2,FALSE)","v":3},33,12,10,5,0,6]
["E01022184","E01022184 Cotswold 001D","E01022184",{"$f":"VLOOKUP(A268,'Output Areas'!$A:$E,5,FALSE)","v":"Rural"},"Total: Accommodation type (excluding caravans / temporary structures)","Shared ownership or rented (excluding living rent free)","7 rooms",{"$f":"VLOOKUP(G268,Cntrol!$F$3:$G$9,2,FALSE)","v":4},17,6,7,3,1,0]
["E01022184","E01022184 Cotswold 001D","E01022184",{"$f":"VLOOKUP(A269,'Output Areas'!$A:$E,5,FALSE)","v":"Rural"},"Total: Accommodation type (excluding caravans / temporary structures)","Shared ownership or rented (excluding living rent free)","8 rooms or more",{"$f":"VLOOKUP(G269,Cntrol!$F$3:$G$9,2,FALSE)","v":5},16,2,10,4,0,0]
["E01022184","E01022184 Cotswold 001D","E01022184",{"$f":"VLOOKUP(A270,'Output Areas'!$A:$E,5,FALSE)","v":"Rural"},"Detached; semi-detached; terraced whole house or bungalow","Total: Tenure (excluding living rent free)","Total: Number of rooms",{"$f":"VLOOKUP(G270,Cntrol!$F$3:$G$9,2,FALSE)","v":0},631,245,236,63,30,57]
["E01022184","E01022184 Cotswold 001D","E01022184",{"$f":"VLOOKUP(A271,'Output Areas'!$A:$E,5,FALSE)","v":"Rural"},"Detached; semi-detached; terraced whole house or bungalow","Total: Tenure (excluding living rent free)","3 rooms or less",{"$f":"VLOOKUP(G271,Cntrol!$F$3:$G$9,2,FALSE)","v":2},8,4,0,0,0,4]
["E01022184","E01022184 Cotswold 001D","E01022184",{"$f":"VLOOKUP(A272,'Output Areas'!$A:$E,5,FALSE)","v":"Rural"},"Detached; semi-detached; terraced whole house or bungalow","Total: Tenure (excluding living rent free)","4 rooms",{"$f":"VLOOKUP(G272,Cntrol!$F$3:$G$9,2,FALSE)","v":2},71,43,15,4,0,9]
["E01022184","E01022184 Cotswold 001D","E01022184",{"$f":"VLOOKUP(A273,'Output Areas'!$A:$E,5,FALSE)","v":"Rural"},"Detached; semi-detached; terraced whole house or bungalow","Total: Tenure (excluding living rent free)","5 rooms",{"$f":"VLOOKUP(G273,Cntrol!$F$3:$G$9,2,FALSE)","v":3},118,64,30,5,4,15]
["E01022184","E01022184 Cotswold 001D","E01022184",{"$f":"VLOOKUP(A274,'Output Areas'!$A:$E,5,FALSE)","v":"Rural"},"Detached; semi-detached; terraced whole house or bungalow","Total: Tenure (excluding living rent free)","6 rooms",{"$f":"VLOOKUP(G274,Cntrol!$F$3:$G$9,2,FALSE)","v":3},112,43,43,10,1,15]
["E01022184","E01022184 Cotswold 001D","E01022184",{"$f":"VLOOKUP(A275,'Output Areas'!$A:$E,5,FALSE)","v":"Rural"},"Detached; semi-detached; terraced whole house or bungalow","Total: Tenure (excluding living rent free)","7 rooms",{"$f":"VLOOKUP(G275,Cntrol!$F$3:$G$9,2,FALSE)","v":4},98,35,42,14,1,6]
["E01022184","E01022184 Cotswold 001D","E01022184",{"$f":"VLOOKUP(A276,'Output Areas'!$A:$E,5,FALSE)","v":"Rural"},"Detached; semi-detached; terraced whole house or bungalow","Total: Tenure (excluding living rent free)","8 rooms or more",{"$f":"VLOOKUP(G276,Cntrol!$F$3:$G$9,2,FALSE)","v":5},224,56,106,30,24,8]
["E01022184","E01022184 Cotswold 001D","E01022184",{"$f":"VLOOKUP(A277,'Output Areas'!$A:$E,5,FALSE)","v":"Rural"},"Detached; semi-detached; terraced whole house or bungalow","Owned","Total: Number of rooms",{"$f":"VLOOKUP(G277,Cntrol!$F$3:$G$9,2,FALSE)","v":0},464,170,184,45,28,37]
["E01022184","E01022184 Cotswold 001D","E01022184",{"$f":"VLOOKUP(A278,'Output Areas'!$A:$E,5,FALSE)","v":"Rural"},"Detached; semi-detached; terraced whole house or bungalow","Owned","3 rooms or less",{"$f":"VLOOKUP(G278,Cntrol!$F$3:$G$9,2,FALSE)","v":2},1,0,0,0,0,1]
["E01022184","E01022184 Cotswold 001D","E01022184",{"$f":"VLOOKUP(A279,'Output Areas'!$A:$E,5,FALSE)","v":"Rural"},"Detached; semi-detached; terraced whole house or bungalow","Owned","4 rooms",{"$f":"VLOOKUP(G279,Cntrol!$F$3:$G$9,2,FALSE)","v":2},26,17,3,1,0,5]
["E01022184","E01022184 Cotswold 001D","E01022184",{"$f":"VLOOKUP(A280,'Output Areas'!$A:$E,5,FALSE)","v":"Rural"},"Detached; semi-detached; terraced whole house or bungalow","Owned","5 rooms",{"$f":"VLOOKUP(G280,Cntrol!$F$3:$G$9,2,FALSE)","v":3},69,39,17,2,3,8]
["E01022184","E01022184 Cotswold 001D","E01022184",{"$f":"VLOOKUP(A281,'Output Areas'!$A:$E,5,FALSE)","v":"Rural"},"Detached; semi-detached; terraced whole house or bungalow","Owned","6 rooms",{"$f":"VLOOKUP(G281,Cntrol!$F$3:$G$9,2,FALSE)","v":3},79,31,33,5,1,9]
["E01022184","E01022184 Cotswold 001D","E01022184",{"$f":"VLOOKUP(A282,'Output Areas'!$A:$E,5,FALSE)","v":"Rural"},"Detached; semi-detached; terraced whole house or bungalow","Owned","7 rooms",{"$f":"VLOOKUP(G282,Cntrol!$F$3:$G$9,2,FALSE)","v":4},81,29,35,11,0,6]
["E01022184","E01022184 Cotswold 001D","E01022184",{"$f":"VLOOKUP(A283,'Output Areas'!$A:$E,5,FALSE)","v":"Rural"},"Detached; semi-detached; terraced whole house or bungalow","Owned","8 rooms or more",{"$f":"VLOOKUP(G283,Cntrol!$F$3:$G$9,2,FALSE)","v":5},208,54,96,26,24,8]
["E01022184","E01022184 Cotswold 001D","E01022184",{"$f":"VLOOKUP(A284,'Output Areas'!$A:$E,5,FALSE)","v":"Rural"},"Detached; semi-detached; terraced whole house or bungalow","Shared ownership or rented (excluding living rent free)","Total: Number of rooms",{"$f":"VLOOKUP(G284,Cntrol!$F$3:$G$9,2,FALSE)","v":0},167,75,52,18,2,20]
["E01022184","E01022184 Cotswold 001D","E01022184",{"$f":"VLOOKUP(A285,'Output Areas'!$A:$E,5,FALSE)","v":"Rural"},"Detached; semi-detached; terraced whole house or bungalow","Shared ownership or rented (excluding living rent free)","3 rooms or less",{"$f":"VLOOKUP(G285,Cntrol!$F$3:$G$9,2,FALSE)","v":2},7,4,0,0,0,3]
["E01022184","E01022184 Cotswold 001D","E01022184",{"$f":"VLOOKUP(A286,'Output Areas'!$A:$E,5,FALSE)","v":"Rural"},"Detached; semi-detached; terraced whole house or bungalow","Shared ownership or rented (excluding living rent free)","4 rooms",{"$f":"VLOOKUP(G286,Cntrol!$F$3:$G$9,2,FALSE)","v":2},45,26,12,3,0,4]
["E01022184","E01022184 Cotswold 001D","E01022184",{"$f":"VLOOKUP(A287,'Output Areas'!$A:$E,5,FALSE)","v":"Rural"},"Detached; semi-detached; terraced whole house or bungalow","Shared ownership or rented (excluding living rent free)","5 rooms",{"$f":"VLOOKUP(G287,Cntrol!$F$3:$G$9,2,FALSE)","v":3},49,25,13,3,1,7]
["E01022184","E01022184 Cotswold 001D","E01022184",{"$f":"VLOOKUP(A288,'Output Areas'!$A:$E,5,FALSE)","v":"Rural"},"Detached; semi-detached; terraced whole house or bungalow","Shared ownership or rented (excluding living rent free)","6 rooms",{"$f":"VLOOKUP(G288,Cntrol!$F$3:$G$9,2,FALSE)","v":3},33,12,10,5,0,6]
["E01022184","E01022184 Cotswold 001D","E01022184",{"$f":"VLOOKUP(A289,'Output Areas'!$A:$E,5,FALSE)","v":"Rural"},"Detached; semi-detached; terraced whole house or bungalow","Shared ownership or rented (excluding living rent free)","7 rooms",{"$f":"VLOOKUP(G289,Cntrol!$F$3:$G$9,2,FALSE)","v":4},17,6,7,3,1,0]
["E01022184","E01022184 Cotswold 001D","E01022184",{"$f":"VLOOKUP(A290,'Output Areas'!$A:$E,5,FALSE)","v":"Rural"},"Detached; semi-detached; terraced whole house or bungalow","Shared ownership or rented (excluding living rent free)","8 rooms or more",{"$f":"VLOOKUP(G290,Cntrol!$F$3:$G$9,2,FALSE)","v":5},16,2,10,4,0,0]
["E01022184","E01022184 Cotswold 001D","E01022184",{"$f":"VLOOKUP(A291,'Output Areas'!$A:$E,5,FALSE)","v":"Rural"},"A flat; maisonette; apartment","Total: Tenure (excluding living rent free)","Total: Number of rooms",{"$f":"VLOOKUP(G291,Cntrol!$F$3:$G$9,2,FALSE)","v":0},19,6,6,0,0,7]
["E01022184","E01022184 Cotswold 001D","E01022184",{"$f":"VLOOKUP(A292,'Output Areas'!$A:$E,5,FALSE)","v":"Rural"},"A flat; maisonette; apartment","Total: Tenure (excluding living rent free)","3 rooms or less",{"$f":"VLOOKUP(G292,Cntrol!$F$3:$G$9,2,FALSE)","v":2},11,6,1,0,0,4]
["E01022184","E01022184 Cotswold 001D","E01022184",{"$f":"VLOOKUP(A293,'Output Areas'!$A:$E,5,FALSE)","v":"Rural"},"A flat; maisonette; apartment","Total: Tenure (excluding living rent free)","4 rooms",{"$f":"VLOOKUP(G293,Cntrol!$F$3:$G$9,2,FALSE)","v":2},6,0,4,0,0,2]
["E01022184","E01022184 Cotswold 001D","E01022184",{"$f":"VLOOKUP(A294,'Output Areas'!$A:$E,5,FALSE)","v":"Rural"},"A flat; maisonette; apartment","Total: Tenure (excluding living rent free)","5 rooms",{"$f":"VLOOKUP(G294,Cntrol!$F$3:$G$9,2,FALSE)","v":3},1,0,0,0,0,1]
["E01022184","E01022184 Cotswold 001D","E01022184",{"$f":"VLOOKUP(A295,'Output Areas'!$A:$E,5,FALSE)","v":"Rural"},"A flat; maisonette; apartment","Total: Tenure (excluding living rent free)","8 rooms or more",{"$f":"VLOOKUP(G295,Cntrol!$F$3:$G$9,2,FALSE)","v":5},1,0,1,0,0,0]
["E01022184","E01022184 Cotswold 001D","E01022184",{"$f":"VLOOKUP(A296,'Output Areas'!$A:$E,5,FALSE)","v":"Rural"},"A flat; maisonette; apartment","Owned","Total: Number of rooms",{"$f":"VLOOKUP(G296,Cntrol!$F$3:$G$9,2,FALSE)","v":0},4,0,4,0,0,0]
["E01022184","E01022184 Cotswold 001D","E01022184",{"$f":"VLOOKUP(A297,'Output Areas'!$A:$E,5,FALSE)","v":"Rural"},"A flat; maisonette; apartment","Owned","4 rooms",{"$f":"VLOOKUP(G297,Cntrol!$F$3:$G$9,2,FALSE)","v":2},3,0,3,0,0,0]
["E01022184","E01022184 Cotswold 001D","E01022184",{"$f":"VLOOKUP(A298,'Output Areas'!$A:$E,5,FALSE)","v":"Rural"},"A flat; maisonette; apartment","Owned","8 rooms or more",{"$f":"VLOOKUP(G298,Cntrol!$F$3:$G$9,2,FALSE)","v":5},1,0,1,0,0,0]
["E01022184","E01022184 Cotswold 001D","E01022184",{"$f":"VLOOKUP(A299,'Output Areas'!$A:$E,5,FALSE)","v":"Rural"},"A flat; maisonette; apartment","Shared ownership or rented (excluding living rent free)","Total: Number of rooms",{"$f":"VLOOKUP(G299,Cntrol!$F$3:$G$9,2,FALSE)","v":0},15,6,2,0,0,7]
["E01022184","E01022184 Cotswold 001D","E01022184",{"$f":"VLOOKUP(A300,'Output Areas'!$A:$E,5,FALSE)","v":"Rural"},"A flat; maisonette; apartment","Shared ownership or rented (excluding living rent free)","3 rooms or less",{"$f":"VLOOKUP(G300,Cntrol!$F$3:$G$9,2,FALSE)","v":2},11,6,1,0,0,4]
["E01022184","E01022184 Cotswold 001D","E01022184",{"$f":"VLOOKUP(A301,'Output Areas'!$A:$E,5,FALSE)","v":"Rural"},"A flat; maisonette; apartment","Shared ownership or rented (excluding living rent free)","4 rooms",{"$f":"VLOOKUP(G301,Cntrol!$F$3:$G$9,2,FALSE)","v":2},3,0,1,0,0,2]
["E01022184","E01022184 Cotswold 001D","E01022184",{"$f":"VLOOKUP(A302,'Output Areas'!$A:$E,5,FALSE)","v":"Rural"},"A flat; maisonette; apartment","Shared ownership or rented (excluding living rent free)","5 rooms",{"$f":"VLOOKUP(G302,Cntrol!$F$3:$G$9,2,FALSE)","v":3},1,0,0,0,0,1]
["E01022185","E01022185 Cotswold 001E","E01022185",{"$f":"VLOOKUP(A303,'Output Areas'!$A:$E,5,FALSE)","v":"Rural"},"Total: Accommodation type (excluding caravans / temporary structures)","Total: Tenure (excluding living rent free)","Total: Number of rooms",{"$f":"VLOOKUP(G303,Cntrol!$F$3:$G$9,2,FALSE)","v":0},616,255,221,62,18,60]
["E01022185","E01022185 Cotswold 001E","E01022185",{"$f":"VLOOKUP(A304,'Output Areas'!$A:$E,5,FALSE)","v":"Rural"},"Total: Accommodation type (excluding caravans / temporary structures)","Total: Tenure (excluding living rent free)","3 rooms or less",{"$f":"VLOOKUP(G304,Cntrol!$F$3:$G$9,2,FALSE)","v":2},40,22,2,0,0,16]
["E01022185","E01022185 Cotswold 001E","E01022185",{"$f":"VLOOKUP(A305,'Output Areas'!$A:$E,5,FALSE)","v":"Rural"},"Total: Accommodation type (excluding caravans / temporary structures)","Total: Tenure (excluding living rent free)","4 rooms",{"$f":"VLOOKUP(G305,Cntrol!$F$3:$G$9,2,FALSE)","v":2},100,59,21,4,2,14]
["E01022185","E01022185 Cotswold 001E","E01022185",{"$f":"VLOOKUP(A306,'Output Areas'!$A:$E,5,FALSE)","v":"Rural"},"Total: Accommodation type (excluding caravans / temporary structures)","Total: Tenure (excluding living rent free)","5 rooms",{"$f":"VLOOKUP(G306,Cntrol!$F$3:$G$9,2,FALSE)","v":3},143,68,48,11,1,15]
["E01022185","E01022185 Cotswold 001E","E01022185",{"$f":"VLOOKUP(A307,'Output Areas'!$A:$E,5,FALSE)","v":"Rural"},"Total: Accommodation type (excluding caravans / temporary structures)","Total: Tenure (excluding living rent free)","6 rooms",{"$f":"VLOOKUP(G307,Cntrol!$F$3:$G$9,2,FALSE)","v":3},154,60,62,14,7,11]
["E01022185","E01022185 Cotswold 001E","E01022185",{"$f":"VLOOKUP(A308,'Output Areas'!$A:$E,5,FALSE)","v":"Rural"},"Total: Accommodation type (excluding caravans / temporary structures)","Total: Tenure (excluding living rent free)","7 rooms",{"$f":"VLOOKUP(G308,Cntrol!$F$3:$G$9,2,FALSE)","v":4},95,37,37,14,3,4]
["E01022185","E01022185 Cotswold 001E","E01022185",{"$f":"VLOOKUP(A309,'Output Areas'!$A:$E,5,FALSE)","v":"Rural"},"Total: Accommodation type (excluding caravans / temporary structures)","Total: Tenure (excluding living rent free)","8 rooms or more",{"$f":"VLOOKUP(G309,Cntrol!$F$3:$G$9,2,FALSE)","v":5},84,9,51,19,5,0]
["E01022185","E01022185 Cotswold 001E","E01022185",{"$f":"VLOOKUP(A310,'Output Areas'!$A:$E,5,FALSE)","v":"Rural"},"Total: Accommodation type (excluding caravans / temporary structures)","Owned","Total: Number of rooms",{"$f":"VLOOKUP(G310,Cntrol!$F$3:$G$9,2,FALSE)","v":0},452,172,176,54,17,33]
["E01022185","E01022185 Cotswold 001E","E01022185",{"$f":"VLOOKUP(A311,'Output Areas'!$A:$E,5,FALSE)","v":"Rural"},"Total: Accommodation type (excluding caravans / temporary structures)","Owned","3 rooms or less",{"$f":"VLOOKUP(G311,Cntrol!$F$3:$G$9,2,FALSE)","v":2},6,4,1,0,0,1]
["E01022185","E01022185 Cotswold 001E","E01022185",{"$f":"VLOOKUP(A312,'Output Areas'!$A:$E,5,FALSE)","v":"Rural"},"Total: Accommodation type (excluding caravans / temporary structures)","Owned","4 rooms",{"$f":"VLOOKUP(G312,Cntrol!$F$3:$G$9,2,FALSE)","v":2},64,38,12,3,2,9]
["E01022185","E01022185 Cotswold 001E","E01022185",{"$f":"VLOOKUP(A313,'Output Areas'!$A:$E,5,FALSE)","v":"Rural"},"Total: Accommodation type (excluding caravans / temporary structures)","Owned","5 rooms",{"$f":"VLOOKUP(G313,Cntrol!$F$3:$G$9,2,FALSE)","v":3},103,48,34,9,1,11]
["E01022185","E01022185 Cotswold 001E","E01022185",{"$f":"VLOOKUP(A314,'Output Areas'!$A:$E,5,FALSE)","v":"Rural"},"Total: Accommodation type (excluding caravans / temporary structures)","Owned","6 rooms",{"$f":"VLOOKUP(G314,Cntrol!$F$3:$G$9,2,FALSE)","v":3},114,42,46,11,6,9]
["E01022185","E01022185 Cotswold 001E","E01022185",{"$f":"VLOOKUP(A315,'Output Areas'!$A:$E,5,FALSE)","v":"Rural"},"Total: Accommodation type (excluding caravans / temporary structures)","Owned","7 rooms",{"$f":"VLOOKUP(G315,Cntrol!$F$3:$G$9,2,FALSE)","v":4},85,33,33,13,3,3]
["E01022185","E01022185 Cotswold 001E","E01022185",{"$f":"VLOOKUP(A316,'Output Areas'!$A:$E,5,FALSE)","v":"Rural"},"Total: Accommodation type (excluding caravans / temporary structures)","Owned","8 rooms or more",{"$f":"VLOOKUP(G316,Cntrol!$F$3:$G$9,2,FALSE)","v":5},80,7,50,18,5,0]
["E01022185","E01022185 Cotswold 001E","E01022185",{"$f":"VLOOKUP(A317,'Output Areas'!$A:$E,5,FALSE)","v":"Rural"},"Total: Accommodation type (excluding caravans / temporary structures)","Shared ownership or rented (excluding living rent free)","Total: Number of rooms",{"$f":"VLOOKUP(G317,Cntrol!$F$3:$G$9,2,FALSE)","v":0},164,83,45,8,1,27]
["E01022185","E01022185 Cotswold 001E","E01022185",{"$f":"VLOOKUP(A318,'Output Areas'!$A:$E,5,FALSE)","v":"Rural"},"Total: Accommodation type (excluding caravans / temporary structures)","Shared ownership or rented (excluding living rent free)","3 rooms or less",{"$f":"VLOOKUP(G318,Cntrol!$F$3:$G$9,2,FALSE)","v":2},34,18,1,0,0,15]
["E01022185","E01022185 Cotswold 001E","E01022185",{"$f":"VLOOKUP(A319,'Output Areas'!$A:$E,5,FALSE)","v":"Rural"},"Total: Accommodation type (excluding caravans / temporary structures)","Shared ownership or rented (excluding living rent free)","4 rooms",{"$f":"VLOOKUP(G319,Cntrol!$F$3:$G$9,2,FALSE)","v":2},36,21,9,1,0,5]
["E01022185","E01022185 Cotswold 001E","E01022185",{"$f":"VLOOKUP(A320,'Output Areas'!$A:$E,5,FALSE)","v":"Rural"},"Total: Accommodation type (excluding caravans / temporary structures)","Shared ownership or rented (excluding living rent free)","5 rooms",{"$f":"VLOOKUP(G320,Cntrol!$F$3:$G$9,2,FALSE)","v":3},40,20,14,2,0,4]
["E01022185","E01022185 Cotswold 001E","E01022185",{"$f":"VLOOKUP(A321,'Output Areas'!$A:$E,5,FALSE)","v":"Rural"},"Total: Accommodation type (excluding caravans / temporary structures)","Shared ownership or rented (excluding living rent free)","6 rooms",{"$f":"VLOOKUP(G321,Cntrol!$F$3:$G$9,2,FALSE)","v":3},40,18,16,3,1,2]
["E01022185","E01022185 Cotswold 001E","E01022185",{"$f":"VLOOKUP(A322,'Output Areas'!$A:$E,5,FALSE)","v":"Rural"},"Total: Accommodation type (excluding caravans / temporary structures)","Shared ownership or rented (excluding living rent free)","7 rooms",{"$f":"VLOOKUP(G322,Cntrol!$F$3:$G$9,2,FALSE)","v":4},10,4,4,1,0,1]
["E01022185","E01022185 Cotswold 001E","E01022185",{"$f":"VLOOKUP(A323,'Output Areas'!$A:$E,5,FALSE)","v":"Rural"},"Total: Accommodation type (excluding caravans / temporary structures)","Shared ownership or rented (excluding living rent free)","8 rooms or more",{"$f":"VLOOKUP(G323,Cntrol!$F$3:$G$9,2,FALSE)","v":5},4,2,1,1,0,0]
["E01022185","E01022185 Cotswold 001E","E01022185",{"$f":"VLOOKUP(A324,'Output Areas'!$A:$E,5,FALSE)","v":"Rural"},"Detached; semi-detached; terraced whole house or bungalow","Total: Tenure (excluding living rent free)","Total: Number of rooms",{"$f":"VLOOKUP(G324,Cntrol!$F$3:$G$9,2,FALSE)","v":0},604,251,217,61,18,57]
["E01022185","E01022185 Cotswold 001E","E01022185",{"$f":"VLOOKUP(A325,'Output Areas'!$A:$E,5,FALSE)","v":"Rural"},"Detached; semi-detached; terraced whole house or bungalow","Total: Tenure (excluding living rent free)","3 rooms or less",{"$f":"VLOOKUP(G325,Cntrol!$F$3:$G$9,2,FALSE)","v":2},34,18,1,0,0,15]
["E01022185","E01022185 Cotswold 001E","E01022185",{"$f":"VLOOKUP(A326,'Output Areas'!$A:$E,5,FALSE)","v":"Rural"},"Detached; semi-detached; terraced whole house or bungalow","Total: Tenure (excluding living rent free)","4 rooms",{"$f":"VLOOKUP(G326,Cntrol!$F$3:$G$9,2,FALSE)","v":2},97,59,19,4,2,13]
["E01022185","E01022185 Cotswold 001E","E01022185",{"$f":"VLOOKUP(A327,'Output Areas'!$A:$E,5,FALSE)","v":"Rural"},"Detached; semi-detached; terraced whole house or bungalow","Total: Tenure (excluding living rent free)","5 rooms",{"$f":"VLOOKUP(G327,Cntrol!$F$3:$G$9,2,FALSE)","v":3},142,68,48,10,1,15]
["E01022185","E01022185 Cotswold 001E","E01022185",{"$f":"VLOOKUP(A328,'Output Areas'!$A:$E,5,FALSE)","v":"Rural"},"Detached; semi-detached; terraced whole house or bungalow","Total: Tenure (excluding living rent free)","6 rooms",{"$f":"VLOOKUP(G328,Cntrol!$F$3:$G$9,2,FALSE)","v":3},154,60,62,14,7,11]
["E01022185","E01022185 Cotswold 001E","E01022185",{"$f":"VLOOKUP(A329,'Output Areas'!$A:$E,5,FALSE)","v":"Rural"},"Detached; semi-detached; terraced whole house or bungalow","Total: Tenure (excluding living rent free)","7 rooms",{"$f":"VLOOKUP(G329,Cntrol!$F$3:$G$9,2,FALSE)","v":4},93,37,36,14,3,3]
["E01022185","E01022185 Cotswold 001E","E01022185",{"$f":"VLOOKUP(A330,'Output Areas'!$A:$E,5,FALSE)","v":"Rural"},"Detached; semi-detached; terraced whole house or bungalow","Total: Tenure (excluding living rent free)","8 rooms or more",{"$f":"VLOOKUP(G330,Cntrol!$F$3:$G$9,2,FALSE)","v":5},84,9,51,19,5,0]
["E01022185","E01022185 Cotswold 001E","E01022185",{"$f":"VLOOKUP(A331,'Output Areas'!$A:$E,5,FALSE)","v":"Rural"},"Detached; semi-detached; terraced whole house or bungalow","Owned","Total: Number of rooms",{"$f":"VLOOKUP(G331,Cntrol!$F$3:$G$9,2,FALSE)","v":0},447,172,173,53,17,32]
["E01022185","E01022185 Cotswold 001E","E01022185",{"$f":"VLOOKUP(A332,'Output Areas'!$A:$E,5,FALSE)","v":"Rural"},"Detached; semi-detached; terraced whole house or bungalow","Owned","3 rooms or less",{"$f":"VLOOKUP(G332,Cntrol!$F$3:$G$9,2,FALSE)","v":2},5,4,0,0,0,1]
["E01022185","E01022185 Cotswold 001E","E01022185",{"$f":"VLOOKUP(A333,'Output Areas'!$A:$E,5,FALSE)","v":"Rural"},"Detached; semi-detached; terraced whole house or bungalow","Owned","4 rooms",{"$f":"VLOOKUP(G333,Cntrol!$F$3:$G$9,2,FALSE)","v":2},63,38,11,3,2,9]
["E01022185","E01022185 Cotswold 001E","E01022185",{"$f":"VLOOKUP(A334,'Output Areas'!$A:$E,5,FALSE)","v":"Rural"},"Detached; semi-detached; terraced whole house or bungalow","Owned","5 rooms",{"$f":"VLOOKUP(G334,Cntrol!$F$3:$G$9,2,FALSE)","v":3},102,48,34,8,1,11]
["E01022185","E01022185 Cotswold 001E","E01022185",{"$f":"VLOOKUP(A335,'Output Areas'!$A:$E,5,FALSE)","v":"Rural"},"Detached; semi-detached; terraced whole house or bungalow","Owned","6 rooms",{"$f":"VLOOKUP(G335,Cntrol!$F$3:$G$9,2,FALSE)","v":3},114,42,46,11,6,9]
["E01022185","E01022185 Cotswold 001E","E01022185",{"$f":"VLOOKUP(A336,'Output Areas'!$A:$E,5,FALSE)","v":"Rural"},"Detached; semi-detached; terraced whole house or bungalow","Owned","7 rooms",{"$f":"VLOOKUP(G336,Cntrol!$F$3:$G$9,2,FALSE)","v":4},83,33,32,13,3,2]
["E01022185","E01022185 Cotswold 001E","E01022185",{"$f":"VLOOKUP(A337,'Output Areas'!$A:$E,5,FALSE)","v":"Rural"},"Detached; semi-detached; terraced whole house or bungalow","Owned","8 rooms or more",{"$f":"VLOOKUP(G337,Cntrol!$F$3:$G$9,2,FALSE)","v":5},80,7,50,18,5,0]
["E01022185","E01022185 Cotswold 001E","E01022185",{"$f":"VLOOKUP(A338,'Output Areas'!$A:$E,5,FALSE)","v":"Rural"},"Detached; semi-detached; terraced whole house or bungalow","Shared ownership or rented (excluding living rent free)","Total: Number of rooms",{"$f":"VLOOKUP(G338,Cntrol!$F$3:$G$9,2,FALSE)","v":0},157,79,44,8,1,25]
["E01022185","E01022185 Cotswold 001E","E01022185",{"$f":"VLOOKUP(A339,'Output Areas'!$A:$E,5,FALSE)","v":"Rural"},"Detached; semi-detached; terraced whole house or bungalow","Shared ownership or rented (excluding living rent free)","3 rooms or less",{"$f":"VLOOKUP(G339,Cntrol!$F$3:$G$9,2,FALSE)","v":2},29,14,1,0,0,14]
["E01022185","E01022185 Cotswold 001E","E01022185",{"$f":"VLOOKUP(A340,'Output Areas'!$A:$E,5,FALSE)","v":"Rural"},"Detached; semi-detached; terraced whole house or bungalow","Shared ownership or rented (excluding living rent free)","4 rooms",{"$f":"VLOOKUP(G340,Cntrol!$F$3:$G$9,2,FALSE)","v":2},34,21,8,1,0,4]
["E01022185","E01022185 Cotswold 001E","E01022185",{"$f":"VLOOKUP(A341,'Output Areas'!$A:$E,5,FALSE)","v":"Rural"},"Detached; semi-detached; terraced whole house or bungalow","Shared ownership or rented (excluding living rent free)","5 rooms",{"$f":"VLOOKUP(G341,Cntrol!$F$3:$G$9,2,FALSE)","v":3},40,20,14,2,0,4]
["E01022185","E01022185 Cotswold 001E","E01022185",{"$f":"VLOOKUP(A342,'Output Areas'!$A:$E,5,FALSE)","v":"Rural"},"Detached; semi-detached; terraced whole house or bungalow","Shared ownership or rented (excluding living rent free)","6 rooms",{"$f":"VLOOKUP(G342,Cntrol!$F$3:$G$9,2,FALSE)","v":3},40,18,16,3,1,2]
["E01022185","E01022185 Cotswold 001E","E01022185",{"$f":"VLOOKUP(A343,'Output Areas'!$A:$E,5,FALSE)","v":"Rural"},"Detached; semi-detached; terraced whole house or bungalow","Shared ownership or rented (excluding living rent free)","7 rooms",{"$f":"VLOOKUP(G343,Cntrol!$F$3:$G$9,2,FALSE)","v":4},10,4,4,1,0,1]
["E01022185","E01022185 Cotswold 001E","E01022185",{"$f":"VLOOKUP(A344,'Output Areas'!$A:$E,5,FALSE)","v":"Rural"},"Detached; semi-detached; terraced whole house or bungalow","Shared ownership or rented (excluding living rent free)","8 rooms or more",{"$f":"VLOOKUP(G344,Cntrol!$F$3:$G$9,2,FALSE)","v":5},4,2,1,1,0,0]
["E01022185","E01022185 Cotswold 001E","E01022185",{"$f":"VLOOKUP(A345,'Output Areas'!$A:$E,5,FALSE)","v":"Rural"},"A flat; maisonette; apartment","Total: Tenure (excluding living rent free)","Total: Number of rooms",{"$f":"VLOOKUP(G345,Cntrol!$F$3:$G$9,2,FALSE)","v":0},12,4,4,1,0,3]
["E01022185","E01022185 Cotswold 001E","E01022185",{"$f":"VLOOKUP(A346,'Output Areas'!$A:$E,5,FALSE)","v":"Rural"},"A flat; maisonette; apartment","Total: Tenure (excluding living rent free)","3 rooms or less",{"$f":"VLOOKUP(G346,Cntrol!$F$3:$G$9,2,FALSE)","v":2},6,4,1,0,0,1]
["E01022185","E01022185 Cotswold 001E","E01022185",{"$f":"VLOOKUP(A347,'Output Areas'!$A:$E,5,FALSE)","v":"Rural"},"A flat; maisonette; apartment","Total: Tenure (excluding living rent free)","4 rooms",{"$f":"VLOOKUP(G347,Cntrol!$F$3:$G$9,2,FALSE)","v":2},3,0,2,0,0,1]
["E01022185","E01022185 Cotswold 001E","E01022185",{"$f":"VLOOKUP(A348,'Output Areas'!$A:$E,5,FALSE)","v":"Rural"},"A flat; maisonette; apartment","Total: Tenure (excluding living rent free)","5 rooms",{"$f":"VLOOKUP(G348,Cntrol!$F$3:$G$9,2,FALSE)","v":3},1,0,0,1,0,0]
["E01022185","E01022185 Cotswold 001E","E01022185",{"$f":"VLOOKUP(A349,'Output Areas'!$A:$E,5,FALSE)","v":"Rural"},"A flat; maisonette; apartment","Total: Tenure (excluding living rent free)","7 rooms",{"$f":"VLOOKUP(G349,Cntrol!$F$3:$G$9,2,FALSE)","v":4},2,0,1,0,0,1]
["E01022185","E01022185 Cotswold 001E","E01022185",{"$f":"VLOOKUP(A350,'Output Areas'!$A:$E,5,FALSE)","v":"Rural"},"A flat; maisonette; apartment","Owned","Total: Number of rooms",{"$f":"VLOOKUP(G350,Cntrol!$F$3:$G$9,2,FALSE)","v":0},5,0,3,1,0,1]
["E01022185","E01022185 Cotswold 001E","E01022185",{"$f":"VLOOKUP(A351,'Output Areas'!$A:$E,5,FALSE)","v":"Rural"},"A flat; maisonette; apartment","Owned","3 rooms or less",{"$f":"VLOOKUP(G351,Cntrol!$F$3:$G$9,2,FALSE)","v":2},1,0,1,0,0,0]
["E01022185","E01022185 Cotswold 001E","E01022185",{"$f":"VLOOKUP(A352,'Output Areas'!$A:$E,5,FALSE)","v":"Rural"},"A flat; maisonette; apartment","Owned","4 rooms",{"$f":"VLOOKUP(G352,Cntrol!$F$3:$G$9,2,FALSE)","v":2},1,0,1,0,0,0]
["E01022185","E01022185 Cotswold 001E","E01022185",{"$f":"VLOOKUP(A353,'Output Areas'!$A:$E,5,FALSE)","v":"Rural"},"A flat; maisonette; apartment","Owned","5 rooms",{"$f":"VLOOKUP(G353,Cntrol!$F$3:$G$9,2,FALSE)","v":3},1,0,0,1,0,0]
["E01022185","E01022185 Cotswold 001E","E01022185",{"$f":"VLOOKUP(A354,'Output Areas'!$A:$E,5,FALSE)","v":"Rural"},"A flat; maisonette; apartment","Owned","7 rooms",{"$f":"VLOOKUP(G354,Cntrol!$F$3:$G$9,2,FALSE)","v":4},2,0,1,0,0,1]
["E01022185","E01022185 Cotswold 001E","E01022185",{"$f":"VLOOKUP(A355,'Output Areas'!$A:$E,5,FALSE)","v":"Rural"},"A flat; maisonette; apartment","Shared ownership or rented (excluding living rent free)","Total: Number of rooms",{"$f":"VLOOKUP(G355,Cntrol!$F$3:$G$9,2,FALSE)","v":0},7,4,1,0,0,2]
["E01022185","E01022185 Cotswold 001E","E01022185",{"$f":"VLOOKUP(A356,'Output Areas'!$A:$E,5,FALSE)","v":"Rural"},"A flat; maisonette; apartment","Shared ownership or rented (excluding living rent free)","3 rooms or less",{"$f":"VLOOKUP(G356,Cntrol!$F$3:$G$9,2,FALSE)","v":2},5,4,0,0,0,1]
["E01022185","E01022185 Cotswold 001E","E01022185",{"$f":"VLOOKUP(A357,'Output Areas'!$A:$E,5,FALSE)","v":"Rural"},"A flat; maisonette; apartment","Shared ownership or rented (excluding living rent free)","4 rooms",{"$f":"VLOOKUP(G357,Cntrol!$F$3:$G$9,2,FALSE)","v":2},2,0,1,0,0,1]
["E01022177","E01022177 Cotswold 002A","E01022177",{"$f":"VLOOKUP(A358,'Output Areas'!$A:$E,5,FALSE)","v":"Small Settlements"},"Total: Accommodation type (excluding caravans / temporary structures)","Total: Tenure (excluding living rent free)","Total: Number of rooms",{"$f":"VLOOKUP(G358,Cntrol!$F$3:$G$9,2,FALSE)","v":0},946,428,238,71,30,179]
["E01022177","E01022177 Cotswold 002A","E01022177",{"$f":"VLOOKUP(A359,'Output Areas'!$A:$E,5,FALSE)","v":"Small Settlements"},"Total: Accommodation type (excluding caravans / temporary structures)","Total: Tenure (excluding living rent free)","3 rooms or less",{"$f":"VLOOKUP(G359,Cntrol!$F$3:$G$9,2,FALSE)","v":2},110,48,6,2,1,53]
["E01022177","E01022177 Cotswold 002A","E01022177",{"$f":"VLOOKUP(A360,'Output Areas'!$A:$E,5,FALSE)","v":"Small Settlements"},"Total: Accommodation type (excluding caravans / temporary structures)","Total: Tenure (excluding living rent free)","4 rooms",{"$f":"VLOOKUP(G360,Cntrol!$F$3:$G$9,2,FALSE)","v":2},169,94,27,2,0,46]
["E01022177","E01022177 Cotswold 002A","E01022177",{"$f":"VLOOKUP(A361,'Output Areas'!$A:$E,5,FALSE)","v":"Small Settlements"},"Total: Accommodation type (excluding caravans / temporary structures)","Total: Tenure (excluding living rent free)","5 rooms",{"$f":"VLOOKUP(G361,Cntrol!$F$3:$G$9,2,FALSE)","v":3},209,105,45,13,3,43]
["E01022177","E01022177 Cotswold 002A","E01022177",{"$f":"VLOOKUP(A362,'Output Areas'!$A:$E,5,FALSE)","v":"Small Settlements"},"Total: Accommodation type (excluding caravans / temporary structures)","Total: Tenure (excluding living rent free)","6 rooms",{"$f":"VLOOKUP(G362,Cntrol!$F$3:$G$9,2,FALSE)","v":3},196,88,65,16,7,20]
["E01022177","E01022177 Cotswold 002A","E01022177",{"$f":"VLOOKUP(A363,'Output Areas'!$A:$E,5,FALSE)","v":"Small Settlements"},"Total: Accommodation type (excluding caravans / temporary structures)","Total: Tenure (excluding living rent free)","7 rooms",{"$f":"VLOOKUP(G363,Cntrol!$F$3:$G$9,2,FALSE)","v":4},124,48,47,10,8,11]
["E01022177","E01022177 Cotswold 002A","E01022177",{"$f":"VLOOKUP(A364,'Output Areas'!$A:$E,5,FALSE)","v":"Small Settlements"},"Total: Accommodation type (excluding caravans / temporary structures)","Total: Tenure (excluding living rent free)","8 rooms or more",{"$f":"VLOOKUP(G364,Cntrol!$F$3:$G$9,2,FALSE)","v":5},138,45,48,28,11,6]
["E01022177","E01022177 Cotswold 002A","E01022177",{"$f":"VLOOKUP(A365,'Output Areas'!$A:$E,5,FALSE)","v":"Small Settlements"},"Total: Accommodation type (excluding caravans / temporary structures)","Owned","Total: Number of rooms",{"$f":"VLOOKUP(G365,Cntrol!$F$3:$G$9,2,FALSE)","v":0},619,267,193,67,29,63]
["E01022177","E01022177 Cotswold 002A","E01022177",{"$f":"VLOOKUP(A366,'Output Areas'!$A:$E,5,FALSE)","v":"Small Settlements"},"Total: Accommodation type (excluding caravans / temporary structures)","Owned","3 rooms or less",{"$f":"VLOOKUP(G366,Cntrol!$F$3:$G$9,2,FALSE)","v":2},23,14,4,2,1,2]
["E01022177","E01022177 Cotswold 002A","E01022177",{"$f":"VLOOKUP(A367,'Output Areas'!$A:$E,5,FALSE)","v":"Small Settlements"},"Total: Accommodation type (excluding caravans / temporary structures)","Owned","4 rooms",{"$f":"VLOOKUP(G367,Cntrol!$F$3:$G$9,2,FALSE)","v":2},69,43,14,1,0,11]
["E01022177","E01022177 Cotswold 002A","E01022177",{"$f":"VLOOKUP(A368,'Output Areas'!$A:$E,5,FALSE)","v":"Small Settlements"},"Total: Accommodation type (excluding caravans / temporary structures)","Owned","5 rooms",{"$f":"VLOOKUP(G368,Cntrol!$F$3:$G$9,2,FALSE)","v":3},127,60,33,12,2,20]
["E01022177","E01022177 Cotswold 002A","E01022177",{"$f":"VLOOKUP(A369,'Output Areas'!$A:$E,5,FALSE)","v":"Small Settlements"},"Total: Accommodation type (excluding caravans / temporary structures)","Owned","6 rooms",{"$f":"VLOOKUP(G369,Cntrol!$F$3:$G$9,2,FALSE)","v":3},159,71,51,14,7,16]
["E01022177","E01022177 Cotswold 002A","E01022177",{"$f":"VLOOKUP(A370,'Output Areas'!$A:$E,5,FALSE)","v":"Small Settlements"},"Total: Accommodation type (excluding caravans / temporary structures)","Owned","7 rooms",{"$f":"VLOOKUP(G370,Cntrol!$F$3:$G$9,2,FALSE)","v":4},110,38,44,10,8,10]
["E01022177","E01022177 Cotswold 002A","E01022177",{"$f":"VLOOKUP(A371,'Output Areas'!$A:$E,5,FALSE)","v":"Small Settlements"},"Total: Accommodation type (excluding caravans / temporary structures)","Owned","8 rooms or more",{"$f":"VLOOKUP(G371,Cntrol!$F$3:$G$9,2,FALSE)","v":5},131,41,47,28,11,4]
["E01022177","E01022177 Cotswold 002A","E01022177",{"$f":"VLOOKUP(A372,'Output Areas'!$A:$E,5,FALSE)","v":"Small Settlements"},"Total: Accommodation type (excluding caravans / temporary structures)","Shared ownership or rented (excluding living rent free)","Total: Number of rooms",{"$f":"VLOOKUP(G372,Cntrol!$F$3:$G$9,2,FALSE)","v":0},327,161,45,4,1,116]
["E01022177","E01022177 Cotswold 002A","E01022177",{"$f":"VLOOKUP(A373,'Output Areas'!$A:$E,5,FALSE)","v":"Small Settlements"},"Total: Accommodation type (excluding caravans / temporary structures)","Shared ownership or rented (excluding living rent free)","3 rooms or less",{"$f":"VLOOKUP(G373,Cntrol!$F$3:$G$9,2,FALSE)","v":2},87,34,2,0,0,51]
["E01022177","E01022177 Cotswold 002A","E01022177",{"$f":"VLOOKUP(A374,'Output Areas'!$A:$E,5,FALSE)","v":"Small Settlements"},"Total: Accommodation type (excluding caravans / temporary structures)","Shared ownership or rented (excluding living rent free)","4 rooms",{"$f":"VLOOKUP(G374,Cntrol!$F$3:$G$9,2,FALSE)","v":2},100,51,13,1,0,35]
["E01022177","E01022177 Cotswold 002A","E01022177",{"$f":"VLOOKUP(A375,'Output Areas'!$A:$E,5,FALSE)","v":"Small Settlements"},"Total: Accommodation type (excluding caravans / temporary structures)","Shared ownership or rented (excluding living rent free)","5 rooms",{"$f":"VLOOKUP(G375,Cntrol!$F$3:$G$9,2,FALSE)","v":3},82,45,12,1,1,23]
["E01022177","E01022177 Cotswold 002A","E01022177",{"$f":"VLOOKUP(A376,'Output Areas'!$A:$E,5,FALSE)","v":"Small Settlements"},"Total: Accommodation type (excluding caravans / temporary structures)","Shared ownership or rented (excluding living rent free)","6 rooms",{"$f":"VLOOKUP(G376,Cntrol!$F$3:$G$9,2,FALSE)","v":3},37,17,14,2,0,4]
["E01022177","E01022177 Cotswold 002A","E01022177",{"$f":"VLOOKUP(A377,'Output Areas'!$A:$E,5,FALSE)","v":"Small Settlements"},"Total: Accommodation type (excluding caravans / temporary structures)","Shared ownership or rented (excluding living rent free)","7 rooms",{"$f":"VLOOKUP(G377,Cntrol!$F$3:$G$9,2,FALSE)","v":4},14,10,3,0,0,1]
["E01022177","E01022177 Cotswold 002A","E01022177",{"$f":"VLOOKUP(A378,'Output Areas'!$A:$E,5,FALSE)","v":"Small Settlements"},"Total: Accommodation type (excluding caravans / temporary structures)","Shared ownership or rented (excluding living rent free)","8 rooms or more",{"$f":"VLOOKUP(G378,Cntrol!$F$3:$G$9,2,FALSE)","v":5},7,4,1,0,0,2]
["E01022177","E01022177 Cotswold 002A","E01022177",{"$f":"VLOOKUP(A379,'Output Areas'!$A:$E,5,FALSE)","v":"Small Settlements"},"Detached; semi-detached; terraced whole house or bungalow","Total: Tenure (excluding living rent free)","Total: Number of rooms",{"$f":"VLOOKUP(G379,Cntrol!$F$3:$G$9,2,FALSE)","v":0},791,356,224,65,29,117]
["E01022177","E01022177 Cotswold 002A","E01022177",{"$f":"VLOOKUP(A380,'Output Areas'!$A:$E,5,FALSE)","v":"Small Settlements"},"Detached; semi-detached; terraced whole house or bungalow","Total: Tenure (excluding living rent free)","3 rooms or less",{"$f":"VLOOKUP(G380,Cntrol!$F$3:$G$9,2,FALSE)","v":2},35,17,3,0,1,14]
["E01022177","E01022177 Cotswold 002A","E01022177",{"$f":"VLOOKUP(A381,'Output Areas'!$A:$E,5,FALSE)","v":"Small Settlements"},"Detached; semi-detached; terraced whole house or bungalow","Total: Tenure (excluding living rent free)","4 rooms",{"$f":"VLOOKUP(G381,Cntrol!$F$3:$G$9,2,FALSE)","v":2},116,63,22,1,0,30]
["E01022177","E01022177 Cotswold 002A","E01022177",{"$f":"VLOOKUP(A382,'Output Areas'!$A:$E,5,FALSE)","v":"Small Settlements"},"Detached; semi-detached; terraced whole house or bungalow","Total: Tenure (excluding living rent free)","5 rooms",{"$f":"VLOOKUP(G382,Cntrol!$F$3:$G$9,2,FALSE)","v":3},197,101,43,12,2,39]
["E01022177","E01022177 Cotswold 002A","E01022177",{"$f":"VLOOKUP(A383,'Output Areas'!$A:$E,5,FALSE)","v":"Small Settlements"},"Detached; semi-detached; terraced whole house or bungalow","Total: Tenure (excluding living rent free)","6 rooms",{"$f":"VLOOKUP(G383,Cntrol!$F$3:$G$9,2,FALSE)","v":3},188,83,63,16,7,19]
["E01022177","E01022177 Cotswold 002A","E01022177",{"$f":"VLOOKUP(A384,'Output Areas'!$A:$E,5,FALSE)","v":"Small Settlements"},"Detached; semi-detached; terraced whole house or bungalow","Total: Tenure (excluding living rent free)","7 rooms",{"$f":"VLOOKUP(G384,Cntrol!$F$3:$G$9,2,FALSE)","v":4},120,47,46,9,8,10]
["E01022177","E01022177 Cotswold 002A","E01022177",{"$f":"VLOOKUP(A385,'Output Areas'!$A:$E,5,FALSE)","v":"Small Settlements"},"Detached; semi-detached; terraced whole house or bungalow","Total: Tenure (excluding living rent free)","8 rooms or more",{"$f":"VLOOKUP(G385,Cntrol!$F$3:$G$9,2,FALSE)","v":5},135,45,47,27,11,5]
["E01022177","E01022177 Cotswold 002A","E01022177",{"$f":"VLOOKUP(A386,'Output Areas'!$A:$E,5,FALSE)","v":"Small Settlements"},"Detached; semi-detached; terraced whole house or bungalow","Owned","Total: Number of rooms",{"$f":"VLOOKUP(G386,Cntrol!$F$3:$G$9,2,FALSE)","v":0},577,246,185,61,28,57]
["E01022177","E01022177 Cotswold 002A","E01022177",{"$f":"VLOOKUP(A387,'Output Areas'!$A:$E,5,FALSE)","v":"Small Settlements"},"Detached; semi-detached; terraced whole house or bungalow","Owned","3 rooms or less",{"$f":"VLOOKUP(G387,Cntrol!$F$3:$G$9,2,FALSE)","v":2},11,7,3,0,1,0]
["E01022177","E01022177 Cotswold 002A","E01022177",{"$f":"VLOOKUP(A388,'Output Areas'!$A:$E,5,FALSE)","v":"Small Settlements"},"Detached; semi-detached; terraced whole house or bungalow","Owned","4 rooms",{"$f":"VLOOKUP(G388,Cntrol!$F$3:$G$9,2,FALSE)","v":2},54,33,12,0,0,9]
["E01022177","E01022177 Cotswold 002A","E01022177",{"$f":"VLOOKUP(A389,'Output Areas'!$A:$E,5,FALSE)","v":"Small Settlements"},"Detached; semi-detached; terraced whole house or bungalow","Owned","5 rooms",{"$f":"VLOOKUP(G389,Cntrol!$F$3:$G$9,2,FALSE)","v":3},119,57,31,11,1,19]
["E01022177","E01022177 Cotswold 002A","E01022177",{"$f":"VLOOKUP(A390,'Output Areas'!$A:$E,5,FALSE)","v":"Small Settlements"},"Detached; semi-detached; terraced whole house or bungalow","Owned","6 rooms",{"$f":"VLOOKUP(G390,Cntrol!$F$3:$G$9,2,FALSE)","v":3},157,70,50,14,7,16]
["E01022177","E01022177 Cotswold 002A","E01022177",{"$f":"VLOOKUP(A391,'Output Areas'!$A:$E,5,FALSE)","v":"Small Settlements"},"Detached; semi-detached; terraced whole house or bungalow","Owned","7 rooms",{"$f":"VLOOKUP(G391,Cntrol!$F$3:$G$9,2,FALSE)","v":4},108,38,43,9,8,10]
["E01022177","E01022177 Cotswold 002A","E01022177",{"$f":"VLOOKUP(A392,'Output Areas'!$A:$E,5,FALSE)","v":"Small Settlements"},"Detached; semi-detached; terraced whole house or bungalow","Owned","8 rooms or more",{"$f":"VLOOKUP(G392,Cntrol!$F$3:$G$9,2,FALSE)","v":5},128,41,46,27,11,3]
["E01022177","E01022177 Cotswold 002A","E01022177",{"$f":"VLOOKUP(A393,'Output Areas'!$A:$E,5,FALSE)","v":"Small Settlements"},"Detached; semi-detached; terraced whole house or bungalow","Shared ownership or rented (excluding living rent free)","Total: Number of rooms",{"$f":"VLOOKUP(G393,Cntrol!$F$3:$G$9,2,FALSE)","v":0},214,110,39,4,1,60]
["E01022177","E01022177 Cotswold 002A","E01022177",{"$f":"VLOOKUP(A394,'Output Areas'!$A:$E,5,FALSE)","v":"Small Settlements"},"Detached; semi-detached; terraced whole house or bungalow","Shared ownership or rented (excluding living rent free)","3 rooms or less",{"$f":"VLOOKUP(G394,Cntrol!$F$3:$G$9,2,FALSE)","v":2},24,10,0,0,0,14]
["E01022177","E01022177 Cotswold 002A","E01022177",{"$f":"VLOOKUP(A395,'Output Areas'!$A:$E,5,FALSE)","v":"Small Settlements"},"Detached; semi-detached; terraced whole house or bungalow","Shared ownership or rented (excluding living rent free)","4 rooms",{"$f":"VLOOKUP(G395,Cntrol!$F$3:$G$9,2,FALSE)","v":2},62,30,10,1,0,21]
["E01022177","E01022177 Cotswold 002A","E01022177",{"$f":"VLOOKUP(A396,'Output Areas'!$A:$E,5,FALSE)","v":"Small Settlements"},"Detached; semi-detached; terraced whole house or bungalow","Shared ownership or rented (excluding living rent free)","5 rooms",{"$f":"VLOOKUP(G396,Cntrol!$F$3:$G$9,2,FALSE)","v":3},78,44,12,1,1,20]
["E01022177","E01022177 Cotswold 002A","E01022177",{"$f":"VLOOKUP(A397,'Output Areas'!$A:$E,5,FALSE)","v":"Small Settlements"},"Detached; semi-detached; terraced whole house or bungalow","Shared ownership or rented (excluding living rent free)","6 rooms",{"$f":"VLOOKUP(G397,Cntrol!$F$3:$G$9,2,FALSE)","v":3},31,13,13,2,0,3]
["E01022177","E01022177 Cotswold 002A","E01022177",{"$f":"VLOOKUP(A398,'Output Areas'!$A:$E,5,FALSE)","v":"Small Settlements"},"Detached; semi-detached; terraced whole house or bungalow","Shared ownership or rented (excluding living rent free)","7 rooms",{"$f":"VLOOKUP(G398,Cntrol!$F$3:$G$9,2,FALSE)","v":4},12,9,3,0,0,0]
["E01022177","E01022177 Cotswold 002A","E01022177",{"$f":"VLOOKUP(A399,'Output Areas'!$A:$E,5,FALSE)","v":"Small Settlements"},"Detached; semi-detached; terraced whole house or bungalow","Shared ownership or rented (excluding living rent free)","8 rooms or more",{"$f":"VLOOKUP(G399,Cntrol!$F$3:$G$9,2,FALSE)","v":5},7,4,1,0,0,2]
["E01022177","E01022177 Cotswold 002A","E01022177",{"$f":"VLOOKUP(A400,'Output Areas'!$A:$E,5,FALSE)","v":"Small Settlements"},"A flat; maisonette; apartment","Total: Tenure (excluding living rent free)","Total: Number of rooms",{"$f":"VLOOKUP(G400,Cntrol!$F$3:$G$9,2,FALSE)","v":0},155,72,14,6,1,62]
["E01022177","E01022177 Cotswold 002A","E01022177",{"$f":"VLOOKUP(A401,'Output Areas'!$A:$E,5,FALSE)","v":"Small Settlements"},"A flat; maisonette; apartment","Total: Tenure (excluding living rent free)","3 rooms or less",{"$f":"VLOOKUP(G401,Cntrol!$F$3:$G$9,2,FALSE)","v":2},75,31,3,2,0,39]
["E01022177","E01022177 Cotswold 002A","E01022177",{"$f":"VLOOKUP(A402,'Output Areas'!$A:$E,5,FALSE)","v":"Small Settlements"},"A flat; maisonette; apartment","Total: Tenure (excluding living rent free)","4 rooms",{"$f":"VLOOKUP(G402,Cntrol!$F$3:$G$9,2,FALSE)","v":2},53,31,5,1,0,16]
["E01022177","E01022177 Cotswold 002A","E01022177",{"$f":"VLOOKUP(A403,'Output Areas'!$A:$E,5,FALSE)","v":"Small Settlements"},"A flat; maisonette; apartment","Total: Tenure (excluding living rent free)","5 rooms",{"$f":"VLOOKUP(G403,Cntrol!$F$3:$G$9,2,FALSE)","v":3},12,4,2,1,1,4]
["E01022177","E01022177 Cotswold 002A","E01022177",{"$f":"VLOOKUP(A404,'Output Areas'!$A:$E,5,FALSE)","v":"Small Settlements"},"A flat; maisonette; apartment","Total: Tenure (excluding living rent free)","6 rooms",{"$f":"VLOOKUP(G404,Cntrol!$F$3:$G$9,2,FALSE)","v":3},8,5,2,0,0,1]
["E01022177","E01022177 Cotswold 002A","E01022177",{"$f":"VLOOKUP(A405,'Output Areas'!$A:$E,5,FALSE)","v":"Small Settlements"},"A flat; maisonette; apartment","Total: Tenure (excluding living rent free)","7 rooms",{"$f":"VLOOKUP(G405,Cntrol!$F$3:$G$9,2,FALSE)","v":4},4,1,1,1,0,1]
["E01022177","E01022177 Cotswold 002A","E01022177",{"$f":"VLOOKUP(A406,'Output Areas'!$A:$E,5,FALSE)","v":"Small Settlements"},"A flat; maisonette; apartment","Total: Tenure (excluding living rent free)","8 rooms or more",{"$f":"VLOOKUP(G406,Cntrol!$F$3:$G$9,2,FALSE)","v":5},3,0,1,1,0,1]
["E01022177","E01022177 Cotswold 002A","E01022177",{"$f":"VLOOKUP(A407,'Output Areas'!$A:$E,5,FALSE)","v":"Small Settlements"},"A flat; maisonette; apartment","Owned","Total: Number of rooms",{"$f":"VLOOKUP(G407,Cntrol!$F$3:$G$9,2,FALSE)","v":0},42,21,8,6,1,6]
["E01022177","E01022177 Cotswold 002A","E01022177",{"$f":"VLOOKUP(A408,'Output Areas'!$A:$E,5,FALSE)","v":"Small Settlements"},"A flat; maisonette; apartment","Owned","3 rooms or less",{"$f":"VLOOKUP(G408,Cntrol!$F$3:$G$9,2,FALSE)","v":2},12,7,1,2,0,2]
["E01022177","E01022177 Cotswold 002A","E01022177",{"$f":"VLOOKUP(A409,'Output Areas'!$A:$E,5,FALSE)","v":"Small Settlements"},"A flat; maisonette; apartment","Owned","4 rooms",{"$f":"VLOOKUP(G409,Cntrol!$F$3:$G$9,2,FALSE)","v":2},15,10,2,1,0,2]
["E01022177","E01022177 Cotswold 002A","E01022177",{"$f":"VLOOKUP(A410,'Output Areas'!$A:$E,5,FALSE)","v":"Small Settlements"},"A flat; maisonette; apartment","Owned","5 rooms",{"$f":"VLOOKUP(G410,Cntrol!$F$3:$G$9,2,FALSE)","v":3},8,3,2,1,1,1]
["E01022177","E01022177 Cotswold 002A","E01022177",{"$f":"VLOOKUP(A411,'Output Areas'!$A:$E,5,FALSE)","v":"Small Settlements"},"A flat; maisonette; apartment","Owned","6 rooms",{"$f":"VLOOKUP(G411,Cntrol!$F$3:$G$9,2,FALSE)","v":3},2,1,1,0,0,0]
["E01022177","E01022177 Cotswold 002A","E01022177",{"$f":"VLOOKUP(A412,'Output Areas'!$A:$E,5,FALSE)","v":"Small Settlements"},"A flat; maisonette; apartment","Owned","7 rooms",{"$f":"VLOOKUP(G412,Cntrol!$F$3:$G$9,2,FALSE)","v":4},2,0,1,1,0,0]
["E01022177","E01022177 Cotswold 002A","E01022177",{"$f":"VLOOKUP(A413,'Output Areas'!$A:$E,5,FALSE)","v":"Small Settlements"},"A flat; maisonette; apartment","Owned","8 rooms or more",{"$f":"VLOOKUP(G413,Cntrol!$F$3:$G$9,2,FALSE)","v":5},3,0,1,1,0,1]
["E01022177","E01022177 Cotswold 002A","E01022177",{"$f":"VLOOKUP(A414,'Output Areas'!$A:$E,5,FALSE)","v":"Small Settlements"},"A flat; maisonette; apartment","Shared ownership or rented (excluding living rent free)","Total: Number of rooms",{"$f":"VLOOKUP(G414,Cntrol!$F$3:$G$9,2,FALSE)","v":0},113,51,6,0,0,56]
["E01022177","E01022177 Cotswold 002A","E01022177",{"$f":"VLOOKUP(A415,'Output Areas'!$A:$E,5,FALSE)","v":"Small Settlements"},"A flat; maisonette; apartment","Shared ownership or rented (excluding living rent free)","3 rooms or less",{"$f":"VLOOKUP(G415,Cntrol!$F$3:$G$9,2,FALSE)","v":2},63,24,2,0,0,37]
["E01022177","E01022177 Cotswold 002A","E01022177",{"$f":"VLOOKUP(A416,'Output Areas'!$A:$E,5,FALSE)","v":"Small Settlements"},"A flat; maisonette; apartment","Shared ownership or rented (excluding living rent free)","4 rooms",{"$f":"VLOOKUP(G416,Cntrol!$F$3:$G$9,2,FALSE)","v":2},38,21,3,0,0,14]
["E01022177","E01022177 Cotswold 002A","E01022177",{"$f":"VLOOKUP(A417,'Output Areas'!$A:$E,5,FALSE)","v":"Small Settlements"},"A flat; maisonette; apartment","Shared ownership or rented (excluding living rent free)","5 rooms",{"$f":"VLOOKUP(G417,Cntrol!$F$3:$G$9,2,FALSE)","v":3},4,1,0,0,0,3]
["E01022177","E01022177 Cotswold 002A","E01022177",{"$f":"VLOOKUP(A418,'Output Areas'!$A:$E,5,FALSE)","v":"Small Settlements"},"A flat; maisonette; apartment","Shared ownership or rented (excluding living rent free)","6 rooms",{"$f":"VLOOKUP(G418,Cntrol!$F$3:$G$9,2,FALSE)","v":3},6,4,1,0,0,1]
["E01022177","E01022177 Cotswold 002A","E01022177",{"$f":"VLOOKUP(A419,'Output Areas'!$A:$E,5,FALSE)","v":"Small Settlements"},"A flat; maisonette; apartment","Shared ownership or rented (excluding living rent free)","7 rooms",{"$f":"VLOOKUP(G419,Cntrol!$F$3:$G$9,2,FALSE)","v":4},2,1,0,0,0,1]
["E01022178","E01022178 Cotswold 002B","E01022178",{"$f":"VLOOKUP(A420,'Output Areas'!$A:$E,5,FALSE)","v":"Rural"},"Total: Accommodation type (excluding caravans / temporary structures)","Total: Tenure (excluding living rent free)","Total: Number of rooms",{"$f":"VLOOKUP(G420,Cntrol!$F$3:$G$9,2,FALSE)","v":0},561,222,221,61,23,34]
["E01022178","E01022178 Cotswold 002B","E01022178",{"$f":"VLOOKUP(A421,'Output Areas'!$A:$E,5,FALSE)","v":"Rural"},"Total: Accommodation type (excluding caravans / temporary structures)","Total: Tenure (excluding living rent free)","3 rooms or less",{"$f":"VLOOKUP(G421,Cntrol!$F$3:$G$9,2,FALSE)","v":2},28,17,2,1,0,8]
["E01022178","E01022178 Cotswold 002B","E01022178",{"$f":"VLOOKUP(A422,'Output Areas'!$A:$E,5,FALSE)","v":"Rural"},"Total: Accommodation type (excluding caravans / temporary structures)","Total: Tenure (excluding living rent free)","4 rooms",{"$f":"VLOOKUP(G422,Cntrol!$F$3:$G$9,2,FALSE)","v":2},62,34,19,2,0,7]
["E01022178","E01022178 Cotswold 002B","E01022178",{"$f":"VLOOKUP(A423,'Output Areas'!$A:$E,5,FALSE)","v":"Rural"},"Total: Accommodation type (excluding caravans / temporary structures)","Total: Tenure (excluding living rent free)","5 rooms",{"$f":"VLOOKUP(G423,Cntrol!$F$3:$G$9,2,FALSE)","v":3},100,55,30,5,2,8]
["E01022178","E01022178 Cotswold 002B","E01022178",{"$f":"VLOOKUP(A424,'Output Areas'!$A:$E,5,FALSE)","v":"Rural"},"Total: Accommodation type (excluding caravans / temporary structures)","Total: Tenure (excluding living rent free)","6 rooms",{"$f":"VLOOKUP(G424,Cntrol!$F$3:$G$9,2,FALSE)","v":3},109,54,34,12,1,8]
["E01022178","E01022178 Cotswold 002B","E01022178",{"$f":"VLOOKUP(A425,'Output Areas'!$A:$E,5,FALSE)","v":"Rural"},"Total: Accommodation type (excluding caravans / temporary structures)","Total: Tenure (excluding living rent free)","7 rooms",{"$f":"VLOOKUP(G425,Cntrol!$F$3:$G$9,2,FALSE)","v":4},82,27,40,12,1,2]
["E01022178","E01022178 Cotswold 002B","E01022178",{"$f":"VLOOKUP(A426,'Output Areas'!$A:$E,5,FALSE)","v":"Rural"},"Total: Accommodation type (excluding caravans / temporary structures)","Total: Tenure (excluding living rent free)","8 rooms or more",{"$f":"VLOOKUP(G426,Cntrol!$F$3:$G$9,2,FALSE)","v":5},180,35,96,29,19,1]
["E01022178","E01022178 Cotswold 002B","E01022178",{"$f":"VLOOKUP(A427,'Output Areas'!$A:$E,5,FALSE)","v":"Rural"},"Total: Accommodation type (excluding caravans / temporary structures)","Owned","Total: Number of rooms",{"$f":"VLOOKUP(G427,Cntrol!$F$3:$G$9,2,FALSE)","v":0},409,144,183,50,20,12]
["E01022178","E01022178 Cotswold 002B","E01022178",{"$f":"VLOOKUP(A428,'Output Areas'!$A:$E,5,FALSE)","v":"Rural"},"Total: Accommodation type (excluding caravans / temporary structures)","Owned","3 rooms or less",{"$f":"VLOOKUP(G428,Cntrol!$F$3:$G$9,2,FALSE)","v":2},1,0,0,0,0,1]
["E01022178","E01022178 Cotswold 002B","E01022178",{"$f":"VLOOKUP(A429,'Output Areas'!$A:$E,5,FALSE)","v":"Rural"},"Total: Accommodation type (excluding caravans / temporary structures)","Owned","4 rooms",{"$f":"VLOOKUP(G429,Cntrol!$F$3:$G$9,2,FALSE)","v":2},24,13,9,0,0,2]
["E01022178","E01022178 Cotswold 002B","E01022178",{"$f":"VLOOKUP(A430,'Output Areas'!$A:$E,5,FALSE)","v":"Rural"},"Total: Accommodation type (excluding caravans / temporary structures)","Owned","5 rooms",{"$f":"VLOOKUP(G430,Cntrol!$F$3:$G$9,2,FALSE)","v":3},60,32,20,4,1,3]
["E01022178","E01022178 Cotswold 002B","E01022178",{"$f":"VLOOKUP(A431,'Output Areas'!$A:$E,5,FALSE)","v":"Rural"},"Total: Accommodation type (excluding caravans / temporary structures)","Owned","6 rooms",{"$f":"VLOOKUP(G431,Cntrol!$F$3:$G$9,2,FALSE)","v":3},83,42,26,10,1,4]
["E01022178","E01022178 Cotswold 002B","E01022178",{"$f":"VLOOKUP(A432,'Output Areas'!$A:$E,5,FALSE)","v":"Rural"},"Total: Accommodation type (excluding caravans / temporary structures)","Owned","7 rooms",{"$f":"VLOOKUP(G432,Cntrol!$F$3:$G$9,2,FALSE)","v":4},73,23,36,11,1,2]
["E01022178","E01022178 Cotswold 002B","E01022178",{"$f":"VLOOKUP(A433,'Output Areas'!$A:$E,5,FALSE)","v":"Rural"},"Total: Accommodation type (excluding caravans / temporary structures)","Owned","8 rooms or more",{"$f":"VLOOKUP(G433,Cntrol!$F$3:$G$9,2,FALSE)","v":5},168,34,92,25,17,0]
["E01022178","E01022178 Cotswold 002B","E01022178",{"$f":"VLOOKUP(A434,'Output Areas'!$A:$E,5,FALSE)","v":"Rural"},"Total: Accommodation type (excluding caravans / temporary structures)","Shared ownership or rented (excluding living rent free)","Total: Number of rooms",{"$f":"VLOOKUP(G434,Cntrol!$F$3:$G$9,2,FALSE)","v":0},152,78,38,11,3,22]
["E01022178","E01022178 Cotswold 002B","E01022178",{"$f":"VLOOKUP(A435,'Output Areas'!$A:$E,5,FALSE)","v":"Rural"},"Total: Accommodation type (excluding caravans / temporary structures)","Shared ownership or rented (excluding living rent free)","3 rooms or less",{"$f":"VLOOKUP(G435,Cntrol!$F$3:$G$9,2,FALSE)","v":2},27,17,2,1,0,7]
["E01022178","E01022178 Cotswold 002B","E01022178",{"$f":"VLOOKUP(A436,'Output Areas'!$A:$E,5,FALSE)","v":"Rural"},"Total: Accommodation type (excluding caravans / temporary structures)","Shared ownership or rented (excluding living rent free)","4 rooms",{"$f":"VLOOKUP(G436,Cntrol!$F$3:$G$9,2,FALSE)","v":2},38,21,10,2,0,5]
["E01022178","E01022178 Cotswold 002B","E01022178",{"$f":"VLOOKUP(A437,'Output Areas'!$A:$E,5,FALSE)","v":"Rural"},"Total: Accommodation type (excluding caravans / temporary structures)","Shared ownership or rented (excluding living rent free)","5 rooms",{"$f":"VLOOKUP(G437,Cntrol!$F$3:$G$9,2,FALSE)","v":3},40,23,10,1,1,5]
["E01022178","E01022178 Cotswold 002B","E01022178",{"$f":"VLOOKUP(A438,'Output Areas'!$A:$E,5,FALSE)","v":"Rural"},"Total: Accommodation type (excluding caravans / temporary structures)","Shared ownership or rented (excluding living rent free)","6 rooms",{"$f":"VLOOKUP(G438,Cntrol!$F$3:$G$9,2,FALSE)","v":3},26,12,8,2,0,4]
["E01022178","E01022178 Cotswold 002B","E01022178",{"$f":"VLOOKUP(A439,'Output Areas'!$A:$E,5,FALSE)","v":"Rural"},"Total: Accommodation type (excluding caravans / temporary structures)","Shared ownership or rented (excluding living rent free)","7 rooms",{"$f":"VLOOKUP(G439,Cntrol!$F$3:$G$9,2,FALSE)","v":4},9,4,4,1,0,0]
["E01022178","E01022178 Cotswold 002B","E01022178",{"$f":"VLOOKUP(A440,'Output Areas'!$A:$E,5,FALSE)","v":"Rural"},"Total: Accommodation type (excluding caravans / temporary structures)","Shared ownership or rented (excluding living rent free)","8 rooms or more",{"$f":"VLOOKUP(G440,Cntrol!$F$3:$G$9,2,FALSE)","v":5},12,1,4,4,2,1]
["E01022178","E01022178 Cotswold 002B","E01022178",{"$f":"VLOOKUP(A441,'Output Areas'!$A:$E,5,FALSE)","v":"Rural"},"Detached; semi-detached; terraced whole house or bungalow","Total: Tenure (excluding living rent free)","Total: Number of rooms",{"$f":"VLOOKUP(G441,Cntrol!$F$3:$G$9,2,FALSE)","v":0},539,210,216,60,23,30]
["E01022178","E01022178 Cotswold 002B","E01022178",{"$f":"VLOOKUP(A442,'Output Areas'!$A:$E,5,FALSE)","v":"Rural"},"Detached; semi-detached; terraced whole house or bungalow","Total: Tenure (excluding living rent free)","3 rooms or less",{"$f":"VLOOKUP(G442,Cntrol!$F$3:$G$9,2,FALSE)","v":2},14,9,1,0,0,4]
["E01022178","E01022178 Cotswold 002B","E01022178",{"$f":"VLOOKUP(A443,'Output Areas'!$A:$E,5,FALSE)","v":"Rural"},"Detached; semi-detached; terraced whole house or bungalow","Total: Tenure (excluding living rent free)","4 rooms",{"$f":"VLOOKUP(G443,Cntrol!$F$3:$G$9,2,FALSE)","v":2},55,30,16,2,0,7]
["E01022178","E01022178 Cotswold 002B","E01022178",{"$f":"VLOOKUP(A444,'Output Areas'!$A:$E,5,FALSE)","v":"Rural"},"Detached; semi-detached; terraced whole house or bungalow","Total: Tenure (excluding living rent free)","5 rooms",{"$f":"VLOOKUP(G444,Cntrol!$F$3:$G$9,2,FALSE)","v":3},100,55,30,5,2,8]
["E01022178","E01022178 Cotswold 002B","E01022178",{"$f":"VLOOKUP(A445,'Output Areas'!$A:$E,5,FALSE)","v":"Rural"},"Detached; semi-detached; terraced whole house or bungalow","Total: Tenure (excluding living rent free)","6 rooms",{"$f":"VLOOKUP(G445,Cntrol!$F$3:$G$9,2,FALSE)","v":3},109,54,34,12,1,8]
["E01022178","E01022178 Cotswold 002B","E01022178",{"$f":"VLOOKUP(A446,'Output Areas'!$A:$E,5,FALSE)","v":"Rural"},"Detached; semi-detached; terraced whole house or bungalow","Total: Tenure (excluding living rent free)","7 rooms",{"$f":"VLOOKUP(G446,Cntrol!$F$3:$G$9,2,FALSE)","v":4},82,27,40,12,1,2]
["E01022178","E01022178 Cotswold 002B","E01022178",{"$f":"VLOOKUP(A447,'Output Areas'!$A:$E,5,FALSE)","v":"Rural"},"Detached; semi-detached; terraced whole house or bungalow","Total: Tenure (excluding living rent free)","8 rooms or more",{"$f":"VLOOKUP(G447,Cntrol!$F$3:$G$9,2,FALSE)","v":5},179,35,95,29,19,1]
["E01022178","E01022178 Cotswold 002B","E01022178",{"$f":"VLOOKUP(A448,'Output Areas'!$A:$E,5,FALSE)","v":"Rural"},"Detached; semi-detached; terraced whole house or bungalow","Owned","Total: Number of rooms",{"$f":"VLOOKUP(G448,Cntrol!$F$3:$G$9,2,FALSE)","v":0},408,144,182,50,20,12]
["E01022178","E01022178 Cotswold 002B","E01022178",{"$f":"VLOOKUP(A449,'Output Areas'!$A:$E,5,FALSE)","v":"Rural"},"Detached; semi-detached; terraced whole house or bungalow","Owned","3 rooms or less",{"$f":"VLOOKUP(G449,Cntrol!$F$3:$G$9,2,FALSE)","v":2},1,0,0,0,0,1]
["E01022178","E01022178 Cotswold 002B","E01022178",{"$f":"VLOOKUP(A450,'Output Areas'!$A:$E,5,FALSE)","v":"Rural"},"Detached; semi-detached; terraced whole house or bungalow","Owned","4 rooms",{"$f":"VLOOKUP(G450,Cntrol!$F$3:$G$9,2,FALSE)","v":2},23,13,8,0,0,2]
["E01022178","E01022178 Cotswold 002B","E01022178",{"$f":"VLOOKUP(A451,'Output Areas'!$A:$E,5,FALSE)","v":"Rural"},"Detached; semi-detached; terraced whole house or bungalow","Owned","5 rooms",{"$f":"VLOOKUP(G451,Cntrol!$F$3:$G$9,2,FALSE)","v":3},60,32,20,4,1,3]
["E01022178","E01022178 Cotswold 002B","E01022178",{"$f":"VLOOKUP(A452,'Output Areas'!$A:$E,5,FALSE)","v":"Rural"},"Detached; semi-detached; terraced whole house or bungalow","Owned","6 rooms",{"$f":"VLOOKUP(G452,Cntrol!$F$3:$G$9,2,FALSE)","v":3},83,42,26,10,1,4]
["E01022178","E01022178 Cotswold 002B","E01022178",{"$f":"VLOOKUP(A453,'Output Areas'!$A:$E,5,FALSE)","v":"Rural"},"Detached; semi-detached; terraced whole house or bungalow","Owned","7 rooms",{"$f":"VLOOKUP(G453,Cntrol!$F$3:$G$9,2,FALSE)","v":4},73,23,36,11,1,2]
["E01022178","E01022178 Cotswold 002B","E01022178",{"$f":"VLOOKUP(A454,'Output Areas'!$A:$E,5,FALSE)","v":"Rural"},"Detached; semi-detached; terraced whole house or bungalow","Owned","8 rooms or more",{"$f":"VLOOKUP(G454,Cntrol!$F$3:$G$9,2,FALSE)","v":5},168,34,92,25,17,0]
["E01022178","E01022178 Cotswold 002B","E01022178",{"$f":"VLOOKUP(A455,'Output Areas'!$A:$E,5,FALSE)","v":"Rural"},"Detached; semi-detached; terraced whole house or bungalow","Shared ownership or rented (excluding living rent free)","Total: Number of rooms",{"$f":"VLOOKUP(G455,Cntrol!$F$3:$G$9,2,FALSE)","v":0},131,66,34,10,3,18]
["E01022178","E01022178 Cotswold 002B","E01022178",{"$f":"VLOOKUP(A456,'Output Areas'!$A:$E,5,FALSE)","v":"Rural"},"Detached; semi-detached; terraced whole house or bungalow","Shared ownership or rented (excluding living rent free)","3 rooms or less",{"$f":"VLOOKUP(G456,Cntrol!$F$3:$G$9,2,FALSE)","v":2},13,9,1,0,0,3]
["E01022178","E01022178 Cotswold 002B","E01022178",{"$f":"VLOOKUP(A457,'Output Areas'!$A:$E,5,FALSE)","v":"Rural"},"Detached; semi-detached; terraced whole house or bungalow","Shared ownership or rented (excluding living rent free)","4 rooms",{"$f":"VLOOKUP(G457,Cntrol!$F$3:$G$9,2,FALSE)","v":2},32,17,8,2,0,5]
["E01022178","E01022178 Cotswold 002B","E01022178",{"$f":"VLOOKUP(A458,'Output Areas'!$A:$E,5,FALSE)","v":"Rural"},"Detached; semi-detached; terraced whole house or bungalow","Shared ownership or rented (excluding living rent free)","5 rooms",{"$f":"VLOOKUP(G458,Cntrol!$F$3:$G$9,2,FALSE)","v":3},40,23,10,1,1,5]
["E01022178","E01022178 Cotswold 002B","E01022178",{"$f":"VLOOKUP(A459,'Output Areas'!$A:$E,5,FALSE)","v":"Rural"},"Detached; semi-detached; terraced whole house or bungalow","Shared ownership or rented (excluding living rent free)","6 rooms",{"$f":"VLOOKUP(G459,Cntrol!$F$3:$G$9,2,FALSE)","v":3},26,12,8,2,0,4]
["E01022178","E01022178 Cotswold 002B","E01022178",{"$f":"VLOOKUP(A460,'Output Areas'!$A:$E,5,FALSE)","v":"Rural"},"Detached; semi-detached; terraced whole house or bungalow","Shared ownership or rented (excluding living rent free)","7 rooms",{"$f":"VLOOKUP(G460,Cntrol!$F$3:$G$9,2,FALSE)","v":4},9,4,4,1,0,0]
["E01022178","E01022178 Cotswold 002B","E01022178",{"$f":"VLOOKUP(A461,'Output Areas'!$A:$E,5,FALSE)","v":"Rural"},"Detached; semi-detached; terraced whole house or bungalow","Shared ownership or rented (excluding living rent free)","8 rooms or more",{"$f":"VLOOKUP(G461,Cntrol!$F$3:$G$9,2,FALSE)","v":5},11,1,3,4,2,1]
["E01022178","E01022178 Cotswold 002B","E01022178",{"$f":"VLOOKUP(A462,'Output Areas'!$A:$E,5,FALSE)","v":"Rural"},"A flat; maisonette; apartment","Total: Tenure (excluding living rent free)","Total: Number of rooms",{"$f":"VLOOKUP(G462,Cntrol!$F$3:$G$9,2,FALSE)","v":0},22,12,5,1,0,4]
["E01022178","E01022178 Cotswold 002B","E01022178",{"$f":"VLOOKUP(A463,'Output Areas'!$A:$E,5,FALSE)","v":"Rural"},"A flat; maisonette; apartment","Total: Tenure (excluding living rent free)","3 rooms or less",{"$f":"VLOOKUP(G463,Cntrol!$F$3:$G$9,2,FALSE)","v":2},14,8,1,1,0,4]
["E01022178","E01022178 Cotswold 002B","E01022178",{"$f":"VLOOKUP(A464,'Output Areas'!$A:$E,5,FALSE)","v":"Rural"},"A flat; maisonette; apartment","Total: Tenure (excluding living rent free)","4 rooms",{"$f":"VLOOKUP(G464,Cntrol!$F$3:$G$9,2,FALSE)","v":2},7,4,3,0,0,0]
["E01022178","E01022178 Cotswold 002B","E01022178",{"$f":"VLOOKUP(A465,'Output Areas'!$A:$E,5,FALSE)","v":"Rural"},"A flat; maisonette; apartment","Total: Tenure (excluding living rent free)","8 rooms or more",{"$f":"VLOOKUP(G465,Cntrol!$F$3:$G$9,2,FALSE)","v":5},1,0,1,0,0,0]
["E01022178","E01022178 Cotswold 002B","E01022178",{"$f":"VLOOKUP(A466,'Output Areas'!$A:$E,5,FALSE)","v":"Rural"},"A flat; maisonette; apartment","Owned","Total: Number of rooms",{"$f":"VLOOKUP(G466,Cntrol!$F$3:$G$9,2,FALSE)","v":0},1,0,1,0,0,0]
["E01022178","E01022178 Cotswold 002B","E01022178",{"$f":"VLOOKUP(A467,'Output Areas'!$A:$E,5,FALSE)","v":"Rural"},"A flat; maisonette; apartment","Owned","4 rooms",{"$f":"VLOOKUP(G467,Cntrol!$F$3:$G$9,2,FALSE)","v":2},1,0,1,0,0,0]
["E01022178","E01022178 Cotswold 002B","E01022178",{"$f":"VLOOKUP(A468,'Output Areas'!$A:$E,5,FALSE)","v":"Rural"},"A flat; maisonette; apartment","Shared ownership or rented (excluding living rent free)","Total: Number of rooms",{"$f":"VLOOKUP(G468,Cntrol!$F$3:$G$9,2,FALSE)","v":0},21,12,4,1,0,4]
["E01022178","E01022178 Cotswold 002B","E01022178",{"$f":"VLOOKUP(A469,'Output Areas'!$A:$E,5,FALSE)","v":"Rural"},"A flat; maisonette; apartment","Shared ownership or rented (excluding living rent free)","3 rooms or less",{"$f":"VLOOKUP(G469,Cntrol!$F$3:$G$9,2,FALSE)","v":2},14,8,1,1,0,4]
["E01022178","E01022178 Cotswold 002B","E01022178",{"$f":"VLOOKUP(A470,'Output Areas'!$A:$E,5,FALSE)","v":"Rural"},"A flat; maisonette; apartment","Shared ownership or rented (excluding living rent free)","4 rooms",{"$f":"VLOOKUP(G470,Cntrol!$F$3:$G$9,2,FALSE)","v":2},6,4,2,0,0,0]
["E01022178","E01022178 Cotswold 002B","E01022178",{"$f":"VLOOKUP(A471,'Output Areas'!$A:$E,5,FALSE)","v":"Rural"},"A flat; maisonette; apartment","Shared ownership or rented (excluding living rent free)","8 rooms or more",{"$f":"VLOOKUP(G471,Cntrol!$F$3:$G$9,2,FALSE)","v":5},1,0,1,0,0,0]
["E01022205","E01022205 Cotswold 002C","E01022205",{"$f":"VLOOKUP(A472,'Output Areas'!$A:$E,5,FALSE)","v":"Rural"},"Total: Accommodation type (excluding caravans / temporary structures)","Total: Tenure (excluding living rent free)","Total: Number of rooms",{"$f":"VLOOKUP(G472,Cntrol!$F$3:$G$9,2,FALSE)","v":0},774,306,270,97,30,71]
["E01022205","E01022205 Cotswold 002C","E01022205",{"$f":"VLOOKUP(A473,'Output Areas'!$A:$E,5,FALSE)","v":"Rural"},"Total: Accommodation type (excluding caravans / temporary structures)","Total: Tenure (excluding living rent free)","3 rooms or less",{"$f":"VLOOKUP(G473,Cntrol!$F$3:$G$9,2,FALSE)","v":2},36,10,7,3,0,16]
["E01022205","E01022205 Cotswold 002C","E01022205",{"$f":"VLOOKUP(A474,'Output Areas'!$A:$E,5,FALSE)","v":"Rural"},"Total: Accommodation type (excluding caravans / temporary structures)","Total: Tenure (excluding living rent free)","4 rooms",{"$f":"VLOOKUP(G474,Cntrol!$F$3:$G$9,2,FALSE)","v":2},113,62,27,9,0,15]
["E01022205","E01022205 Cotswold 002C","E01022205",{"$f":"VLOOKUP(A475,'Output Areas'!$A:$E,5,FALSE)","v":"Rural"},"Total: Accommodation type (excluding caravans / temporary structures)","Total: Tenure (excluding living rent free)","5 rooms",{"$f":"VLOOKUP(G475,Cntrol!$F$3:$G$9,2,FALSE)","v":3},135,74,32,14,1,14]
["E01022205","E01022205 Cotswold 002C","E01022205",{"$f":"VLOOKUP(A476,'Output Areas'!$A:$E,5,FALSE)","v":"Rural"},"Total: Accommodation type (excluding caravans / temporary structures)","Total: Tenure (excluding living rent free)","6 rooms",{"$f":"VLOOKUP(G476,Cntrol!$F$3:$G$9,2,FALSE)","v":3},164,65,66,13,3,17]
["E01022205","E01022205 Cotswold 002C","E01022205",{"$f":"VLOOKUP(A477,'Output Areas'!$A:$E,5,FALSE)","v":"Rural"},"Total: Accommodation type (excluding caravans / temporary structures)","Total: Tenure (excluding living rent free)","7 rooms",{"$f":"VLOOKUP(G477,Cntrol!$F$3:$G$9,2,FALSE)","v":4},103,45,35,16,5,2]
["E01022205","E01022205 Cotswold 002C","E01022205",{"$f":"VLOOKUP(A478,'Output Areas'!$A:$E,5,FALSE)","v":"Rural"},"Total: Accommodation type (excluding caravans / temporary structures)","Total: Tenure (excluding living rent free)","8 rooms or more",{"$f":"VLOOKUP(G478,Cntrol!$F$3:$G$9,2,FALSE)","v":5},223,50,103,42,21,7]
["E01022205","E01022205 Cotswold 002C","E01022205",{"$f":"VLOOKUP(A479,'Output Areas'!$A:$E,5,FALSE)","v":"Rural"},"Total: Accommodation type (excluding caravans / temporary structures)","Owned","Total: Number of rooms",{"$f":"VLOOKUP(G479,Cntrol!$F$3:$G$9,2,FALSE)","v":0},505,196,185,68,25,31]
["E01022205","E01022205 Cotswold 002C","E01022205",{"$f":"VLOOKUP(A480,'Output Areas'!$A:$E,5,FALSE)","v":"Rural"},"Total: Accommodation type (excluding caravans / temporary structures)","Owned","3 rooms or less",{"$f":"VLOOKUP(G480,Cntrol!$F$3:$G$9,2,FALSE)","v":2},12,2,3,1,0,6]
["E01022205","E01022205 Cotswold 002C","E01022205",{"$f":"VLOOKUP(A481,'Output Areas'!$A:$E,5,FALSE)","v":"Rural"},"Total: Accommodation type (excluding caravans / temporary structures)","Owned","4 rooms",{"$f":"VLOOKUP(G481,Cntrol!$F$3:$G$9,2,FALSE)","v":2},41,22,12,4,0,3]
["E01022205","E01022205 Cotswold 002C","E01022205",{"$f":"VLOOKUP(A482,'Output Areas'!$A:$E,5,FALSE)","v":"Rural"},"Total: Accommodation type (excluding caravans / temporary structures)","Owned","5 rooms",{"$f":"VLOOKUP(G482,Cntrol!$F$3:$G$9,2,FALSE)","v":3},66,40,16,6,0,4]
["E01022205","E01022205 Cotswold 002C","E01022205",{"$f":"VLOOKUP(A483,'Output Areas'!$A:$E,5,FALSE)","v":"Rural"},"Total: Accommodation type (excluding caravans / temporary structures)","Owned","6 rooms",{"$f":"VLOOKUP(G483,Cntrol!$F$3:$G$9,2,FALSE)","v":3},111,49,41,9,2,10]
["E01022205","E01022205 Cotswold 002C","E01022205",{"$f":"VLOOKUP(A484,'Output Areas'!$A:$E,5,FALSE)","v":"Rural"},"Total: Accommodation type (excluding caravans / temporary structures)","Owned","7 rooms",{"$f":"VLOOKUP(G484,Cntrol!$F$3:$G$9,2,FALSE)","v":4},78,36,25,11,4,2]
["E01022205","E01022205 Cotswold 002C","E01022205",{"$f":"VLOOKUP(A485,'Output Areas'!$A:$E,5,FALSE)","v":"Rural"},"Total: Accommodation type (excluding caravans / temporary structures)","Owned","8 rooms or more",{"$f":"VLOOKUP(G485,Cntrol!$F$3:$G$9,2,FALSE)","v":5},197,47,88,37,19,6]
["E01022205","E01022205 Cotswold 002C","E01022205",{"$f":"VLOOKUP(A486,'Output Areas'!$A:$E,5,FALSE)","v":"Rural"},"Total: Accommodation type (excluding caravans / temporary structures)","Shared ownership or rented (excluding living rent free)","Total: Number of rooms",{"$f":"VLOOKUP(G486,Cntrol!$F$3:$G$9,2,FALSE)","v":0},269,110,85,29,5,40]
["E01022205","E01022205 Cotswold 002C","E01022205",{"$f":"VLOOKUP(A487,'Output Areas'!$A:$E,5,FALSE)","v":"Rural"},"Total: Accommodation type (excluding caravans / temporary structures)","Shared ownership or rented (excluding living rent free)","3 rooms or less",{"$f":"VLOOKUP(G487,Cntrol!$F$3:$G$9,2,FALSE)","v":2},24,8,4,2,0,10]
["E01022205","E01022205 Cotswold 002C","E01022205",{"$f":"VLOOKUP(A488,'Output Areas'!$A:$E,5,FALSE)","v":"Rural"},"Total: Accommodation type (excluding caravans / temporary structures)","Shared ownership or rented (excluding living rent free)","4 rooms",{"$f":"VLOOKUP(G488,Cntrol!$F$3:$G$9,2,FALSE)","v":2},72,40,15,5,0,12]
["E01022205","E01022205 Cotswold 002C","E01022205",{"$f":"VLOOKUP(A489,'Output Areas'!$A:$E,5,FALSE)","v":"Rural"},"Total: Accommodation type (excluding caravans / temporary structures)","Shared ownership or rented (excluding living rent free)","5 rooms",{"$f":"VLOOKUP(G489,Cntrol!$F$3:$G$9,2,FALSE)","v":3},69,34,16,8,1,10]
["E01022205","E01022205 Cotswold 002C","E01022205",{"$f":"VLOOKUP(A490,'Output Areas'!$A:$E,5,FALSE)","v":"Rural"},"Total: Accommodation type (excluding caravans / temporary structures)","Shared ownership or rented (excluding living rent free)","6 rooms",{"$f":"VLOOKUP(G490,Cntrol!$F$3:$G$9,2,FALSE)","v":3},53,16,25,4,1,7]
["E01022205","E01022205 Cotswold 002C","E01022205",{"$f":"VLOOKUP(A491,'Output Areas'!$A:$E,5,FALSE)","v":"Rural"},"Total: Accommodation type (excluding caravans / temporary structures)","Shared ownership or rented (excluding living rent free)","7 rooms",{"$f":"VLOOKUP(G491,Cntrol!$F$3:$G$9,2,FALSE)","v":4},25,9,10,5,1,0]
["E01022205","E01022205 Cotswold 002C","E01022205",{"$f":"VLOOKUP(A492,'Output Areas'!$A:$E,5,FALSE)","v":"Rural"},"Total: Accommodation type (excluding caravans / temporary structures)","Shared ownership or rented (excluding living rent free)","8 rooms or more",{"$f":"VLOOKUP(G492,Cntrol!$F$3:$G$9,2,FALSE)","v":5},26,3,15,5,2,1]
["E01022205","E01022205 Cotswold 002C","E01022205",{"$f":"VLOOKUP(A493,'Output Areas'!$A:$E,5,FALSE)","v":"Rural"},"Detached; semi-detached; terraced whole house or bungalow","Total: Tenure (excluding living rent free)","Total: Number of rooms",{"$f":"VLOOKUP(G493,Cntrol!$F$3:$G$9,2,FALSE)","v":0},752,299,266,94,29,64]
["E01022205","E01022205 Cotswold 002C","E01022205",{"$f":"VLOOKUP(A494,'Output Areas'!$A:$E,5,FALSE)","v":"Rural"},"Detached; semi-detached; terraced whole house or bungalow","Total: Tenure (excluding living rent free)","3 rooms or less",{"$f":"VLOOKUP(G494,Cntrol!$F$3:$G$9,2,FALSE)","v":2},28,9,5,2,0,12]
["E01022205","E01022205 Cotswold 002C","E01022205",{"$f":"VLOOKUP(A495,'Output Areas'!$A:$E,5,FALSE)","v":"Rural"},"Detached; semi-detached; terraced whole house or bungalow","Total: Tenure (excluding living rent free)","4 rooms",{"$f":"VLOOKUP(G495,Cntrol!$F$3:$G$9,2,FALSE)","v":2},105,59,27,7,0,12]
["E01022205","E01022205 Cotswold 002C","E01022205",{"$f":"VLOOKUP(A496,'Output Areas'!$A:$E,5,FALSE)","v":"Rural"},"Detached; semi-detached; terraced whole house or bungalow","Total: Tenure (excluding living rent free)","5 rooms",{"$f":"VLOOKUP(G496,Cntrol!$F$3:$G$9,2,FALSE)","v":3},130,71,31,14,0,14]
["E01022205","E01022205 Cotswold 002C","E01022205",{"$f":"VLOOKUP(A497,'Output Areas'!$A:$E,5,FALSE)","v":"Rural"},"Detached; semi-detached; terraced whole house or bungalow","Total: Tenure (excluding living rent free)","6 rooms",{"$f":"VLOOKUP(G497,Cntrol!$F$3:$G$9,2,FALSE)","v":3},163,65,65,13,3,17]
["E01022205","E01022205 Cotswold 002C","E01022205",{"$f":"VLOOKUP(A498,'Output Areas'!$A:$E,5,FALSE)","v":"Rural"},"Detached; semi-detached; terraced whole house or bungalow","Total: Tenure (excluding living rent free)","7 rooms",{"$f":"VLOOKUP(G498,Cntrol!$F$3:$G$9,2,FALSE)","v":4},103,45,35,16,5,2]
["E01022205","E01022205 Cotswold 002C","E01022205",{"$f":"VLOOKUP(A499,'Output Areas'!$A:$E,5,FALSE)","v":"Rural"},"Detached; semi-detached; terraced whole house or bungalow","Total: Tenure (excluding living rent free)","8 rooms or more",{"$f":"VLOOKUP(G499,Cntrol!$F$3:$G$9,2,FALSE)","v":5},223,50,103,42,21,7]
["E01022205","E01022205 Cotswold 002C","E01022205",{"$f":"VLOOKUP(A500,'Output Areas'!$A:$E,5,FALSE)","v":"Rural"},"Detached; semi-detached; terraced whole house or bungalow","Owned","Total: Number of rooms",{"$f":"VLOOKUP(G500,Cntrol!$F$3:$G$9,2,FALSE)","v":0},500,194,184,68,25,29]
["E01022205","E01022205 Cotswold 002C","E01022205",{"$f":"VLOOKUP(A501,'Output Areas'!$A:$E,5,FALSE)","v":"Rural"},"Detached; semi-detached; terraced whole house or bungalow","Owned","3 rooms or less",{"$f":"VLOOKUP(G501,Cntrol!$F$3:$G$9,2,FALSE)","v":2},10,2,3,1,0,4]
["E01022205","E01022205 Cotswold 002C","E01022205",{"$f":"VLOOKUP(A502,'Output Areas'!$A:$E,5,FALSE)","v":"Rural"},"Detached; semi-detached; terraced whole house or bungalow","Owned","4 rooms",{"$f":"VLOOKUP(G502,Cntrol!$F$3:$G$9,2,FALSE)","v":2},40,21,12,4,0,3]
["E01022205","E01022205 Cotswold 002C","E01022205",{"$f":"VLOOKUP(A503,'Output Areas'!$A:$E,5,FALSE)","v":"Rural"},"Detached; semi-detached; terraced whole house or bungalow","Owned","5 rooms",{"$f":"VLOOKUP(G503,Cntrol!$F$3:$G$9,2,FALSE)","v":3},64,39,15,6,0,4]
["E01022205","E01022205 Cotswold 002C","E01022205",{"$f":"VLOOKUP(A504,'Output Areas'!$A:$E,5,FALSE)","v":"Rural"},"Detached; semi-detached; terraced whole house or bungalow","Owned","6 rooms",{"$f":"VLOOKUP(G504,Cntrol!$F$3:$G$9,2,FALSE)","v":3},111,49,41,9,2,10]
["E01022205","E01022205 Cotswold 002C","E01022205",{"$f":"VLOOKUP(A505,'Output Areas'!$A:$E,5,FALSE)","v":"Rural"},"Detached; semi-detached; terraced whole house or bungalow","Owned","7 rooms",{"$f":"VLOOKUP(G505,Cntrol!$F$3:$G$9,2,FALSE)","v":4},78,36,25,11,4,2]
["E01022205","E01022205 Cotswold 002C","E01022205",{"$f":"VLOOKUP(A506,'Output Areas'!$A:$E,5,FALSE)","v":"Rural"},"Detached; semi-detached; terraced whole house or bungalow","Owned","8 rooms or more",{"$f":"VLOOKUP(G506,Cntrol!$F$3:$G$9,2,FALSE)","v":5},197,47,88,37,19,6]
["E01022205","E01022205 Cotswold 002C","E01022205",{"$f":"VLOOKUP(A507,'Output Areas'!$A:$E,5,FALSE)","v":"Rural"},"Detached; semi-detached; terraced whole house or bungalow","Shared ownership or rented (excluding living rent free)","Total: Number of rooms",{"$f":"VLOOKUP(G507,Cntrol!$F$3:$G$9,2,FALSE)","v":0},252,105,82,26,4,35]
["E01022205","E01022205 Cotswold 002C","E01022205",{"$f":"VLOOKUP(A508,'Output Areas'!$A:$E,5,FALSE)","v":"Rural"},"Detached; semi-detached; terraced whole house or bungalow","Shared ownership or rented (excluding living rent free)","3 rooms or less",{"$f":"VLOOKUP(G508,Cntrol!$F$3:$G$9,2,FALSE)","v":2},18,7,2,1,0,8]
["E01022205","E01022205 Cotswold 002C","E01022205",{"$f":"VLOOKUP(A509,'Output Areas'!$A:$E,5,FALSE)","v":"Rural"},"Detached; semi-detached; terraced whole house or bungalow","Shared ownership or rented (excluding living rent free)","4 rooms",{"$f":"VLOOKUP(G509,Cntrol!$F$3:$G$9,2,FALSE)","v":2},65,38,15,3,0,9]
["E01022205","E01022205 Cotswold 002C","E01022205",{"$f":"VLOOKUP(A510,'Output Areas'!$A:$E,5,FALSE)","v":"Rural"},"Detached; semi-detached; terraced whole house or bungalow","Shared ownership or rented (excluding living rent free)","5 rooms",{"$f":"VLOOKUP(G510,Cntrol!$F$3:$G$9,2,FALSE)","v":3},66,32,16,8,0,10]
["E01022205","E01022205 Cotswold 002C","E01022205",{"$f":"VLOOKUP(A511,'Output Areas'!$A:$E,5,FALSE)","v":"Rural"},"Detached; semi-detached; terraced whole house or bungalow","Shared ownership or rented (excluding living rent free)","6 rooms",{"$f":"VLOOKUP(G511,Cntrol!$F$3:$G$9,2,FALSE)","v":3},52,16,24,4,1,7]
["E01022205","E01022205 Cotswold 002C","E01022205",{"$f":"VLOOKUP(A512,'Output Areas'!$A:$E,5,FALSE)","v":"Rural"},"Detached; semi-detached; terraced whole house or bungalow","Shared ownership or rented (excluding living rent free)","7 rooms",{"$f":"VLOOKUP(G512,Cntrol!$F$3:$G$9,2,FALSE)","v":4},25,9,10,5,1,0]
["E01022205","E01022205 Cotswold 002C","E01022205",{"$f":"VLOOKUP(A513,'Output Areas'!$A:$E,5,FALSE)","v":"Rural"},"Detached; semi-detached; terraced whole house or bungalow","Shared ownership or rented (excluding living rent free)","8 rooms or more",{"$f":"VLOOKUP(G513,Cntrol!$F$3:$G$9,2,FALSE)","v":5},26,3,15,5,2,1]
["E01022205","E01022205 Cotswold 002C","E01022205",{"$f":"VLOOKUP(A514,'Output Areas'!$A:$E,5,FALSE)","v":"Rural"},"A flat; maisonette; apartment","Total: Tenure (excluding living rent free)","Total: Number of rooms",{"$f":"VLOOKUP(G514,Cntrol!$F$3:$G$9,2,FALSE)","v":0},22,7,4,3,1,7]
["E01022205","E01022205 Cotswold 002C","E01022205",{"$f":"VLOOKUP(A515,'Output Areas'!$A:$E,5,FALSE)","v":"Rural"},"A flat; maisonette; apartment","Total: Tenure (excluding living rent free)","3 rooms or less",{"$f":"VLOOKUP(G515,Cntrol!$F$3:$G$9,2,FALSE)","v":2},8,1,2,1,0,4]
["E01022205","E01022205 Cotswold 002C","E01022205",{"$f":"VLOOKUP(A516,'Output Areas'!$A:$E,5,FALSE)","v":"Rural"},"A flat; maisonette; apartment","Total: Tenure (excluding living rent free)","4 rooms",{"$f":"VLOOKUP(G516,Cntrol!$F$3:$G$9,2,FALSE)","v":2},8,3,0,2,0,3]
["E01022205","E01022205 Cotswold 002C","E01022205",{"$f":"VLOOKUP(A517,'Output Areas'!$A:$E,5,FALSE)","v":"Rural"},"A flat; maisonette; apartment","Total: Tenure (excluding living rent free)","5 rooms",{"$f":"VLOOKUP(G517,Cntrol!$F$3:$G$9,2,FALSE)","v":3},5,3,1,0,1,0]
["E01022205","E01022205 Cotswold 002C","E01022205",{"$f":"VLOOKUP(A518,'Output Areas'!$A:$E,5,FALSE)","v":"Rural"},"A flat; maisonette; apartment","Total: Tenure (excluding living rent free)","6 rooms",{"$f":"VLOOKUP(G518,Cntrol!$F$3:$G$9,2,FALSE)","v":3},1,0,1,0,0,0]
["E01022205","E01022205 Cotswold 002C","E01022205",{"$f":"VLOOKUP(A519,'Output Areas'!$A:$E,5,FALSE)","v":"Rural"},"A flat; maisonette; apartment","Owned","Total: Number of rooms",{"$f":"VLOOKUP(G519,Cntrol!$F$3:$G$9,2,FALSE)","v":0},5,2,1,0,0,2]
["E01022205","E01022205 Cotswold 002C","E01022205",{"$f":"VLOOKUP(A520,'Output Areas'!$A:$E,5,FALSE)","v":"Rural"},"A flat; maisonette; apartment","Owned","3 rooms or less",{"$f":"VLOOKUP(G520,Cntrol!$F$3:$G$9,2,FALSE)","v":2},2,0,0,0,0,2]
["E01022205","E01022205 Cotswold 002C","E01022205",{"$f":"VLOOKUP(A521,'Output Areas'!$A:$E,5,FALSE)","v":"Rural"},"A flat; maisonette; apartment","Owned","4 rooms",{"$f":"VLOOKUP(G521,Cntrol!$F$3:$G$9,2,FALSE)","v":2},1,1,0,0,0,0]
["E01022205","E01022205 Cotswold 002C","E01022205",{"$f":"VLOOKUP(A522,'Output Areas'!$A:$E,5,FALSE)","v":"Rural"},"A flat; maisonette; apartment","Owned","5 rooms",{"$f":"VLOOKUP(G522,Cntrol!$F$3:$G$9,2,FALSE)","v":3},2,1,1,0,0,0]
["E01022205","E01022205 Cotswold 002C","E01022205",{"$f":"VLOOKUP(A523,'Output Areas'!$A:$E,5,FALSE)","v":"Rural"},"A flat; maisonette; apartment","Shared ownership or rented (excluding living rent free)","Total: Number of rooms",{"$f":"VLOOKUP(G523,Cntrol!$F$3:$G$9,2,FALSE)","v":0},17,5,3,3,1,5]
["E01022205","E01022205 Cotswold 002C","E01022205",{"$f":"VLOOKUP(A524,'Output Areas'!$A:$E,5,FALSE)","v":"Rural"},"A flat; maisonette; apartment","Shared ownership or rented (excluding living rent free)","3 rooms or less",{"$f":"VLOOKUP(G524,Cntrol!$F$3:$G$9,2,FALSE)","v":2},6,1,2,1,0,2]
["E01022205","E01022205 Cotswold 002C","E01022205",{"$f":"VLOOKUP(A525,'Output Areas'!$A:$E,5,FALSE)","v":"Rural"},"A flat; maisonette; apartment","Shared ownership or rented (excluding living rent free)","4 rooms",{"$f":"VLOOKUP(G525,Cntrol!$F$3:$G$9,2,FALSE)","v":2},7,2,0,2,0,3]
["E01022205","E01022205 Cotswold 002C","E01022205",{"$f":"VLOOKUP(A526,'Output Areas'!$A:$E,5,FALSE)","v":"Rural"},"A flat; maisonette; apartment","Shared ownership or rented (excluding living rent free)","5 rooms",{"$f":"VLOOKUP(G526,Cntrol!$F$3:$G$9,2,FALSE)","v":3},3,2,0,0,1,0]
["E01022205","E01022205 Cotswold 002C","E01022205",{"$f":"VLOOKUP(A527,'Output Areas'!$A:$E,5,FALSE)","v":"Rural"},"A flat; maisonette; apartment","Shared ownership or rented (excluding living rent free)","6 rooms",{"$f":"VLOOKUP(G527,Cntrol!$F$3:$G$9,2,FALSE)","v":3},1,0,1,0,0,0]
["E01022211","E01022211 Cotswold 002D","E01022211",{"$f":"VLOOKUP(A528,'Output Areas'!$A:$E,5,FALSE)","v":"Small Settlements"},"Total: Accommodation type (excluding caravans / temporary structures)","Total: Tenure (excluding living rent free)","Total: Number of rooms",{"$f":"VLOOKUP(G528,Cntrol!$F$3:$G$9,2,FALSE)","v":0},919,428,224,36,15,216]
["E01022211","E01022211 Cotswold 002D","E01022211",{"$f":"VLOOKUP(A529,'Output Areas'!$A:$E,5,FALSE)","v":"Small Settlements"},"Total: Accommodation type (excluding caravans / temporary structures)","Total: Tenure (excluding living rent free)","3 rooms or less",{"$f":"VLOOKUP(G529,Cntrol!$F$3:$G$9,2,FALSE)","v":2},127,52,10,1,2,62]
["E01022211","E01022211 Cotswold 002D","E01022211",{"$f":"VLOOKUP(A530,'Output Areas'!$A:$E,5,FALSE)","v":"Small Settlements"},"Total: Accommodation type (excluding caravans / temporary structures)","Total: Tenure (excluding living rent free)","4 rooms",{"$f":"VLOOKUP(G530,Cntrol!$F$3:$G$9,2,FALSE)","v":2},210,112,32,0,0,66]
["E01022211","E01022211 Cotswold 002D","E01022211",{"$f":"VLOOKUP(A531,'Output Areas'!$A:$E,5,FALSE)","v":"Small Settlements"},"Total: Accommodation type (excluding caravans / temporary structures)","Total: Tenure (excluding living rent free)","5 rooms",{"$f":"VLOOKUP(G531,Cntrol!$F$3:$G$9,2,FALSE)","v":3},219,110,52,6,5,46]
["E01022211","E01022211 Cotswold 002D","E01022211",{"$f":"VLOOKUP(A532,'Output Areas'!$A:$E,5,FALSE)","v":"Small Settlements"},"Total: Accommodation type (excluding caravans / temporary structures)","Total: Tenure (excluding living rent free)","6 rooms",{"$f":"VLOOKUP(G532,Cntrol!$F$3:$G$9,2,FALSE)","v":3},164,72,47,13,2,30]
["E01022211","E01022211 Cotswold 002D","E01022211",{"$f":"VLOOKUP(A533,'Output Areas'!$A:$E,5,FALSE)","v":"Small Settlements"},"Total: Accommodation type (excluding caravans / temporary structures)","Total: Tenure (excluding living rent free)","7 rooms",{"$f":"VLOOKUP(G533,Cntrol!$F$3:$G$9,2,FALSE)","v":4},77,41,23,6,1,6]
["E01022211","E01022211 Cotswold 002D","E01022211",{"$f":"VLOOKUP(A534,'Output Areas'!$A:$E,5,FALSE)","v":"Small Settlements"},"Total: Accommodation type (excluding caravans / temporary structures)","Total: Tenure (excluding living rent free)","8 rooms or more",{"$f":"VLOOKUP(G534,Cntrol!$F$3:$G$9,2,FALSE)","v":5},122,41,60,10,5,6]
["E01022211","E01022211 Cotswold 002D","E01022211",{"$f":"VLOOKUP(A535,'Output Areas'!$A:$E,5,FALSE)","v":"Small Settlements"},"Total: Accommodation type (excluding caravans / temporary structures)","Owned","Total: Number of rooms",{"$f":"VLOOKUP(G535,Cntrol!$F$3:$G$9,2,FALSE)","v":0},527,247,149,26,14,91]
["E01022211","E01022211 Cotswold 002D","E01022211",{"$f":"VLOOKUP(A536,'Output Areas'!$A:$E,5,FALSE)","v":"Small Settlements"},"Total: Accommodation type (excluding caravans / temporary structures)","Owned","3 rooms or less",{"$f":"VLOOKUP(G536,Cntrol!$F$3:$G$9,2,FALSE)","v":2},23,10,2,0,2,9]
["E01022211","E01022211 Cotswold 002D","E01022211",{"$f":"VLOOKUP(A537,'Output Areas'!$A:$E,5,FALSE)","v":"Small Settlements"},"Total: Accommodation type (excluding caravans / temporary structures)","Owned","4 rooms",{"$f":"VLOOKUP(G537,Cntrol!$F$3:$G$9,2,FALSE)","v":2},89,53,7,0,0,29]
["E01022211","E01022211 Cotswold 002D","E01022211",{"$f":"VLOOKUP(A538,'Output Areas'!$A:$E,5,FALSE)","v":"Small Settlements"},"Total: Accommodation type (excluding caravans / temporary structures)","Owned","5 rooms",{"$f":"VLOOKUP(G538,Cntrol!$F$3:$G$9,2,FALSE)","v":3},123,63,27,4,5,24]
["E01022211","E01022211 Cotswold 002D","E01022211",{"$f":"VLOOKUP(A539,'Output Areas'!$A:$E,5,FALSE)","v":"Small Settlements"},"Total: Accommodation type (excluding caravans / temporary structures)","Owned","6 rooms",{"$f":"VLOOKUP(G539,Cntrol!$F$3:$G$9,2,FALSE)","v":3},115,52,33,10,1,19]
["E01022211","E01022211 Cotswold 002D","E01022211",{"$f":"VLOOKUP(A540,'Output Areas'!$A:$E,5,FALSE)","v":"Small Settlements"},"Total: Accommodation type (excluding caravans / temporary structures)","Owned","7 rooms",{"$f":"VLOOKUP(G540,Cntrol!$F$3:$G$9,2,FALSE)","v":4},65,35,21,2,1,6]
["E01022211","E01022211 Cotswold 002D","E01022211",{"$f":"VLOOKUP(A541,'Output Areas'!$A:$E,5,FALSE)","v":"Small Settlements"},"Total: Accommodation type (excluding caravans / temporary structures)","Owned","8 rooms or more",{"$f":"VLOOKUP(G541,Cntrol!$F$3:$G$9,2,FALSE)","v":5},112,34,59,10,5,4]
["E01022211","E01022211 Cotswold 002D","E01022211",{"$f":"VLOOKUP(A542,'Output Areas'!$A:$E,5,FALSE)","v":"Small Settlements"},"Total: Accommodation type (excluding caravans / temporary structures)","Shared ownership or rented (excluding living rent free)","Total: Number of rooms",{"$f":"VLOOKUP(G542,Cntrol!$F$3:$G$9,2,FALSE)","v":0},392,181,75,10,1,125]
["E01022211","E01022211 Cotswold 002D","E01022211",{"$f":"VLOOKUP(A543,'Output Areas'!$A:$E,5,FALSE)","v":"Small Settlements"},"Total: Accommodation type (excluding caravans / temporary structures)","Shared ownership or rented (excluding living rent free)","3 rooms or less",{"$f":"VLOOKUP(G543,Cntrol!$F$3:$G$9,2,FALSE)","v":2},104,42,8,1,0,53]
["E01022211","E01022211 Cotswold 002D","E01022211",{"$f":"VLOOKUP(A544,'Output Areas'!$A:$E,5,FALSE)","v":"Small Settlements"},"Total: Accommodation type (excluding caravans / temporary structures)","Shared ownership or rented (excluding living rent free)","4 rooms",{"$f":"VLOOKUP(G544,Cntrol!$F$3:$G$9,2,FALSE)","v":2},121,59,25,0,0,37]
["E01022211","E01022211 Cotswold 002D","E01022211",{"$f":"VLOOKUP(A545,'Output Areas'!$A:$E,5,FALSE)","v":"Small Settlements"},"Total: Accommodation type (excluding caravans / temporary structures)","Shared ownership or rented (excluding living rent free)","5 rooms",{"$f":"VLOOKUP(G545,Cntrol!$F$3:$G$9,2,FALSE)","v":3},96,47,25,2,0,22]
["E01022211","E01022211 Cotswold 002D","E01022211",{"$f":"VLOOKUP(A546,'Output Areas'!$A:$E,5,FALSE)","v":"Small Settlements"},"Total: Accommodation type (excluding caravans / temporary structures)","Shared ownership or rented (excluding living rent free)","6 rooms",{"$f":"VLOOKUP(G546,Cntrol!$F$3:$G$9,2,FALSE)","v":3},49,20,14,3,1,11]
["E01022211","E01022211 Cotswold 002D","E01022211",{"$f":"VLOOKUP(A547,'Output Areas'!$A:$E,5,FALSE)","v":"Small Settlements"},"Total: Accommodation type (excluding caravans / temporary structures)","Shared ownership or rented (excluding living rent free)","7 rooms",{"$f":"VLOOKUP(G547,Cntrol!$F$3:$G$9,2,FALSE)","v":4},12,6,2,4,0,0]
["E01022211","E01022211 Cotswold 002D","E01022211",{"$f":"VLOOKUP(A548,'Output Areas'!$A:$E,5,FALSE)","v":"Small Settlements"},"Total: Accommodation type (excluding caravans / temporary structures)","Shared ownership or rented (excluding living rent free)","8 rooms or more",{"$f":"VLOOKUP(G548,Cntrol!$F$3:$G$9,2,FALSE)","v":5},10,7,1,0,0,2]
["E01022211","E01022211 Cotswold 002D","E01022211",{"$f":"VLOOKUP(A549,'Output Areas'!$A:$E,5,FALSE)","v":"Small Settlements"},"Detached; semi-detached; terraced whole house or bungalow","Total: Tenure (excluding living rent free)","Total: Number of rooms",{"$f":"VLOOKUP(G549,Cntrol!$F$3:$G$9,2,FALSE)","v":0},706,336,204,35,14,117]
["E01022211","E01022211 Cotswold 002D","E01022211",{"$f":"VLOOKUP(A550,'Output Areas'!$A:$E,5,FALSE)","v":"Small Settlements"},"Detached; semi-detached; terraced whole house or bungalow","Total: Tenure (excluding living rent free)","3 rooms or less",{"$f":"VLOOKUP(G550,Cntrol!$F$3:$G$9,2,FALSE)","v":2},15,10,3,0,1,1]
["E01022211","E01022211 Cotswold 002D","E01022211",{"$f":"VLOOKUP(A551,'Output Areas'!$A:$E,5,FALSE)","v":"Small Settlements"},"Detached; semi-detached; terraced whole house or bungalow","Total: Tenure (excluding living rent free)","4 rooms",{"$f":"VLOOKUP(G551,Cntrol!$F$3:$G$9,2,FALSE)","v":2},129,72,25,0,0,32]
["E01022211","E01022211 Cotswold 002D","E01022211",{"$f":"VLOOKUP(A552,'Output Areas'!$A:$E,5,FALSE)","v":"Small Settlements"},"Detached; semi-detached; terraced whole house or bungalow","Total: Tenure (excluding living rent free)","5 rooms",{"$f":"VLOOKUP(G552,Cntrol!$F$3:$G$9,2,FALSE)","v":3},205,102,49,6,5,43]
["E01022211","E01022211 Cotswold 002D","E01022211",{"$f":"VLOOKUP(A553,'Output Areas'!$A:$E,5,FALSE)","v":"Small Settlements"},"Detached; semi-detached; terraced whole house or bungalow","Total: Tenure (excluding living rent free)","6 rooms",{"$f":"VLOOKUP(G553,Cntrol!$F$3:$G$9,2,FALSE)","v":3},161,71,46,13,2,29]
["E01022211","E01022211 Cotswold 002D","E01022211",{"$f":"VLOOKUP(A554,'Output Areas'!$A:$E,5,FALSE)","v":"Small Settlements"},"Detached; semi-detached; terraced whole house or bungalow","Total: Tenure (excluding living rent free)","7 rooms",{"$f":"VLOOKUP(G554,Cntrol!$F$3:$G$9,2,FALSE)","v":4},76,40,23,6,1,6]
["E01022211","E01022211 Cotswold 002D","E01022211",{"$f":"VLOOKUP(A555,'Output Areas'!$A:$E,5,FALSE)","v":"Small Settlements"},"Detached; semi-detached; terraced whole house or bungalow","Total: Tenure (excluding living rent free)","8 rooms or more",{"$f":"VLOOKUP(G555,Cntrol!$F$3:$G$9,2,FALSE)","v":5},120,41,58,10,5,6]
["E01022211","E01022211 Cotswold 002D","E01022211",{"$f":"VLOOKUP(A556,'Output Areas'!$A:$E,5,FALSE)","v":"Small Settlements"},"Detached; semi-detached; terraced whole house or bungalow","Owned","Total: Number of rooms",{"$f":"VLOOKUP(G556,Cntrol!$F$3:$G$9,2,FALSE)","v":0},466,217,143,26,13,67]
["E01022211","E01022211 Cotswold 002D","E01022211",{"$f":"VLOOKUP(A557,'Output Areas'!$A:$E,5,FALSE)","v":"Small Settlements"},"Detached; semi-detached; terraced whole house or bungalow","Owned","3 rooms or less",{"$f":"VLOOKUP(G557,Cntrol!$F$3:$G$9,2,FALSE)","v":2},7,5,0,0,1,1]
["E01022211","E01022211 Cotswold 002D","E01022211",{"$f":"VLOOKUP(A558,'Output Areas'!$A:$E,5,FALSE)","v":"Small Settlements"},"Detached; semi-detached; terraced whole house or bungalow","Owned","4 rooms",{"$f":"VLOOKUP(G558,Cntrol!$F$3:$G$9,2,FALSE)","v":2},56,33,7,0,0,16]
["E01022211","E01022211 Cotswold 002D","E01022211",{"$f":"VLOOKUP(A559,'Output Areas'!$A:$E,5,FALSE)","v":"Small Settlements"},"Detached; semi-detached; terraced whole house or bungalow","Owned","5 rooms",{"$f":"VLOOKUP(G559,Cntrol!$F$3:$G$9,2,FALSE)","v":3},115,59,26,4,5,21]
["E01022211","E01022211 Cotswold 002D","E01022211",{"$f":"VLOOKUP(A560,'Output Areas'!$A:$E,5,FALSE)","v":"Small Settlements"},"Detached; semi-detached; terraced whole house or bungalow","Owned","6 rooms",{"$f":"VLOOKUP(G560,Cntrol!$F$3:$G$9,2,FALSE)","v":3},114,52,32,10,1,19]
["E01022211","E01022211 Cotswold 002D","E01022211",{"$f":"VLOOKUP(A561,'Output Areas'!$A:$E,5,FALSE)","v":"Small Settlements"},"Detached; semi-detached; terraced whole house or bungalow","Owned","7 rooms",{"$f":"VLOOKUP(G561,Cntrol!$F$3:$G$9,2,FALSE)","v":4},64,34,21,2,1,6]
["E01022211","E01022211 Cotswold 002D","E01022211",{"$f":"VLOOKUP(A562,'Output Areas'!$A:$E,5,FALSE)","v":"Small Settlements"},"Detached; semi-detached; terraced whole house or bungalow","Owned","8 rooms or more",{"$f":"VLOOKUP(G562,Cntrol!$F$3:$G$9,2,FALSE)","v":5},110,34,57,10,5,4]
["E01022211","E01022211 Cotswold 002D","E01022211",{"$f":"VLOOKUP(A563,'Output Areas'!$A:$E,5,FALSE)","v":"Small Settlements"},"Detached; semi-detached; terraced whole house or bungalow","Shared ownership or rented (excluding living rent free)","Total: Number of rooms",{"$f":"VLOOKUP(G563,Cntrol!$F$3:$G$9,2,FALSE)","v":0},240,119,61,9,1,50]
["E01022211","E01022211 Cotswold 002D","E01022211",{"$f":"VLOOKUP(A564,'Output Areas'!$A:$E,5,FALSE)","v":"Small Settlements"},"Detached; semi-detached; terraced whole house or bungalow","Shared ownership or rented (excluding living rent free)","3 rooms or less",{"$f":"VLOOKUP(G564,Cntrol!$F$3:$G$9,2,FALSE)","v":2},8,5,3,0,0,0]
["E01022211","E01022211 Cotswold 002D","E01022211",{"$f":"VLOOKUP(A565,'Output Areas'!$A:$E,5,FALSE)","v":"Small Settlements"},"Detached; semi-detached; terraced whole house or bungalow","Shared ownership or rented (excluding living rent free)","4 rooms",{"$f":"VLOOKUP(G565,Cntrol!$F$3:$G$9,2,FALSE)","v":2},73,39,18,0,0,16]
["E01022211","E01022211 Cotswold 002D","E01022211",{"$f":"VLOOKUP(A566,'Output Areas'!$A:$E,5,FALSE)","v":"Small Settlements"},"Detached; semi-detached; terraced whole house or bungalow","Shared ownership or rented (excluding living rent free)","5 rooms",{"$f":"VLOOKUP(G566,Cntrol!$F$3:$G$9,2,FALSE)","v":3},90,43,23,2,0,22]
["E01022211","E01022211 Cotswold 002D","E01022211",{"$f":"VLOOKUP(A567,'Output Areas'!$A:$E,5,FALSE)","v":"Small Settlements"},"Detached; semi-detached; terraced whole house or bungalow","Shared ownership or rented (excluding living rent free)","6 rooms",{"$f":"VLOOKUP(G567,Cntrol!$F$3:$G$9,2,FALSE)","v":3},47,19,14,3,1,10]
["E01022211","E01022211 Cotswold 002D","E01022211",{"$f":"VLOOKUP(A568,'Output Areas'!$A:$E,5,FALSE)","v":"Small Settlements"},"Detached; semi-detached; terraced whole house or bungalow","Shared ownership or rented (excluding living rent free)","7 rooms",{"$f":"VLOOKUP(G568,Cntrol!$F$3:$G$9,2,FALSE)","v":4},12,6,2,4,0,0]
["E01022211","E01022211 Cotswold 002D","E01022211",{"$f":"VLOOKUP(A569,'Output Areas'!$A:$E,5,FALSE)","v":"Small Settlements"},"Detached; semi-detached; terraced whole house or bungalow","Shared ownership or rented (excluding living rent free)","8 rooms or more",{"$f":"VLOOKUP(G569,Cntrol!$F$3:$G$9,2,FALSE)","v":5},10,7,1,0,0,2]
["E01022211","E01022211 Cotswold 002D","E01022211",{"$f":"VLOOKUP(A570,'Output Areas'!$A:$E,5,FALSE)","v":"Small Settlements"},"A flat; maisonette; apartment","Total: Tenure (excluding living rent free)","Total: Number of rooms",{"$f":"VLOOKUP(G570,Cntrol!$F$3:$G$9,2,FALSE)","v":0},213,92,20,1,1,99]
["E01022211","E01022211 Cotswold 002D","E01022211",{"$f":"VLOOKUP(A571,'Output Areas'!$A:$E,5,FALSE)","v":"Small Settlements"},"A flat; maisonette; apartment","Total: Tenure (excluding living rent free)","3 rooms or less",{"$f":"VLOOKUP(G571,Cntrol!$F$3:$G$9,2,FALSE)","v":2},112,42,7,1,1,61]
["E01022211","E01022211 Cotswold 002D","E01022211",{"$f":"VLOOKUP(A572,'Output Areas'!$A:$E,5,FALSE)","v":"Small Settlements"},"A flat; maisonette; apartment","Total: Tenure (excluding living rent free)","4 rooms",{"$f":"VLOOKUP(G572,Cntrol!$F$3:$G$9,2,FALSE)","v":2},81,40,7,0,0,34]
["E01022211","E01022211 Cotswold 002D","E01022211",{"$f":"VLOOKUP(A573,'Output Areas'!$A:$E,5,FALSE)","v":"Small Settlements"},"A flat; maisonette; apartment","Total: Tenure (excluding living rent free)","5 rooms",{"$f":"VLOOKUP(G573,Cntrol!$F$3:$G$9,2,FALSE)","v":3},14,8,3,0,0,3]
["E01022211","E01022211 Cotswold 002D","E01022211",{"$f":"VLOOKUP(A574,'Output Areas'!$A:$E,5,FALSE)","v":"Small Settlements"},"A flat; maisonette; apartment","Total: Tenure (excluding living rent free)","6 rooms",{"$f":"VLOOKUP(G574,Cntrol!$F$3:$G$9,2,FALSE)","v":3},3,1,1,0,0,1]
["E01022211","E01022211 Cotswold 002D","E01022211",{"$f":"VLOOKUP(A575,'Output Areas'!$A:$E,5,FALSE)","v":"Small Settlements"},"A flat; maisonette; apartment","Total: Tenure (excluding living rent free)","7 rooms",{"$f":"VLOOKUP(G575,Cntrol!$F$3:$G$9,2,FALSE)","v":4},1,1,0,0,0,0]
["E01022211","E01022211 Cotswold 002D","E01022211",{"$f":"VLOOKUP(A576,'Output Areas'!$A:$E,5,FALSE)","v":"Small Settlements"},"A flat; maisonette; apartment","Total: Tenure (excluding living rent free)","8 rooms or more",{"$f":"VLOOKUP(G576,Cntrol!$F$3:$G$9,2,FALSE)","v":5},2,0,2,0,0,0]
["E01022211","E01022211 Cotswold 002D","E01022211",{"$f":"VLOOKUP(A577,'Output Areas'!$A:$E,5,FALSE)","v":"Small Settlements"},"A flat; maisonette; apartment","Owned","Total: Number of rooms",{"$f":"VLOOKUP(G577,Cntrol!$F$3:$G$9,2,FALSE)","v":0},61,30,6,0,1,24]
["E01022211","E01022211 Cotswold 002D","E01022211",{"$f":"VLOOKUP(A578,'Output Areas'!$A:$E,5,FALSE)","v":"Small Settlements"},"A flat; maisonette; apartment","Owned","3 rooms or less",{"$f":"VLOOKUP(G578,Cntrol!$F$3:$G$9,2,FALSE)","v":2},16,5,2,0,1,8]
["E01022211","E01022211 Cotswold 002D","E01022211",{"$f":"VLOOKUP(A579,'Output Areas'!$A:$E,5,FALSE)","v":"Small Settlements"},"A flat; maisonette; apartment","Owned","4 rooms",{"$f":"VLOOKUP(G579,Cntrol!$F$3:$G$9,2,FALSE)","v":2},33,20,0,0,0,13]
["E01022211","E01022211 Cotswold 002D","E01022211",{"$f":"VLOOKUP(A580,'Output Areas'!$A:$E,5,FALSE)","v":"Small Settlements"},"A flat; maisonette; apartment","Owned","5 rooms",{"$f":"VLOOKUP(G580,Cntrol!$F$3:$G$9,2,FALSE)","v":3},8,4,1,0,0,3]
["E01022211","E01022211 Cotswold 002D","E01022211",{"$f":"VLOOKUP(A581,'Output Areas'!$A:$E,5,FALSE)","v":"Small Settlements"},"A flat; maisonette; apartment","Owned","6 rooms",{"$f":"VLOOKUP(G581,Cntrol!$F$3:$G$9,2,FALSE)","v":3},1,0,1,0,0,0]
["E01022211","E01022211 Cotswold 002D","E01022211",{"$f":"VLOOKUP(A582,'Output Areas'!$A:$E,5,FALSE)","v":"Small Settlements"},"A flat; maisonette; apartment","Owned","7 rooms",{"$f":"VLOOKUP(G582,Cntrol!$F$3:$G$9,2,FALSE)","v":4},1,1,0,0,0,0]
["E01022211","E01022211 Cotswold 002D","E01022211",{"$f":"VLOOKUP(A583,'Output Areas'!$A:$E,5,FALSE)","v":"Small Settlements"},"A flat; maisonette; apartment","Owned","8 rooms or more",{"$f":"VLOOKUP(G583,Cntrol!$F$3:$G$9,2,FALSE)","v":5},2,0,2,0,0,0]
["E01022211","E01022211 Cotswold 002D","E01022211",{"$f":"VLOOKUP(A584,'Output Areas'!$A:$E,5,FALSE)","v":"Small Settlements"},"A flat; maisonette; apartment","Shared ownership or rented (excluding living rent free)","Total: Number of rooms",{"$f":"VLOOKUP(G584,Cntrol!$F$3:$G$9,2,FALSE)","v":0},152,62,14,1,0,75]
["E01022211","E01022211 Cotswold 002D","E01022211",{"$f":"VLOOKUP(A585,'Output Areas'!$A:$E,5,FALSE)","v":"Small Settlements"},"A flat; maisonette; apartment","Shared ownership or rented (excluding living rent free)","3 rooms or less",{"$f":"VLOOKUP(G585,Cntrol!$F$3:$G$9,2,FALSE)","v":2},96,37,5,1,0,53]
["E01022211","E01022211 Cotswold 002D","E01022211",{"$f":"VLOOKUP(A586,'Output Areas'!$A:$E,5,FALSE)","v":"Small Settlements"},"A flat; maisonette; apartment","Shared ownership or rented (excluding living rent free)","4 rooms",{"$f":"VLOOKUP(G586,Cntrol!$F$3:$G$9,2,FALSE)","v":2},48,20,7,0,0,21]
["E01022211","E01022211 Cotswold 002D","E01022211",{"$f":"VLOOKUP(A587,'Output Areas'!$A:$E,5,FALSE)","v":"Small Settlements"},"A flat; maisonette; apartment","Shared ownership or rented (excluding living rent free)","5 rooms",{"$f":"VLOOKUP(G587,Cntrol!$F$3:$G$9,2,FALSE)","v":3},6,4,2,0,0,0]
["E01022211","E01022211 Cotswold 002D","E01022211",{"$f":"VLOOKUP(A588,'Output Areas'!$A:$E,5,FALSE)","v":"Small Settlements"},"A flat; maisonette; apartment","Shared ownership or rented (excluding living rent free)","6 rooms",{"$f":"VLOOKUP(G588,Cntrol!$F$3:$G$9,2,FALSE)","v":3},2,1,0,0,0,1]
["E01022212","E01022212 Cotswold 002E","E01022212",{"$f":"VLOOKUP(A589,'Output Areas'!$A:$E,5,FALSE)","v":"Small Settlements"},"Total: Accommodation type (excluding caravans / temporary structures)","Total: Tenure (excluding living rent free)","Total: Number of rooms",{"$f":"VLOOKUP(G589,Cntrol!$F$3:$G$9,2,FALSE)","v":0},708,324,232,44,23,85]
["E01022212","E01022212 Cotswold 002E","E01022212",{"$f":"VLOOKUP(A590,'Output Areas'!$A:$E,5,FALSE)","v":"Small Settlements"},"Total: Accommodation type (excluding caravans / temporary structures)","Total: Tenure (excluding living rent free)","3 rooms or less",{"$f":"VLOOKUP(G590,Cntrol!$F$3:$G$9,2,FALSE)","v":2},15,9,1,0,0,5]
["E01022212","E01022212 Cotswold 002E","E01022212",{"$f":"VLOOKUP(A591,'Output Areas'!$A:$E,5,FALSE)","v":"Small Settlements"},"Total: Accommodation type (excluding caravans / temporary structures)","Total: Tenure (excluding living rent free)","4 rooms",{"$f":"VLOOKUP(G591,Cntrol!$F$3:$G$9,2,FALSE)","v":2},111,58,31,0,0,22]
["E01022212","E01022212 Cotswold 002E","E01022212",{"$f":"VLOOKUP(A592,'Output Areas'!$A:$E,5,FALSE)","v":"Small Settlements"},"Total: Accommodation type (excluding caravans / temporary structures)","Total: Tenure (excluding living rent free)","5 rooms",{"$f":"VLOOKUP(G592,Cntrol!$F$3:$G$9,2,FALSE)","v":3},206,100,57,10,6,33]
["E01022212","E01022212 Cotswold 002E","E01022212",{"$f":"VLOOKUP(A593,'Output Areas'!$A:$E,5,FALSE)","v":"Small Settlements"},"Total: Accommodation type (excluding caravans / temporary structures)","Total: Tenure (excluding living rent free)","6 rooms",{"$f":"VLOOKUP(G593,Cntrol!$F$3:$G$9,2,FALSE)","v":3},182,89,62,12,1,18]
["E01022212","E01022212 Cotswold 002E","E01022212",{"$f":"VLOOKUP(A594,'Output Areas'!$A:$E,5,FALSE)","v":"Small Settlements"},"Total: Accommodation type (excluding caravans / temporary structures)","Total: Tenure (excluding living rent free)","7 rooms",{"$f":"VLOOKUP(G594,Cntrol!$F$3:$G$9,2,FALSE)","v":4},97,40,38,7,7,5]
["E01022212","E01022212 Cotswold 002E","E01022212",{"$f":"VLOOKUP(A595,'Output Areas'!$A:$E,5,FALSE)","v":"Small Settlements"},"Total: Accommodation type (excluding caravans / temporary structures)","Total: Tenure (excluding living rent free)","8 rooms or more",{"$f":"VLOOKUP(G595,Cntrol!$F$3:$G$9,2,FALSE)","v":5},97,28,43,15,9,2]
["E01022212","E01022212 Cotswold 002E","E01022212",{"$f":"VLOOKUP(A596,'Output Areas'!$A:$E,5,FALSE)","v":"Small Settlements"},"Total: Accommodation type (excluding caravans / temporary structures)","Owned","Total: Number of rooms",{"$f":"VLOOKUP(G596,Cntrol!$F$3:$G$9,2,FALSE)","v":0},528,246,170,37,23,52]
["E01022212","E01022212 Cotswold 002E","E01022212",{"$f":"VLOOKUP(A597,'Output Areas'!$A:$E,5,FALSE)","v":"Small Settlements"},"Total: Accommodation type (excluding caravans / temporary structures)","Owned","3 rooms or less",{"$f":"VLOOKUP(G597,Cntrol!$F$3:$G$9,2,FALSE)","v":2},10,7,1,0,0,2]
["E01022212","E01022212 Cotswold 002E","E01022212",{"$f":"VLOOKUP(A598,'Output Areas'!$A:$E,5,FALSE)","v":"Small Settlements"},"Total: Accommodation type (excluding caravans / temporary structures)","Owned","4 rooms",{"$f":"VLOOKUP(G598,Cntrol!$F$3:$G$9,2,FALSE)","v":2},60,37,13,0,0,10]
["E01022212","E01022212 Cotswold 002E","E01022212",{"$f":"VLOOKUP(A599,'Output Areas'!$A:$E,5,FALSE)","v":"Small Settlements"},"Total: Accommodation type (excluding caravans / temporary structures)","Owned","5 rooms",{"$f":"VLOOKUP(G599,Cntrol!$F$3:$G$9,2,FALSE)","v":3},151,71,42,9,6,23]
["E01022212","E01022212 Cotswold 002E","E01022212",{"$f":"VLOOKUP(A600,'Output Areas'!$A:$E,5,FALSE)","v":"Small Settlements"},"Total: Accommodation type (excluding caravans / temporary structures)","Owned","6 rooms",{"$f":"VLOOKUP(G600,Cntrol!$F$3:$G$9,2,FALSE)","v":3},144,71,51,8,1,13]
["E01022212","E01022212 Cotswold 002E","E01022212",{"$f":"VLOOKUP(A601,'Output Areas'!$A:$E,5,FALSE)","v":"Small Settlements"},"Total: Accommodation type (excluding caravans / temporary structures)","Owned","7 rooms",{"$f":"VLOOKUP(G601,Cntrol!$F$3:$G$9,2,FALSE)","v":4},84,35,33,6,7,3]
["E01022212","E01022212 Cotswold 002E","E01022212",{"$f":"VLOOKUP(A602,'Output Areas'!$A:$E,5,FALSE)","v":"Small Settlements"},"Total: Accommodation type (excluding caravans / temporary structures)","Owned","8 rooms or more",{"$f":"VLOOKUP(G602,Cntrol!$F$3:$G$9,2,FALSE)","v":5},79,25,30,14,9,1]
["E01022212","E01022212 Cotswold 002E","E01022212",{"$f":"VLOOKUP(A603,'Output Areas'!$A:$E,5,FALSE)","v":"Small Settlements"},"Total: Accommodation type (excluding caravans / temporary structures)","Shared ownership or rented (excluding living rent free)","Total: Number of rooms",{"$f":"VLOOKUP(G603,Cntrol!$F$3:$G$9,2,FALSE)","v":0},180,78,62,7,0,33]
["E01022212","E01022212 Cotswold 002E","E01022212",{"$f":"VLOOKUP(A604,'Output Areas'!$A:$E,5,FALSE)","v":"Small Settlements"},"Total: Accommodation type (excluding caravans / temporary structures)","Shared ownership or rented (excluding living rent free)","3 rooms or less",{"$f":"VLOOKUP(G604,Cntrol!$F$3:$G$9,2,FALSE)","v":2},5,2,0,0,0,3]
["E01022212","E01022212 Cotswold 002E","E01022212",{"$f":"VLOOKUP(A605,'Output Areas'!$A:$E,5,FALSE)","v":"Small Settlements"},"Total: Accommodation type (excluding caravans / temporary structures)","Shared ownership or rented (excluding living rent free)","4 rooms",{"$f":"VLOOKUP(G605,Cntrol!$F$3:$G$9,2,FALSE)","v":2},51,21,18,0,0,12]
["E01022212","E01022212 Cotswold 002E","E01022212",{"$f":"VLOOKUP(A606,'Output Areas'!$A:$E,5,FALSE)","v":"Small Settlements"},"Total: Accommodation type (excluding caravans / temporary structures)","Shared ownership or rented (excluding living rent free)","5 rooms",{"$f":"VLOOKUP(G606,Cntrol!$F$3:$G$9,2,FALSE)","v":3},55,29,15,1,0,10]
["E01022212","E01022212 Cotswold 002E","E01022212",{"$f":"VLOOKUP(A607,'Output Areas'!$A:$E,5,FALSE)","v":"Small Settlements"},"Total: Accommodation type (excluding caravans / temporary structures)","Shared ownership or rented (excluding living rent free)","6 rooms",{"$f":"VLOOKUP(G607,Cntrol!$F$3:$G$9,2,FALSE)","v":3},38,18,11,4,0,5]
["E01022212","E01022212 Cotswold 002E","E01022212",{"$f":"VLOOKUP(A608,'Output Areas'!$A:$E,5,FALSE)","v":"Small Settlements"},"Total: Accommodation type (excluding caravans / temporary structures)","Shared ownership or rented (excluding living rent free)","7 rooms",{"$f":"VLOOKUP(G608,Cntrol!$F$3:$G$9,2,FALSE)","v":4},13,5,5,1,0,2]
["E01022212","E01022212 Cotswold 002E","E01022212",{"$f":"VLOOKUP(A609,'Output Areas'!$A:$E,5,FALSE)","v":"Small Settlements"},"Total: Accommodation type (excluding caravans / temporary structures)","Shared ownership or rented (excluding living rent free)","8 rooms or more",{"$f":"VLOOKUP(G609,Cntrol!$F$3:$G$9,2,FALSE)","v":5},18,3,13,1,0,1]
["E01022212","E01022212 Cotswold 002E","E01022212",{"$f":"VLOOKUP(A610,'Output Areas'!$A:$E,5,FALSE)","v":"Small Settlements"},"Detached; semi-detached; terraced whole house or bungalow","Total: Tenure (excluding living rent free)","Total: Number of rooms",{"$f":"VLOOKUP(G610,Cntrol!$F$3:$G$9,2,FALSE)","v":0},695,314,230,44,23,84]
["E01022212","E01022212 Cotswold 002E","E01022212",{"$f":"VLOOKUP(A611,'Output Areas'!$A:$E,5,FALSE)","v":"Small Settlements"},"Detached; semi-detached; terraced whole house or bungalow","Total: Tenure (excluding living rent free)","3 rooms or less",{"$f":"VLOOKUP(G611,Cntrol!$F$3:$G$9,2,FALSE)","v":2},10,6,0,0,0,4]
["E01022212","E01022212 Cotswold 002E","E01022212",{"$f":"VLOOKUP(A612,'Output Areas'!$A:$E,5,FALSE)","v":"Small Settlements"},"Detached; semi-detached; terraced whole house or bungalow","Total: Tenure (excluding living rent free)","4 rooms",{"$f":"VLOOKUP(G612,Cntrol!$F$3:$G$9,2,FALSE)","v":2},103,51,30,0,0,22]
["E01022212","E01022212 Cotswold 002E","E01022212",{"$f":"VLOOKUP(A613,'Output Areas'!$A:$E,5,FALSE)","v":"Small Settlements"},"Detached; semi-detached; terraced whole house or bungalow","Total: Tenure (excluding living rent free)","5 rooms",{"$f":"VLOOKUP(G613,Cntrol!$F$3:$G$9,2,FALSE)","v":3},206,100,57,10,6,33]
["E01022212","E01022212 Cotswold 002E","E01022212",{"$f":"VLOOKUP(A614,'Output Areas'!$A:$E,5,FALSE)","v":"Small Settlements"},"Detached; semi-detached; terraced whole house or bungalow","Total: Tenure (excluding living rent free)","6 rooms",{"$f":"VLOOKUP(G614,Cntrol!$F$3:$G$9,2,FALSE)","v":3},182,89,62,12,1,18]
["E01022212","E01022212 Cotswold 002E","E01022212",{"$f":"VLOOKUP(A615,'Output Areas'!$A:$E,5,FALSE)","v":"Small Settlements"},"Detached; semi-detached; terraced whole house or bungalow","Total: Tenure (excluding living rent free)","7 rooms",{"$f":"VLOOKUP(G615,Cntrol!$F$3:$G$9,2,FALSE)","v":4},97,40,38,7,7,5]
["E01022212","E01022212 Cotswold 002E","E01022212",{"$f":"VLOOKUP(A616,'Output Areas'!$A:$E,5,FALSE)","v":"Small Settlements"},"Detached; semi-detached; terraced whole house or bungalow","Total: Tenure (excluding living rent free)","8 rooms or more",{"$f":"VLOOKUP(G616,Cntrol!$F$3:$G$9,2,FALSE)","v":5},97,28,43,15,9,2]
["E01022212","E01022212 Cotswold 002E","E01022212",{"$f":"VLOOKUP(A617,'Output Areas'!$A:$E,5,FALSE)","v":"Small Settlements"},"Detached; semi-detached; terraced whole house or bungalow","Owned","Total: Number of rooms",{"$f":"VLOOKUP(G617,Cntrol!$F$3:$G$9,2,FALSE)","v":0},520,239,169,37,23,52]
["E01022212","E01022212 Cotswold 002E","E01022212",{"$f":"VLOOKUP(A618,'Output Areas'!$A:$E,5,FALSE)","v":"Small Settlements"},"Detached; semi-detached; terraced whole house or bungalow","Owned","3 rooms or less",{"$f":"VLOOKUP(G618,Cntrol!$F$3:$G$9,2,FALSE)","v":2},7,5,0,0,0,2]
["E01022212","E01022212 Cotswold 002E","E01022212",{"$f":"VLOOKUP(A619,'Output Areas'!$A:$E,5,FALSE)","v":"Small Settlements"},"Detached; semi-detached; terraced whole house or bungalow","Owned","4 rooms",{"$f":"VLOOKUP(G619,Cntrol!$F$3:$G$9,2,FALSE)","v":2},55,32,13,0,0,10]
["E01022212","E01022212 Cotswold 002E","E01022212",{"$f":"VLOOKUP(A620,'Output Areas'!$A:$E,5,FALSE)","v":"Small Settlements"},"Detached; semi-detached; terraced whole house or bungalow","Owned","5 rooms",{"$f":"VLOOKUP(G620,Cntrol!$F$3:$G$9,2,FALSE)","v":3},151,71,42,9,6,23]
["E01022212","E01022212 Cotswold 002E","E01022212",{"$f":"VLOOKUP(A621,'Output Areas'!$A:$E,5,FALSE)","v":"Small Settlements"},"Detached; semi-detached; terraced whole house or bungalow","Owned","6 rooms",{"$f":"VLOOKUP(G621,Cntrol!$F$3:$G$9,2,FALSE)","v":3},144,71,51,8,1,13]
["E01022212","E01022212 Cotswold 002E","E01022212",{"$f":"VLOOKUP(A622,'Output Areas'!$A:$E,5,FALSE)","v":"Small Settlements"},"Detached; semi-detached; terraced whole house or bungalow","Owned","7 rooms",{"$f":"VLOOKUP(G622,Cntrol!$F$3:$G$9,2,FALSE)","v":4},84,35,33,6,7,3]
["E01022212","E01022212 Cotswold 002E","E01022212",{"$f":"VLOOKUP(A623,'Output Areas'!$A:$E,5,FALSE)","v":"Small Settlements"},"Detached; semi-detached; terraced whole house or bungalow","Owned","8 rooms or more",{"$f":"VLOOKUP(G623,Cntrol!$F$3:$G$9,2,FALSE)","v":5},79,25,30,14,9,1]
["E01022212","E01022212 Cotswold 002E","E01022212",{"$f":"VLOOKUP(A624,'Output Areas'!$A:$E,5,FALSE)","v":"Small Settlements"},"Detached; semi-detached; terraced whole house or bungalow","Shared ownership or rented (excluding living rent free)","Total: Number of rooms",{"$f":"VLOOKUP(G624,Cntrol!$F$3:$G$9,2,FALSE)","v":0},175,75,61,7,0,32]
["E01022212","E01022212 Cotswold 002E","E01022212",{"$f":"VLOOKUP(A625,'Output Areas'!$A:$E,5,FALSE)","v":"Small Settlements"},"Detached; semi-detached; terraced whole house or bungalow","Shared ownership or rented (excluding living rent free)","3 rooms or less",{"$f":"VLOOKUP(G625,Cntrol!$F$3:$G$9,2,FALSE)","v":2},3,1,0,0,0,2]
["E01022212","E01022212 Cotswold 002E","E01022212",{"$f":"VLOOKUP(A626,'Output Areas'!$A:$E,5,FALSE)","v":"Small Settlements"},"Detached; semi-detached; terraced whole house or bungalow","Shared ownership or rented (excluding living rent free)","4 rooms",{"$f":"VLOOKUP(G626,Cntrol!$F$3:$G$9,2,FALSE)","v":2},48,19,17,0,0,12]
["E01022212","E01022212 Cotswold 002E","E01022212",{"$f":"VLOOKUP(A627,'Output Areas'!$A:$E,5,FALSE)","v":"Small Settlements"},"Detached; semi-detached; terraced whole house or bungalow","Shared ownership or rented (excluding living rent free)","5 rooms",{"$f":"VLOOKUP(G627,Cntrol!$F$3:$G$9,2,FALSE)","v":3},55,29,15,1,0,10]
["E01022212","E01022212 Cotswold 002E","E01022212",{"$f":"VLOOKUP(A628,'Output Areas'!$A:$E,5,FALSE)","v":"Small Settlements"},"Detached; semi-detached; terraced whole house or bungalow","Shared ownership or rented (excluding living rent free)","6 rooms",{"$f":"VLOOKUP(G628,Cntrol!$F$3:$G$9,2,FALSE)","v":3},38,18,11,4,0,5]
["E01022212","E01022212 Cotswold 002E","E01022212",{"$f":"VLOOKUP(A629,'Output Areas'!$A:$E,5,FALSE)","v":"Small Settlements"},"Detached; semi-detached; terraced whole house or bungalow","Shared ownership or rented (excluding living rent free)","7 rooms",{"$f":"VLOOKUP(G629,Cntrol!$F$3:$G$9,2,FALSE)","v":4},13,5,5,1,0,2]
["E01022212","E01022212 Cotswold 002E","E01022212",{"$f":"VLOOKUP(A630,'Output Areas'!$A:$E,5,FALSE)","v":"Small Settlements"},"Detached; semi-detached; terraced whole house or bungalow","Shared ownership or rented (excluding living rent free)","8 rooms or more",{"$f":"VLOOKUP(G630,Cntrol!$F$3:$G$9,2,FALSE)","v":5},18,3,13,1,0,1]
["E01022212","E01022212 Cotswold 002E","E01022212",{"$f":"VLOOKUP(A631,'Output Areas'!$A:$E,5,FALSE)","v":"Small Settlements"},"A flat; maisonette; apartment","Total: Tenure (excluding living rent free)","Total: Number of rooms",{"$f":"VLOOKUP(G631,Cntrol!$F$3:$G$9,2,FALSE)","v":0},13,10,2,0,0,1]
["E01022212","E01022212 Cotswold 002E","E01022212",{"$f":"VLOOKUP(A632,'Output Areas'!$A:$E,5,FALSE)","v":"Small Settlements"},"A flat; maisonette; apartment","Total: Tenure (excluding living rent free)","3 rooms or less",{"$f":"VLOOKUP(G632,Cntrol!$F$3:$G$9,2,FALSE)","v":2},5,3,1,0,0,1]
["E01022212","E01022212 Cotswold 002E","E01022212",{"$f":"VLOOKUP(A633,'Output Areas'!$A:$E,5,FALSE)","v":"Small Settlements"},"A flat; maisonette; apartment","Total: Tenure (excluding living rent free)","4 rooms",{"$f":"VLOOKUP(G633,Cntrol!$F$3:$G$9,2,FALSE)","v":2},8,7,1,0,0,0]
["E01022212","E01022212 Cotswold 002E","E01022212",{"$f":"VLOOKUP(A634,'Output Areas'!$A:$E,5,FALSE)","v":"Small Settlements"},"A flat; maisonette; apartment","Owned","Total: Number of rooms",{"$f":"VLOOKUP(G634,Cntrol!$F$3:$G$9,2,FALSE)","v":0},8,7,1,0,0,0]
["E01022212","E01022212 Cotswold 002E","E01022212",{"$f":"VLOOKUP(A635,'Output Areas'!$A:$E,5,FALSE)","v":"Small Settlements"},"A flat; maisonette; apartment","Owned","3 rooms or less",{"$f":"VLOOKUP(G635,Cntrol!$F$3:$G$9,2,FALSE)","v":2},3,2,1,0,0,0]
["E01022212","E01022212 Cotswold 002E","E01022212",{"$f":"VLOOKUP(A636,'Output Areas'!$A:$E,5,FALSE)","v":"Small Settlements"},"A flat; maisonette; apartment","Owned","4 rooms",{"$f":"VLOOKUP(G636,Cntrol!$F$3:$G$9,2,FALSE)","v":2},5,5,0,0,0,0]
["E01022212","E01022212 Cotswold 002E","E01022212",{"$f":"VLOOKUP(A637,'Output Areas'!$A:$E,5,FALSE)","v":"Small Settlements"},"A flat; maisonette; apartment","Shared ownership or rented (excluding living rent free)","Total: Number of rooms",{"$f":"VLOOKUP(G637,Cntrol!$F$3:$G$9,2,FALSE)","v":0},5,3,1,0,0,1]
["E01022212","E01022212 Cotswold 002E","E01022212",{"$f":"VLOOKUP(A638,'Output Areas'!$A:$E,5,FALSE)","v":"Small Settlements"},"A flat; maisonette; apartment","Shared ownership or rented (excluding living rent free)","3 rooms or less",{"$f":"VLOOKUP(G638,Cntrol!$F$3:$G$9,2,FALSE)","v":2},2,1,0,0,0,1]
["E01022212","E01022212 Cotswold 002E","E01022212",{"$f":"VLOOKUP(A639,'Output Areas'!$A:$E,5,FALSE)","v":"Small Settlements"},"A flat; maisonette; apartment","Shared ownership or rented (excluding living rent free)","4 rooms",{"$f":"VLOOKUP(G639,Cntrol!$F$3:$G$9,2,FALSE)","v":2},3,2,1,0,0,0]
["E01022180","E01022180 Cotswold 003A","E01022180",{"$f":"VLOOKUP(A640,'Output Areas'!$A:$E,5,FALSE)","v":"Small Settlements"},"Total: Accommodation type (excluding caravans / temporary structures)","Total: Tenure (excluding living rent free)","Total: Number of rooms",{"$f":"VLOOKUP(G640,Cntrol!$F$3:$G$9,2,FALSE)","v":0},907,412,261,46,16,172]
["E01022180","E01022180 Cotswold 003A","E01022180",{"$f":"VLOOKUP(A641,'Output Areas'!$A:$E,5,FALSE)","v":"Small Settlements"},"Total: Accommodation type (excluding caravans / temporary structures)","Total: Tenure (excluding living rent free)","3 rooms or less",{"$f":"VLOOKUP(G641,Cntrol!$F$3:$G$9,2,FALSE)","v":2},97,39,4,1,0,53]
["E01022180","E01022180 Cotswold 003A","E01022180",{"$f":"VLOOKUP(A642,'Output Areas'!$A:$E,5,FALSE)","v":"Small Settlements"},"Total: Accommodation type (excluding caravans / temporary structures)","Total: Tenure (excluding living rent free)","4 rooms",{"$f":"VLOOKUP(G642,Cntrol!$F$3:$G$9,2,FALSE)","v":2},150,77,30,7,0,36]
["E01022180","E01022180 Cotswold 003A","E01022180",{"$f":"VLOOKUP(A643,'Output Areas'!$A:$E,5,FALSE)","v":"Small Settlements"},"Total: Accommodation type (excluding caravans / temporary structures)","Total: Tenure (excluding living rent free)","5 rooms",{"$f":"VLOOKUP(G643,Cntrol!$F$3:$G$9,2,FALSE)","v":3},275,145,72,7,3,48]
["E01022180","E01022180 Cotswold 003A","E01022180",{"$f":"VLOOKUP(A644,'Output Areas'!$A:$E,5,FALSE)","v":"Small Settlements"},"Total: Accommodation type (excluding caravans / temporary structures)","Total: Tenure (excluding living rent free)","6 rooms",{"$f":"VLOOKUP(G644,Cntrol!$F$3:$G$9,2,FALSE)","v":3},185,84,61,9,4,27]
["E01022180","E01022180 Cotswold 003A","E01022180",{"$f":"VLOOKUP(A645,'Output Areas'!$A:$E,5,FALSE)","v":"Small Settlements"},"Total: Accommodation type (excluding caravans / temporary structures)","Total: Tenure (excluding living rent free)","7 rooms",{"$f":"VLOOKUP(G645,Cntrol!$F$3:$G$9,2,FALSE)","v":4},83,33,39,8,1,2]
["E01022180","E01022180 Cotswold 003A","E01022180",{"$f":"VLOOKUP(A646,'Output Areas'!$A:$E,5,FALSE)","v":"Small Settlements"},"Total: Accommodation type (excluding caravans / temporary structures)","Total: Tenure (excluding living rent free)","8 rooms or more",{"$f":"VLOOKUP(G646,Cntrol!$F$3:$G$9,2,FALSE)","v":5},117,34,55,14,8,6]
["E01022180","E01022180 Cotswold 003A","E01022180",{"$f":"VLOOKUP(A647,'Output Areas'!$A:$E,5,FALSE)","v":"Small Settlements"},"Total: Accommodation type (excluding caravans / temporary structures)","Owned","Total: Number of rooms",{"$f":"VLOOKUP(G647,Cntrol!$F$3:$G$9,2,FALSE)","v":0},531,226,186,40,14,65]
["E01022180","E01022180 Cotswold 003A","E01022180",{"$f":"VLOOKUP(A648,'Output Areas'!$A:$E,5,FALSE)","v":"Small Settlements"},"Total: Accommodation type (excluding caravans / temporary structures)","Owned","3 rooms or less",{"$f":"VLOOKUP(G648,Cntrol!$F$3:$G$9,2,FALSE)","v":2},19,11,2,1,0,5]
["E01022180","E01022180 Cotswold 003A","E01022180",{"$f":"VLOOKUP(A649,'Output Areas'!$A:$E,5,FALSE)","v":"Small Settlements"},"Total: Accommodation type (excluding caravans / temporary structures)","Owned","4 rooms",{"$f":"VLOOKUP(G649,Cntrol!$F$3:$G$9,2,FALSE)","v":2},45,18,10,5,0,12]
["E01022180","E01022180 Cotswold 003A","E01022180",{"$f":"VLOOKUP(A650,'Output Areas'!$A:$E,5,FALSE)","v":"Small Settlements"},"Total: Accommodation type (excluding caravans / temporary structures)","Owned","5 rooms",{"$f":"VLOOKUP(G650,Cntrol!$F$3:$G$9,2,FALSE)","v":3},141,79,33,5,3,21]
["E01022180","E01022180 Cotswold 003A","E01022180",{"$f":"VLOOKUP(A651,'Output Areas'!$A:$E,5,FALSE)","v":"Small Settlements"},"Total: Accommodation type (excluding caravans / temporary structures)","Owned","6 rooms",{"$f":"VLOOKUP(G651,Cntrol!$F$3:$G$9,2,FALSE)","v":3},148,63,54,8,3,20]
["E01022180","E01022180 Cotswold 003A","E01022180",{"$f":"VLOOKUP(A652,'Output Areas'!$A:$E,5,FALSE)","v":"Small Settlements"},"Total: Accommodation type (excluding caravans / temporary structures)","Owned","7 rooms",{"$f":"VLOOKUP(G652,Cntrol!$F$3:$G$9,2,FALSE)","v":4},70,24,35,8,1,2]
["E01022180","E01022180 Cotswold 003A","E01022180",{"$f":"VLOOKUP(A653,'Output Areas'!$A:$E,5,FALSE)","v":"Small Settlements"},"Total: Accommodation type (excluding caravans / temporary structures)","Owned","8 rooms or more",{"$f":"VLOOKUP(G653,Cntrol!$F$3:$G$9,2,FALSE)","v":5},108,31,52,13,7,5]
["E01022180","E01022180 Cotswold 003A","E01022180",{"$f":"VLOOKUP(A654,'Output Areas'!$A:$E,5,FALSE)","v":"Small Settlements"},"Total: Accommodation type (excluding caravans / temporary structures)","Shared ownership or rented (excluding living rent free)","Total: Number of rooms",{"$f":"VLOOKUP(G654,Cntrol!$F$3:$G$9,2,FALSE)","v":0},376,186,75,6,2,107]
["E01022180","E01022180 Cotswold 003A","E01022180",{"$f":"VLOOKUP(A655,'Output Areas'!$A:$E,5,FALSE)","v":"Small Settlements"},"Total: Accommodation type (excluding caravans / temporary structures)","Shared ownership or rented (excluding living rent free)","3 rooms or less",{"$f":"VLOOKUP(G655,Cntrol!$F$3:$G$9,2,FALSE)","v":2},78,28,2,0,0,48]
["E01022180","E01022180 Cotswold 003A","E01022180",{"$f":"VLOOKUP(A656,'Output Areas'!$A:$E,5,FALSE)","v":"Small Settlements"},"Total: Accommodation type (excluding caravans / temporary structures)","Shared ownership or rented (excluding living rent free)","4 rooms",{"$f":"VLOOKUP(G656,Cntrol!$F$3:$G$9,2,FALSE)","v":2},105,59,20,2,0,24]
["E01022180","E01022180 Cotswold 003A","E01022180",{"$f":"VLOOKUP(A657,'Output Areas'!$A:$E,5,FALSE)","v":"Small Settlements"},"Total: Accommodation type (excluding caravans / temporary structures)","Shared ownership or rented (excluding living rent free)","5 rooms",{"$f":"VLOOKUP(G657,Cntrol!$F$3:$G$9,2,FALSE)","v":3},134,66,39,2,0,27]
["E01022180","E01022180 Cotswold 003A","E01022180",{"$f":"VLOOKUP(A658,'Output Areas'!$A:$E,5,FALSE)","v":"Small Settlements"},"Total: Accommodation type (excluding caravans / temporary structures)","Shared ownership or rented (excluding living rent free)","6 rooms",{"$f":"VLOOKUP(G658,Cntrol!$F$3:$G$9,2,FALSE)","v":3},37,21,7,1,1,7]
["E01022180","E01022180 Cotswold 003A","E01022180",{"$f":"VLOOKUP(A659,'Output Areas'!$A:$E,5,FALSE)","v":"Small Settlements"},"Total: Accommodation type (excluding caravans / temporary structures)","Shared ownership or rented (excluding living rent free)","7 rooms",{"$f":"VLOOKUP(G659,Cntrol!$F$3:$G$9,2,FALSE)","v":4},13,9,4,0,0,0]
["E01022180","E01022180 Cotswold 003A","E01022180",{"$f":"VLOOKUP(A660,'Output Areas'!$A:$E,5,FALSE)","v":"Small Settlements"},"Total: Accommodation type (excluding caravans / temporary structures)","Shared ownership or rented (excluding living rent free)","8 rooms or more",{"$f":"VLOOKUP(G660,Cntrol!$F$3:$G$9,2,FALSE)","v":5},9,3,3,1,1,1]
["E01022180","E01022180 Cotswold 003A","E01022180",{"$f":"VLOOKUP(A661,'Output Areas'!$A:$E,5,FALSE)","v":"Small Settlements"},"Detached; semi-detached; terraced whole house or bungalow","Total: Tenure (excluding living rent free)","Total: Number of rooms",{"$f":"VLOOKUP(G661,Cntrol!$F$3:$G$9,2,FALSE)","v":0},810,375,253,45,16,121]
["E01022180","E01022180 Cotswold 003A","E01022180",{"$f":"VLOOKUP(A662,'Output Areas'!$A:$E,5,FALSE)","v":"Small Settlements"},"Detached; semi-detached; terraced whole house or bungalow","Total: Tenure (excluding living rent free)","3 rooms or less",{"$f":"VLOOKUP(G662,Cntrol!$F$3:$G$9,2,FALSE)","v":2},17,10,0,1,0,6]
["E01022180","E01022180 Cotswold 003A","E01022180",{"$f":"VLOOKUP(A663,'Output Areas'!$A:$E,5,FALSE)","v":"Small Settlements"},"Detached; semi-detached; terraced whole house or bungalow","Total: Tenure (excluding living rent free)","4 rooms",{"$f":"VLOOKUP(G663,Cntrol!$F$3:$G$9,2,FALSE)","v":2},138,72,27,7,0,32]
["E01022180","E01022180 Cotswold 003A","E01022180",{"$f":"VLOOKUP(A664,'Output Areas'!$A:$E,5,FALSE)","v":"Small Settlements"},"Detached; semi-detached; terraced whole house or bungalow","Total: Tenure (excluding living rent free)","5 rooms",{"$f":"VLOOKUP(G664,Cntrol!$F$3:$G$9,2,FALSE)","v":3},272,143,71,7,3,48]
["E01022180","E01022180 Cotswold 003A","E01022180",{"$f":"VLOOKUP(A665,'Output Areas'!$A:$E,5,FALSE)","v":"Small Settlements"},"Detached; semi-detached; terraced whole house or bungalow","Total: Tenure (excluding living rent free)","6 rooms",{"$f":"VLOOKUP(G665,Cntrol!$F$3:$G$9,2,FALSE)","v":3},183,83,61,8,4,27]
["E01022180","E01022180 Cotswold 003A","E01022180",{"$f":"VLOOKUP(A666,'Output Areas'!$A:$E,5,FALSE)","v":"Small Settlements"},"Detached; semi-detached; terraced whole house or bungalow","Total: Tenure (excluding living rent free)","7 rooms",{"$f":"VLOOKUP(G666,Cntrol!$F$3:$G$9,2,FALSE)","v":4},83,33,39,8,1,2]
["E01022180","E01022180 Cotswold 003A","E01022180",{"$f":"VLOOKUP(A667,'Output Areas'!$A:$E,5,FALSE)","v":"Small Settlements"},"Detached; semi-detached; terraced whole house or bungalow","Total: Tenure (excluding living rent free)","8 rooms or more",{"$f":"VLOOKUP(G667,Cntrol!$F$3:$G$9,2,FALSE)","v":5},117,34,55,14,8,6]
["E01022180","E01022180 Cotswold 003A","E01022180",{"$f":"VLOOKUP(A668,'Output Areas'!$A:$E,5,FALSE)","v":"Small Settlements"},"Detached; semi-detached; terraced whole house or bungalow","Owned","Total: Number of rooms",{"$f":"VLOOKUP(G668,Cntrol!$F$3:$G$9,2,FALSE)","v":0},510,217,182,39,14,58]
["E01022180","E01022180 Cotswold 003A","E01022180",{"$f":"VLOOKUP(A669,'Output Areas'!$A:$E,5,FALSE)","v":"Small Settlements"},"Detached; semi-detached; terraced whole house or bungalow","Owned","3 rooms or less",{"$f":"VLOOKUP(G669,Cntrol!$F$3:$G$9,2,FALSE)","v":2},6,4,0,1,0,1]
["E01022180","E01022180 Cotswold 003A","E01022180",{"$f":"VLOOKUP(A670,'Output Areas'!$A:$E,5,FALSE)","v":"Small Settlements"},"Detached; semi-detached; terraced whole house or bungalow","Owned","4 rooms",{"$f":"VLOOKUP(G670,Cntrol!$F$3:$G$9,2,FALSE)","v":2},39,17,8,5,0,9]
["E01022180","E01022180 Cotswold 003A","E01022180",{"$f":"VLOOKUP(A671,'Output Areas'!$A:$E,5,FALSE)","v":"Small Settlements"},"Detached; semi-detached; terraced whole house or bungalow","Owned","5 rooms",{"$f":"VLOOKUP(G671,Cntrol!$F$3:$G$9,2,FALSE)","v":3},140,78,33,5,3,21]
["E01022180","E01022180 Cotswold 003A","E01022180",{"$f":"VLOOKUP(A672,'Output Areas'!$A:$E,5,FALSE)","v":"Small Settlements"},"Detached; semi-detached; terraced whole house or bungalow","Owned","6 rooms",{"$f":"VLOOKUP(G672,Cntrol!$F$3:$G$9,2,FALSE)","v":3},147,63,54,7,3,20]
["E01022180","E01022180 Cotswold 003A","E01022180",{"$f":"VLOOKUP(A673,'Output Areas'!$A:$E,5,FALSE)","v":"Small Settlements"},"Detached; semi-detached; terraced whole house or bungalow","Owned","7 rooms",{"$f":"VLOOKUP(G673,Cntrol!$F$3:$G$9,2,FALSE)","v":4},70,24,35,8,1,2]
["E01022180","E01022180 Cotswold 003A","E01022180",{"$f":"VLOOKUP(A674,'Output Areas'!$A:$E,5,FALSE)","v":"Small Settlements"},"Detached; semi-detached; terraced whole house or bungalow","Owned","8 rooms or more",{"$f":"VLOOKUP(G674,Cntrol!$F$3:$G$9,2,FALSE)","v":5},108,31,52,13,7,5]
["E01022180","E01022180 Cotswold 003A","E01022180",{"$f":"VLOOKUP(A675,'Output Areas'!$A:$E,5,FALSE)","v":"Small Settlements"},"Detached; semi-detached; terraced whole house or bungalow","Shared ownership or rented (excluding living rent free)","Total: Number of rooms",{"$f":"VLOOKUP(G675,Cntrol!$F$3:$G$9,2,FALSE)","v":0},300,158,71,6,2,63]
["E01022180","E01022180 Cotswold 003A","E01022180",{"$f":"VLOOKUP(A676,'Output Areas'!$A:$E,5,FALSE)","v":"Small Settlements"},"Detached; semi-detached; terraced whole house or bungalow","Shared ownership or rented (excluding living rent free)","3 rooms or less",{"$f":"VLOOKUP(G676,Cntrol!$F$3:$G$9,2,FALSE)","v":2},11,6,0,0,0,5]
["E01022180","E01022180 Cotswold 003A","E01022180",{"$f":"VLOOKUP(A677,'Output Areas'!$A:$E,5,FALSE)","v":"Small Settlements"},"Detached; semi-detached; terraced whole house or bungalow","Shared ownership or rented (excluding living rent free)","4 rooms",{"$f":"VLOOKUP(G677,Cntrol!$F$3:$G$9,2,FALSE)","v":2},99,55,19,2,0,23]
["E01022180","E01022180 Cotswold 003A","E01022180",{"$f":"VLOOKUP(A678,'Output Areas'!$A:$E,5,FALSE)","v":"Small Settlements"},"Detached; semi-detached; terraced whole house or bungalow","Shared ownership or rented (excluding living rent free)","5 rooms",{"$f":"VLOOKUP(G678,Cntrol!$F$3:$G$9,2,FALSE)","v":3},132,65,38,2,0,27]
["E01022180","E01022180 Cotswold 003A","E01022180",{"$f":"VLOOKUP(A679,'Output Areas'!$A:$E,5,FALSE)","v":"Small Settlements"},"Detached; semi-detached; terraced whole house or bungalow","Shared ownership or rented (excluding living rent free)","6 rooms",{"$f":"VLOOKUP(G679,Cntrol!$F$3:$G$9,2,FALSE)","v":3},36,20,7,1,1,7]
["E01022180","E01022180 Cotswold 003A","E01022180",{"$f":"VLOOKUP(A680,'Output Areas'!$A:$E,5,FALSE)","v":"Small Settlements"},"Detached; semi-detached; terraced whole house or bungalow","Shared ownership or rented (excluding living rent free)","7 rooms",{"$f":"VLOOKUP(G680,Cntrol!$F$3:$G$9,2,FALSE)","v":4},13,9,4,0,0,0]
["E01022180","E01022180 Cotswold 003A","E01022180",{"$f":"VLOOKUP(A681,'Output Areas'!$A:$E,5,FALSE)","v":"Small Settlements"},"Detached; semi-detached; terraced whole house or bungalow","Shared ownership or rented (excluding living rent free)","8 rooms or more",{"$f":"VLOOKUP(G681,Cntrol!$F$3:$G$9,2,FALSE)","v":5},9,3,3,1,1,1]
["E01022180","E01022180 Cotswold 003A","E01022180",{"$f":"VLOOKUP(A682,'Output Areas'!$A:$E,5,FALSE)","v":"Small Settlements"},"A flat; maisonette; apartment","Total: Tenure (excluding living rent free)","Total: Number of rooms",{"$f":"VLOOKUP(G682,Cntrol!$F$3:$G$9,2,FALSE)","v":0},97,37,8,1,0,51]
["E01022180","E01022180 Cotswold 003A","E01022180",{"$f":"VLOOKUP(A683,'Output Areas'!$A:$E,5,FALSE)","v":"Small Settlements"},"A flat; maisonette; apartment","Total: Tenure (excluding living rent free)","3 rooms or less",{"$f":"VLOOKUP(G683,Cntrol!$F$3:$G$9,2,FALSE)","v":2},80,29,4,0,0,47]
["E01022180","E01022180 Cotswold 003A","E01022180",{"$f":"VLOOKUP(A684,'Output Areas'!$A:$E,5,FALSE)","v":"Small Settlements"},"A flat; maisonette; apartment","Total: Tenure (excluding living rent free)","4 rooms",{"$f":"VLOOKUP(G684,Cntrol!$F$3:$G$9,2,FALSE)","v":2},12,5,3,0,0,4]
["E01022180","E01022180 Cotswold 003A","E01022180",{"$f":"VLOOKUP(A685,'Output Areas'!$A:$E,5,FALSE)","v":"Small Settlements"},"A flat; maisonette; apartment","Total: Tenure (excluding living rent free)","5 rooms",{"$f":"VLOOKUP(G685,Cntrol!$F$3:$G$9,2,FALSE)","v":3},3,2,1,0,0,0]
["E01022180","E01022180 Cotswold 003A","E01022180",{"$f":"VLOOKUP(A686,'Output Areas'!$A:$E,5,FALSE)","v":"Small Settlements"},"A flat; maisonette; apartment","Total: Tenure (excluding living rent free)","6 rooms",{"$f":"VLOOKUP(G686,Cntrol!$F$3:$G$9,2,FALSE)","v":3},2,1,0,1,0,0]
["E01022180","E01022180 Cotswold 003A","E01022180",{"$f":"VLOOKUP(A687,'Output Areas'!$A:$E,5,FALSE)","v":"Small Settlements"},"A flat; maisonette; apartment","Owned","Total: Number of rooms",{"$f":"VLOOKUP(G687,Cntrol!$F$3:$G$9,2,FALSE)","v":0},21,9,4,1,0,7]
["E01022180","E01022180 Cotswold 003A","E01022180",{"$f":"VLOOKUP(A688,'Output Areas'!$A:$E,5,FALSE)","v":"Small Settlements"},"A flat; maisonette; apartment","Owned","3 rooms or less",{"$f":"VLOOKUP(G688,Cntrol!$F$3:$G$9,2,FALSE)","v":2},13,7,2,0,0,4]
["E01022180","E01022180 Cotswold 003A","E01022180",{"$f":"VLOOKUP(A689,'Output Areas'!$A:$E,5,FALSE)","v":"Small Settlements"},"A flat; maisonette; apartment","Owned","4 rooms",{"$f":"VLOOKUP(G689,Cntrol!$F$3:$G$9,2,FALSE)","v":2},6,1,2,0,0,3]
["E01022180","E01022180 Cotswold 003A","E01022180",{"$f":"VLOOKUP(A690,'Output Areas'!$A:$E,5,FALSE)","v":"Small Settlements"},"A flat; maisonette; apartment","Owned","5 rooms",{"$f":"VLOOKUP(G690,Cntrol!$F$3:$G$9,2,FALSE)","v":3},1,1,0,0,0,0]
["E01022180","E01022180 Cotswold 003A","E01022180",{"$f":"VLOOKUP(A691,'Output Areas'!$A:$E,5,FALSE)","v":"Small Settlements"},"A flat; maisonette; apartment","Owned","6 rooms",{"$f":"VLOOKUP(G691,Cntrol!$F$3:$G$9,2,FALSE)","v":3},1,0,0,1,0,0]
["E01022180","E01022180 Cotswold 003A","E01022180",{"$f":"VLOOKUP(A692,'Output Areas'!$A:$E,5,FALSE)","v":"Small Settlements"},"A flat; maisonette; apartment","Shared ownership or rented (excluding living rent free)","Total: Number of rooms",{"$f":"VLOOKUP(G692,Cntrol!$F$3:$G$9,2,FALSE)","v":0},76,28,4,0,0,44]
["E01022180","E01022180 Cotswold 003A","E01022180",{"$f":"VLOOKUP(A693,'Output Areas'!$A:$E,5,FALSE)","v":"Small Settlements"},"A flat; maisonette; apartment","Shared ownership or rented (excluding living rent free)","3 rooms or less",{"$f":"VLOOKUP(G693,Cntrol!$F$3:$G$9,2,FALSE)","v":2},67,22,2,0,0,43]
["E01022180","E01022180 Cotswold 003A","E01022180",{"$f":"VLOOKUP(A694,'Output Areas'!$A:$E,5,FALSE)","v":"Small Settlements"},"A flat; maisonette; apartment","Shared ownership or rented (excluding living rent free)","4 rooms",{"$f":"VLOOKUP(G694,Cntrol!$F$3:$G$9,2,FALSE)","v":2},6,4,1,0,0,1]
["E01022180","E01022180 Cotswold 003A","E01022180",{"$f":"VLOOKUP(A695,'Output Areas'!$A:$E,5,FALSE)","v":"Small Settlements"},"A flat; maisonette; apartment","Shared ownership or rented (excluding living rent free)","5 rooms",{"$f":"VLOOKUP(G695,Cntrol!$F$3:$G$9,2,FALSE)","v":3},2,1,1,0,0,0]
["E01022180","E01022180 Cotswold 003A","E01022180",{"$f":"VLOOKUP(A696,'Output Areas'!$A:$E,5,FALSE)","v":"Small Settlements"},"A flat; maisonette; apartment","Shared ownership or rented (excluding living rent free)","6 rooms",{"$f":"VLOOKUP(G696,Cntrol!$F$3:$G$9,2,FALSE)","v":3},1,1,0,0,0,0]
["E01022181","E01022181 Cotswold 003B","E01022181",{"$f":"VLOOKUP(A697,'Output Areas'!$A:$E,5,FALSE)","v":"Rural"},"Total: Accommodation type (excluding caravans / temporary structures)","Total: Tenure (excluding living rent free)","Total: Number of rooms",{"$f":"VLOOKUP(G697,Cntrol!$F$3:$G$9,2,FALSE)","v":0},757,332,242,63,27,93]
["E01022181","E01022181 Cotswold 003B","E01022181",{"$f":"VLOOKUP(A698,'Output Areas'!$A:$E,5,FALSE)","v":"Rural"},"Total: Accommodation type (excluding caravans / temporary structures)","Total: Tenure (excluding living rent free)","3 rooms or less",{"$f":"VLOOKUP(G698,Cntrol!$F$3:$G$9,2,FALSE)","v":2},55,34,4,1,0,16]
["E01022181","E01022181 Cotswold 003B","E01022181",{"$f":"VLOOKUP(A699,'Output Areas'!$A:$E,5,FALSE)","v":"Rural"},"Total: Accommodation type (excluding caravans / temporary structures)","Total: Tenure (excluding living rent free)","4 rooms",{"$f":"VLOOKUP(G699,Cntrol!$F$3:$G$9,2,FALSE)","v":2},101,56,15,3,1,26]
["E01022181","E01022181 Cotswold 003B","E01022181",{"$f":"VLOOKUP(A700,'Output Areas'!$A:$E,5,FALSE)","v":"Rural"},"Total: Accommodation type (excluding caravans / temporary structures)","Total: Tenure (excluding living rent free)","5 rooms",{"$f":"VLOOKUP(G700,Cntrol!$F$3:$G$9,2,FALSE)","v":3},143,69,41,7,0,26]
["E01022181","E01022181 Cotswold 003B","E01022181",{"$f":"VLOOKUP(A701,'Output Areas'!$A:$E,5,FALSE)","v":"Rural"},"Total: Accommodation type (excluding caravans / temporary structures)","Total: Tenure (excluding living rent free)","6 rooms",{"$f":"VLOOKUP(G701,Cntrol!$F$3:$G$9,2,FALSE)","v":3},145,66,44,13,3,19]
["E01022181","E01022181 Cotswold 003B","E01022181",{"$f":"VLOOKUP(A702,'Output Areas'!$A:$E,5,FALSE)","v":"Rural"},"Total: Accommodation type (excluding caravans / temporary structures)","Total: Tenure (excluding living rent free)","7 rooms",{"$f":"VLOOKUP(G702,Cntrol!$F$3:$G$9,2,FALSE)","v":4},113,54,42,8,3,6]
["E01022181","E01022181 Cotswold 003B","E01022181",{"$f":"VLOOKUP(A703,'Output Areas'!$A:$E,5,FALSE)","v":"Rural"},"Total: Accommodation type (excluding caravans / temporary structures)","Total: Tenure (excluding living rent free)","8 rooms or more",{"$f":"VLOOKUP(G703,Cntrol!$F$3:$G$9,2,FALSE)","v":5},200,53,96,31,20,0]
["E01022181","E01022181 Cotswold 003B","E01022181",{"$f":"VLOOKUP(A704,'Output Areas'!$A:$E,5,FALSE)","v":"Rural"},"Total: Accommodation type (excluding caravans / temporary structures)","Owned","Total: Number of rooms",{"$f":"VLOOKUP(G704,Cntrol!$F$3:$G$9,2,FALSE)","v":0},617,268,203,58,25,63]
["E01022181","E01022181 Cotswold 003B","E01022181",{"$f":"VLOOKUP(A705,'Output Areas'!$A:$E,5,FALSE)","v":"Rural"},"Total: Accommodation type (excluding caravans / temporary structures)","Owned","3 rooms or less",{"$f":"VLOOKUP(G705,Cntrol!$F$3:$G$9,2,FALSE)","v":2},18,12,1,1,0,4]
["E01022181","E01022181 Cotswold 003B","E01022181",{"$f":"VLOOKUP(A706,'Output Areas'!$A:$E,5,FALSE)","v":"Rural"},"Total: Accommodation type (excluding caravans / temporary structures)","Owned","4 rooms",{"$f":"VLOOKUP(G706,Cntrol!$F$3:$G$9,2,FALSE)","v":2},68,39,8,2,1,18]
["E01022181","E01022181 Cotswold 003B","E01022181",{"$f":"VLOOKUP(A707,'Output Areas'!$A:$E,5,FALSE)","v":"Rural"},"Total: Accommodation type (excluding caravans / temporary structures)","Owned","5 rooms",{"$f":"VLOOKUP(G707,Cntrol!$F$3:$G$9,2,FALSE)","v":3},107,52,29,4,0,22]
["E01022181","E01022181 Cotswold 003B","E01022181",{"$f":"VLOOKUP(A708,'Output Areas'!$A:$E,5,FALSE)","v":"Rural"},"Total: Accommodation type (excluding caravans / temporary structures)","Owned","6 rooms",{"$f":"VLOOKUP(G708,Cntrol!$F$3:$G$9,2,FALSE)","v":3},124,63,34,12,2,13]
["E01022181","E01022181 Cotswold 003B","E01022181",{"$f":"VLOOKUP(A709,'Output Areas'!$A:$E,5,FALSE)","v":"Rural"},"Total: Accommodation type (excluding caravans / temporary structures)","Owned","7 rooms",{"$f":"VLOOKUP(G709,Cntrol!$F$3:$G$9,2,FALSE)","v":4},103,50,36,8,3,6]
["E01022181","E01022181 Cotswold 003B","E01022181",{"$f":"VLOOKUP(A710,'Output Areas'!$A:$E,5,FALSE)","v":"Rural"},"Total: Accommodation type (excluding caravans / temporary structures)","Owned","8 rooms or more",{"$f":"VLOOKUP(G710,Cntrol!$F$3:$G$9,2,FALSE)","v":5},197,52,95,31,19,0]
["E01022181","E01022181 Cotswold 003B","E01022181",{"$f":"VLOOKUP(A711,'Output Areas'!$A:$E,5,FALSE)","v":"Rural"},"Total: Accommodation type (excluding caravans / temporary structures)","Shared ownership or rented (excluding living rent free)","Total: Number of rooms",{"$f":"VLOOKUP(G711,Cntrol!$F$3:$G$9,2,FALSE)","v":0},140,64,39,5,2,30]
["E01022181","E01022181 Cotswold 003B","E01022181",{"$f":"VLOOKUP(A712,'Output Areas'!$A:$E,5,FALSE)","v":"Rural"},"Total: Accommodation type (excluding caravans / temporary structures)","Shared ownership or rented (excluding living rent free)","3 rooms or less",{"$f":"VLOOKUP(G712,Cntrol!$F$3:$G$9,2,FALSE)","v":2},37,22,3,0,0,12]
["E01022181","E01022181 Cotswold 003B","E01022181",{"$f":"VLOOKUP(A713,'Output Areas'!$A:$E,5,FALSE)","v":"Rural"},"Total: Accommodation type (excluding caravans / temporary structures)","Shared ownership or rented (excluding living rent free)","4 rooms",{"$f":"VLOOKUP(G713,Cntrol!$F$3:$G$9,2,FALSE)","v":2},33,17,7,1,0,8]
["E01022181","E01022181 Cotswold 003B","E01022181",{"$f":"VLOOKUP(A714,'Output Areas'!$A:$E,5,FALSE)","v":"Rural"},"Total: Accommodation type (excluding caravans / temporary structures)","Shared ownership or rented (excluding living rent free)","5 rooms",{"$f":"VLOOKUP(G714,Cntrol!$F$3:$G$9,2,FALSE)","v":3},36,17,12,3,0,4]
["E01022181","E01022181 Cotswold 003B","E01022181",{"$f":"VLOOKUP(A715,'Output Areas'!$A:$E,5,FALSE)","v":"Rural"},"Total: Accommodation type (excluding caravans / temporary structures)","Shared ownership or rented (excluding living rent free)","6 rooms",{"$f":"VLOOKUP(G715,Cntrol!$F$3:$G$9,2,FALSE)","v":3},21,3,10,1,1,6]
["E01022181","E01022181 Cotswold 003B","E01022181",{"$f":"VLOOKUP(A716,'Output Areas'!$A:$E,5,FALSE)","v":"Rural"},"Total: Accommodation type (excluding caravans / temporary structures)","Shared ownership or rented (excluding living rent free)","7 rooms",{"$f":"VLOOKUP(G716,Cntrol!$F$3:$G$9,2,FALSE)","v":4},10,4,6,0,0,0]
["E01022181","E01022181 Cotswold 003B","E01022181",{"$f":"VLOOKUP(A717,'Output Areas'!$A:$E,5,FALSE)","v":"Rural"},"Total: Accommodation type (excluding caravans / temporary structures)","Shared ownership or rented (excluding living rent free)","8 rooms or more",{"$f":"VLOOKUP(G717,Cntrol!$F$3:$G$9,2,FALSE)","v":5},3,1,1,0,1,0]
["E01022181","E01022181 Cotswold 003B","E01022181",{"$f":"VLOOKUP(A718,'Output Areas'!$A:$E,5,FALSE)","v":"Rural"},"Detached; semi-detached; terraced whole house or bungalow","Total: Tenure (excluding living rent free)","Total: Number of rooms",{"$f":"VLOOKUP(G718,Cntrol!$F$3:$G$9,2,FALSE)","v":0},687,290,235,62,27,73]
["E01022181","E01022181 Cotswold 003B","E01022181",{"$f":"VLOOKUP(A719,'Output Areas'!$A:$E,5,FALSE)","v":"Rural"},"Detached; semi-detached; terraced whole house or bungalow","Total: Tenure (excluding living rent free)","3 rooms or less",{"$f":"VLOOKUP(G719,Cntrol!$F$3:$G$9,2,FALSE)","v":2},21,13,3,1,0,4]
["E01022181","E01022181 Cotswold 003B","E01022181",{"$f":"VLOOKUP(A720,'Output Areas'!$A:$E,5,FALSE)","v":"Rural"},"Detached; semi-detached; terraced whole house or bungalow","Total: Tenure (excluding living rent free)","4 rooms",{"$f":"VLOOKUP(G720,Cntrol!$F$3:$G$9,2,FALSE)","v":2},82,43,12,3,1,23]
["E01022181","E01022181 Cotswold 003B","E01022181",{"$f":"VLOOKUP(A721,'Output Areas'!$A:$E,5,FALSE)","v":"Rural"},"Detached; semi-detached; terraced whole house or bungalow","Total: Tenure (excluding living rent free)","5 rooms",{"$f":"VLOOKUP(G721,Cntrol!$F$3:$G$9,2,FALSE)","v":3},135,65,40,7,0,23]
["E01022181","E01022181 Cotswold 003B","E01022181",{"$f":"VLOOKUP(A722,'Output Areas'!$A:$E,5,FALSE)","v":"Rural"},"Detached; semi-detached; terraced whole house or bungalow","Total: Tenure (excluding living rent free)","6 rooms",{"$f":"VLOOKUP(G722,Cntrol!$F$3:$G$9,2,FALSE)","v":3},141,65,43,13,3,17]
["E01022181","E01022181 Cotswold 003B","E01022181",{"$f":"VLOOKUP(A723,'Output Areas'!$A:$E,5,FALSE)","v":"Rural"},"Detached; semi-detached; terraced whole house or bungalow","Total: Tenure (excluding living rent free)","7 rooms",{"$f":"VLOOKUP(G723,Cntrol!$F$3:$G$9,2,FALSE)","v":4},111,53,41,8,3,6]
["E01022181","E01022181 Cotswold 003B","E01022181",{"$f":"VLOOKUP(A724,'Output Areas'!$A:$E,5,FALSE)","v":"Rural"},"Detached; semi-detached; terraced whole house or bungalow","Total: Tenure (excluding living rent free)","8 rooms or more",{"$f":"VLOOKUP(G724,Cntrol!$F$3:$G$9,2,FALSE)","v":5},197,51,96,30,20,0]
["E01022181","E01022181 Cotswold 003B","E01022181",{"$f":"VLOOKUP(A725,'Output Areas'!$A:$E,5,FALSE)","v":"Rural"},"Detached; semi-detached; terraced whole house or bungalow","Owned","Total: Number of rooms",{"$f":"VLOOKUP(G725,Cntrol!$F$3:$G$9,2,FALSE)","v":0},597,257,202,57,25,56]
["E01022181","E01022181 Cotswold 003B","E01022181",{"$f":"VLOOKUP(A726,'Output Areas'!$A:$E,5,FALSE)","v":"Rural"},"Detached; semi-detached; terraced whole house or bungalow","Owned","3 rooms or less",{"$f":"VLOOKUP(G726,Cntrol!$F$3:$G$9,2,FALSE)","v":2},13,9,1,1,0,2]
["E01022181","E01022181 Cotswold 003B","E01022181",{"$f":"VLOOKUP(A727,'Output Areas'!$A:$E,5,FALSE)","v":"Rural"},"Detached; semi-detached; terraced whole house or bungalow","Owned","4 rooms",{"$f":"VLOOKUP(G727,Cntrol!$F$3:$G$9,2,FALSE)","v":2},59,33,7,2,1,16]
["E01022181","E01022181 Cotswold 003B","E01022181",{"$f":"VLOOKUP(A728,'Output Areas'!$A:$E,5,FALSE)","v":"Rural"},"Detached; semi-detached; terraced whole house or bungalow","Owned","5 rooms",{"$f":"VLOOKUP(G728,Cntrol!$F$3:$G$9,2,FALSE)","v":3},104,52,29,4,0,19]
["E01022181","E01022181 Cotswold 003B","E01022181",{"$f":"VLOOKUP(A729,'Output Areas'!$A:$E,5,FALSE)","v":"Rural"},"Detached; semi-detached; terraced whole house or bungalow","Owned","6 rooms",{"$f":"VLOOKUP(G729,Cntrol!$F$3:$G$9,2,FALSE)","v":3},124,63,34,12,2,13]
["E01022181","E01022181 Cotswold 003B","E01022181",{"$f":"VLOOKUP(A730,'Output Areas'!$A:$E,5,FALSE)","v":"Rural"},"Detached; semi-detached; terraced whole house or bungalow","Owned","7 rooms",{"$f":"VLOOKUP(G730,Cntrol!$F$3:$G$9,2,FALSE)","v":4},103,50,36,8,3,6]
["E01022181","E01022181 Cotswold 003B","E01022181",{"$f":"VLOOKUP(A731,'Output Areas'!$A:$E,5,FALSE)","v":"Rural"},"Detached; semi-detached; terraced whole house or bungalow","Owned","8 rooms or more",{"$f":"VLOOKUP(G731,Cntrol!$F$3:$G$9,2,FALSE)","v":5},194,50,95,30,19,0]
["E01022181","E01022181 Cotswold 003B","E01022181",{"$f":"VLOOKUP(A732,'Output Areas'!$A:$E,5,FALSE)","v":"Rural"},"Detached; semi-detached; terraced whole house or bungalow","Shared ownership or rented (excluding living rent free)","Total: Number of rooms",{"$f":"VLOOKUP(G732,Cntrol!$F$3:$G$9,2,FALSE)","v":0},90,33,33,5,2,17]
["E01022181","E01022181 Cotswold 003B","E01022181",{"$f":"VLOOKUP(A733,'Output Areas'!$A:$E,5,FALSE)","v":"Rural"},"Detached; semi-detached; terraced whole house or bungalow","Shared ownership or rented (excluding living rent free)","3 rooms or less",{"$f":"VLOOKUP(G733,Cntrol!$F$3:$G$9,2,FALSE)","v":2},8,4,2,0,0,2]
["E01022181","E01022181 Cotswold 003B","E01022181",{"$f":"VLOOKUP(A734,'Output Areas'!$A:$E,5,FALSE)","v":"Rural"},"Detached; semi-detached; terraced whole house or bungalow","Shared ownership or rented (excluding living rent free)","4 rooms",{"$f":"VLOOKUP(G734,Cntrol!$F$3:$G$9,2,FALSE)","v":2},23,10,5,1,0,7]
["E01022181","E01022181 Cotswold 003B","E01022181",{"$f":"VLOOKUP(A735,'Output Areas'!$A:$E,5,FALSE)","v":"Rural"},"Detached; semi-detached; terraced whole house or bungalow","Shared ownership or rented (excluding living rent free)","5 rooms",{"$f":"VLOOKUP(G735,Cntrol!$F$3:$G$9,2,FALSE)","v":3},31,13,11,3,0,4]
["E01022181","E01022181 Cotswold 003B","E01022181",{"$f":"VLOOKUP(A736,'Output Areas'!$A:$E,5,FALSE)","v":"Rural"},"Detached; semi-detached; terraced whole house or bungalow","Shared ownership or rented (excluding living rent free)","6 rooms",{"$f":"VLOOKUP(G736,Cntrol!$F$3:$G$9,2,FALSE)","v":3},17,2,9,1,1,4]
["E01022181","E01022181 Cotswold 003B","E01022181",{"$f":"VLOOKUP(A737,'Output Areas'!$A:$E,5,FALSE)","v":"Rural"},"Detached; semi-detached; terraced whole house or bungalow","Shared ownership or rented (excluding living rent free)","7 rooms",{"$f":"VLOOKUP(G737,Cntrol!$F$3:$G$9,2,FALSE)","v":4},8,3,5,0,0,0]
["E01022181","E01022181 Cotswold 003B","E01022181",{"$f":"VLOOKUP(A738,'Output Areas'!$A:$E,5,FALSE)","v":"Rural"},"Detached; semi-detached; terraced whole house or bungalow","Shared ownership or rented (excluding living rent free)","8 rooms or more",{"$f":"VLOOKUP(G738,Cntrol!$F$3:$G$9,2,FALSE)","v":5},3,1,1,0,1,0]
["E01022181","E01022181 Cotswold 003B","E01022181",{"$f":"VLOOKUP(A739,'Output Areas'!$A:$E,5,FALSE)","v":"Rural"},"A flat; maisonette; apartment","Total: Tenure (excluding living rent free)","Total: Number of rooms",{"$f":"VLOOKUP(G739,Cntrol!$F$3:$G$9,2,FALSE)","v":0},70,42,7,1,0,20]
["E01022181","E01022181 Cotswold 003B","E01022181",{"$f":"VLOOKUP(A740,'Output Areas'!$A:$E,5,FALSE)","v":"Rural"},"A flat; maisonette; apartment","Total: Tenure (excluding living rent free)","3 rooms or less",{"$f":"VLOOKUP(G740,Cntrol!$F$3:$G$9,2,FALSE)","v":2},34,21,1,0,0,12]
["E01022181","E01022181 Cotswold 003B","E01022181",{"$f":"VLOOKUP(A741,'Output Areas'!$A:$E,5,FALSE)","v":"Rural"},"A flat; maisonette; apartment","Total: Tenure (excluding living rent free)","4 rooms",{"$f":"VLOOKUP(G741,Cntrol!$F$3:$G$9,2,FALSE)","v":2},19,13,3,0,0,3]
["E01022181","E01022181 Cotswold 003B","E01022181",{"$f":"VLOOKUP(A742,'Output Areas'!$A:$E,5,FALSE)","v":"Rural"},"A flat; maisonette; apartment","Total: Tenure (excluding living rent free)","5 rooms",{"$f":"VLOOKUP(G742,Cntrol!$F$3:$G$9,2,FALSE)","v":3},8,4,1,0,0,3]
["E01022181","E01022181 Cotswold 003B","E01022181",{"$f":"VLOOKUP(A743,'Output Areas'!$A:$E,5,FALSE)","v":"Rural"},"A flat; maisonette; apartment","Total: Tenure (excluding living rent free)","6 rooms",{"$f":"VLOOKUP(G743,Cntrol!$F$3:$G$9,2,FALSE)","v":3},4,1,1,0,0,2]
["E01022181","E01022181 Cotswold 003B","E01022181",{"$f":"VLOOKUP(A744,'Output Areas'!$A:$E,5,FALSE)","v":"Rural"},"A flat; maisonette; apartment","Total: Tenure (excluding living rent free)","7 rooms",{"$f":"VLOOKUP(G744,Cntrol!$F$3:$G$9,2,FALSE)","v":4},2,1,1,0,0,0]
["E01022181","E01022181 Cotswold 003B","E01022181",{"$f":"VLOOKUP(A745,'Output Areas'!$A:$E,5,FALSE)","v":"Rural"},"A flat; maisonette; apartment","Total: Tenure (excluding living rent free)","8 rooms or more",{"$f":"VLOOKUP(G745,Cntrol!$F$3:$G$9,2,FALSE)","v":5},3,2,0,1,0,0]
["E01022181","E01022181 Cotswold 003B","E01022181",{"$f":"VLOOKUP(A746,'Output Areas'!$A:$E,5,FALSE)","v":"Rural"},"A flat; maisonette; apartment","Owned","Total: Number of rooms",{"$f":"VLOOKUP(G746,Cntrol!$F$3:$G$9,2,FALSE)","v":0},20,11,1,1,0,7]
["E01022181","E01022181 Cotswold 003B","E01022181",{"$f":"VLOOKUP(A747,'Output Areas'!$A:$E,5,FALSE)","v":"Rural"},"A flat; maisonette; apartment","Owned","3 rooms or less",{"$f":"VLOOKUP(G747,Cntrol!$F$3:$G$9,2,FALSE)","v":2},5,3,0,0,0,2]
["E01022181","E01022181 Cotswold 003B","E01022181",{"$f":"VLOOKUP(A748,'Output Areas'!$A:$E,5,FALSE)","v":"Rural"},"A flat; maisonette; apartment","Owned","4 rooms",{"$f":"VLOOKUP(G748,Cntrol!$F$3:$G$9,2,FALSE)","v":2},9,6,1,0,0,2]
["E01022181","E01022181 Cotswold 003B","E01022181",{"$f":"VLOOKUP(A749,'Output Areas'!$A:$E,5,FALSE)","v":"Rural"},"A flat; maisonette; apartment","Owned","5 rooms",{"$f":"VLOOKUP(G749,Cntrol!$F$3:$G$9,2,FALSE)","v":3},3,0,0,0,0,3]
["E01022181","E01022181 Cotswold 003B","E01022181",{"$f":"VLOOKUP(A750,'Output Areas'!$A:$E,5,FALSE)","v":"Rural"},"A flat; maisonette; apartment","Owned","8 rooms or more",{"$f":"VLOOKUP(G750,Cntrol!$F$3:$G$9,2,FALSE)","v":5},3,2,0,1,0,0]
["E01022181","E01022181 Cotswold 003B","E01022181",{"$f":"VLOOKUP(A751,'Output Areas'!$A:$E,5,FALSE)","v":"Rural"},"A flat; maisonette; apartment","Shared ownership or rented (excluding living rent free)","Total: Number of rooms",{"$f":"VLOOKUP(G751,Cntrol!$F$3:$G$9,2,FALSE)","v":0},50,31,6,0,0,13]
["E01022181","E01022181 Cotswold 003B","E01022181",{"$f":"VLOOKUP(A752,'Output Areas'!$A:$E,5,FALSE)","v":"Rural"},"A flat; maisonette; apartment","Shared ownership or rented (excluding living rent free)","3 rooms or less",{"$f":"VLOOKUP(G752,Cntrol!$F$3:$G$9,2,FALSE)","v":2},29,18,1,0,0,10]
["E01022181","E01022181 Cotswold 003B","E01022181",{"$f":"VLOOKUP(A753,'Output Areas'!$A:$E,5,FALSE)","v":"Rural"},"A flat; maisonette; apartment","Shared ownership or rented (excluding living rent free)","4 rooms",{"$f":"VLOOKUP(G753,Cntrol!$F$3:$G$9,2,FALSE)","v":2},10,7,2,0,0,1]
["E01022181","E01022181 Cotswold 003B","E01022181",{"$f":"VLOOKUP(A754,'Output Areas'!$A:$E,5,FALSE)","v":"Rural"},"A flat; maisonette; apartment","Shared ownership or rented (excluding living rent free)","5 rooms",{"$f":"VLOOKUP(G754,Cntrol!$F$3:$G$9,2,FALSE)","v":3},5,4,1,0,0,0]
["E01022181","E01022181 Cotswold 003B","E01022181",{"$f":"VLOOKUP(A755,'Output Areas'!$A:$E,5,FALSE)","v":"Rural"},"A flat; maisonette; apartment","Shared ownership or rented (excluding living rent free)","6 rooms",{"$f":"VLOOKUP(G755,Cntrol!$F$3:$G$9,2,FALSE)","v":3},4,1,1,0,0,2]
["E01022181","E01022181 Cotswold 003B","E01022181",{"$f":"VLOOKUP(A756,'Output Areas'!$A:$E,5,FALSE)","v":"Rural"},"A flat; maisonette; apartment","Shared ownership or rented (excluding living rent free)","7 rooms",{"$f":"VLOOKUP(G756,Cntrol!$F$3:$G$9,2,FALSE)","v":4},2,1,1,0,0,0]
["E01022214 ","E01022214 Cotswold 003C","E01022214 ",{"$f":"VLOOKUP(A757,'Output Areas'!$A:$E,5,FALSE)","v":{"$error":"#N/A"}},"Total: Accommodation type (excluding caravans / temporary structures)","Total: Tenure (excluding living rent free)","Total: Number of rooms",{"$f":"VLOOKUP(G757,Cntrol!$F$3:$G$9,2,FALSE)","v":0},817,281,366,83,51,36]
["E01022214 ","E01022214 Cotswold 003C","E01022214 ",{"$f":"VLOOKUP(A758,'Output Areas'!$A:$E,5,FALSE)","v":{"$error":"#N/A"}},"Total: Accommodation type (excluding caravans / temporary structures)","Total: Tenure (excluding living rent free)","3 rooms or less",{"$f":"VLOOKUP(G758,Cntrol!$F$3:$G$9,2,FALSE)","v":2},26,10,4,1,0,11]
["E01022214","E01022214 Cotswold 003C","E01022214",{"$f":"VLOOKUP(A759,'Output Areas'!$A:$E,5,FALSE)","v":"Rural"},"Total: Accommodation type (excluding caravans / temporary structures)","Total: Tenure (excluding living rent free)","4 rooms",{"$f":"VLOOKUP(G759,Cntrol!$F$3:$G$9,2,FALSE)","v":2},106,60,34,0,1,11]
["E01022214","E01022214 Cotswold 003C","E01022214",{"$f":"VLOOKUP(A760,'Output Areas'!$A:$E,5,FALSE)","v":"Rural"},"Total: Accommodation type (excluding caravans / temporary structures)","Total: Tenure (excluding living rent free)","5 rooms",{"$f":"VLOOKUP(G760,Cntrol!$F$3:$G$9,2,FALSE)","v":3},149,70,52,13,7,7]
["E01022214","E01022214 Cotswold 003C","E01022214",{"$f":"VLOOKUP(A761,'Output Areas'!$A:$E,5,FALSE)","v":"Rural"},"Total: Accommodation type (excluding caravans / temporary structures)","Total: Tenure (excluding living rent free)","6 rooms",{"$f":"VLOOKUP(G761,Cntrol!$F$3:$G$9,2,FALSE)","v":3},175,63,82,15,11,4]
["E01022214","E01022214 Cotswold 003C","E01022214",{"$f":"VLOOKUP(A762,'Output Areas'!$A:$E,5,FALSE)","v":"Rural"},"Total: Accommodation type (excluding caravans / temporary structures)","Total: Tenure (excluding living rent free)","7 rooms",{"$f":"VLOOKUP(G762,Cntrol!$F$3:$G$9,2,FALSE)","v":4},118,30,66,15,5,2]
["E01022214","E01022214 Cotswold 003C","E01022214",{"$f":"VLOOKUP(A763,'Output Areas'!$A:$E,5,FALSE)","v":"Rural"},"Total: Accommodation type (excluding caravans / temporary structures)","Total: Tenure (excluding living rent free)","8 rooms or more",{"$f":"VLOOKUP(G763,Cntrol!$F$3:$G$9,2,FALSE)","v":5},243,48,128,39,27,1]
["E01022214","E01022214 Cotswold 003C","E01022214",{"$f":"VLOOKUP(A764,'Output Areas'!$A:$E,5,FALSE)","v":"Rural"},"Total: Accommodation type (excluding caravans / temporary structures)","Owned","Total: Number of rooms",{"$f":"VLOOKUP(G764,Cntrol!$F$3:$G$9,2,FALSE)","v":0},630,205,288,77,45,15]
["E01022214","E01022214 Cotswold 003C","E01022214",{"$f":"VLOOKUP(A765,'Output Areas'!$A:$E,5,FALSE)","v":"Rural"},"Total: Accommodation type (excluding caravans / temporary structures)","Owned","3 rooms or less",{"$f":"VLOOKUP(G765,Cntrol!$F$3:$G$9,2,FALSE)","v":2},11,6,1,1,0,3]
["E01022214","E01022214 Cotswold 003C","E01022214",{"$f":"VLOOKUP(A766,'Output Areas'!$A:$E,5,FALSE)","v":"Rural"},"Total: Accommodation type (excluding caravans / temporary structures)","Owned","4 rooms",{"$f":"VLOOKUP(G766,Cntrol!$F$3:$G$9,2,FALSE)","v":2},49,32,14,0,0,3]
["E01022214","E01022214 Cotswold 003C","E01022214",{"$f":"VLOOKUP(A767,'Output Areas'!$A:$E,5,FALSE)","v":"Rural"},"Total: Accommodation type (excluding caravans / temporary structures)","Owned","5 rooms",{"$f":"VLOOKUP(G767,Cntrol!$F$3:$G$9,2,FALSE)","v":3},100,48,30,11,6,5]
["E01022214","E01022214 Cotswold 003C","E01022214",{"$f":"VLOOKUP(A768,'Output Areas'!$A:$E,5,FALSE)","v":"Rural"},"Total: Accommodation type (excluding caravans / temporary structures)","Owned","6 rooms",{"$f":"VLOOKUP(G768,Cntrol!$F$3:$G$9,2,FALSE)","v":3},135,48,65,12,8,2]
["E01022214","E01022214 Cotswold 003C","E01022214",{"$f":"VLOOKUP(A769,'Output Areas'!$A:$E,5,FALSE)","v":"Rural"},"Total: Accommodation type (excluding caravans / temporary structures)","Owned","7 rooms",{"$f":"VLOOKUP(G769,Cntrol!$F$3:$G$9,2,FALSE)","v":4},106,27,58,14,5,2]
["E01022214","E01022214 Cotswold 003C","E01022214",{"$f":"VLOOKUP(A770,'Output Areas'!$A:$E,5,FALSE)","v":"Rural"},"Total: Accommodation type (excluding caravans / temporary structures)","Owned","8 rooms or more",{"$f":"VLOOKUP(G770,Cntrol!$F$3:$G$9,2,FALSE)","v":5},229,44,120,39,26,0]
["E01022214","E01022214 Cotswold 003C","E01022214",{"$f":"VLOOKUP(A771,'Output Areas'!$A:$E,5,FALSE)","v":"Rural"},"Total: Accommodation type (excluding caravans / temporary structures)","Shared ownership or rented (excluding living rent free)","Total: Number of rooms",{"$f":"VLOOKUP(G771,Cntrol!$F$3:$G$9,2,FALSE)","v":0},187,76,78,6,6,21]
["E01022214","E01022214 Cotswold 003C","E01022214",{"$f":"VLOOKUP(A772,'Output Areas'!$A:$E,5,FALSE)","v":"Rural"},"Total: Accommodation type (excluding caravans / temporary structures)","Shared ownership or rented (excluding living rent free)","3 rooms or less",{"$f":"VLOOKUP(G772,Cntrol!$F$3:$G$9,2,FALSE)","v":2},15,4,3,0,0,8]
["E01022214","E01022214 Cotswold 003C","E01022214",{"$f":"VLOOKUP(A773,'Output Areas'!$A:$E,5,FALSE)","v":"Rural"},"Total: Accommodation type (excluding caravans / temporary structures)","Shared ownership or rented (excluding living rent free)","4 rooms",{"$f":"VLOOKUP(G773,Cntrol!$F$3:$G$9,2,FALSE)","v":2},57,28,20,0,1,8]
["E01022214","E01022214 Cotswold 003C","E01022214",{"$f":"VLOOKUP(A774,'Output Areas'!$A:$E,5,FALSE)","v":"Rural"},"Total: Accommodation type (excluding caravans / temporary structures)","Shared ownership or rented (excluding living rent free)","5 rooms",{"$f":"VLOOKUP(G774,Cntrol!$F$3:$G$9,2,FALSE)","v":3},49,22,22,2,1,2]
["E01022214","E01022214 Cotswold 003C","E01022214",{"$f":"VLOOKUP(A775,'Output Areas'!$A:$E,5,FALSE)","v":"Rural"},"Total: Accommodation type (excluding caravans / temporary structures)","Shared ownership or rented (excluding living rent free)","6 rooms",{"$f":"VLOOKUP(G775,Cntrol!$F$3:$G$9,2,FALSE)","v":3},40,15,17,3,3,2]
["E01022214","E01022214 Cotswold 003C","E01022214",{"$f":"VLOOKUP(A776,'Output Areas'!$A:$E,5,FALSE)","v":"Rural"},"Total: Accommodation type (excluding caravans / temporary structures)","Shared ownership or rented (excluding living rent free)","7 rooms",{"$f":"VLOOKUP(G776,Cntrol!$F$3:$G$9,2,FALSE)","v":4},12,3,8,1,0,0]
["E01022214","E01022214 Cotswold 003C","E01022214",{"$f":"VLOOKUP(A777,'Output Areas'!$A:$E,5,FALSE)","v":"Rural"},"Total: Accommodation type (excluding caravans / temporary structures)","Shared ownership or rented (excluding living rent free)","8 rooms or more",{"$f":"VLOOKUP(G777,Cntrol!$F$3:$G$9,2,FALSE)","v":5},14,4,8,0,1,1]
["E01022214","E01022214 Cotswold 003C","E01022214",{"$f":"VLOOKUP(A778,'Output Areas'!$A:$E,5,FALSE)","v":"Rural"},"Detached; semi-detached; terraced whole house or bungalow","Total: Tenure (excluding living rent free)","Total: Number of rooms",{"$f":"VLOOKUP(G778,Cntrol!$F$3:$G$9,2,FALSE)","v":0},800,275,363,83,51,28]
["E01022214","E01022214 Cotswold 003C","E01022214",{"$f":"VLOOKUP(A779,'Output Areas'!$A:$E,5,FALSE)","v":"Rural"},"Detached; semi-detached; terraced whole house or bungalow","Total: Tenure (excluding living rent free)","3 rooms or less",{"$f":"VLOOKUP(G779,Cntrol!$F$3:$G$9,2,FALSE)","v":2},14,5,3,1,0,5]
["E01022214","E01022214 Cotswold 003C","E01022214",{"$f":"VLOOKUP(A780,'Output Areas'!$A:$E,5,FALSE)","v":"Rural"},"Detached; semi-detached; terraced whole house or bungalow","Total: Tenure (excluding living rent free)","4 rooms",{"$f":"VLOOKUP(G780,Cntrol!$F$3:$G$9,2,FALSE)","v":2},104,60,34,0,1,9]
["E01022214","E01022214 Cotswold 003C","E01022214",{"$f":"VLOOKUP(A781,'Output Areas'!$A:$E,5,FALSE)","v":"Rural"},"Detached; semi-detached; terraced whole house or bungalow","Total: Tenure (excluding living rent free)","5 rooms",{"$f":"VLOOKUP(G781,Cntrol!$F$3:$G$9,2,FALSE)","v":3},146,69,50,13,7,7]
["E01022214","E01022214 Cotswold 003C","E01022214",{"$f":"VLOOKUP(A782,'Output Areas'!$A:$E,5,FALSE)","v":"Rural"},"Detached; semi-detached; terraced whole house or bungalow","Total: Tenure (excluding living rent free)","6 rooms",{"$f":"VLOOKUP(G782,Cntrol!$F$3:$G$9,2,FALSE)","v":3},175,63,82,15,11,4]
["E01022214","E01022214 Cotswold 003C","E01022214",{"$f":"VLOOKUP(A783,'Output Areas'!$A:$E,5,FALSE)","v":"Rural"},"Detached; semi-detached; terraced whole house or bungalow","Total: Tenure (excluding living rent free)","7 rooms",{"$f":"VLOOKUP(G783,Cntrol!$F$3:$G$9,2,FALSE)","v":4},118,30,66,15,5,2]
["E01022214","E01022214 Cotswold 003C","E01022214",{"$f":"VLOOKUP(A784,'Output Areas'!$A:$E,5,FALSE)","v":"Rural"},"Detached; semi-detached; terraced whole house or bungalow","Total: Tenure (excluding living rent free)","8 rooms or more",{"$f":"VLOOKUP(G784,Cntrol!$F$3:$G$9,2,FALSE)","v":5},243,48,128,39,27,1]
["E01022214","E01022214 Cotswold 003C","E01022214",{"$f":"VLOOKUP(A785,'Output Areas'!$A:$E,5,FALSE)","v":"Rural"},"Detached; semi-detached; terraced whole house or bungalow","Owned","Total: Number of rooms",{"$f":"VLOOKUP(G785,Cntrol!$F$3:$G$9,2,FALSE)","v":0},626,203,288,77,45,13]
["E01022214","E01022214 Cotswold 003C","E01022214",{"$f":"VLOOKUP(A786,'Output Areas'!$A:$E,5,FALSE)","v":"Rural"},"Detached; semi-detached; terraced whole house or bungalow","Owned","3 rooms or less",{"$f":"VLOOKUP(G786,Cntrol!$F$3:$G$9,2,FALSE)","v":2},8,4,1,1,0,2]
["E01022214","E01022214 Cotswold 003C","E01022214",{"$f":"VLOOKUP(A787,'Output Areas'!$A:$E,5,FALSE)","v":"Rural"},"Detached; semi-detached; terraced whole house or bungalow","Owned","4 rooms",{"$f":"VLOOKUP(G787,Cntrol!$F$3:$G$9,2,FALSE)","v":2},48,32,14,0,0,2]
["E01022214","E01022214 Cotswold 003C","E01022214",{"$f":"VLOOKUP(A788,'Output Areas'!$A:$E,5,FALSE)","v":"Rural"},"Detached; semi-detached; terraced whole house or bungalow","Owned","5 rooms",{"$f":"VLOOKUP(G788,Cntrol!$F$3:$G$9,2,FALSE)","v":3},100,48,30,11,6,5]
["E01022214","E01022214 Cotswold 003C","E01022214",{"$f":"VLOOKUP(A789,'Output Areas'!$A:$E,5,FALSE)","v":"Rural"},"Detached; semi-detached; terraced whole house or bungalow","Owned","6 rooms",{"$f":"VLOOKUP(G789,Cntrol!$F$3:$G$9,2,FALSE)","v":3},135,48,65,12,8,2]
["E01022214","E01022214 Cotswold 003C","E01022214",{"$f":"VLOOKUP(A790,'Output Areas'!$A:$E,5,FALSE)","v":"Rural"},"Detached; semi-detached; terraced whole house or bungalow","Owned","7 rooms",{"$f":"VLOOKUP(G790,Cntrol!$F$3:$G$9,2,FALSE)","v":4},106,27,58,14,5,2]
["E01022214","E01022214 Cotswold 003C","E01022214",{"$f":"VLOOKUP(A791,'Output Areas'!$A:$E,5,FALSE)","v":"Rural"},"Detached; semi-detached; terraced whole house or bungalow","Owned","8 rooms or more",{"$f":"VLOOKUP(G791,Cntrol!$F$3:$G$9,2,FALSE)","v":5},229,44,120,39,26,0]
["E01022214","E01022214 Cotswold 003C","E01022214",{"$f":"VLOOKUP(A792,'Output Areas'!$A:$E,5,FALSE)","v":"Rural"},"Detached; semi-detached; terraced whole house or bungalow","Shared ownership or rented (excluding living rent free)","Total: Number of rooms",{"$f":"VLOOKUP(G792,Cntrol!$F$3:$G$9,2,FALSE)","v":0},174,72,75,6,6,15]
["E01022214","E01022214 Cotswold 003C","E01022214",{"$f":"VLOOKUP(A793,'Output Areas'!$A:$E,5,FALSE)","v":"Rural"},"Detached; semi-detached; terraced whole house or bungalow","Shared ownership or rented (excluding living rent free)","3 rooms or less",{"$f":"VLOOKUP(G793,Cntrol!$F$3:$G$9,2,FALSE)","v":2},6,1,2,0,0,3]
["E01022214","E01022214 Cotswold 003C","E01022214",{"$f":"VLOOKUP(A794,'Output Areas'!$A:$E,5,FALSE)","v":"Rural"},"Detached; semi-detached; terraced whole house or bungalow","Shared ownership or rented (excluding living rent free)","4 rooms",{"$f":"VLOOKUP(G794,Cntrol!$F$3:$G$9,2,FALSE)","v":2},56,28,20,0,1,7]
["E01022214","E01022214 Cotswold 003C","E01022214",{"$f":"VLOOKUP(A795,'Output Areas'!$A:$E,5,FALSE)","v":"Rural"},"Detached; semi-detached; terraced whole house or bungalow","Shared ownership or rented (excluding living rent free)","5 rooms",{"$f":"VLOOKUP(G795,Cntrol!$F$3:$G$9,2,FALSE)","v":3},46,21,20,2,1,2]
["E01022214","E01022214 Cotswold 003C","E01022214",{"$f":"VLOOKUP(A796,'Output Areas'!$A:$E,5,FALSE)","v":"Rural"},"Detached; semi-detached; terraced whole house or bungalow","Shared ownership or rented (excluding living rent free)","6 rooms",{"$f":"VLOOKUP(G796,Cntrol!$F$3:$G$9,2,FALSE)","v":3},40,15,17,3,3,2]
["E01022214","E01022214 Cotswold 003C","E01022214",{"$f":"VLOOKUP(A797,'Output Areas'!$A:$E,5,FALSE)","v":"Rural"},"Detached; semi-detached; terraced whole house or bungalow","Shared ownership or rented (excluding living rent free)","7 rooms",{"$f":"VLOOKUP(G797,Cntrol!$F$3:$G$9,2,FALSE)","v":4},12,3,8,1,0,0]
["E01022214","E01022214 Cotswold 003C","E01022214",{"$f":"VLOOKUP(A798,'Output Areas'!$A:$E,5,FALSE)","v":"Rural"},"Detached; semi-detached; terraced whole house or bungalow","Shared ownership or rented (excluding living rent free)","8 rooms or more",{"$f":"VLOOKUP(G798,Cntrol!$F$3:$G$9,2,FALSE)","v":5},14,4,8,0,1,1]
["E01022214","E01022214 Cotswold 003C","E01022214",{"$f":"VLOOKUP(A799,'Output Areas'!$A:$E,5,FALSE)","v":"Rural"},"A flat; maisonette; apartment","Total: Tenure (excluding living rent free)","Total: Number of rooms",{"$f":"VLOOKUP(G799,Cntrol!$F$3:$G$9,2,FALSE)","v":0},17,6,3,0,0,8]
["E01022214","E01022214 Cotswold 003C","E01022214",{"$f":"VLOOKUP(A800,'Output Areas'!$A:$E,5,FALSE)","v":"Rural"},"A flat; maisonette; apartment","Total: Tenure (excluding living rent free)","3 rooms or less",{"$f":"VLOOKUP(G800,Cntrol!$F$3:$G$9,2,FALSE)","v":2},12,5,1,0,0,6]
["E01022214","E01022214 Cotswold 003C","E01022214",{"$f":"VLOOKUP(A801,'Output Areas'!$A:$E,5,FALSE)","v":"Rural"},"A flat; maisonette; apartment","Total: Tenure (excluding living rent free)","4 rooms",{"$f":"VLOOKUP(G801,Cntrol!$F$3:$G$9,2,FALSE)","v":2},2,0,0,0,0,2]
["E01022214","E01022214 Cotswold 003C","E01022214",{"$f":"VLOOKUP(A802,'Output Areas'!$A:$E,5,FALSE)","v":"Rural"},"A flat; maisonette; apartment","Total: Tenure (excluding living rent free)","5 rooms",{"$f":"VLOOKUP(G802,Cntrol!$F$3:$G$9,2,FALSE)","v":3},3,1,2,0,0,0]
["E01022214","E01022214 Cotswold 003C","E01022214",{"$f":"VLOOKUP(A803,'Output Areas'!$A:$E,5,FALSE)","v":"Rural"},"A flat; maisonette; apartment","Owned","Total: Number of rooms",{"$f":"VLOOKUP(G803,Cntrol!$F$3:$G$9,2,FALSE)","v":0},4,2,0,0,0,2]
["E01022214","E01022214 Cotswold 003C","E01022214",{"$f":"VLOOKUP(A804,'Output Areas'!$A:$E,5,FALSE)","v":"Rural"},"A flat; maisonette; apartment","Owned","3 rooms or less",{"$f":"VLOOKUP(G804,Cntrol!$F$3:$G$9,2,FALSE)","v":2},3,2,0,0,0,1]
["E01022214","E01022214 Cotswold 003C","E01022214",{"$f":"VLOOKUP(A805,'Output Areas'!$A:$E,5,FALSE)","v":"Rural"},"A flat; maisonette; apartment","Owned","4 rooms",{"$f":"VLOOKUP(G805,Cntrol!$F$3:$G$9,2,FALSE)","v":2},1,0,0,0,0,1]
["E01022214","E01022214 Cotswold 003C","E01022214",{"$f":"VLOOKUP(A806,'Output Areas'!$A:$E,5,FALSE)","v":"Rural"},"A flat; maisonette; apartment","Shared ownership or rented (excluding living rent free)","Total: Number of rooms",{"$f":"VLOOKUP(G806,Cntrol!$F$3:$G$9,2,FALSE)","v":0},13,4,3,0,0,6]
["E01022214","E01022214 Cotswold 003C","E01022214",{"$f":"VLOOKUP(A807,'Output Areas'!$A:$E,5,FALSE)","v":"Rural"},"A flat; maisonette; apartment","Shared ownership or rented (excluding living rent free)","3 rooms or less",{"$f":"VLOOKUP(G807,Cntrol!$F$3:$G$9,2,FALSE)","v":2},9,3,1,0,0,5]
["E01022214","E01022214 Cotswold 003C","E01022214",{"$f":"VLOOKUP(A808,'Output Areas'!$A:$E,5,FALSE)","v":"Rural"},"A flat; maisonette; apartment","Shared ownership or rented (excluding living rent free)","4 rooms",{"$f":"VLOOKUP(G808,Cntrol!$F$3:$G$9,2,FALSE)","v":2},1,0,0,0,0,1]
["E01022214","E01022214 Cotswold 003C","E01022214",{"$f":"VLOOKUP(A809,'Output Areas'!$A:$E,5,FALSE)","v":"Rural"},"A flat; maisonette; apartment","Shared ownership or rented (excluding living rent free)","5 rooms",{"$f":"VLOOKUP(G809,Cntrol!$F$3:$G$9,2,FALSE)","v":3},3,1,2,0,0,0]
["E01022222","E01022222 Cotswold 003D","E01022222",{"$f":"VLOOKUP(A810,'Output Areas'!$A:$E,5,FALSE)","v":"Rural"},"Total: Accommodation type (excluding caravans / temporary structures)","Total: Tenure (excluding living rent free)","Total: Number of rooms",{"$f":"VLOOKUP(G810,Cntrol!$F$3:$G$9,2,FALSE)","v":0},812,299,315,110,45,43]
["E01022222","E01022222 Cotswold 003D","E01022222",{"$f":"VLOOKUP(A811,'Output Areas'!$A:$E,5,FALSE)","v":"Rural"},"Total: Accommodation type (excluding caravans / temporary structures)","Total: Tenure (excluding living rent free)","3 rooms or less",{"$f":"VLOOKUP(G811,Cntrol!$F$3:$G$9,2,FALSE)","v":2},51,27,12,3,0,9]
["E01022222","E01022222 Cotswold 003D","E01022222",{"$f":"VLOOKUP(A812,'Output Areas'!$A:$E,5,FALSE)","v":"Rural"},"Total: Accommodation type (excluding caravans / temporary structures)","Total: Tenure (excluding living rent free)","4 rooms",{"$f":"VLOOKUP(G812,Cntrol!$F$3:$G$9,2,FALSE)","v":2},91,48,28,5,2,8]
["E01022222","E01022222 Cotswold 003D","E01022222",{"$f":"VLOOKUP(A813,'Output Areas'!$A:$E,5,FALSE)","v":"Rural"},"Total: Accommodation type (excluding caravans / temporary structures)","Total: Tenure (excluding living rent free)","5 rooms",{"$f":"VLOOKUP(G813,Cntrol!$F$3:$G$9,2,FALSE)","v":3},127,62,46,6,4,9]
["E01022222","E01022222 Cotswold 003D","E01022222",{"$f":"VLOOKUP(A814,'Output Areas'!$A:$E,5,FALSE)","v":"Rural"},"Total: Accommodation type (excluding caravans / temporary structures)","Total: Tenure (excluding living rent free)","6 rooms",{"$f":"VLOOKUP(G814,Cntrol!$F$3:$G$9,2,FALSE)","v":3},139,67,44,12,3,13]
["E01022222","E01022222 Cotswold 003D","E01022222",{"$f":"VLOOKUP(A815,'Output Areas'!$A:$E,5,FALSE)","v":"Rural"},"Total: Accommodation type (excluding caravans / temporary structures)","Total: Tenure (excluding living rent free)","7 rooms",{"$f":"VLOOKUP(G815,Cntrol!$F$3:$G$9,2,FALSE)","v":4},118,45,53,16,3,1]
["E01022222","E01022222 Cotswold 003D","E01022222",{"$f":"VLOOKUP(A816,'Output Areas'!$A:$E,5,FALSE)","v":"Rural"},"Total: Accommodation type (excluding caravans / temporary structures)","Total: Tenure (excluding living rent free)","8 rooms or more",{"$f":"VLOOKUP(G816,Cntrol!$F$3:$G$9,2,FALSE)","v":5},286,50,132,68,33,3]
["E01022222","E01022222 Cotswold 003D","E01022222",{"$f":"VLOOKUP(A817,'Output Areas'!$A:$E,5,FALSE)","v":"Rural"},"Total: Accommodation type (excluding caravans / temporary structures)","Owned","Total: Number of rooms",{"$f":"VLOOKUP(G817,Cntrol!$F$3:$G$9,2,FALSE)","v":0},542,166,228,92,37,19]
["E01022222","E01022222 Cotswold 003D","E01022222",{"$f":"VLOOKUP(A818,'Output Areas'!$A:$E,5,FALSE)","v":"Rural"},"Total: Accommodation type (excluding caravans / temporary structures)","Owned","3 rooms or less",{"$f":"VLOOKUP(G818,Cntrol!$F$3:$G$9,2,FALSE)","v":2},11,3,5,3,0,0]
["E01022222","E01022222 Cotswold 003D","E01022222",{"$f":"VLOOKUP(A819,'Output Areas'!$A:$E,5,FALSE)","v":"Rural"},"Total: Accommodation type (excluding caravans / temporary structures)","Owned","4 rooms",{"$f":"VLOOKUP(G819,Cntrol!$F$3:$G$9,2,FALSE)","v":2},25,13,7,3,1,1]
["E01022222","E01022222 Cotswold 003D","E01022222",{"$f":"VLOOKUP(A820,'Output Areas'!$A:$E,5,FALSE)","v":"Rural"},"Total: Accommodation type (excluding caravans / temporary structures)","Owned","5 rooms",{"$f":"VLOOKUP(G820,Cntrol!$F$3:$G$9,2,FALSE)","v":3},76,38,23,6,3,6]
["E01022222","E01022222 Cotswold 003D","E01022222",{"$f":"VLOOKUP(A821,'Output Areas'!$A:$E,5,FALSE)","v":"Rural"},"Total: Accommodation type (excluding caravans / temporary structures)","Owned","6 rooms",{"$f":"VLOOKUP(G821,Cntrol!$F$3:$G$9,2,FALSE)","v":3},85,38,28,8,3,8]
["E01022222","E01022222 Cotswold 003D","E01022222",{"$f":"VLOOKUP(A822,'Output Areas'!$A:$E,5,FALSE)","v":"Rural"},"Total: Accommodation type (excluding caravans / temporary structures)","Owned","7 rooms",{"$f":"VLOOKUP(G822,Cntrol!$F$3:$G$9,2,FALSE)","v":4},99,34,48,13,3,1]
["E01022222","E01022222 Cotswold 003D","E01022222",{"$f":"VLOOKUP(A823,'Output Areas'!$A:$E,5,FALSE)","v":"Rural"},"Total: Accommodation type (excluding caravans / temporary structures)","Owned","8 rooms or more",{"$f":"VLOOKUP(G823,Cntrol!$F$3:$G$9,2,FALSE)","v":5},246,40,117,59,27,3]
["E01022222","E01022222 Cotswold 003D","E01022222",{"$f":"VLOOKUP(A824,'Output Areas'!$A:$E,5,FALSE)","v":"Rural"},"Total: Accommodation type (excluding caravans / temporary structures)","Shared ownership or rented (excluding living rent free)","Total: Number of rooms",{"$f":"VLOOKUP(G824,Cntrol!$F$3:$G$9,2,FALSE)","v":0},270,133,87,18,8,24]
["E01022222","E01022222 Cotswold 003D","E01022222",{"$f":"VLOOKUP(A825,'Output Areas'!$A:$E,5,FALSE)","v":"Rural"},"Total: Accommodation type (excluding caravans / temporary structures)","Shared ownership or rented (excluding living rent free)","3 rooms or less",{"$f":"VLOOKUP(G825,Cntrol!$F$3:$G$9,2,FALSE)","v":2},40,24,7,0,0,9]
["E01022222","E01022222 Cotswold 003D","E01022222",{"$f":"VLOOKUP(A826,'Output Areas'!$A:$E,5,FALSE)","v":"Rural"},"Total: Accommodation type (excluding caravans / temporary structures)","Shared ownership or rented (excluding living rent free)","4 rooms",{"$f":"VLOOKUP(G826,Cntrol!$F$3:$G$9,2,FALSE)","v":2},66,35,21,2,1,7]
["E01022222","E01022222 Cotswold 003D","E01022222",{"$f":"VLOOKUP(A827,'Output Areas'!$A:$E,5,FALSE)","v":"Rural"},"Total: Accommodation type (excluding caravans / temporary structures)","Shared ownership or rented (excluding living rent free)","5 rooms",{"$f":"VLOOKUP(G827,Cntrol!$F$3:$G$9,2,FALSE)","v":3},51,24,23,0,1,3]
["E01022222","E01022222 Cotswold 003D","E01022222",{"$f":"VLOOKUP(A828,'Output Areas'!$A:$E,5,FALSE)","v":"Rural"},"Total: Accommodation type (excluding caravans / temporary structures)","Shared ownership or rented (excluding living rent free)","6 rooms",{"$f":"VLOOKUP(G828,Cntrol!$F$3:$G$9,2,FALSE)","v":3},54,29,16,4,0,5]
["E01022222","E01022222 Cotswold 003D","E01022222",{"$f":"VLOOKUP(A829,'Output Areas'!$A:$E,5,FALSE)","v":"Rural"},"Total: Accommodation type (excluding caravans / temporary structures)","Shared ownership or rented (excluding living rent free)","7 rooms",{"$f":"VLOOKUP(G829,Cntrol!$F$3:$G$9,2,FALSE)","v":4},19,11,5,3,0,0]
["E01022222","E01022222 Cotswold 003D","E01022222",{"$f":"VLOOKUP(A830,'Output Areas'!$A:$E,5,FALSE)","v":"Rural"},"Total: Accommodation type (excluding caravans / temporary structures)","Shared ownership or rented (excluding living rent free)","8 rooms or more",{"$f":"VLOOKUP(G830,Cntrol!$F$3:$G$9,2,FALSE)","v":5},40,10,15,9,6,0]
["E01022222","E01022222 Cotswold 003D","E01022222",{"$f":"VLOOKUP(A831,'Output Areas'!$A:$E,5,FALSE)","v":"Rural"},"Detached; semi-detached; terraced whole house or bungalow","Total: Tenure (excluding living rent free)","Total: Number of rooms",{"$f":"VLOOKUP(G831,Cntrol!$F$3:$G$9,2,FALSE)","v":0},777,280,309,108,43,37]
["E01022222","E01022222 Cotswold 003D","E01022222",{"$f":"VLOOKUP(A832,'Output Areas'!$A:$E,5,FALSE)","v":"Rural"},"Detached; semi-detached; terraced whole house or bungalow","Total: Tenure (excluding living rent free)","3 rooms or less",{"$f":"VLOOKUP(G832,Cntrol!$F$3:$G$9,2,FALSE)","v":2},34,20,8,2,0,4]
["E01022222","E01022222 Cotswold 003D","E01022222",{"$f":"VLOOKUP(A833,'Output Areas'!$A:$E,5,FALSE)","v":"Rural"},"Detached; semi-detached; terraced whole house or bungalow","Total: Tenure (excluding living rent free)","4 rooms",{"$f":"VLOOKUP(G833,Cntrol!$F$3:$G$9,2,FALSE)","v":2},80,41,26,5,1,7]
["E01022222","E01022222 Cotswold 003D","E01022222",{"$f":"VLOOKUP(A834,'Output Areas'!$A:$E,5,FALSE)","v":"Rural"},"Detached; semi-detached; terraced whole house or bungalow","Total: Tenure (excluding living rent free)","5 rooms",{"$f":"VLOOKUP(G834,Cntrol!$F$3:$G$9,2,FALSE)","v":3},125,60,46,6,4,9]
["E01022222","E01022222 Cotswold 003D","E01022222",{"$f":"VLOOKUP(A835,'Output Areas'!$A:$E,5,FALSE)","v":"Rural"},"Detached; semi-detached; terraced whole house or bungalow","Total: Tenure (excluding living rent free)","6 rooms",{"$f":"VLOOKUP(G835,Cntrol!$F$3:$G$9,2,FALSE)","v":3},139,67,44,12,3,13]
["E01022222","E01022222 Cotswold 003D","E01022222",{"$f":"VLOOKUP(A836,'Output Areas'!$A:$E,5,FALSE)","v":"Rural"},"Detached; semi-detached; terraced whole house or bungalow","Total: Tenure (excluding living rent free)","7 rooms",{"$f":"VLOOKUP(G836,Cntrol!$F$3:$G$9,2,FALSE)","v":4},115,42,53,16,3,1]
["E01022222","E01022222 Cotswold 003D","E01022222",{"$f":"VLOOKUP(A837,'Output Areas'!$A:$E,5,FALSE)","v":"Rural"},"Detached; semi-detached; terraced whole house or bungalow","Total: Tenure (excluding living rent free)","8 rooms or more",{"$f":"VLOOKUP(G837,Cntrol!$F$3:$G$9,2,FALSE)","v":5},284,50,132,67,32,3]
["E01022222","E01022222 Cotswold 003D","E01022222",{"$f":"VLOOKUP(A838,'Output Areas'!$A:$E,5,FALSE)","v":"Rural"},"Detached; semi-detached; terraced whole house or bungalow","Owned","Total: Number of rooms",{"$f":"VLOOKUP(G838,Cntrol!$F$3:$G$9,2,FALSE)","v":0},538,164,228,90,37,19]
["E01022222","E01022222 Cotswold 003D","E01022222",{"$f":"VLOOKUP(A839,'Output Areas'!$A:$E,5,FALSE)","v":"Rural"},"Detached; semi-detached; terraced whole house or bungalow","Owned","3 rooms or less",{"$f":"VLOOKUP(G839,Cntrol!$F$3:$G$9,2,FALSE)","v":2},10,3,5,2,0,0]
["E01022222","E01022222 Cotswold 003D","E01022222",{"$f":"VLOOKUP(A840,'Output Areas'!$A:$E,5,FALSE)","v":"Rural"},"Detached; semi-detached; terraced whole house or bungalow","Owned","4 rooms",{"$f":"VLOOKUP(G840,Cntrol!$F$3:$G$9,2,FALSE)","v":2},24,12,7,3,1,1]
["E01022222","E01022222 Cotswold 003D","E01022222",{"$f":"VLOOKUP(A841,'Output Areas'!$A:$E,5,FALSE)","v":"Rural"},"Detached; semi-detached; terraced whole house or bungalow","Owned","5 rooms",{"$f":"VLOOKUP(G841,Cntrol!$F$3:$G$9,2,FALSE)","v":3},75,37,23,6,3,6]
["E01022222","E01022222 Cotswold 003D","E01022222",{"$f":"VLOOKUP(A842,'Output Areas'!$A:$E,5,FALSE)","v":"Rural"},"Detached; semi-detached; terraced whole house or bungalow","Owned","6 rooms",{"$f":"VLOOKUP(G842,Cntrol!$F$3:$G$9,2,FALSE)","v":3},85,38,28,8,3,8]
["E01022222","E01022222 Cotswold 003D","E01022222",{"$f":"VLOOKUP(A843,'Output Areas'!$A:$E,5,FALSE)","v":"Rural"},"Detached; semi-detached; terraced whole house or bungalow","Owned","7 rooms",{"$f":"VLOOKUP(G843,Cntrol!$F$3:$G$9,2,FALSE)","v":4},99,34,48,13,3,1]
["E01022222","E01022222 Cotswold 003D","E01022222",{"$f":"VLOOKUP(A844,'Output Areas'!$A:$E,5,FALSE)","v":"Rural"},"Detached; semi-detached; terraced whole house or bungalow","Owned","8 rooms or more",{"$f":"VLOOKUP(G844,Cntrol!$F$3:$G$9,2,FALSE)","v":5},245,40,117,58,27,3]
["E01022222","E01022222 Cotswold 003D","E01022222",{"$f":"VLOOKUP(A845,'Output Areas'!$A:$E,5,FALSE)","v":"Rural"},"Detached; semi-detached; terraced whole house or bungalow","Shared ownership or rented (excluding living rent free)","Total: Number of rooms",{"$f":"VLOOKUP(G845,Cntrol!$F$3:$G$9,2,FALSE)","v":0},239,116,81,18,6,18]
["E01022222","E01022222 Cotswold 003D","E01022222",{"$f":"VLOOKUP(A846,'Output Areas'!$A:$E,5,FALSE)","v":"Rural"},"Detached; semi-detached; terraced whole house or bungalow","Shared ownership or rented (excluding living rent free)","3 rooms or less",{"$f":"VLOOKUP(G846,Cntrol!$F$3:$G$9,2,FALSE)","v":2},24,17,3,0,0,4]
["E01022222","E01022222 Cotswold 003D","E01022222",{"$f":"VLOOKUP(A847,'Output Areas'!$A:$E,5,FALSE)","v":"Rural"},"Detached; semi-detached; terraced whole house or bungalow","Shared ownership or rented (excluding living rent free)","4 rooms",{"$f":"VLOOKUP(G847,Cntrol!$F$3:$G$9,2,FALSE)","v":2},56,29,19,2,0,6]
["E01022222","E01022222 Cotswold 003D","E01022222",{"$f":"VLOOKUP(A848,'Output Areas'!$A:$E,5,FALSE)","v":"Rural"},"Detached; semi-detached; terraced whole house or bungalow","Shared ownership or rented (excluding living rent free)","5 rooms",{"$f":"VLOOKUP(G848,Cntrol!$F$3:$G$9,2,FALSE)","v":3},50,23,23,0,1,3]
["E01022222","E01022222 Cotswold 003D","E01022222",{"$f":"VLOOKUP(A849,'Output Areas'!$A:$E,5,FALSE)","v":"Rural"},"Detached; semi-detached; terraced whole house or bungalow","Shared ownership or rented (excluding living rent free)","6 rooms",{"$f":"VLOOKUP(G849,Cntrol!$F$3:$G$9,2,FALSE)","v":3},54,29,16,4,0,5]
["E01022222","E01022222 Cotswold 003D","E01022222",{"$f":"VLOOKUP(A850,'Output Areas'!$A:$E,5,FALSE)","v":"Rural"},"Detached; semi-detached; terraced whole house or bungalow","Shared ownership or rented (excluding living rent free)","7 rooms",{"$f":"VLOOKUP(G850,Cntrol!$F$3:$G$9,2,FALSE)","v":4},16,8,5,3,0,0]
["E01022222","E01022222 Cotswold 003D","E01022222",{"$f":"VLOOKUP(A851,'Output Areas'!$A:$E,5,FALSE)","v":"Rural"},"Detached; semi-detached; terraced whole house or bungalow","Shared ownership or rented (excluding living rent free)","8 rooms or more",{"$f":"VLOOKUP(G851,Cntrol!$F$3:$G$9,2,FALSE)","v":5},39,10,15,9,5,0]
["E01022222","E01022222 Cotswold 003D","E01022222",{"$f":"VLOOKUP(A852,'Output Areas'!$A:$E,5,FALSE)","v":"Rural"},"A flat; maisonette; apartment","Total: Tenure (excluding living rent free)","Total: Number of rooms",{"$f":"VLOOKUP(G852,Cntrol!$F$3:$G$9,2,FALSE)","v":0},35,19,6,2,2,6]
["E01022222","E01022222 Cotswold 003D","E01022222",{"$f":"VLOOKUP(A853,'Output Areas'!$A:$E,5,FALSE)","v":"Rural"},"A flat; maisonette; apartment","Total: Tenure (excluding living rent free)","3 rooms or less",{"$f":"VLOOKUP(G853,Cntrol!$F$3:$G$9,2,FALSE)","v":2},17,7,4,1,0,5]
["E01022222","E01022222 Cotswold 003D","E01022222",{"$f":"VLOOKUP(A854,'Output Areas'!$A:$E,5,FALSE)","v":"Rural"},"A flat; maisonette; apartment","Total: Tenure (excluding living rent free)","4 rooms",{"$f":"VLOOKUP(G854,Cntrol!$F$3:$G$9,2,FALSE)","v":2},11,7,2,0,1,1]
["E01022222","E01022222 Cotswold 003D","E01022222",{"$f":"VLOOKUP(A855,'Output Areas'!$A:$E,5,FALSE)","v":"Rural"},"A flat; maisonette; apartment","Total: Tenure (excluding living rent free)","5 rooms",{"$f":"VLOOKUP(G855,Cntrol!$F$3:$G$9,2,FALSE)","v":3},2,2,0,0,0,0]
["E01022222","E01022222 Cotswold 003D","E01022222",{"$f":"VLOOKUP(A856,'Output Areas'!$A:$E,5,FALSE)","v":"Rural"},"A flat; maisonette; apartment","Total: Tenure (excluding living rent free)","7 rooms",{"$f":"VLOOKUP(G856,Cntrol!$F$3:$G$9,2,FALSE)","v":4},3,3,0,0,0,0]
["E01022222","E01022222 Cotswold 003D","E01022222",{"$f":"VLOOKUP(A857,'Output Areas'!$A:$E,5,FALSE)","v":"Rural"},"A flat; maisonette; apartment","Total: Tenure (excluding living rent free)","8 rooms or more",{"$f":"VLOOKUP(G857,Cntrol!$F$3:$G$9,2,FALSE)","v":5},2,0,0,1,1,0]
["E01022222","E01022222 Cotswold 003D","E01022222",{"$f":"VLOOKUP(A858,'Output Areas'!$A:$E,5,FALSE)","v":"Rural"},"A flat; maisonette; apartment","Owned","Total: Number of rooms",{"$f":"VLOOKUP(G858,Cntrol!$F$3:$G$9,2,FALSE)","v":0},4,2,0,2,0,0]
["E01022222","E01022222 Cotswold 003D","E01022222",{"$f":"VLOOKUP(A859,'Output Areas'!$A:$E,5,FALSE)","v":"Rural"},"A flat; maisonette; apartment","Owned","3 rooms or less",{"$f":"VLOOKUP(G859,Cntrol!$F$3:$G$9,2,FALSE)","v":2},1,0,0,1,0,0]
["E01022222","E01022222 Cotswold 003D","E01022222",{"$f":"VLOOKUP(A860,'Output Areas'!$A:$E,5,FALSE)","v":"Rural"},"A flat; maisonette; apartment","Owned","4 rooms",{"$f":"VLOOKUP(G860,Cntrol!$F$3:$G$9,2,FALSE)","v":2},1,1,0,0,0,0]
["E01022222","E01022222 Cotswold 003D","E01022222",{"$f":"VLOOKUP(A861,'Output Areas'!$A:$E,5,FALSE)","v":"Rural"},"A flat; maisonette; apartment","Owned","5 rooms",{"$f":"VLOOKUP(G861,Cntrol!$F$3:$G$9,2,FALSE)","v":3},1,1,0,0,0,0]
["E01022222","E01022222 Cotswold 003D","E01022222",{"$f":"VLOOKUP(A862,'Output Areas'!$A:$E,5,FALSE)","v":"Rural"},"A flat; maisonette; apartment","Owned","8 rooms or more",{"$f":"VLOOKUP(G862,Cntrol!$F$3:$G$9,2,FALSE)","v":5},1,0,0,1,0,0]
["E01022222","E01022222 Cotswold 003D","E01022222",{"$f":"VLOOKUP(A863,'Output Areas'!$A:$E,5,FALSE)","v":"Rural"},"A flat; maisonette; apartment","Shared ownership or rented (excluding living rent free)","Total: Number of rooms",{"$f":"VLOOKUP(G863,Cntrol!$F$3:$G$9,2,FALSE)","v":0},31,17,6,0,2,6]
["E01022222","E01022222 Cotswold 003D","E01022222",{"$f":"VLOOKUP(A864,'Output Areas'!$A:$E,5,FALSE)","v":"Rural"},"A flat; maisonette; apartment","Shared ownership or rented (excluding living rent free)","3 rooms or less",{"$f":"VLOOKUP(G864,Cntrol!$F$3:$G$9,2,FALSE)","v":2},16,7,4,0,0,5]
["E01022222","E01022222 Cotswold 003D","E01022222",{"$f":"VLOOKUP(A865,'Output Areas'!$A:$E,5,FALSE)","v":"Rural"},"A flat; maisonette; apartment","Shared ownership or rented (excluding living rent free)","4 rooms",{"$f":"VLOOKUP(G865,Cntrol!$F$3:$G$9,2,FALSE)","v":2},10,6,2,0,1,1]
["E01022222","E01022222 Cotswold 003D","E01022222",{"$f":"VLOOKUP(A866,'Output Areas'!$A:$E,5,FALSE)","v":"Rural"},"A flat; maisonette; apartment","Shared ownership or rented (excluding living rent free)","5 rooms",{"$f":"VLOOKUP(G866,Cntrol!$F$3:$G$9,2,FALSE)","v":3},1,1,0,0,0,0]
["E01022222","E01022222 Cotswold 003D","E01022222",{"$f":"VLOOKUP(A867,'Output Areas'!$A:$E,5,FALSE)","v":"Rural"},"A flat; maisonette; apartment","Shared ownership or rented (excluding living rent free)","7 rooms",{"$f":"VLOOKUP(G867,Cntrol!$F$3:$G$9,2,FALSE)","v":4},3,3,0,0,0,0]
["E01022222","E01022222 Cotswold 003D","E01022222",{"$f":"VLOOKUP(A868,'Output Areas'!$A:$E,5,FALSE)","v":"Rural"},"A flat; maisonette; apartment","Shared ownership or rented (excluding living rent free)","8 rooms or more",{"$f":"VLOOKUP(G868,Cntrol!$F$3:$G$9,2,FALSE)","v":5},1,0,0,0,1,0]
["E01022186","E01022186 Cotswold 004A","E01022186",{"$f":"VLOOKUP(A869,'Output Areas'!$A:$E,5,FALSE)","v":"Rural"},"Total: Accommodation type (excluding caravans / temporary structures)","Total: Tenure (excluding living rent free)","Total: Number of rooms",{"$f":"VLOOKUP(G869,Cntrol!$F$3:$G$9,2,FALSE)","v":0},644,180,278,95,51,40]
["E01022186","E01022186 Cotswold 004A","E01022186",{"$f":"VLOOKUP(A870,'Output Areas'!$A:$E,5,FALSE)","v":"Rural"},"Total: Accommodation type (excluding caravans / temporary structures)","Total: Tenure (excluding living rent free)","3 rooms or less",{"$f":"VLOOKUP(G870,Cntrol!$F$3:$G$9,2,FALSE)","v":2},27,21,3,0,0,3]
["E01022186","E01022186 Cotswold 004A","E01022186",{"$f":"VLOOKUP(A871,'Output Areas'!$A:$E,5,FALSE)","v":"Rural"},"Total: Accommodation type (excluding caravans / temporary structures)","Total: Tenure (excluding living rent free)","4 rooms",{"$f":"VLOOKUP(G871,Cntrol!$F$3:$G$9,2,FALSE)","v":2},56,33,10,3,2,8]
["E01022186","E01022186 Cotswold 004A","E01022186",{"$f":"VLOOKUP(A872,'Output Areas'!$A:$E,5,FALSE)","v":"Rural"},"Total: Accommodation type (excluding caravans / temporary structures)","Total: Tenure (excluding living rent free)","5 rooms",{"$f":"VLOOKUP(G872,Cntrol!$F$3:$G$9,2,FALSE)","v":3},88,33,36,9,4,6]
["E01022186","E01022186 Cotswold 004A","E01022186",{"$f":"VLOOKUP(A873,'Output Areas'!$A:$E,5,FALSE)","v":"Rural"},"Total: Accommodation type (excluding caravans / temporary structures)","Total: Tenure (excluding living rent free)","6 rooms",{"$f":"VLOOKUP(G873,Cntrol!$F$3:$G$9,2,FALSE)","v":3},113,25,50,15,10,13]
["E01022186","E01022186 Cotswold 004A","E01022186",{"$f":"VLOOKUP(A874,'Output Areas'!$A:$E,5,FALSE)","v":"Rural"},"Total: Accommodation type (excluding caravans / temporary structures)","Total: Tenure (excluding living rent free)","7 rooms",{"$f":"VLOOKUP(G874,Cntrol!$F$3:$G$9,2,FALSE)","v":4},86,23,46,9,3,5]
["E01022186","E01022186 Cotswold 004A","E01022186",{"$f":"VLOOKUP(A875,'Output Areas'!$A:$E,5,FALSE)","v":"Rural"},"Total: Accommodation type (excluding caravans / temporary structures)","Total: Tenure (excluding living rent free)","8 rooms or more",{"$f":"VLOOKUP(G875,Cntrol!$F$3:$G$9,2,FALSE)","v":5},274,45,133,59,32,5]
["E01022186","E01022186 Cotswold 004A","E01022186",{"$f":"VLOOKUP(A876,'Output Areas'!$A:$E,5,FALSE)","v":"Rural"},"Total: Accommodation type (excluding caravans / temporary structures)","Owned","Total: Number of rooms",{"$f":"VLOOKUP(G876,Cntrol!$F$3:$G$9,2,FALSE)","v":0},472,109,217,84,46,16]
["E01022186","E01022186 Cotswold 004A","E01022186",{"$f":"VLOOKUP(A877,'Output Areas'!$A:$E,5,FALSE)","v":"Rural"},"Total: Accommodation type (excluding caravans / temporary structures)","Owned","3 rooms or less",{"$f":"VLOOKUP(G877,Cntrol!$F$3:$G$9,2,FALSE)","v":2},8,8,0,0,0,0]
["E01022186","E01022186 Cotswold 004A","E01022186",{"$f":"VLOOKUP(A878,'Output Areas'!$A:$E,5,FALSE)","v":"Rural"},"Total: Accommodation type (excluding caravans / temporary structures)","Owned","4 rooms",{"$f":"VLOOKUP(G878,Cntrol!$F$3:$G$9,2,FALSE)","v":2},23,14,3,2,1,3]
["E01022186","E01022186 Cotswold 004A","E01022186",{"$f":"VLOOKUP(A879,'Output Areas'!$A:$E,5,FALSE)","v":"Rural"},"Total: Accommodation type (excluding caravans / temporary structures)","Owned","5 rooms",{"$f":"VLOOKUP(G879,Cntrol!$F$3:$G$9,2,FALSE)","v":3},42,15,17,7,3,0]
["E01022186","E01022186 Cotswold 004A","E01022186",{"$f":"VLOOKUP(A880,'Output Areas'!$A:$E,5,FALSE)","v":"Rural"},"Total: Accommodation type (excluding caravans / temporary structures)","Owned","6 rooms",{"$f":"VLOOKUP(G880,Cntrol!$F$3:$G$9,2,FALSE)","v":3},73,13,35,11,9,5]
["E01022186","E01022186 Cotswold 004A","E01022186",{"$f":"VLOOKUP(A881,'Output Areas'!$A:$E,5,FALSE)","v":"Rural"},"Total: Accommodation type (excluding caravans / temporary structures)","Owned","7 rooms",{"$f":"VLOOKUP(G881,Cntrol!$F$3:$G$9,2,FALSE)","v":4},74,18,40,9,3,4]
["E01022186","E01022186 Cotswold 004A","E01022186",{"$f":"VLOOKUP(A882,'Output Areas'!$A:$E,5,FALSE)","v":"Rural"},"Total: Accommodation type (excluding caravans / temporary structures)","Owned","8 rooms or more",{"$f":"VLOOKUP(G882,Cntrol!$F$3:$G$9,2,FALSE)","v":5},252,41,122,55,30,4]
["E01022186","E01022186 Cotswold 004A","E01022186",{"$f":"VLOOKUP(A883,'Output Areas'!$A:$E,5,FALSE)","v":"Rural"},"Total: Accommodation type (excluding caravans / temporary structures)","Shared ownership or rented (excluding living rent free)","Total: Number of rooms",{"$f":"VLOOKUP(G883,Cntrol!$F$3:$G$9,2,FALSE)","v":0},172,71,61,11,5,24]
["E01022186","E01022186 Cotswold 004A","E01022186",{"$f":"VLOOKUP(A884,'Output Areas'!$A:$E,5,FALSE)","v":"Rural"},"Total: Accommodation type (excluding caravans / temporary structures)","Shared ownership or rented (excluding living rent free)","3 rooms or less",{"$f":"VLOOKUP(G884,Cntrol!$F$3:$G$9,2,FALSE)","v":2},19,13,3,0,0,3]
["E01022186","E01022186 Cotswold 004A","E01022186",{"$f":"VLOOKUP(A885,'Output Areas'!$A:$E,5,FALSE)","v":"Rural"},"Total: Accommodation type (excluding caravans / temporary structures)","Shared ownership or rented (excluding living rent free)","4 rooms",{"$f":"VLOOKUP(G885,Cntrol!$F$3:$G$9,2,FALSE)","v":2},33,19,7,1,1,5]
["E01022186","E01022186 Cotswold 004A","E01022186",{"$f":"VLOOKUP(A886,'Output Areas'!$A:$E,5,FALSE)","v":"Rural"},"Total: Accommodation type (excluding caravans / temporary structures)","Shared ownership or rented (excluding living rent free)","5 rooms",{"$f":"VLOOKUP(G886,Cntrol!$F$3:$G$9,2,FALSE)","v":3},46,18,19,2,1,6]
["E01022186","E01022186 Cotswold 004A","E01022186",{"$f":"VLOOKUP(A887,'Output Areas'!$A:$E,5,FALSE)","v":"Rural"},"Total: Accommodation type (excluding caravans / temporary structures)","Shared ownership or rented (excluding living rent free)","6 rooms",{"$f":"VLOOKUP(G887,Cntrol!$F$3:$G$9,2,FALSE)","v":3},40,12,15,4,1,8]
["E01022186","E01022186 Cotswold 004A","E01022186",{"$f":"VLOOKUP(A888,'Output Areas'!$A:$E,5,FALSE)","v":"Rural"},"Total: Accommodation type (excluding caravans / temporary structures)","Shared ownership or rented (excluding living rent free)","7 rooms",{"$f":"VLOOKUP(G888,Cntrol!$F$3:$G$9,2,FALSE)","v":4},12,5,6,0,0,1]
["E01022186","E01022186 Cotswold 004A","E01022186",{"$f":"VLOOKUP(A889,'Output Areas'!$A:$E,5,FALSE)","v":"Rural"},"Total: Accommodation type (excluding caravans / temporary structures)","Shared ownership or rented (excluding living rent free)","8 rooms or more",{"$f":"VLOOKUP(G889,Cntrol!$F$3:$G$9,2,FALSE)","v":5},22,4,11,4,2,1]
["E01022186","E01022186 Cotswold 004A","E01022186",{"$f":"VLOOKUP(A890,'Output Areas'!$A:$E,5,FALSE)","v":"Rural"},"Detached; semi-detached; terraced whole house or bungalow","Total: Tenure (excluding living rent free)","Total: Number of rooms",{"$f":"VLOOKUP(G890,Cntrol!$F$3:$G$9,2,FALSE)","v":0},635,174,276,95,51,39]
["E01022186","E01022186 Cotswold 004A","E01022186",{"$f":"VLOOKUP(A891,'Output Areas'!$A:$E,5,FALSE)","v":"Rural"},"Detached; semi-detached; terraced whole house or bungalow","Total: Tenure (excluding living rent free)","3 rooms or less",{"$f":"VLOOKUP(G891,Cntrol!$F$3:$G$9,2,FALSE)","v":2},22,18,2,0,0,2]
["E01022186","E01022186 Cotswold 004A","E01022186",{"$f":"VLOOKUP(A892,'Output Areas'!$A:$E,5,FALSE)","v":"Rural"},"Detached; semi-detached; terraced whole house or bungalow","Total: Tenure (excluding living rent free)","4 rooms",{"$f":"VLOOKUP(G892,Cntrol!$F$3:$G$9,2,FALSE)","v":2},54,31,10,3,2,8]
["E01022186","E01022186 Cotswold 004A","E01022186",{"$f":"VLOOKUP(A893,'Output Areas'!$A:$E,5,FALSE)","v":"Rural"},"Detached; semi-detached; terraced whole house or bungalow","Total: Tenure (excluding living rent free)","5 rooms",{"$f":"VLOOKUP(G893,Cntrol!$F$3:$G$9,2,FALSE)","v":3},88,33,36,9,4,6]
["E01022186","E01022186 Cotswold 004A","E01022186",{"$f":"VLOOKUP(A894,'Output Areas'!$A:$E,5,FALSE)","v":"Rural"},"Detached; semi-detached; terraced whole house or bungalow","Total: Tenure (excluding living rent free)","6 rooms",{"$f":"VLOOKUP(G894,Cntrol!$F$3:$G$9,2,FALSE)","v":3},112,25,49,15,10,13]
["E01022186","E01022186 Cotswold 004A","E01022186",{"$f":"VLOOKUP(A895,'Output Areas'!$A:$E,5,FALSE)","v":"Rural"},"Detached; semi-detached; terraced whole house or bungalow","Total: Tenure (excluding living rent free)","7 rooms",{"$f":"VLOOKUP(G895,Cntrol!$F$3:$G$9,2,FALSE)","v":4},86,23,46,9,3,5]
["E01022186","E01022186 Cotswold 004A","E01022186",{"$f":"VLOOKUP(A896,'Output Areas'!$A:$E,5,FALSE)","v":"Rural"},"Detached; semi-detached; terraced whole house or bungalow","Total: Tenure (excluding living rent free)","8 rooms or more",{"$f":"VLOOKUP(G896,Cntrol!$F$3:$G$9,2,FALSE)","v":5},273,44,133,59,32,5]
["E01022186","E01022186 Cotswold 004A","E01022186",{"$f":"VLOOKUP(A897,'Output Areas'!$A:$E,5,FALSE)","v":"Rural"},"Detached; semi-detached; terraced whole house or bungalow","Owned","Total: Number of rooms",{"$f":"VLOOKUP(G897,Cntrol!$F$3:$G$9,2,FALSE)","v":0},469,107,216,84,46,16]
["E01022186","E01022186 Cotswold 004A","E01022186",{"$f":"VLOOKUP(A898,'Output Areas'!$A:$E,5,FALSE)","v":"Rural"},"Detached; semi-detached; terraced whole house or bungalow","Owned","3 rooms or less",{"$f":"VLOOKUP(G898,Cntrol!$F$3:$G$9,2,FALSE)","v":2},7,7,0,0,0,0]
["E01022186","E01022186 Cotswold 004A","E01022186",{"$f":"VLOOKUP(A899,'Output Areas'!$A:$E,5,FALSE)","v":"Rural"},"Detached; semi-detached; terraced whole house or bungalow","Owned","4 rooms",{"$f":"VLOOKUP(G899,Cntrol!$F$3:$G$9,2,FALSE)","v":2},23,14,3,2,1,3]
["E01022186","E01022186 Cotswold 004A","E01022186",{"$f":"VLOOKUP(A900,'Output Areas'!$A:$E,5,FALSE)","v":"Rural"},"Detached; semi-detached; terraced whole house or bungalow","Owned","5 rooms",{"$f":"VLOOKUP(G900,Cntrol!$F$3:$G$9,2,FALSE)","v":3},42,15,17,7,3,0]
["E01022186","E01022186 Cotswold 004A","E01022186",{"$f":"VLOOKUP(A901,'Output Areas'!$A:$E,5,FALSE)","v":"Rural"},"Detached; semi-detached; terraced whole house or bungalow","Owned","6 rooms",{"$f":"VLOOKUP(G901,Cntrol!$F$3:$G$9,2,FALSE)","v":3},72,13,34,11,9,5]
["E01022186","E01022186 Cotswold 004A","E01022186",{"$f":"VLOOKUP(A902,'Output Areas'!$A:$E,5,FALSE)","v":"Rural"},"Detached; semi-detached; terraced whole house or bungalow","Owned","7 rooms",{"$f":"VLOOKUP(G902,Cntrol!$F$3:$G$9,2,FALSE)","v":4},74,18,40,9,3,4]
["E01022186","E01022186 Cotswold 004A","E01022186",{"$f":"VLOOKUP(A903,'Output Areas'!$A:$E,5,FALSE)","v":"Rural"},"Detached; semi-detached; terraced whole house or bungalow","Owned","8 rooms or more",{"$f":"VLOOKUP(G903,Cntrol!$F$3:$G$9,2,FALSE)","v":5},251,40,122,55,30,4]
["E01022186","E01022186 Cotswold 004A","E01022186",{"$f":"VLOOKUP(A904,'Output Areas'!$A:$E,5,FALSE)","v":"Rural"},"Detached; semi-detached; terraced whole house or bungalow","Shared ownership or rented (excluding living rent free)","Total: Number of rooms",{"$f":"VLOOKUP(G904,Cntrol!$F$3:$G$9,2,FALSE)","v":0},166,67,60,11,5,23]
["E01022186","E01022186 Cotswold 004A","E01022186",{"$f":"VLOOKUP(A905,'Output Areas'!$A:$E,5,FALSE)","v":"Rural"},"Detached; semi-detached; terraced whole house or bungalow","Shared ownership or rented (excluding living rent free)","3 rooms or less",{"$f":"VLOOKUP(G905,Cntrol!$F$3:$G$9,2,FALSE)","v":2},15,11,2,0,0,2]
["E01022186","E01022186 Cotswold 004A","E01022186",{"$f":"VLOOKUP(A906,'Output Areas'!$A:$E,5,FALSE)","v":"Rural"},"Detached; semi-detached; terraced whole house or bungalow","Shared ownership or rented (excluding living rent free)","4 rooms",{"$f":"VLOOKUP(G906,Cntrol!$F$3:$G$9,2,FALSE)","v":2},31,17,7,1,1,5]
["E01022186","E01022186 Cotswold 004A","E01022186",{"$f":"VLOOKUP(A907,'Output Areas'!$A:$E,5,FALSE)","v":"Rural"},"Detached; semi-detached; terraced whole house or bungalow","Shared ownership or rented (excluding living rent free)","5 rooms",{"$f":"VLOOKUP(G907,Cntrol!$F$3:$G$9,2,FALSE)","v":3},46,18,19,2,1,6]
["E01022186","E01022186 Cotswold 004A","E01022186",{"$f":"VLOOKUP(A908,'Output Areas'!$A:$E,5,FALSE)","v":"Rural"},"Detached; semi-detached; terraced whole house or bungalow","Shared ownership or rented (excluding living rent free)","6 rooms",{"$f":"VLOOKUP(G908,Cntrol!$F$3:$G$9,2,FALSE)","v":3},40,12,15,4,1,8]
["E01022186","E01022186 Cotswold 004A","E01022186",{"$f":"VLOOKUP(A909,'Output Areas'!$A:$E,5,FALSE)","v":"Rural"},"Detached; semi-detached; terraced whole house or bungalow","Shared ownership or rented (excluding living rent free)","7 rooms",{"$f":"VLOOKUP(G909,Cntrol!$F$3:$G$9,2,FALSE)","v":4},12,5,6,0,0,1]
["E01022186","E01022186 Cotswold 004A","E01022186",{"$f":"VLOOKUP(A910,'Output Areas'!$A:$E,5,FALSE)","v":"Rural"},"Detached; semi-detached; terraced whole house or bungalow","Shared ownership or rented (excluding living rent free)","8 rooms or more",{"$f":"VLOOKUP(G910,Cntrol!$F$3:$G$9,2,FALSE)","v":5},22,4,11,4,2,1]
["E01022186","E01022186 Cotswold 004A","E01022186",{"$f":"VLOOKUP(A911,'Output Areas'!$A:$E,5,FALSE)","v":"Rural"},"A flat; maisonette; apartment","Total: Tenure (excluding living rent free)","Total: Number of rooms",{"$f":"VLOOKUP(G911,Cntrol!$F$3:$G$9,2,FALSE)","v":0},9,6,2,0,0,1]
["E01022186","E01022186 Cotswold 004A","E01022186",{"$f":"VLOOKUP(A912,'Output Areas'!$A:$E,5,FALSE)","v":"Rural"},"A flat; maisonette; apartment","Total: Tenure (excluding living rent free)","3 rooms or less",{"$f":"VLOOKUP(G912,Cntrol!$F$3:$G$9,2,FALSE)","v":2},5,3,1,0,0,1]
["E01022186","E01022186 Cotswold 004A","E01022186",{"$f":"VLOOKUP(A913,'Output Areas'!$A:$E,5,FALSE)","v":"Rural"},"A flat; maisonette; apartment","Total: Tenure (excluding living rent free)","4 rooms",{"$f":"VLOOKUP(G913,Cntrol!$F$3:$G$9,2,FALSE)","v":2},2,2,0,0,0,0]
["E01022186","E01022186 Cotswold 004A","E01022186",{"$f":"VLOOKUP(A914,'Output Areas'!$A:$E,5,FALSE)","v":"Rural"},"A flat; maisonette; apartment","Total: Tenure (excluding living rent free)","6 rooms",{"$f":"VLOOKUP(G914,Cntrol!$F$3:$G$9,2,FALSE)","v":3},1,0,1,0,0,0]
["E01022186","E01022186 Cotswold 004A","E01022186",{"$f":"VLOOKUP(A915,'Output Areas'!$A:$E,5,FALSE)","v":"Rural"},"A flat; maisonette; apartment","Total: Tenure (excluding living rent free)","8 rooms or more",{"$f":"VLOOKUP(G915,Cntrol!$F$3:$G$9,2,FALSE)","v":5},1,1,0,0,0,0]
["E01022186","E01022186 Cotswold 004A","E01022186",{"$f":"VLOOKUP(A916,'Output Areas'!$A:$E,5,FALSE)","v":"Rural"},"A flat; maisonette; apartment","Owned","Total: Number of rooms",{"$f":"VLOOKUP(G916,Cntrol!$F$3:$G$9,2,FALSE)","v":0},3,2,1,0,0,0]
["E01022186","E01022186 Cotswold 004A","E01022186",{"$f":"VLOOKUP(A917,'Output Areas'!$A:$E,5,FALSE)","v":"Rural"},"A flat; maisonette; apartment","Owned","3 rooms or less",{"$f":"VLOOKUP(G917,Cntrol!$F$3:$G$9,2,FALSE)","v":2},1,1,0,0,0,0]
["E01022186","E01022186 Cotswold 004A","E01022186",{"$f":"VLOOKUP(A918,'Output Areas'!$A:$E,5,FALSE)","v":"Rural"},"A flat; maisonette; apartment","Owned","6 rooms",{"$f":"VLOOKUP(G918,Cntrol!$F$3:$G$9,2,FALSE)","v":3},1,0,1,0,0,0]
["E01022186","E01022186 Cotswold 004A","E01022186",{"$f":"VLOOKUP(A919,'Output Areas'!$A:$E,5,FALSE)","v":"Rural"},"A flat; maisonette; apartment","Owned","8 rooms or more",{"$f":"VLOOKUP(G919,Cntrol!$F$3:$G$9,2,FALSE)","v":5},1,1,0,0,0,0]
["E01022186","E01022186 Cotswold 004A","E01022186",{"$f":"VLOOKUP(A920,'Output Areas'!$A:$E,5,FALSE)","v":"Rural"},"A flat; maisonette; apartment","Shared ownership or rented (excluding living rent free)","Total: Number of rooms",{"$f":"VLOOKUP(G920,Cntrol!$F$3:$G$9,2,FALSE)","v":0},6,4,1,0,0,1]
["E01022186","E01022186 Cotswold 004A","E01022186",{"$f":"VLOOKUP(A921,'Output Areas'!$A:$E,5,FALSE)","v":"Rural"},"A flat; maisonette; apartment","Shared ownership or rented (excluding living rent free)","3 rooms or less",{"$f":"VLOOKUP(G921,Cntrol!$F$3:$G$9,2,FALSE)","v":2},4,2,1,0,0,1]
["E01022186","E01022186 Cotswold 004A","E01022186",{"$f":"VLOOKUP(A922,'Output Areas'!$A:$E,5,FALSE)","v":"Rural"},"A flat; maisonette; apartment","Shared ownership or rented (excluding living rent free)","4 rooms",{"$f":"VLOOKUP(G922,Cntrol!$F$3:$G$9,2,FALSE)","v":2},2,2,0,0,0,0]
["E01022187","E01022187 Cotswold 004B","E01022187",{"$f":"VLOOKUP(A923,'Output Areas'!$A:$E,5,FALSE)","v":"Rural"},"Total: Accommodation type (excluding caravans / temporary structures)","Total: Tenure (excluding living rent free)","Total: Number of rooms",{"$f":"VLOOKUP(G923,Cntrol!$F$3:$G$9,2,FALSE)","v":0},662,189,282,107,50,34]
["E01022187","E01022187 Cotswold 004B","E01022187",{"$f":"VLOOKUP(A924,'Output Areas'!$A:$E,5,FALSE)","v":"Rural"},"Total: Accommodation type (excluding caravans / temporary structures)","Total: Tenure (excluding living rent free)","3 rooms or less",{"$f":"VLOOKUP(G924,Cntrol!$F$3:$G$9,2,FALSE)","v":2},21,9,7,0,1,4]
["E01022187","E01022187 Cotswold 004B","E01022187",{"$f":"VLOOKUP(A925,'Output Areas'!$A:$E,5,FALSE)","v":"Rural"},"Total: Accommodation type (excluding caravans / temporary structures)","Total: Tenure (excluding living rent free)","4 rooms",{"$f":"VLOOKUP(G925,Cntrol!$F$3:$G$9,2,FALSE)","v":2},67,33,12,6,1,15]
["E01022187","E01022187 Cotswold 004B","E01022187",{"$f":"VLOOKUP(A926,'Output Areas'!$A:$E,5,FALSE)","v":"Rural"},"Total: Accommodation type (excluding caravans / temporary structures)","Total: Tenure (excluding living rent free)","5 rooms",{"$f":"VLOOKUP(G926,Cntrol!$F$3:$G$9,2,FALSE)","v":3},127,54,48,10,4,11]
["E01022187","E01022187 Cotswold 004B","E01022187",{"$f":"VLOOKUP(A927,'Output Areas'!$A:$E,5,FALSE)","v":"Rural"},"Total: Accommodation type (excluding caravans / temporary structures)","Total: Tenure (excluding living rent free)","6 rooms",{"$f":"VLOOKUP(G927,Cntrol!$F$3:$G$9,2,FALSE)","v":3},96,26,48,18,3,1]
["E01022187","E01022187 Cotswold 004B","E01022187",{"$f":"VLOOKUP(A928,'Output Areas'!$A:$E,5,FALSE)","v":"Rural"},"Total: Accommodation type (excluding caravans / temporary structures)","Total: Tenure (excluding living rent free)","7 rooms",{"$f":"VLOOKUP(G928,Cntrol!$F$3:$G$9,2,FALSE)","v":4},87,23,42,12,7,3]
["E01022187","E01022187 Cotswold 004B","E01022187",{"$f":"VLOOKUP(A929,'Output Areas'!$A:$E,5,FALSE)","v":"Rural"},"Total: Accommodation type (excluding caravans / temporary structures)","Total: Tenure (excluding living rent free)","8 rooms or more",{"$f":"VLOOKUP(G929,Cntrol!$F$3:$G$9,2,FALSE)","v":5},264,44,125,61,34,0]
["E01022187","E01022187 Cotswold 004B","E01022187",{"$f":"VLOOKUP(A930,'Output Areas'!$A:$E,5,FALSE)","v":"Rural"},"Total: Accommodation type (excluding caravans / temporary structures)","Owned","Total: Number of rooms",{"$f":"VLOOKUP(G930,Cntrol!$F$3:$G$9,2,FALSE)","v":0},437,104,197,88,39,9]
["E01022187","E01022187 Cotswold 004B","E01022187",{"$f":"VLOOKUP(A931,'Output Areas'!$A:$E,5,FALSE)","v":"Rural"},"Total: Accommodation type (excluding caravans / temporary structures)","Owned","3 rooms or less",{"$f":"VLOOKUP(G931,Cntrol!$F$3:$G$9,2,FALSE)","v":2},3,1,1,0,1,0]
["E01022187","E01022187 Cotswold 004B","E01022187",{"$f":"VLOOKUP(A932,'Output Areas'!$A:$E,5,FALSE)","v":"Rural"},"Total: Accommodation type (excluding caravans / temporary structures)","Owned","4 rooms",{"$f":"VLOOKUP(G932,Cntrol!$F$3:$G$9,2,FALSE)","v":2},24,12,5,4,0,3]
["E01022187","E01022187 Cotswold 004B","E01022187",{"$f":"VLOOKUP(A933,'Output Areas'!$A:$E,5,FALSE)","v":"Rural"},"Total: Accommodation type (excluding caravans / temporary structures)","Owned","5 rooms",{"$f":"VLOOKUP(G933,Cntrol!$F$3:$G$9,2,FALSE)","v":3},46,18,19,5,1,3]
["E01022187","E01022187 Cotswold 004B","E01022187",{"$f":"VLOOKUP(A934,'Output Areas'!$A:$E,5,FALSE)","v":"Rural"},"Total: Accommodation type (excluding caravans / temporary structures)","Owned","6 rooms",{"$f":"VLOOKUP(G934,Cntrol!$F$3:$G$9,2,FALSE)","v":3},62,18,31,12,0,1]
["E01022187","E01022187 Cotswold 004B","E01022187",{"$f":"VLOOKUP(A935,'Output Areas'!$A:$E,5,FALSE)","v":"Rural"},"Total: Accommodation type (excluding caravans / temporary structures)","Owned","7 rooms",{"$f":"VLOOKUP(G935,Cntrol!$F$3:$G$9,2,FALSE)","v":4},70,17,34,10,7,2]
["E01022187","E01022187 Cotswold 004B","E01022187",{"$f":"VLOOKUP(A936,'Output Areas'!$A:$E,5,FALSE)","v":"Rural"},"Total: Accommodation type (excluding caravans / temporary structures)","Owned","8 rooms or more",{"$f":"VLOOKUP(G936,Cntrol!$F$3:$G$9,2,FALSE)","v":5},232,38,107,57,30,0]
["E01022187","E01022187 Cotswold 004B","E01022187",{"$f":"VLOOKUP(A937,'Output Areas'!$A:$E,5,FALSE)","v":"Rural"},"Total: Accommodation type (excluding caravans / temporary structures)","Shared ownership or rented (excluding living rent free)","Total: Number of rooms",{"$f":"VLOOKUP(G937,Cntrol!$F$3:$G$9,2,FALSE)","v":0},225,85,85,19,11,25]
["E01022187","E01022187 Cotswold 004B","E01022187",{"$f":"VLOOKUP(A938,'Output Areas'!$A:$E,5,FALSE)","v":"Rural"},"Total: Accommodation type (excluding caravans / temporary structures)","Shared ownership or rented (excluding living rent free)","3 rooms or less",{"$f":"VLOOKUP(G938,Cntrol!$F$3:$G$9,2,FALSE)","v":2},18,8,6,0,0,4]
["E01022187","E01022187 Cotswold 004B","E01022187",{"$f":"VLOOKUP(A939,'Output Areas'!$A:$E,5,FALSE)","v":"Rural"},"Total: Accommodation type (excluding caravans / temporary structures)","Shared ownership or rented (excluding living rent free)","4 rooms",{"$f":"VLOOKUP(G939,Cntrol!$F$3:$G$9,2,FALSE)","v":2},43,21,7,2,1,12]
["E01022187","E01022187 Cotswold 004B","E01022187",{"$f":"VLOOKUP(A940,'Output Areas'!$A:$E,5,FALSE)","v":"Rural"},"Total: Accommodation type (excluding caravans / temporary structures)","Shared ownership or rented (excluding living rent free)","5 rooms",{"$f":"VLOOKUP(G940,Cntrol!$F$3:$G$9,2,FALSE)","v":3},81,36,29,5,3,8]
["E01022187","E01022187 Cotswold 004B","E01022187",{"$f":"VLOOKUP(A941,'Output Areas'!$A:$E,5,FALSE)","v":"Rural"},"Total: Accommodation type (excluding caravans / temporary structures)","Shared ownership or rented (excluding living rent free)","6 rooms",{"$f":"VLOOKUP(G941,Cntrol!$F$3:$G$9,2,FALSE)","v":3},34,8,17,6,3,0]
["E01022187","E01022187 Cotswold 004B","E01022187",{"$f":"VLOOKUP(A942,'Output Areas'!$A:$E,5,FALSE)","v":"Rural"},"Total: Accommodation type (excluding caravans / temporary structures)","Shared ownership or rented (excluding living rent free)","7 rooms",{"$f":"VLOOKUP(G942,Cntrol!$F$3:$G$9,2,FALSE)","v":4},17,6,8,2,0,1]
["E01022187","E01022187 Cotswold 004B","E01022187",{"$f":"VLOOKUP(A943,'Output Areas'!$A:$E,5,FALSE)","v":"Rural"},"Total: Accommodation type (excluding caravans / temporary structures)","Shared ownership or rented (excluding living rent free)","8 rooms or more",{"$f":"VLOOKUP(G943,Cntrol!$F$3:$G$9,2,FALSE)","v":5},32,6,18,4,4,0]
["E01022187","E01022187 Cotswold 004B","E01022187",{"$f":"VLOOKUP(A944,'Output Areas'!$A:$E,5,FALSE)","v":"Rural"},"Detached; semi-detached; terraced whole house or bungalow","Total: Tenure (excluding living rent free)","Total: Number of rooms",{"$f":"VLOOKUP(G944,Cntrol!$F$3:$G$9,2,FALSE)","v":0},642,181,277,104,50,30]
["E01022187","E01022187 Cotswold 004B","E01022187",{"$f":"VLOOKUP(A945,'Output Areas'!$A:$E,5,FALSE)","v":"Rural"},"Detached; semi-detached; terraced whole house or bungalow","Total: Tenure (excluding living rent free)","3 rooms or less",{"$f":"VLOOKUP(G945,Cntrol!$F$3:$G$9,2,FALSE)","v":2},13,7,5,0,1,0]
["E01022187","E01022187 Cotswold 004B","E01022187",{"$f":"VLOOKUP(A946,'Output Areas'!$A:$E,5,FALSE)","v":"Rural"},"Detached; semi-detached; terraced whole house or bungalow","Total: Tenure (excluding living rent free)","4 rooms",{"$f":"VLOOKUP(G946,Cntrol!$F$3:$G$9,2,FALSE)","v":2},60,29,11,4,1,15]
["E01022187","E01022187 Cotswold 004B","E01022187",{"$f":"VLOOKUP(A947,'Output Areas'!$A:$E,5,FALSE)","v":"Rural"},"Detached; semi-detached; terraced whole house or bungalow","Total: Tenure (excluding living rent free)","5 rooms",{"$f":"VLOOKUP(G947,Cntrol!$F$3:$G$9,2,FALSE)","v":3},124,52,48,9,4,11]
["E01022187","E01022187 Cotswold 004B","E01022187",{"$f":"VLOOKUP(A948,'Output Areas'!$A:$E,5,FALSE)","v":"Rural"},"Detached; semi-detached; terraced whole house or bungalow","Total: Tenure (excluding living rent free)","6 rooms",{"$f":"VLOOKUP(G948,Cntrol!$F$3:$G$9,2,FALSE)","v":3},94,26,46,18,3,1]
["E01022187","E01022187 Cotswold 004B","E01022187",{"$f":"VLOOKUP(A949,'Output Areas'!$A:$E,5,FALSE)","v":"Rural"},"Detached; semi-detached; terraced whole house or bungalow","Total: Tenure (excluding living rent free)","7 rooms",{"$f":"VLOOKUP(G949,Cntrol!$F$3:$G$9,2,FALSE)","v":4},87,23,42,12,7,3]
["E01022187","E01022187 Cotswold 004B","E01022187",{"$f":"VLOOKUP(A950,'Output Areas'!$A:$E,5,FALSE)","v":"Rural"},"Detached; semi-detached; terraced whole house or bungalow","Total: Tenure (excluding living rent free)","8 rooms or more",{"$f":"VLOOKUP(G950,Cntrol!$F$3:$G$9,2,FALSE)","v":5},264,44,125,61,34,0]
["E01022187","E01022187 Cotswold 004B","E01022187",{"$f":"VLOOKUP(A951,'Output Areas'!$A:$E,5,FALSE)","v":"Rural"},"Detached; semi-detached; terraced whole house or bungalow","Owned","Total: Number of rooms",{"$f":"VLOOKUP(G951,Cntrol!$F$3:$G$9,2,FALSE)","v":0},431,101,196,86,39,9]
["E01022187","E01022187 Cotswold 004B","E01022187",{"$f":"VLOOKUP(A952,'Output Areas'!$A:$E,5,FALSE)","v":"Rural"},"Detached; semi-detached; terraced whole house or bungalow","Owned","3 rooms or less",{"$f":"VLOOKUP(G952,Cntrol!$F$3:$G$9,2,FALSE)","v":2},3,1,1,0,1,0]
["E01022187","E01022187 Cotswold 004B","E01022187",{"$f":"VLOOKUP(A953,'Output Areas'!$A:$E,5,FALSE)","v":"Rural"},"Detached; semi-detached; terraced whole house or bungalow","Owned","4 rooms",{"$f":"VLOOKUP(G953,Cntrol!$F$3:$G$9,2,FALSE)","v":2},19,9,5,2,0,3]
["E01022187","E01022187 Cotswold 004B","E01022187",{"$f":"VLOOKUP(A954,'Output Areas'!$A:$E,5,FALSE)","v":"Rural"},"Detached; semi-detached; terraced whole house or bungalow","Owned","5 rooms",{"$f":"VLOOKUP(G954,Cntrol!$F$3:$G$9,2,FALSE)","v":3},46,18,19,5,1,3]
["E01022187","E01022187 Cotswold 004B","E01022187",{"$f":"VLOOKUP(A955,'Output Areas'!$A:$E,5,FALSE)","v":"Rural"},"Detached; semi-detached; terraced whole house or bungalow","Owned","6 rooms",{"$f":"VLOOKUP(G955,Cntrol!$F$3:$G$9,2,FALSE)","v":3},61,18,30,12,0,1]
["E01022187","E01022187 Cotswold 004B","E01022187",{"$f":"VLOOKUP(A956,'Output Areas'!$A:$E,5,FALSE)","v":"Rural"},"Detached; semi-detached; terraced whole house or bungalow","Owned","7 rooms",{"$f":"VLOOKUP(G956,Cntrol!$F$3:$G$9,2,FALSE)","v":4},70,17,34,10,7,2]
["E01022187","E01022187 Cotswold 004B","E01022187",{"$f":"VLOOKUP(A957,'Output Areas'!$A:$E,5,FALSE)","v":"Rural"},"Detached; semi-detached; terraced whole house or bungalow","Owned","8 rooms or more",{"$f":"VLOOKUP(G957,Cntrol!$F$3:$G$9,2,FALSE)","v":5},232,38,107,57,30,0]
["E01022187","E01022187 Cotswold 004B","E01022187",{"$f":"VLOOKUP(A958,'Output Areas'!$A:$E,5,FALSE)","v":"Rural"},"Detached; semi-detached; terraced whole house or bungalow","Shared ownership or rented (excluding living rent free)","Total: Number of rooms",{"$f":"VLOOKUP(G958,Cntrol!$F$3:$G$9,2,FALSE)","v":0},211,80,81,18,11,21]
["E01022187","E01022187 Cotswold 004B","E01022187",{"$f":"VLOOKUP(A959,'Output Areas'!$A:$E,5,FALSE)","v":"Rural"},"Detached; semi-detached; terraced whole house or bungalow","Shared ownership or rented (excluding living rent free)","3 rooms or less",{"$f":"VLOOKUP(G959,Cntrol!$F$3:$G$9,2,FALSE)","v":2},10,6,4,0,0,0]
["E01022187","E01022187 Cotswold 004B","E01022187",{"$f":"VLOOKUP(A960,'Output Areas'!$A:$E,5,FALSE)","v":"Rural"},"Detached; semi-detached; terraced whole house or bungalow","Shared ownership or rented (excluding living rent free)","4 rooms",{"$f":"VLOOKUP(G960,Cntrol!$F$3:$G$9,2,FALSE)","v":2},41,20,6,2,1,12]
["E01022187","E01022187 Cotswold 004B","E01022187",{"$f":"VLOOKUP(A961,'Output Areas'!$A:$E,5,FALSE)","v":"Rural"},"Detached; semi-detached; terraced whole house or bungalow","Shared ownership or rented (excluding living rent free)","5 rooms",{"$f":"VLOOKUP(G961,Cntrol!$F$3:$G$9,2,FALSE)","v":3},78,34,29,4,3,8]
["E01022187","E01022187 Cotswold 004B","E01022187",{"$f":"VLOOKUP(A962,'Output Areas'!$A:$E,5,FALSE)","v":"Rural"},"Detached; semi-detached; terraced whole house or bungalow","Shared ownership or rented (excluding living rent free)","6 rooms",{"$f":"VLOOKUP(G962,Cntrol!$F$3:$G$9,2,FALSE)","v":3},33,8,16,6,3,0]
["E01022187","E01022187 Cotswold 004B","E01022187",{"$f":"VLOOKUP(A963,'Output Areas'!$A:$E,5,FALSE)","v":"Rural"},"Detached; semi-detached; terraced whole house or bungalow","Shared ownership or rented (excluding living rent free)","7 rooms",{"$f":"VLOOKUP(G963,Cntrol!$F$3:$G$9,2,FALSE)","v":4},17,6,8,2,0,1]
["E01022187","E01022187 Cotswold 004B","E01022187",{"$f":"VLOOKUP(A964,'Output Areas'!$A:$E,5,FALSE)","v":"Rural"},"Detached; semi-detached; terraced whole house or bungalow","Shared ownership or rented (excluding living rent free)","8 rooms or more",{"$f":"VLOOKUP(G964,Cntrol!$F$3:$G$9,2,FALSE)","v":5},32,6,18,4,4,0]
["E01022187","E01022187 Cotswold 004B","E01022187",{"$f":"VLOOKUP(A965,'Output Areas'!$A:$E,5,FALSE)","v":"Rural"},"A flat; maisonette; apartment","Total: Tenure (excluding living rent free)","Total: Number of rooms",{"$f":"VLOOKUP(G965,Cntrol!$F$3:$G$9,2,FALSE)","v":0},20,8,5,3,0,4]
["E01022187","E01022187 Cotswold 004B","E01022187",{"$f":"VLOOKUP(A966,'Output Areas'!$A:$E,5,FALSE)","v":"Rural"},"A flat; maisonette; apartment","Total: Tenure (excluding living rent free)","3 rooms or less",{"$f":"VLOOKUP(G966,Cntrol!$F$3:$G$9,2,FALSE)","v":2},8,2,2,0,0,4]
["E01022187","E01022187 Cotswold 004B","E01022187",{"$f":"VLOOKUP(A967,'Output Areas'!$A:$E,5,FALSE)","v":"Rural"},"A flat; maisonette; apartment","Total: Tenure (excluding living rent free)","4 rooms",{"$f":"VLOOKUP(G967,Cntrol!$F$3:$G$9,2,FALSE)","v":2},7,4,1,2,0,0]
["E01022187","E01022187 Cotswold 004B","E01022187",{"$f":"VLOOKUP(A968,'Output Areas'!$A:$E,5,FALSE)","v":"Rural"},"A flat; maisonette; apartment","Total: Tenure (excluding living rent free)","5 rooms",{"$f":"VLOOKUP(G968,Cntrol!$F$3:$G$9,2,FALSE)","v":3},3,2,0,1,0,0]
["E01022187","E01022187 Cotswold 004B","E01022187",{"$f":"VLOOKUP(A969,'Output Areas'!$A:$E,5,FALSE)","v":"Rural"},"A flat; maisonette; apartment","Total: Tenure (excluding living rent free)","6 rooms",{"$f":"VLOOKUP(G969,Cntrol!$F$3:$G$9,2,FALSE)","v":3},2,0,2,0,0,0]
["E01022187","E01022187 Cotswold 004B","E01022187",{"$f":"VLOOKUP(A970,'Output Areas'!$A:$E,5,FALSE)","v":"Rural"},"A flat; maisonette; apartment","Owned","Total: Number of rooms",{"$f":"VLOOKUP(G970,Cntrol!$F$3:$G$9,2,FALSE)","v":0},6,3,1,2,0,0]
["E01022187","E01022187 Cotswold 004B","E01022187",{"$f":"VLOOKUP(A971,'Output Areas'!$A:$E,5,FALSE)","v":"Rural"},"A flat; maisonette; apartment","Owned","4 rooms",{"$f":"VLOOKUP(G971,Cntrol!$F$3:$G$9,2,FALSE)","v":2},5,3,0,2,0,0]
["E01022187","E01022187 Cotswold 004B","E01022187",{"$f":"VLOOKUP(A972,'Output Areas'!$A:$E,5,FALSE)","v":"Rural"},"A flat; maisonette; apartment","Owned","6 rooms",{"$f":"VLOOKUP(G972,Cntrol!$F$3:$G$9,2,FALSE)","v":3},1,0,1,0,0,0]
["E01022187","E01022187 Cotswold 004B","E01022187",{"$f":"VLOOKUP(A973,'Output Areas'!$A:$E,5,FALSE)","v":"Rural"},"A flat; maisonette; apartment","Shared ownership or rented (excluding living rent free)","Total: Number of rooms",{"$f":"VLOOKUP(G973,Cntrol!$F$3:$G$9,2,FALSE)","v":0},14,5,4,1,0,4]
["E01022187","E01022187 Cotswold 004B","E01022187",{"$f":"VLOOKUP(A974,'Output Areas'!$A:$E,5,FALSE)","v":"Rural"},"A flat; maisonette; apartment","Shared ownership or rented (excluding living rent free)","3 rooms or less",{"$f":"VLOOKUP(G974,Cntrol!$F$3:$G$9,2,FALSE)","v":2},8,2,2,0,0,4]
["E01022187","E01022187 Cotswold 004B","E01022187",{"$f":"VLOOKUP(A975,'Output Areas'!$A:$E,5,FALSE)","v":"Rural"},"A flat; maisonette; apartment","Shared ownership or rented (excluding living rent free)","4 rooms",{"$f":"VLOOKUP(G975,Cntrol!$F$3:$G$9,2,FALSE)","v":2},2,1,1,0,0,0]
["E01022187","E01022187 Cotswold 004B","E01022187",{"$f":"VLOOKUP(A976,'Output Areas'!$A:$E,5,FALSE)","v":"Rural"},"A flat; maisonette; apartment","Shared ownership or rented (excluding living rent free)","5 rooms",{"$f":"VLOOKUP(G976,Cntrol!$F$3:$G$9,2,FALSE)","v":3},3,2,0,1,0,0]
["E01022187","E01022187 Cotswold 004B","E01022187",{"$f":"VLOOKUP(A977,'Output Areas'!$A:$E,5,FALSE)","v":"Rural"},"A flat; maisonette; apartment","Shared ownership or rented (excluding living rent free)","6 rooms",{"$f":"VLOOKUP(G977,Cntrol!$F$3:$G$9,2,FALSE)","v":3},1,0,1,0,0,0]
["E01022201","E01022201 Cotswold 004C","E01022201",{"$f":"VLOOKUP(A978,'Output Areas'!$A:$E,5,FALSE)","v":"Rural"},"Total: Accommodation type (excluding caravans / temporary structures)","Total: Tenure (excluding living rent free)","Total: Number of rooms",{"$f":"VLOOKUP(G978,Cntrol!$F$3:$G$9,2,FALSE)","v":0},706,213,303,112,49,29]
["E01022201","E01022201 Cotswold 004C","E01022201",{"$f":"VLOOKUP(A979,'Output Areas'!$A:$E,5,FALSE)","v":"Rural"},"Total: Accommodation type (excluding caravans / temporary structures)","Total: Tenure (excluding living rent free)","3 rooms or less",{"$f":"VLOOKUP(G979,Cntrol!$F$3:$G$9,2,FALSE)","v":2},26,17,6,0,0,3]
["E01022201","E01022201 Cotswold 004C","E01022201",{"$f":"VLOOKUP(A980,'Output Areas'!$A:$E,5,FALSE)","v":"Rural"},"Total: Accommodation type (excluding caravans / temporary structures)","Total: Tenure (excluding living rent free)","4 rooms",{"$f":"VLOOKUP(G980,Cntrol!$F$3:$G$9,2,FALSE)","v":2},52,24,18,6,0,4]
["E01022201","E01022201 Cotswold 004C","E01022201",{"$f":"VLOOKUP(A981,'Output Areas'!$A:$E,5,FALSE)","v":"Rural"},"Total: Accommodation type (excluding caravans / temporary structures)","Total: Tenure (excluding living rent free)","5 rooms",{"$f":"VLOOKUP(G981,Cntrol!$F$3:$G$9,2,FALSE)","v":3},132,68,37,14,6,7]
["E01022201","E01022201 Cotswold 004C","E01022201",{"$f":"VLOOKUP(A982,'Output Areas'!$A:$E,5,FALSE)","v":"Rural"},"Total: Accommodation type (excluding caravans / temporary structures)","Total: Tenure (excluding living rent free)","6 rooms",{"$f":"VLOOKUP(G982,Cntrol!$F$3:$G$9,2,FALSE)","v":3},102,34,43,13,4,8]
["E01022201","E01022201 Cotswold 004C","E01022201",{"$f":"VLOOKUP(A983,'Output Areas'!$A:$E,5,FALSE)","v":"Rural"},"Total: Accommodation type (excluding caravans / temporary structures)","Total: Tenure (excluding living rent free)","7 rooms",{"$f":"VLOOKUP(G983,Cntrol!$F$3:$G$9,2,FALSE)","v":4},85,26,43,11,4,1]
["E01022201","E01022201 Cotswold 004C","E01022201",{"$f":"VLOOKUP(A984,'Output Areas'!$A:$E,5,FALSE)","v":"Rural"},"Total: Accommodation type (excluding caravans / temporary structures)","Total: Tenure (excluding living rent free)","8 rooms or more",{"$f":"VLOOKUP(G984,Cntrol!$F$3:$G$9,2,FALSE)","v":5},309,44,156,68,35,6]
["E01022201","E01022201 Cotswold 004C","E01022201",{"$f":"VLOOKUP(A985,'Output Areas'!$A:$E,5,FALSE)","v":"Rural"},"Total: Accommodation type (excluding caravans / temporary structures)","Owned","Total: Number of rooms",{"$f":"VLOOKUP(G985,Cntrol!$F$3:$G$9,2,FALSE)","v":0},508,134,228,90,40,16]
["E01022201","E01022201 Cotswold 004C","E01022201",{"$f":"VLOOKUP(A986,'Output Areas'!$A:$E,5,FALSE)","v":"Rural"},"Total: Accommodation type (excluding caravans / temporary structures)","Owned","3 rooms or less",{"$f":"VLOOKUP(G986,Cntrol!$F$3:$G$9,2,FALSE)","v":2},6,3,2,0,0,1]
["E01022201","E01022201 Cotswold 004C","E01022201",{"$f":"VLOOKUP(A987,'Output Areas'!$A:$E,5,FALSE)","v":"Rural"},"Total: Accommodation type (excluding caravans / temporary structures)","Owned","4 rooms",{"$f":"VLOOKUP(G987,Cntrol!$F$3:$G$9,2,FALSE)","v":2},13,4,5,4,0,0]
["E01022201","E01022201 Cotswold 004C","E01022201",{"$f":"VLOOKUP(A988,'Output Areas'!$A:$E,5,FALSE)","v":"Rural"},"Total: Accommodation type (excluding caravans / temporary structures)","Owned","5 rooms",{"$f":"VLOOKUP(G988,Cntrol!$F$3:$G$9,2,FALSE)","v":3},67,36,18,6,1,6]
["E01022201","E01022201 Cotswold 004C","E01022201",{"$f":"VLOOKUP(A989,'Output Areas'!$A:$E,5,FALSE)","v":"Rural"},"Total: Accommodation type (excluding caravans / temporary structures)","Owned","6 rooms",{"$f":"VLOOKUP(G989,Cntrol!$F$3:$G$9,2,FALSE)","v":3},67,25,27,7,3,5]
["E01022201","E01022201 Cotswold 004C","E01022201",{"$f":"VLOOKUP(A990,'Output Areas'!$A:$E,5,FALSE)","v":"Rural"},"Total: Accommodation type (excluding caravans / temporary structures)","Owned","7 rooms",{"$f":"VLOOKUP(G990,Cntrol!$F$3:$G$9,2,FALSE)","v":4},71,25,33,9,3,1]
["E01022201","E01022201 Cotswold 004C","E01022201",{"$f":"VLOOKUP(A991,'Output Areas'!$A:$E,5,FALSE)","v":"Rural"},"Total: Accommodation type (excluding caravans / temporary structures)","Owned","8 rooms or more",{"$f":"VLOOKUP(G991,Cntrol!$F$3:$G$9,2,FALSE)","v":5},284,41,143,64,33,3]
["E01022201","E01022201 Cotswold 004C","E01022201",{"$f":"VLOOKUP(A992,'Output Areas'!$A:$E,5,FALSE)","v":"Rural"},"Total: Accommodation type (excluding caravans / temporary structures)","Shared ownership or rented (excluding living rent free)","Total: Number of rooms",{"$f":"VLOOKUP(G992,Cntrol!$F$3:$G$9,2,FALSE)","v":0},198,79,75,22,9,13]
["E01022201","E01022201 Cotswold 004C","E01022201",{"$f":"VLOOKUP(A993,'Output Areas'!$A:$E,5,FALSE)","v":"Rural"},"Total: Accommodation type (excluding caravans / temporary structures)","Shared ownership or rented (excluding living rent free)","3 rooms or less",{"$f":"VLOOKUP(G993,Cntrol!$F$3:$G$9,2,FALSE)","v":2},20,14,4,0,0,2]
["E01022201","E01022201 Cotswold 004C","E01022201",{"$f":"VLOOKUP(A994,'Output Areas'!$A:$E,5,FALSE)","v":"Rural"},"Total: Accommodation type (excluding caravans / temporary structures)","Shared ownership or rented (excluding living rent free)","4 rooms",{"$f":"VLOOKUP(G994,Cntrol!$F$3:$G$9,2,FALSE)","v":2},39,20,13,2,0,4]
["E01022201","E01022201 Cotswold 004C","E01022201",{"$f":"VLOOKUP(A995,'Output Areas'!$A:$E,5,FALSE)","v":"Rural"},"Total: Accommodation type (excluding caravans / temporary structures)","Shared ownership or rented (excluding living rent free)","5 rooms",{"$f":"VLOOKUP(G995,Cntrol!$F$3:$G$9,2,FALSE)","v":3},65,32,19,8,5,1]
["E01022201","E01022201 Cotswold 004C","E01022201",{"$f":"VLOOKUP(A996,'Output Areas'!$A:$E,5,FALSE)","v":"Rural"},"Total: Accommodation type (excluding caravans / temporary structures)","Shared ownership or rented (excluding living rent free)","6 rooms",{"$f":"VLOOKUP(G996,Cntrol!$F$3:$G$9,2,FALSE)","v":3},35,9,16,6,1,3]
["E01022201","E01022201 Cotswold 004C","E01022201",{"$f":"VLOOKUP(A997,'Output Areas'!$A:$E,5,FALSE)","v":"Rural"},"Total: Accommodation type (excluding caravans / temporary structures)","Shared ownership or rented (excluding living rent free)","7 rooms",{"$f":"VLOOKUP(G997,Cntrol!$F$3:$G$9,2,FALSE)","v":4},14,1,10,2,1,0]
["E01022201","E01022201 Cotswold 004C","E01022201",{"$f":"VLOOKUP(A998,'Output Areas'!$A:$E,5,FALSE)","v":"Rural"},"Total: Accommodation type (excluding caravans / temporary structures)","Shared ownership or rented (excluding living rent free)","8 rooms or more",{"$f":"VLOOKUP(G998,Cntrol!$F$3:$G$9,2,FALSE)","v":5},25,3,13,4,2,3]
["E01022201","E01022201 Cotswold 004C","E01022201",{"$f":"VLOOKUP(A999,'Output Areas'!$A:$E,5,FALSE)","v":"Rural"},"Detached; semi-detached; terraced whole house or bungalow","Total: Tenure (excluding living rent free)","Total: Number of rooms",{"$f":"VLOOKUP(G999,Cntrol!$F$3:$G$9,2,FALSE)","v":0},688,199,301,112,49,27]
["E01022201","E01022201 Cotswold 004C","E01022201",{"$f":"VLOOKUP(A1000,'Output Areas'!$A:$E,5,FALSE)","v":"Rural"},"Detached; semi-detached; terraced whole house or bungalow","Total: Tenure (excluding living rent free)","3 rooms or less",{"$f":"VLOOKUP(G1000,Cntrol!$F$3:$G$9,2,FALSE)","v":2},18,11,5,0,0,2]
["E01022201","E01022201 Cotswold 004C","E01022201",{"$f":"VLOOKUP(A1001,'Output Areas'!$A:$E,5,FALSE)","v":"Rural"},"Detached; semi-detached; terraced whole house or bungalow","Total: Tenure (excluding living rent free)","4 rooms",{"$f":"VLOOKUP(G1001,Cntrol!$F$3:$G$9,2,FALSE)","v":2},47,20,18,6,0,3]
["E01022201","E01022201 Cotswold 004C","E01022201",{"$f":"VLOOKUP(A1002,'Output Areas'!$A:$E,5,FALSE)","v":"Rural"},"Detached; semi-detached; terraced whole house or bungalow","Total: Tenure (excluding living rent free)","5 rooms",{"$f":"VLOOKUP(G1002,Cntrol!$F$3:$G$9,2,FALSE)","v":3},129,65,37,14,6,7]
["E01022201","E01022201 Cotswold 004C","E01022201",{"$f":"VLOOKUP(A1003,'Output Areas'!$A:$E,5,FALSE)","v":"Rural"},"Detached; semi-detached; terraced whole house or bungalow","Total: Tenure (excluding living rent free)","6 rooms",{"$f":"VLOOKUP(G1003,Cntrol!$F$3:$G$9,2,FALSE)","v":3},101,33,43,13,4,8]
["E01022201","E01022201 Cotswold 004C","E01022201",{"$f":"VLOOKUP(A1004,'Output Areas'!$A:$E,5,FALSE)","v":"Rural"},"Detached; semi-detached; terraced whole house or bungalow","Total: Tenure (excluding living rent free)","7 rooms",{"$f":"VLOOKUP(G1004,Cntrol!$F$3:$G$9,2,FALSE)","v":4},84,26,42,11,4,1]
["E01022201","E01022201 Cotswold 004C","E01022201",{"$f":"VLOOKUP(A1005,'Output Areas'!$A:$E,5,FALSE)","v":"Rural"},"Detached; semi-detached; terraced whole house or bungalow","Total: Tenure (excluding living rent free)","8 rooms or more",{"$f":"VLOOKUP(G1005,Cntrol!$F$3:$G$9,2,FALSE)","v":5},309,44,156,68,35,6]
["E01022201","E01022201 Cotswold 004C","E01022201",{"$f":"VLOOKUP(A1006,'Output Areas'!$A:$E,5,FALSE)","v":"Rural"},"Detached; semi-detached; terraced whole house or bungalow","Owned","Total: Number of rooms",{"$f":"VLOOKUP(G1006,Cntrol!$F$3:$G$9,2,FALSE)","v":0},506,132,228,90,40,16]
["E01022201","E01022201 Cotswold 004C","E01022201",{"$f":"VLOOKUP(A1007,'Output Areas'!$A:$E,5,FALSE)","v":"Rural"},"Detached; semi-detached; terraced whole house or bungalow","Owned","3 rooms or less",{"$f":"VLOOKUP(G1007,Cntrol!$F$3:$G$9,2,FALSE)","v":2},6,3,2,0,0,1]
["E01022201","E01022201 Cotswold 004C","E01022201",{"$f":"VLOOKUP(A1008,'Output Areas'!$A:$E,5,FALSE)","v":"Rural"},"Detached; semi-detached; terraced whole house or bungalow","Owned","4 rooms",{"$f":"VLOOKUP(G1008,Cntrol!$F$3:$G$9,2,FALSE)","v":2},13,4,5,4,0,0]
["E01022201","E01022201 Cotswold 004C","E01022201",{"$f":"VLOOKUP(A1009,'Output Areas'!$A:$E,5,FALSE)","v":"Rural"},"Detached; semi-detached; terraced whole house or bungalow","Owned","5 rooms",{"$f":"VLOOKUP(G1009,Cntrol!$F$3:$G$9,2,FALSE)","v":3},66,35,18,6,1,6]
["E01022201","E01022201 Cotswold 004C","E01022201",{"$f":"VLOOKUP(A1010,'Output Areas'!$A:$E,5,FALSE)","v":"Rural"},"Detached; semi-detached; terraced whole house or bungalow","Owned","6 rooms",{"$f":"VLOOKUP(G1010,Cntrol!$F$3:$G$9,2,FALSE)","v":3},66,24,27,7,3,5]
["E01022201","E01022201 Cotswold 004C","E01022201",{"$f":"VLOOKUP(A1011,'Output Areas'!$A:$E,5,FALSE)","v":"Rural"},"Detached; semi-detached; terraced whole house or bungalow","Owned","7 rooms",{"$f":"VLOOKUP(G1011,Cntrol!$F$3:$G$9,2,FALSE)","v":4},71,25,33,9,3,1]
["E01022201","E01022201 Cotswold 004C","E01022201",{"$f":"VLOOKUP(A1012,'Output Areas'!$A:$E,5,FALSE)","v":"Rural"},"Detached; semi-detached; terraced whole house or bungalow","Owned","8 rooms or more",{"$f":"VLOOKUP(G1012,Cntrol!$F$3:$G$9,2,FALSE)","v":5},284,41,143,64,33,3]
["E01022201","E01022201 Cotswold 004C","E01022201",{"$f":"VLOOKUP(A1013,'Output Areas'!$A:$E,5,FALSE)","v":"Rural"},"Detached; semi-detached; terraced whole house or bungalow","Shared ownership or rented (excluding living rent free)","Total: Number of rooms",{"$f":"VLOOKUP(G1013,Cntrol!$F$3:$G$9,2,FALSE)","v":0},182,67,73,22,9,11]
["E01022201","E01022201 Cotswold 004C","E01022201",{"$f":"VLOOKUP(A1014,'Output Areas'!$A:$E,5,FALSE)","v":"Rural"},"Detached; semi-detached; terraced whole house or bungalow","Shared ownership or rented (excluding living rent free)","3 rooms or less",{"$f":"VLOOKUP(G1014,Cntrol!$F$3:$G$9,2,FALSE)","v":2},12,8,3,0,0,1]
["E01022201","E01022201 Cotswold 004C","E01022201",{"$f":"VLOOKUP(A1015,'Output Areas'!$A:$E,5,FALSE)","v":"Rural"},"Detached; semi-detached; terraced whole house or bungalow","Shared ownership or rented (excluding living rent free)","4 rooms",{"$f":"VLOOKUP(G1015,Cntrol!$F$3:$G$9,2,FALSE)","v":2},34,16,13,2,0,3]
["E01022201","E01022201 Cotswold 004C","E01022201",{"$f":"VLOOKUP(A1016,'Output Areas'!$A:$E,5,FALSE)","v":"Rural"},"Detached; semi-detached; terraced whole house or bungalow","Shared ownership or rented (excluding living rent free)","5 rooms",{"$f":"VLOOKUP(G1016,Cntrol!$F$3:$G$9,2,FALSE)","v":3},63,30,19,8,5,1]
["E01022201","E01022201 Cotswold 004C","E01022201",{"$f":"VLOOKUP(A1017,'Output Areas'!$A:$E,5,FALSE)","v":"Rural"},"Detached; semi-detached; terraced whole house or bungalow","Shared ownership or rented (excluding living rent free)","6 rooms",{"$f":"VLOOKUP(G1017,Cntrol!$F$3:$G$9,2,FALSE)","v":3},35,9,16,6,1,3]
["E01022201","E01022201 Cotswold 004C","E01022201",{"$f":"VLOOKUP(A1018,'Output Areas'!$A:$E,5,FALSE)","v":"Rural"},"Detached; semi-detached; terraced whole house or bungalow","Shared ownership or rented (excluding living rent free)","7 rooms",{"$f":"VLOOKUP(G1018,Cntrol!$F$3:$G$9,2,FALSE)","v":4},13,1,9,2,1,0]
["E01022201","E01022201 Cotswold 004C","E01022201",{"$f":"VLOOKUP(A1019,'Output Areas'!$A:$E,5,FALSE)","v":"Rural"},"Detached; semi-detached; terraced whole house or bungalow","Shared ownership or rented (excluding living rent free)","8 rooms or more",{"$f":"VLOOKUP(G1019,Cntrol!$F$3:$G$9,2,FALSE)","v":5},25,3,13,4,2,3]
["E01022201","E01022201 Cotswold 004C","E01022201",{"$f":"VLOOKUP(A1020,'Output Areas'!$A:$E,5,FALSE)","v":"Rural"},"A flat; maisonette; apartment","Total: Tenure (excluding living rent free)","Total: Number of rooms",{"$f":"VLOOKUP(G1020,Cntrol!$F$3:$G$9,2,FALSE)","v":0},18,14,2,0,0,2]
["E01022201","E01022201 Cotswold 004C","E01022201",{"$f":"VLOOKUP(A1021,'Output Areas'!$A:$E,5,FALSE)","v":"Rural"},"A flat; maisonette; apartment","Total: Tenure (excluding living rent free)","3 rooms or less",{"$f":"VLOOKUP(G1021,Cntrol!$F$3:$G$9,2,FALSE)","v":2},8,6,1,0,0,1]
["E01022201","E01022201 Cotswold 004C","E01022201",{"$f":"VLOOKUP(A1022,'Output Areas'!$A:$E,5,FALSE)","v":"Rural"},"A flat; maisonette; apartment","Total: Tenure (excluding living rent free)","4 rooms",{"$f":"VLOOKUP(G1022,Cntrol!$F$3:$G$9,2,FALSE)","v":2},5,4,0,0,0,1]
["E01022201","E01022201 Cotswold 004C","E01022201",{"$f":"VLOOKUP(A1023,'Output Areas'!$A:$E,5,FALSE)","v":"Rural"},"A flat; maisonette; apartment","Total: Tenure (excluding living rent free)","5 rooms",{"$f":"VLOOKUP(G1023,Cntrol!$F$3:$G$9,2,FALSE)","v":3},3,3,0,0,0,0]
["E01022201","E01022201 Cotswold 004C","E01022201",{"$f":"VLOOKUP(A1024,'Output Areas'!$A:$E,5,FALSE)","v":"Rural"},"A flat; maisonette; apartment","Total: Tenure (excluding living rent free)","6 rooms",{"$f":"VLOOKUP(G1024,Cntrol!$F$3:$G$9,2,FALSE)","v":3},1,1,0,0,0,0]
["E01022201","E01022201 Cotswold 004C","E01022201",{"$f":"VLOOKUP(A1025,'Output Areas'!$A:$E,5,FALSE)","v":"Rural"},"A flat; maisonette; apartment","Total: Tenure (excluding living rent free)","7 rooms",{"$f":"VLOOKUP(G1025,Cntrol!$F$3:$G$9,2,FALSE)","v":4},1,0,1,0,0,0]
["E01022201","E01022201 Cotswold 004C","E01022201",{"$f":"VLOOKUP(A1026,'Output Areas'!$A:$E,5,FALSE)","v":"Rural"},"A flat; maisonette; apartment","Owned","Total: Number of rooms",{"$f":"VLOOKUP(G1026,Cntrol!$F$3:$G$9,2,FALSE)","v":0},2,2,0,0,0,0]
["E01022201","E01022201 Cotswold 004C","E01022201",{"$f":"VLOOKUP(A1027,'Output Areas'!$A:$E,5,FALSE)","v":"Rural"},"A flat; maisonette; apartment","Owned","5 rooms",{"$f":"VLOOKUP(G1027,Cntrol!$F$3:$G$9,2,FALSE)","v":3},1,1,0,0,0,0]
["E01022201","E01022201 Cotswold 004C","E01022201",{"$f":"VLOOKUP(A1028,'Output Areas'!$A:$E,5,FALSE)","v":"Rural"},"A flat; maisonette; apartment","Owned","6 rooms",{"$f":"VLOOKUP(G1028,Cntrol!$F$3:$G$9,2,FALSE)","v":3},1,1,0,0,0,0]
["E01022201","E01022201 Cotswold 004C","E01022201",{"$f":"VLOOKUP(A1029,'Output Areas'!$A:$E,5,FALSE)","v":"Rural"},"A flat; maisonette; apartment","Shared ownership or rented (excluding living rent free)","Total: Number of rooms",{"$f":"VLOOKUP(G1029,Cntrol!$F$3:$G$9,2,FALSE)","v":0},16,12,2,0,0,2]
["E01022201","E01022201 Cotswold 004C","E01022201",{"$f":"VLOOKUP(A1030,'Output Areas'!$A:$E,5,FALSE)","v":"Rural"},"A flat; maisonette; apartment","Shared ownership or rented (excluding living rent free)","3 rooms or less",{"$f":"VLOOKUP(G1030,Cntrol!$F$3:$G$9,2,FALSE)","v":2},8,6,1,0,0,1]
["E01022201","E01022201 Cotswold 004C","E01022201",{"$f":"VLOOKUP(A1031,'Output Areas'!$A:$E,5,FALSE)","v":"Rural"},"A flat; maisonette; apartment","Shared ownership or rented (excluding living rent free)","4 rooms",{"$f":"VLOOKUP(G1031,Cntrol!$F$3:$G$9,2,FALSE)","v":2},5,4,0,0,0,1]
["E01022201","E01022201 Cotswold 004C","E01022201",{"$f":"VLOOKUP(A1032,'Output Areas'!$A:$E,5,FALSE)","v":"Rural"},"A flat; maisonette; apartment","Shared ownership or rented (excluding living rent free)","5 rooms",{"$f":"VLOOKUP(G1032,Cntrol!$F$3:$G$9,2,FALSE)","v":3},2,2,0,0,0,0]
["E01022201","E01022201 Cotswold 004C","E01022201",{"$f":"VLOOKUP(A1033,'Output Areas'!$A:$E,5,FALSE)","v":"Rural"},"A flat; maisonette; apartment","Shared ownership or rented (excluding living rent free)","7 rooms",{"$f":"VLOOKUP(G1033,Cntrol!$F$3:$G$9,2,FALSE)","v":4},1,0,1,0,0,0]
["E01022216","E01022216 Cotswold 004D","E01022216",{"$f":"VLOOKUP(A1034,'Output Areas'!$A:$E,5,FALSE)","v":"Rural"},"Total: Accommodation type (excluding caravans / temporary structures)","Total: Tenure (excluding living rent free)","Total: Number of rooms",{"$f":"VLOOKUP(G1034,Cntrol!$F$3:$G$9,2,FALSE)","v":0},746,232,321,94,53,46]
["E01022216","E01022216 Cotswold 004D","E01022216",{"$f":"VLOOKUP(A1035,'Output Areas'!$A:$E,5,FALSE)","v":"Rural"},"Total: Accommodation type (excluding caravans / temporary structures)","Total: Tenure (excluding living rent free)","3 rooms or less",{"$f":"VLOOKUP(G1035,Cntrol!$F$3:$G$9,2,FALSE)","v":2},28,16,6,1,1,4]
["E01022216","E01022216 Cotswold 004D","E01022216",{"$f":"VLOOKUP(A1036,'Output Areas'!$A:$E,5,FALSE)","v":"Rural"},"Total: Accommodation type (excluding caravans / temporary structures)","Total: Tenure (excluding living rent free)","4 rooms",{"$f":"VLOOKUP(G1036,Cntrol!$F$3:$G$9,2,FALSE)","v":2},81,38,22,2,5,14]
["E01022216","E01022216 Cotswold 004D","E01022216",{"$f":"VLOOKUP(A1037,'Output Areas'!$A:$E,5,FALSE)","v":"Rural"},"Total: Accommodation type (excluding caravans / temporary structures)","Total: Tenure (excluding living rent free)","5 rooms",{"$f":"VLOOKUP(G1037,Cntrol!$F$3:$G$9,2,FALSE)","v":3},150,77,45,16,1,11]
["E01022216","E01022216 Cotswold 004D","E01022216",{"$f":"VLOOKUP(A1038,'Output Areas'!$A:$E,5,FALSE)","v":"Rural"},"Total: Accommodation type (excluding caravans / temporary structures)","Total: Tenure (excluding living rent free)","6 rooms",{"$f":"VLOOKUP(G1038,Cntrol!$F$3:$G$9,2,FALSE)","v":3},130,42,60,10,7,11]
["E01022216","E01022216 Cotswold 004D","E01022216",{"$f":"VLOOKUP(A1039,'Output Areas'!$A:$E,5,FALSE)","v":"Rural"},"Total: Accommodation type (excluding caravans / temporary structures)","Total: Tenure (excluding living rent free)","7 rooms",{"$f":"VLOOKUP(G1039,Cntrol!$F$3:$G$9,2,FALSE)","v":4},103,24,54,15,8,2]
["E01022216","E01022216 Cotswold 004D","E01022216",{"$f":"VLOOKUP(A1040,'Output Areas'!$A:$E,5,FALSE)","v":"Rural"},"Total: Accommodation type (excluding caravans / temporary structures)","Total: Tenure (excluding living rent free)","8 rooms or more",{"$f":"VLOOKUP(G1040,Cntrol!$F$3:$G$9,2,FALSE)","v":5},254,35,134,50,31,4]
["E01022216","E01022216 Cotswold 004D","E01022216",{"$f":"VLOOKUP(A1041,'Output Areas'!$A:$E,5,FALSE)","v":"Rural"},"Total: Accommodation type (excluding caravans / temporary structures)","Owned","Total: Number of rooms",{"$f":"VLOOKUP(G1041,Cntrol!$F$3:$G$9,2,FALSE)","v":0},535,144,240,76,49,26]
["E01022216","E01022216 Cotswold 004D","E01022216",{"$f":"VLOOKUP(A1042,'Output Areas'!$A:$E,5,FALSE)","v":"Rural"},"Total: Accommodation type (excluding caravans / temporary structures)","Owned","3 rooms or less",{"$f":"VLOOKUP(G1042,Cntrol!$F$3:$G$9,2,FALSE)","v":2},5,3,1,0,0,1]
["E01022216","E01022216 Cotswold 004D","E01022216",{"$f":"VLOOKUP(A1043,'Output Areas'!$A:$E,5,FALSE)","v":"Rural"},"Total: Accommodation type (excluding caravans / temporary structures)","Owned","4 rooms",{"$f":"VLOOKUP(G1043,Cntrol!$F$3:$G$9,2,FALSE)","v":2},36,19,7,0,4,6]
["E01022216","E01022216 Cotswold 004D","E01022216",{"$f":"VLOOKUP(A1044,'Output Areas'!$A:$E,5,FALSE)","v":"Rural"},"Total: Accommodation type (excluding caravans / temporary structures)","Owned","5 rooms",{"$f":"VLOOKUP(G1044,Cntrol!$F$3:$G$9,2,FALSE)","v":3},85,43,27,8,1,6]
["E01022216","E01022216 Cotswold 004D","E01022216",{"$f":"VLOOKUP(A1045,'Output Areas'!$A:$E,5,FALSE)","v":"Rural"},"Total: Accommodation type (excluding caravans / temporary structures)","Owned","6 rooms",{"$f":"VLOOKUP(G1045,Cntrol!$F$3:$G$9,2,FALSE)","v":3},89,29,37,8,6,9]
["E01022216","E01022216 Cotswold 004D","E01022216",{"$f":"VLOOKUP(A1046,'Output Areas'!$A:$E,5,FALSE)","v":"Rural"},"Total: Accommodation type (excluding caravans / temporary structures)","Owned","7 rooms",{"$f":"VLOOKUP(G1046,Cntrol!$F$3:$G$9,2,FALSE)","v":4},90,21,46,14,7,2]
["E01022216","E01022216 Cotswold 004D","E01022216",{"$f":"VLOOKUP(A1047,'Output Areas'!$A:$E,5,FALSE)","v":"Rural"},"Total: Accommodation type (excluding caravans / temporary structures)","Owned","8 rooms or more",{"$f":"VLOOKUP(G1047,Cntrol!$F$3:$G$9,2,FALSE)","v":5},230,29,122,46,31,2]
["E01022216","E01022216 Cotswold 004D","E01022216",{"$f":"VLOOKUP(A1048,'Output Areas'!$A:$E,5,FALSE)","v":"Rural"},"Total: Accommodation type (excluding caravans / temporary structures)","Shared ownership or rented (excluding living rent free)","Total: Number of rooms",{"$f":"VLOOKUP(G1048,Cntrol!$F$3:$G$9,2,FALSE)","v":0},211,88,81,18,4,20]
["E01022216","E01022216 Cotswold 004D","E01022216",{"$f":"VLOOKUP(A1049,'Output Areas'!$A:$E,5,FALSE)","v":"Rural"},"Total: Accommodation type (excluding caravans / temporary structures)","Shared ownership or rented (excluding living rent free)","3 rooms or less",{"$f":"VLOOKUP(G1049,Cntrol!$F$3:$G$9,2,FALSE)","v":2},23,13,5,1,1,3]
["E01022216","E01022216 Cotswold 004D","E01022216",{"$f":"VLOOKUP(A1050,'Output Areas'!$A:$E,5,FALSE)","v":"Rural"},"Total: Accommodation type (excluding caravans / temporary structures)","Shared ownership or rented (excluding living rent free)","4 rooms",{"$f":"VLOOKUP(G1050,Cntrol!$F$3:$G$9,2,FALSE)","v":2},45,19,15,2,1,8]
["E01022216","E01022216 Cotswold 004D","E01022216",{"$f":"VLOOKUP(A1051,'Output Areas'!$A:$E,5,FALSE)","v":"Rural"},"Total: Accommodation type (excluding caravans / temporary structures)","Shared ownership or rented (excluding living rent free)","5 rooms",{"$f":"VLOOKUP(G1051,Cntrol!$F$3:$G$9,2,FALSE)","v":3},65,34,18,8,0,5]
["E01022216","E01022216 Cotswold 004D","E01022216",{"$f":"VLOOKUP(A1052,'Output Areas'!$A:$E,5,FALSE)","v":"Rural"},"Total: Accommodation type (excluding caravans / temporary structures)","Shared ownership or rented (excluding living rent free)","6 rooms",{"$f":"VLOOKUP(G1052,Cntrol!$F$3:$G$9,2,FALSE)","v":3},41,13,23,2,1,2]
["E01022216","E01022216 Cotswold 004D","E01022216",{"$f":"VLOOKUP(A1053,'Output Areas'!$A:$E,5,FALSE)","v":"Rural"},"Total: Accommodation type (excluding caravans / temporary structures)","Shared ownership or rented (excluding living rent free)","7 rooms",{"$f":"VLOOKUP(G1053,Cntrol!$F$3:$G$9,2,FALSE)","v":4},13,3,8,1,1,0]
["E01022216","E01022216 Cotswold 004D","E01022216",{"$f":"VLOOKUP(A1054,'Output Areas'!$A:$E,5,FALSE)","v":"Rural"},"Total: Accommodation type (excluding caravans / temporary structures)","Shared ownership or rented (excluding living rent free)","8 rooms or more",{"$f":"VLOOKUP(G1054,Cntrol!$F$3:$G$9,2,FALSE)","v":5},24,6,12,4,0,2]
["E01022216","E01022216 Cotswold 004D","E01022216",{"$f":"VLOOKUP(A1055,'Output Areas'!$A:$E,5,FALSE)","v":"Rural"},"Detached; semi-detached; terraced whole house or bungalow","Total: Tenure (excluding living rent free)","Total: Number of rooms",{"$f":"VLOOKUP(G1055,Cntrol!$F$3:$G$9,2,FALSE)","v":0},714,213,317,93,52,39]
["E01022216","E01022216 Cotswold 004D","E01022216",{"$f":"VLOOKUP(A1056,'Output Areas'!$A:$E,5,FALSE)","v":"Rural"},"Detached; semi-detached; terraced whole house or bungalow","Total: Tenure (excluding living rent free)","3 rooms or less",{"$f":"VLOOKUP(G1056,Cntrol!$F$3:$G$9,2,FALSE)","v":2},17,10,5,1,0,1]
["E01022216","E01022216 Cotswold 004D","E01022216",{"$f":"VLOOKUP(A1057,'Output Areas'!$A:$E,5,FALSE)","v":"Rural"},"Detached; semi-detached; terraced whole house or bungalow","Total: Tenure (excluding living rent free)","4 rooms",{"$f":"VLOOKUP(G1057,Cntrol!$F$3:$G$9,2,FALSE)","v":2},69,32,21,1,5,10]
["E01022216","E01022216 Cotswold 004D","E01022216",{"$f":"VLOOKUP(A1058,'Output Areas'!$A:$E,5,FALSE)","v":"Rural"},"Detached; semi-detached; terraced whole house or bungalow","Total: Tenure (excluding living rent free)","5 rooms",{"$f":"VLOOKUP(G1058,Cntrol!$F$3:$G$9,2,FALSE)","v":3},144,72,44,16,1,11]
["E01022216","E01022216 Cotswold 004D","E01022216",{"$f":"VLOOKUP(A1059,'Output Areas'!$A:$E,5,FALSE)","v":"Rural"},"Detached; semi-detached; terraced whole house or bungalow","Total: Tenure (excluding living rent free)","6 rooms",{"$f":"VLOOKUP(G1059,Cntrol!$F$3:$G$9,2,FALSE)","v":3},129,41,60,10,7,11]
["E01022216","E01022216 Cotswold 004D","E01022216",{"$f":"VLOOKUP(A1060,'Output Areas'!$A:$E,5,FALSE)","v":"Rural"},"Detached; semi-detached; terraced whole house or bungalow","Total: Tenure (excluding living rent free)","7 rooms",{"$f":"VLOOKUP(G1060,Cntrol!$F$3:$G$9,2,FALSE)","v":4},102,23,54,15,8,2]
["E01022216","E01022216 Cotswold 004D","E01022216",{"$f":"VLOOKUP(A1061,'Output Areas'!$A:$E,5,FALSE)","v":"Rural"},"Detached; semi-detached; terraced whole house or bungalow","Total: Tenure (excluding living rent free)","8 rooms or more",{"$f":"VLOOKUP(G1061,Cntrol!$F$3:$G$9,2,FALSE)","v":5},253,35,133,50,31,4]
["E01022216","E01022216 Cotswold 004D","E01022216",{"$f":"VLOOKUP(A1062,'Output Areas'!$A:$E,5,FALSE)","v":"Rural"},"Detached; semi-detached; terraced whole house or bungalow","Owned","Total: Number of rooms",{"$f":"VLOOKUP(G1062,Cntrol!$F$3:$G$9,2,FALSE)","v":0},523,136,238,76,49,24]
["E01022216","E01022216 Cotswold 004D","E01022216",{"$f":"VLOOKUP(A1063,'Output Areas'!$A:$E,5,FALSE)","v":"Rural"},"Detached; semi-detached; terraced whole house or bungalow","Owned","3 rooms or less",{"$f":"VLOOKUP(G1063,Cntrol!$F$3:$G$9,2,FALSE)","v":2},4,2,1,0,0,1]
["E01022216","E01022216 Cotswold 004D","E01022216",{"$f":"VLOOKUP(A1064,'Output Areas'!$A:$E,5,FALSE)","v":"Rural"},"Detached; semi-detached; terraced whole house or bungalow","Owned","4 rooms",{"$f":"VLOOKUP(G1064,Cntrol!$F$3:$G$9,2,FALSE)","v":2},32,17,7,0,4,4]
["E01022216","E01022216 Cotswold 004D","E01022216",{"$f":"VLOOKUP(A1065,'Output Areas'!$A:$E,5,FALSE)","v":"Rural"},"Detached; semi-detached; terraced whole house or bungalow","Owned","5 rooms",{"$f":"VLOOKUP(G1065,Cntrol!$F$3:$G$9,2,FALSE)","v":3},80,39,26,8,1,6]
["E01022216","E01022216 Cotswold 004D","E01022216",{"$f":"VLOOKUP(A1066,'Output Areas'!$A:$E,5,FALSE)","v":"Rural"},"Detached; semi-detached; terraced whole house or bungalow","Owned","6 rooms",{"$f":"VLOOKUP(G1066,Cntrol!$F$3:$G$9,2,FALSE)","v":3},89,29,37,8,6,9]
["E01022216","E01022216 Cotswold 004D","E01022216",{"$f":"VLOOKUP(A1067,'Output Areas'!$A:$E,5,FALSE)","v":"Rural"},"Detached; semi-detached; terraced whole house or bungalow","Owned","7 rooms",{"$f":"VLOOKUP(G1067,Cntrol!$F$3:$G$9,2,FALSE)","v":4},89,20,46,14,7,2]
["E01022216","E01022216 Cotswold 004D","E01022216",{"$f":"VLOOKUP(A1068,'Output Areas'!$A:$E,5,FALSE)","v":"Rural"},"Detached; semi-detached; terraced whole house or bungalow","Owned","8 rooms or more",{"$f":"VLOOKUP(G1068,Cntrol!$F$3:$G$9,2,FALSE)","v":5},229,29,121,46,31,2]
["E01022216","E01022216 Cotswold 004D","E01022216",{"$f":"VLOOKUP(A1069,'Output Areas'!$A:$E,5,FALSE)","v":"Rural"},"Detached; semi-detached; terraced whole house or bungalow","Shared ownership or rented (excluding living rent free)","Total: Number of rooms",{"$f":"VLOOKUP(G1069,Cntrol!$F$3:$G$9,2,FALSE)","v":0},191,77,79,17,3,15]
["E01022216","E01022216 Cotswold 004D","E01022216",{"$f":"VLOOKUP(A1070,'Output Areas'!$A:$E,5,FALSE)","v":"Rural"},"Detached; semi-detached; terraced whole house or bungalow","Shared ownership or rented (excluding living rent free)","3 rooms or less",{"$f":"VLOOKUP(G1070,Cntrol!$F$3:$G$9,2,FALSE)","v":2},13,8,4,1,0,0]
["E01022216","E01022216 Cotswold 004D","E01022216",{"$f":"VLOOKUP(A1071,'Output Areas'!$A:$E,5,FALSE)","v":"Rural"},"Detached; semi-detached; terraced whole house or bungalow","Shared ownership or rented (excluding living rent free)","4 rooms",{"$f":"VLOOKUP(G1071,Cntrol!$F$3:$G$9,2,FALSE)","v":2},37,15,14,1,1,6]
["E01022216","E01022216 Cotswold 004D","E01022216",{"$f":"VLOOKUP(A1072,'Output Areas'!$A:$E,5,FALSE)","v":"Rural"},"Detached; semi-detached; terraced whole house or bungalow","Shared ownership or rented (excluding living rent free)","5 rooms",{"$f":"VLOOKUP(G1072,Cntrol!$F$3:$G$9,2,FALSE)","v":3},64,33,18,8,0,5]
["E01022216","E01022216 Cotswold 004D","E01022216",{"$f":"VLOOKUP(A1073,'Output Areas'!$A:$E,5,FALSE)","v":"Rural"},"Detached; semi-detached; terraced whole house or bungalow","Shared ownership or rented (excluding living rent free)","6 rooms",{"$f":"VLOOKUP(G1073,Cntrol!$F$3:$G$9,2,FALSE)","v":3},40,12,23,2,1,2]
["E01022216","E01022216 Cotswold 004D","E01022216",{"$f":"VLOOKUP(A1074,'Output Areas'!$A:$E,5,FALSE)","v":"Rural"},"Detached; semi-detached; terraced whole house or bungalow","Shared ownership or rented (excluding living rent free)","7 rooms",{"$f":"VLOOKUP(G1074,Cntrol!$F$3:$G$9,2,FALSE)","v":4},13,3,8,1,1,0]
["E01022216","E01022216 Cotswold 004D","E01022216",{"$f":"VLOOKUP(A1075,'Output Areas'!$A:$E,5,FALSE)","v":"Rural"},"Detached; semi-detached; terraced whole house or bungalow","Shared ownership or rented (excluding living rent free)","8 rooms or more",{"$f":"VLOOKUP(G1075,Cntrol!$F$3:$G$9,2,FALSE)","v":5},24,6,12,4,0,2]
["E01022216","E01022216 Cotswold 004D","E01022216",{"$f":"VLOOKUP(A1076,'Output Areas'!$A:$E,5,FALSE)","v":"Rural"},"A flat; maisonette; apartment","Total: Tenure (excluding living rent free)","Total: Number of rooms",{"$f":"VLOOKUP(G1076,Cntrol!$F$3:$G$9,2,FALSE)","v":0},32,19,4,1,1,7]
["E01022216","E01022216 Cotswold 004D","E01022216",{"$f":"VLOOKUP(A1077,'Output Areas'!$A:$E,5,FALSE)","v":"Rural"},"A flat; maisonette; apartment","Total: Tenure (excluding living rent free)","3 rooms or less",{"$f":"VLOOKUP(G1077,Cntrol!$F$3:$G$9,2,FALSE)","v":2},11,6,1,0,1,3]
["E01022216","E01022216 Cotswold 004D","E01022216",{"$f":"VLOOKUP(A1078,'Output Areas'!$A:$E,5,FALSE)","v":"Rural"},"A flat; maisonette; apartment","Total: Tenure (excluding living rent free)","4 rooms",{"$f":"VLOOKUP(G1078,Cntrol!$F$3:$G$9,2,FALSE)","v":2},12,6,1,1,0,4]
["E01022216","E01022216 Cotswold 004D","E01022216",{"$f":"VLOOKUP(A1079,'Output Areas'!$A:$E,5,FALSE)","v":"Rural"},"A flat; maisonette; apartment","Total: Tenure (excluding living rent free)","5 rooms",{"$f":"VLOOKUP(G1079,Cntrol!$F$3:$G$9,2,FALSE)","v":3},6,5,1,0,0,0]
["E01022216","E01022216 Cotswold 004D","E01022216",{"$f":"VLOOKUP(A1080,'Output Areas'!$A:$E,5,FALSE)","v":"Rural"},"A flat; maisonette; apartment","Total: Tenure (excluding living rent free)","6 rooms",{"$f":"VLOOKUP(G1080,Cntrol!$F$3:$G$9,2,FALSE)","v":3},1,1,0,0,0,0]
["E01022216","E01022216 Cotswold 004D","E01022216",{"$f":"VLOOKUP(A1081,'Output Areas'!$A:$E,5,FALSE)","v":"Rural"},"A flat; maisonette; apartment","Total: Tenure (excluding living rent free)","7 rooms",{"$f":"VLOOKUP(G1081,Cntrol!$F$3:$G$9,2,FALSE)","v":4},1,1,0,0,0,0]
["E01022216","E01022216 Cotswold 004D","E01022216",{"$f":"VLOOKUP(A1082,'Output Areas'!$A:$E,5,FALSE)","v":"Rural"},"A flat; maisonette; apartment","Total: Tenure (excluding living rent free)","8 rooms or more",{"$f":"VLOOKUP(G1082,Cntrol!$F$3:$G$9,2,FALSE)","v":5},1,0,1,0,0,0]
["E01022216","E01022216 Cotswold 004D","E01022216",{"$f":"VLOOKUP(A1083,'Output Areas'!$A:$E,5,FALSE)","v":"Rural"},"A flat; maisonette; apartment","Owned","Total: Number of rooms",{"$f":"VLOOKUP(G1083,Cntrol!$F$3:$G$9,2,FALSE)","v":0},12,8,2,0,0,2]
["E01022216","E01022216 Cotswold 004D","E01022216",{"$f":"VLOOKUP(A1084,'Output Areas'!$A:$E,5,FALSE)","v":"Rural"},"A flat; maisonette; apartment","Owned","3 rooms or less",{"$f":"VLOOKUP(G1084,Cntrol!$F$3:$G$9,2,FALSE)","v":2},1,1,0,0,0,0]
["E01022216","E01022216 Cotswold 004D","E01022216",{"$f":"VLOOKUP(A1085,'Output Areas'!$A:$E,5,FALSE)","v":"Rural"},"A flat; maisonette; apartment","Owned","4 rooms",{"$f":"VLOOKUP(G1085,Cntrol!$F$3:$G$9,2,FALSE)","v":2},4,2,0,0,0,2]
["E01022216","E01022216 Cotswold 004D","E01022216",{"$f":"VLOOKUP(A1086,'Output Areas'!$A:$E,5,FALSE)","v":"Rural"},"A flat; maisonette; apartment","Owned","5 rooms",{"$f":"VLOOKUP(G1086,Cntrol!$F$3:$G$9,2,FALSE)","v":3},5,4,1,0,0,0]
["E01022216","E01022216 Cotswold 004D","E01022216",{"$f":"VLOOKUP(A1087,'Output Areas'!$A:$E,5,FALSE)","v":"Rural"},"A flat; maisonette; apartment","Owned","7 rooms",{"$f":"VLOOKUP(G1087,Cntrol!$F$3:$G$9,2,FALSE)","v":4},1,1,0,0,0,0]
["E01022216","E01022216 Cotswold 004D","E01022216",{"$f":"VLOOKUP(A1088,'Output Areas'!$A:$E,5,FALSE)","v":"Rural"},"A flat; maisonette; apartment","Owned","8 rooms or more",{"$f":"VLOOKUP(G1088,Cntrol!$F$3:$G$9,2,FALSE)","v":5},1,0,1,0,0,0]
["E01022216","E01022216 Cotswold 004D","E01022216",{"$f":"VLOOKUP(A1089,'Output Areas'!$A:$E,5,FALSE)","v":"Rural"},"A flat; maisonette; apartment","Shared ownership or rented (excluding living rent free)","Total: Number of rooms",{"$f":"VLOOKUP(G1089,Cntrol!$F$3:$G$9,2,FALSE)","v":0},20,11,2,1,1,5]
["E01022216","E01022216 Cotswold 004D","E01022216",{"$f":"VLOOKUP(A1090,'Output Areas'!$A:$E,5,FALSE)","v":"Rural"},"A flat; maisonette; apartment","Shared ownership or rented (excluding living rent free)","3 rooms or less",{"$f":"VLOOKUP(G1090,Cntrol!$F$3:$G$9,2,FALSE)","v":2},10,5,1,0,1,3]
["E01022216","E01022216 Cotswold 004D","E01022216",{"$f":"VLOOKUP(A1091,'Output Areas'!$A:$E,5,FALSE)","v":"Rural"},"A flat; maisonette; apartment","Shared ownership or rented (excluding living rent free)","4 rooms",{"$f":"VLOOKUP(G1091,Cntrol!$F$3:$G$9,2,FALSE)","v":2},8,4,1,1,0,2]
["E01022216","E01022216 Cotswold 004D","E01022216",{"$f":"VLOOKUP(A1092,'Output Areas'!$A:$E,5,FALSE)","v":"Rural"},"A flat; maisonette; apartment","Shared ownership or rented (excluding living rent free)","5 rooms",{"$f":"VLOOKUP(G1092,Cntrol!$F$3:$G$9,2,FALSE)","v":3},1,1,0,0,0,0]
["E01022216","E01022216 Cotswold 004D","E01022216",{"$f":"VLOOKUP(A1093,'Output Areas'!$A:$E,5,FALSE)","v":"Rural"},"A flat; maisonette; apartment","Shared ownership or rented (excluding living rent free)","6 rooms",{"$f":"VLOOKUP(G1093,Cntrol!$F$3:$G$9,2,FALSE)","v":3},1,1,0,0,0,0]
["E01022175","E01022175 Cotswold 005A","E01022175",{"$f":"VLOOKUP(A1094,'Output Areas'!$A:$E,5,FALSE)","v":"Rural"},"Total: Accommodation type (excluding caravans / temporary structures)","Total: Tenure (excluding living rent free)","Total: Number of rooms",{"$f":"VLOOKUP(G1094,Cntrol!$F$3:$G$9,2,FALSE)","v":0},756,235,324,91,58,48]
["E01022175","E01022175 Cotswold 005A","E01022175",{"$f":"VLOOKUP(A1095,'Output Areas'!$A:$E,5,FALSE)","v":"Rural"},"Total: Accommodation type (excluding caravans / temporary structures)","Total: Tenure (excluding living rent free)","3 rooms or less",{"$f":"VLOOKUP(G1095,Cntrol!$F$3:$G$9,2,FALSE)","v":2},26,14,8,1,0,3]
["E01022175","E01022175 Cotswold 005A","E01022175",{"$f":"VLOOKUP(A1096,'Output Areas'!$A:$E,5,FALSE)","v":"Rural"},"Total: Accommodation type (excluding caravans / temporary structures)","Total: Tenure (excluding living rent free)","4 rooms",{"$f":"VLOOKUP(G1096,Cntrol!$F$3:$G$9,2,FALSE)","v":2},98,51,28,3,1,15]
["E01022175","E01022175 Cotswold 005A","E01022175",{"$f":"VLOOKUP(A1097,'Output Areas'!$A:$E,5,FALSE)","v":"Rural"},"Total: Accommodation type (excluding caravans / temporary structures)","Total: Tenure (excluding living rent free)","5 rooms",{"$f":"VLOOKUP(G1097,Cntrol!$F$3:$G$9,2,FALSE)","v":3},116,46,48,12,1,9]
["E01022175","E01022175 Cotswold 005A","E01022175",{"$f":"VLOOKUP(A1098,'Output Areas'!$A:$E,5,FALSE)","v":"Rural"},"Total: Accommodation type (excluding caravans / temporary structures)","Total: Tenure (excluding living rent free)","6 rooms",{"$f":"VLOOKUP(G1098,Cntrol!$F$3:$G$9,2,FALSE)","v":3},116,48,48,7,4,9]
["E01022175","E01022175 Cotswold 005A","E01022175",{"$f":"VLOOKUP(A1099,'Output Areas'!$A:$E,5,FALSE)","v":"Rural"},"Total: Accommodation type (excluding caravans / temporary structures)","Total: Tenure (excluding living rent free)","7 rooms",{"$f":"VLOOKUP(G1099,Cntrol!$F$3:$G$9,2,FALSE)","v":4},102,23,54,10,7,8]
["E01022175","E01022175 Cotswold 005A","E01022175",{"$f":"VLOOKUP(A1100,'Output Areas'!$A:$E,5,FALSE)","v":"Rural"},"Total: Accommodation type (excluding caravans / temporary structures)","Total: Tenure (excluding living rent free)","8 rooms or more",{"$f":"VLOOKUP(G1100,Cntrol!$F$3:$G$9,2,FALSE)","v":5},298,53,138,58,45,4]
["E01022175","E01022175 Cotswold 005A","E01022175",{"$f":"VLOOKUP(A1101,'Output Areas'!$A:$E,5,FALSE)","v":"Rural"},"Total: Accommodation type (excluding caravans / temporary structures)","Owned","Total: Number of rooms",{"$f":"VLOOKUP(G1101,Cntrol!$F$3:$G$9,2,FALSE)","v":0},514,137,232,73,52,20]
["E01022175","E01022175 Cotswold 005A","E01022175",{"$f":"VLOOKUP(A1102,'Output Areas'!$A:$E,5,FALSE)","v":"Rural"},"Total: Accommodation type (excluding caravans / temporary structures)","Owned","3 rooms or less",{"$f":"VLOOKUP(G1102,Cntrol!$F$3:$G$9,2,FALSE)","v":2},6,4,1,0,0,1]
["E01022175","E01022175 Cotswold 005A","E01022175",{"$f":"VLOOKUP(A1103,'Output Areas'!$A:$E,5,FALSE)","v":"Rural"},"Total: Accommodation type (excluding caravans / temporary structures)","Owned","4 rooms",{"$f":"VLOOKUP(G1103,Cntrol!$F$3:$G$9,2,FALSE)","v":2},22,8,10,1,0,3]
["E01022175","E01022175 Cotswold 005A","E01022175",{"$f":"VLOOKUP(A1104,'Output Areas'!$A:$E,5,FALSE)","v":"Rural"},"Total: Accommodation type (excluding caravans / temporary structures)","Owned","5 rooms",{"$f":"VLOOKUP(G1104,Cntrol!$F$3:$G$9,2,FALSE)","v":3},43,18,20,4,0,1]
["E01022175","E01022175 Cotswold 005A","E01022175",{"$f":"VLOOKUP(A1105,'Output Areas'!$A:$E,5,FALSE)","v":"Rural"},"Total: Accommodation type (excluding caravans / temporary structures)","Owned","6 rooms",{"$f":"VLOOKUP(G1105,Cntrol!$F$3:$G$9,2,FALSE)","v":3},84,36,38,5,2,3]
["E01022175","E01022175 Cotswold 005A","E01022175",{"$f":"VLOOKUP(A1106,'Output Areas'!$A:$E,5,FALSE)","v":"Rural"},"Total: Accommodation type (excluding caravans / temporary structures)","Owned","7 rooms",{"$f":"VLOOKUP(G1106,Cntrol!$F$3:$G$9,2,FALSE)","v":4},81,21,38,9,5,8]
["E01022175","E01022175 Cotswold 005A","E01022175",{"$f":"VLOOKUP(A1107,'Output Areas'!$A:$E,5,FALSE)","v":"Rural"},"Total: Accommodation type (excluding caravans / temporary structures)","Owned","8 rooms or more",{"$f":"VLOOKUP(G1107,Cntrol!$F$3:$G$9,2,FALSE)","v":5},278,50,125,54,45,4]
["E01022175","E01022175 Cotswold 005A","E01022175",{"$f":"VLOOKUP(A1108,'Output Areas'!$A:$E,5,FALSE)","v":"Rural"},"Total: Accommodation type (excluding caravans / temporary structures)","Shared ownership or rented (excluding living rent free)","Total: Number of rooms",{"$f":"VLOOKUP(G1108,Cntrol!$F$3:$G$9,2,FALSE)","v":0},242,98,92,18,6,28]
["E01022175","E01022175 Cotswold 005A","E01022175",{"$f":"VLOOKUP(A1109,'Output Areas'!$A:$E,5,FALSE)","v":"Rural"},"Total: Accommodation type (excluding caravans / temporary structures)","Shared ownership or rented (excluding living rent free)","3 rooms or less",{"$f":"VLOOKUP(G1109,Cntrol!$F$3:$G$9,2,FALSE)","v":2},20,10,7,1,0,2]
["E01022175","E01022175 Cotswold 005A","E01022175",{"$f":"VLOOKUP(A1110,'Output Areas'!$A:$E,5,FALSE)","v":"Rural"},"Total: Accommodation type (excluding caravans / temporary structures)","Shared ownership or rented (excluding living rent free)","4 rooms",{"$f":"VLOOKUP(G1110,Cntrol!$F$3:$G$9,2,FALSE)","v":2},76,43,18,2,1,12]
["E01022175","E01022175 Cotswold 005A","E01022175",{"$f":"VLOOKUP(A1111,'Output Areas'!$A:$E,5,FALSE)","v":"Rural"},"Total: Accommodation type (excluding caravans / temporary structures)","Shared ownership or rented (excluding living rent free)","5 rooms",{"$f":"VLOOKUP(G1111,Cntrol!$F$3:$G$9,2,FALSE)","v":3},73,28,28,8,1,8]
["E01022175","E01022175 Cotswold 005A","E01022175",{"$f":"VLOOKUP(A1112,'Output Areas'!$A:$E,5,FALSE)","v":"Rural"},"Total: Accommodation type (excluding caravans / temporary structures)","Shared ownership or rented (excluding living rent free)","6 rooms",{"$f":"VLOOKUP(G1112,Cntrol!$F$3:$G$9,2,FALSE)","v":3},32,12,10,2,2,6]
["E01022175","E01022175 Cotswold 005A","E01022175",{"$f":"VLOOKUP(A1113,'Output Areas'!$A:$E,5,FALSE)","v":"Rural"},"Total: Accommodation type (excluding caravans / temporary structures)","Shared ownership or rented (excluding living rent free)","7 rooms",{"$f":"VLOOKUP(G1113,Cntrol!$F$3:$G$9,2,FALSE)","v":4},21,2,16,1,2,0]
["E01022175","E01022175 Cotswold 005A","E01022175",{"$f":"VLOOKUP(A1114,'Output Areas'!$A:$E,5,FALSE)","v":"Rural"},"Total: Accommodation type (excluding caravans / temporary structures)","Shared ownership or rented (excluding living rent free)","8 rooms or more",{"$f":"VLOOKUP(G1114,Cntrol!$F$3:$G$9,2,FALSE)","v":5},20,3,13,4,0,0]
["E01022175","E01022175 Cotswold 005A","E01022175",{"$f":"VLOOKUP(A1115,'Output Areas'!$A:$E,5,FALSE)","v":"Rural"},"Detached; semi-detached; terraced whole house or bungalow","Total: Tenure (excluding living rent free)","Total: Number of rooms",{"$f":"VLOOKUP(G1115,Cntrol!$F$3:$G$9,2,FALSE)","v":0},722,218,315,90,55,44]
["E01022175","E01022175 Cotswold 005A","E01022175",{"$f":"VLOOKUP(A1116,'Output Areas'!$A:$E,5,FALSE)","v":"Rural"},"Detached; semi-detached; terraced whole house or bungalow","Total: Tenure (excluding living rent free)","3 rooms or less",{"$f":"VLOOKUP(G1116,Cntrol!$F$3:$G$9,2,FALSE)","v":2},20,10,8,0,0,2]
["E01022175","E01022175 Cotswold 005A","E01022175",{"$f":"VLOOKUP(A1117,'Output Areas'!$A:$E,5,FALSE)","v":"Rural"},"Detached; semi-detached; terraced whole house or bungalow","Total: Tenure (excluding living rent free)","4 rooms",{"$f":"VLOOKUP(G1117,Cntrol!$F$3:$G$9,2,FALSE)","v":2},78,40,22,3,1,12]
["E01022175","E01022175 Cotswold 005A","E01022175",{"$f":"VLOOKUP(A1118,'Output Areas'!$A:$E,5,FALSE)","v":"Rural"},"Detached; semi-detached; terraced whole house or bungalow","Total: Tenure (excluding living rent free)","5 rooms",{"$f":"VLOOKUP(G1118,Cntrol!$F$3:$G$9,2,FALSE)","v":3},112,45,45,12,1,9]
["E01022175","E01022175 Cotswold 005A","E01022175",{"$f":"VLOOKUP(A1119,'Output Areas'!$A:$E,5,FALSE)","v":"Rural"},"Detached; semi-detached; terraced whole house or bungalow","Total: Tenure (excluding living rent free)","6 rooms",{"$f":"VLOOKUP(G1119,Cntrol!$F$3:$G$9,2,FALSE)","v":3},115,47,48,7,4,9]
["E01022175","E01022175 Cotswold 005A","E01022175",{"$f":"VLOOKUP(A1120,'Output Areas'!$A:$E,5,FALSE)","v":"Rural"},"Detached; semi-detached; terraced whole house or bungalow","Total: Tenure (excluding living rent free)","7 rooms",{"$f":"VLOOKUP(G1120,Cntrol!$F$3:$G$9,2,FALSE)","v":4},100,23,54,10,5,8]
["E01022175","E01022175 Cotswold 005A","E01022175",{"$f":"VLOOKUP(A1121,'Output Areas'!$A:$E,5,FALSE)","v":"Rural"},"Detached; semi-detached; terraced whole house or bungalow","Total: Tenure (excluding living rent free)","8 rooms or more",{"$f":"VLOOKUP(G1121,Cntrol!$F$3:$G$9,2,FALSE)","v":5},297,53,138,58,44,4]
["E01022175","E01022175 Cotswold 005A","E01022175",{"$f":"VLOOKUP(A1122,'Output Areas'!$A:$E,5,FALSE)","v":"Rural"},"Detached; semi-detached; terraced whole house or bungalow","Owned","Total: Number of rooms",{"$f":"VLOOKUP(G1122,Cntrol!$F$3:$G$9,2,FALSE)","v":0},511,136,231,73,51,20]
["E01022175","E01022175 Cotswold 005A","E01022175",{"$f":"VLOOKUP(A1123,'Output Areas'!$A:$E,5,FALSE)","v":"Rural"},"Detached; semi-detached; terraced whole house or bungalow","Owned","3 rooms or less",{"$f":"VLOOKUP(G1123,Cntrol!$F$3:$G$9,2,FALSE)","v":2},6,4,1,0,0,1]
["E01022175","E01022175 Cotswold 005A","E01022175",{"$f":"VLOOKUP(A1124,'Output Areas'!$A:$E,5,FALSE)","v":"Rural"},"Detached; semi-detached; terraced whole house or bungalow","Owned","4 rooms",{"$f":"VLOOKUP(G1124,Cntrol!$F$3:$G$9,2,FALSE)","v":2},22,8,10,1,0,3]
["E01022175","E01022175 Cotswold 005A","E01022175",{"$f":"VLOOKUP(A1125,'Output Areas'!$A:$E,5,FALSE)","v":"Rural"},"Detached; semi-detached; terraced whole house or bungalow","Owned","5 rooms",{"$f":"VLOOKUP(G1125,Cntrol!$F$3:$G$9,2,FALSE)","v":3},42,18,19,4,0,1]
["E01022175","E01022175 Cotswold 005A","E01022175",{"$f":"VLOOKUP(A1126,'Output Areas'!$A:$E,5,FALSE)","v":"Rural"},"Detached; semi-detached; terraced whole house or bungalow","Owned","6 rooms",{"$f":"VLOOKUP(G1126,Cntrol!$F$3:$G$9,2,FALSE)","v":3},83,35,38,5,2,3]
["E01022175","E01022175 Cotswold 005A","E01022175",{"$f":"VLOOKUP(A1127,'Output Areas'!$A:$E,5,FALSE)","v":"Rural"},"Detached; semi-detached; terraced whole house or bungalow","Owned","7 rooms",{"$f":"VLOOKUP(G1127,Cntrol!$F$3:$G$9,2,FALSE)","v":4},81,21,38,9,5,8]
["E01022175","E01022175 Cotswold 005A","E01022175",{"$f":"VLOOKUP(A1128,'Output Areas'!$A:$E,5,FALSE)","v":"Rural"},"Detached; semi-detached; terraced whole house or bungalow","Owned","8 rooms or more",{"$f":"VLOOKUP(G1128,Cntrol!$F$3:$G$9,2,FALSE)","v":5},277,50,125,54,44,4]
["E01022175","E01022175 Cotswold 005A","E01022175",{"$f":"VLOOKUP(A1129,'Output Areas'!$A:$E,5,FALSE)","v":"Rural"},"Detached; semi-detached; terraced whole house or bungalow","Shared ownership or rented (excluding living rent free)","Total: Number of rooms",{"$f":"VLOOKUP(G1129,Cntrol!$F$3:$G$9,2,FALSE)","v":0},211,82,84,17,4,24]
["E01022175","E01022175 Cotswold 005A","E01022175",{"$f":"VLOOKUP(A1130,'Output Areas'!$A:$E,5,FALSE)","v":"Rural"},"Detached; semi-detached; terraced whole house or bungalow","Shared ownership or rented (excluding living rent free)","3 rooms or less",{"$f":"VLOOKUP(G1130,Cntrol!$F$3:$G$9,2,FALSE)","v":2},14,6,7,0,0,1]
["E01022175","E01022175 Cotswold 005A","E01022175",{"$f":"VLOOKUP(A1131,'Output Areas'!$A:$E,5,FALSE)","v":"Rural"},"Detached; semi-detached; terraced whole house or bungalow","Shared ownership or rented (excluding living rent free)","4 rooms",{"$f":"VLOOKUP(G1131,Cntrol!$F$3:$G$9,2,FALSE)","v":2},56,32,12,2,1,9]
["E01022175","E01022175 Cotswold 005A","E01022175",{"$f":"VLOOKUP(A1132,'Output Areas'!$A:$E,5,FALSE)","v":"Rural"},"Detached; semi-detached; terraced whole house or bungalow","Shared ownership or rented (excluding living rent free)","5 rooms",{"$f":"VLOOKUP(G1132,Cntrol!$F$3:$G$9,2,FALSE)","v":3},70,27,26,8,1,8]
["E01022175","E01022175 Cotswold 005A","E01022175",{"$f":"VLOOKUP(A1133,'Output Areas'!$A:$E,5,FALSE)","v":"Rural"},"Detached; semi-detached; terraced whole house or bungalow","Shared ownership or rented (excluding living rent free)","6 rooms",{"$f":"VLOOKUP(G1133,Cntrol!$F$3:$G$9,2,FALSE)","v":3},32,12,10,2,2,6]
["E01022175","E01022175 Cotswold 005A","E01022175",{"$f":"VLOOKUP(A1134,'Output Areas'!$A:$E,5,FALSE)","v":"Rural"},"Detached; semi-detached; terraced whole house or bungalow","Shared ownership or rented (excluding living rent free)","7 rooms",{"$f":"VLOOKUP(G1134,Cntrol!$F$3:$G$9,2,FALSE)","v":4},19,2,16,1,0,0]
["E01022175","E01022175 Cotswold 005A","E01022175",{"$f":"VLOOKUP(A1135,'Output Areas'!$A:$E,5,FALSE)","v":"Rural"},"Detached; semi-detached; terraced whole house or bungalow","Shared ownership or rented (excluding living rent free)","8 rooms or more",{"$f":"VLOOKUP(G1135,Cntrol!$F$3:$G$9,2,FALSE)","v":5},20,3,13,4,0,0]
["E01022175","E01022175 Cotswold 005A","E01022175",{"$f":"VLOOKUP(A1136,'Output Areas'!$A:$E,5,FALSE)","v":"Rural"},"A flat; maisonette; apartment","Total: Tenure (excluding living rent free)","Total: Number of rooms",{"$f":"VLOOKUP(G1136,Cntrol!$F$3:$G$9,2,FALSE)","v":0},34,17,9,1,3,4]
["E01022175","E01022175 Cotswold 005A","E01022175",{"$f":"VLOOKUP(A1137,'Output Areas'!$A:$E,5,FALSE)","v":"Rural"},"A flat; maisonette; apartment","Total: Tenure (excluding living rent free)","3 rooms or less",{"$f":"VLOOKUP(G1137,Cntrol!$F$3:$G$9,2,FALSE)","v":2},6,4,0,1,0,1]
["E01022175","E01022175 Cotswold 005A","E01022175",{"$f":"VLOOKUP(A1138,'Output Areas'!$A:$E,5,FALSE)","v":"Rural"},"A flat; maisonette; apartment","Total: Tenure (excluding living rent free)","4 rooms",{"$f":"VLOOKUP(G1138,Cntrol!$F$3:$G$9,2,FALSE)","v":2},20,11,6,0,0,3]
["E01022175","E01022175 Cotswold 005A","E01022175",{"$f":"VLOOKUP(A1139,'Output Areas'!$A:$E,5,FALSE)","v":"Rural"},"A flat; maisonette; apartment","Total: Tenure (excluding living rent free)","5 rooms",{"$f":"VLOOKUP(G1139,Cntrol!$F$3:$G$9,2,FALSE)","v":3},4,1,3,0,0,0]
["E01022175","E01022175 Cotswold 005A","E01022175",{"$f":"VLOOKUP(A1140,'Output Areas'!$A:$E,5,FALSE)","v":"Rural"},"A flat; maisonette; apartment","Total: Tenure (excluding living rent free)","6 rooms",{"$f":"VLOOKUP(G1140,Cntrol!$F$3:$G$9,2,FALSE)","v":3},1,1,0,0,0,0]
["E01022175","E01022175 Cotswold 005A","E01022175",{"$f":"VLOOKUP(A1141,'Output Areas'!$A:$E,5,FALSE)","v":"Rural"},"A flat; maisonette; apartment","Total: Tenure (excluding living rent free)","7 rooms",{"$f":"VLOOKUP(G1141,Cntrol!$F$3:$G$9,2,FALSE)","v":4},2,0,0,0,2,0]
["E01022175","E01022175 Cotswold 005A","E01022175",{"$f":"VLOOKUP(A1142,'Output Areas'!$A:$E,5,FALSE)","v":"Rural"},"A flat; maisonette; apartment","Total: Tenure (excluding living rent free)","8 rooms or more",{"$f":"VLOOKUP(G1142,Cntrol!$F$3:$G$9,2,FALSE)","v":5},1,0,0,0,1,0]
["E01022175","E01022175 Cotswold 005A","E01022175",{"$f":"VLOOKUP(A1143,'Output Areas'!$A:$E,5,FALSE)","v":"Rural"},"A flat; maisonette; apartment","Owned","Total: Number of rooms",{"$f":"VLOOKUP(G1143,Cntrol!$F$3:$G$9,2,FALSE)","v":0},3,1,1,0,1,0]
["E01022175","E01022175 Cotswold 005A","E01022175",{"$f":"VLOOKUP(A1144,'Output Areas'!$A:$E,5,FALSE)","v":"Rural"},"A flat; maisonette; apartment","Owned","5 rooms",{"$f":"VLOOKUP(G1144,Cntrol!$F$3:$G$9,2,FALSE)","v":3},1,0,1,0,0,0]
["E01022175","E01022175 Cotswold 005A","E01022175",{"$f":"VLOOKUP(A1145,'Output Areas'!$A:$E,5,FALSE)","v":"Rural"},"A flat; maisonette; apartment","Owned","6 rooms",{"$f":"VLOOKUP(G1145,Cntrol!$F$3:$G$9,2,FALSE)","v":3},1,1,0,0,0,0]
["E01022175","E01022175 Cotswold 005A","E01022175",{"$f":"VLOOKUP(A1146,'Output Areas'!$A:$E,5,FALSE)","v":"Rural"},"A flat; maisonette; apartment","Owned","8 rooms or more",{"$f":"VLOOKUP(G1146,Cntrol!$F$3:$G$9,2,FALSE)","v":5},1,0,0,0,1,0]
["E01022175","E01022175 Cotswold 005A","E01022175",{"$f":"VLOOKUP(A1147,'Output Areas'!$A:$E,5,FALSE)","v":"Rural"},"A flat; maisonette; apartment","Shared ownership or rented (excluding living rent free)","Total: Number of rooms",{"$f":"VLOOKUP(G1147,Cntrol!$F$3:$G$9,2,FALSE)","v":0},31,16,8,1,2,4]
["E01022175","E01022175 Cotswold 005A","E01022175",{"$f":"VLOOKUP(A1148,'Output Areas'!$A:$E,5,FALSE)","v":"Rural"},"A flat; maisonette; apartment","Shared ownership or rented (excluding living rent free)","3 rooms or less",{"$f":"VLOOKUP(G1148,Cntrol!$F$3:$G$9,2,FALSE)","v":2},6,4,0,1,0,1]
["E01022175","E01022175 Cotswold 005A","E01022175",{"$f":"VLOOKUP(A1149,'Output Areas'!$A:$E,5,FALSE)","v":"Rural"},"A flat; maisonette; apartment","Shared ownership or rented (excluding living rent free)","4 rooms",{"$f":"VLOOKUP(G1149,Cntrol!$F$3:$G$9,2,FALSE)","v":2},20,11,6,0,0,3]
["E01022175","E01022175 Cotswold 005A","E01022175",{"$f":"VLOOKUP(A1150,'Output Areas'!$A:$E,5,FALSE)","v":"Rural"},"A flat; maisonette; apartment","Shared ownership or rented (excluding living rent free)","5 rooms",{"$f":"VLOOKUP(G1150,Cntrol!$F$3:$G$9,2,FALSE)","v":3},3,1,2,0,0,0]
["E01022175","E01022175 Cotswold 005A","E01022175",{"$f":"VLOOKUP(A1151,'Output Areas'!$A:$E,5,FALSE)","v":"Rural"},"A flat; maisonette; apartment","Shared ownership or rented (excluding living rent free)","7 rooms",{"$f":"VLOOKUP(G1151,Cntrol!$F$3:$G$9,2,FALSE)","v":4},2,0,0,0,2,0]
["E01022207","E01022207 Cotswold 005B","E01022207",{"$f":"VLOOKUP(A1152,'Output Areas'!$A:$E,5,FALSE)","v":"Rural"},"Total: Accommodation type (excluding caravans / temporary structures)","Total: Tenure (excluding living rent free)","Total: Number of rooms",{"$f":"VLOOKUP(G1152,Cntrol!$F$3:$G$9,2,FALSE)","v":0},673,203,289,98,47,36]
["E01022207","E01022207 Cotswold 005B","E01022207",{"$f":"VLOOKUP(A1153,'Output Areas'!$A:$E,5,FALSE)","v":"Rural"},"Total: Accommodation type (excluding caravans / temporary structures)","Total: Tenure (excluding living rent free)","3 rooms or less",{"$f":"VLOOKUP(G1153,Cntrol!$F$3:$G$9,2,FALSE)","v":2},20,13,5,1,0,1]
["E01022207","E01022207 Cotswold 005B","E01022207",{"$f":"VLOOKUP(A1154,'Output Areas'!$A:$E,5,FALSE)","v":"Rural"},"Total: Accommodation type (excluding caravans / temporary structures)","Total: Tenure (excluding living rent free)","4 rooms",{"$f":"VLOOKUP(G1154,Cntrol!$F$3:$G$9,2,FALSE)","v":2},62,38,10,4,2,8]
["E01022207","E01022207 Cotswold 005B","E01022207",{"$f":"VLOOKUP(A1155,'Output Areas'!$A:$E,5,FALSE)","v":"Rural"},"Total: Accommodation type (excluding caravans / temporary structures)","Total: Tenure (excluding living rent free)","5 rooms",{"$f":"VLOOKUP(G1155,Cntrol!$F$3:$G$9,2,FALSE)","v":3},108,51,32,9,6,10]
["E01022207","E01022207 Cotswold 005B","E01022207",{"$f":"VLOOKUP(A1156,'Output Areas'!$A:$E,5,FALSE)","v":"Rural"},"Total: Accommodation type (excluding caravans / temporary structures)","Total: Tenure (excluding living rent free)","6 rooms",{"$f":"VLOOKUP(G1156,Cntrol!$F$3:$G$9,2,FALSE)","v":3},126,39,57,18,4,8]
["E01022207","E01022207 Cotswold 005B","E01022207",{"$f":"VLOOKUP(A1157,'Output Areas'!$A:$E,5,FALSE)","v":"Rural"},"Total: Accommodation type (excluding caravans / temporary structures)","Total: Tenure (excluding living rent free)","7 rooms",{"$f":"VLOOKUP(G1157,Cntrol!$F$3:$G$9,2,FALSE)","v":4},86,22,40,16,6,2]
["E01022207","E01022207 Cotswold 005B","E01022207",{"$f":"VLOOKUP(A1158,'Output Areas'!$A:$E,5,FALSE)","v":"Rural"},"Total: Accommodation type (excluding caravans / temporary structures)","Total: Tenure (excluding living rent free)","8 rooms or more",{"$f":"VLOOKUP(G1158,Cntrol!$F$3:$G$9,2,FALSE)","v":5},271,40,145,50,29,7]
["E01022207","E01022207 Cotswold 005B","E01022207",{"$f":"VLOOKUP(A1159,'Output Areas'!$A:$E,5,FALSE)","v":"Rural"},"Total: Accommodation type (excluding caravans / temporary structures)","Owned","Total: Number of rooms",{"$f":"VLOOKUP(G1159,Cntrol!$F$3:$G$9,2,FALSE)","v":0},497,120,242,77,39,19]
["E01022207","E01022207 Cotswold 005B","E01022207",{"$f":"VLOOKUP(A1160,'Output Areas'!$A:$E,5,FALSE)","v":"Rural"},"Total: Accommodation type (excluding caravans / temporary structures)","Owned","3 rooms or less",{"$f":"VLOOKUP(G1160,Cntrol!$F$3:$G$9,2,FALSE)","v":2},7,5,2,0,0,0]
["E01022207","E01022207 Cotswold 005B","E01022207",{"$f":"VLOOKUP(A1161,'Output Areas'!$A:$E,5,FALSE)","v":"Rural"},"Total: Accommodation type (excluding caravans / temporary structures)","Owned","4 rooms",{"$f":"VLOOKUP(G1161,Cntrol!$F$3:$G$9,2,FALSE)","v":2},28,16,6,3,1,2]
["E01022207","E01022207 Cotswold 005B","E01022207",{"$f":"VLOOKUP(A1162,'Output Areas'!$A:$E,5,FALSE)","v":"Rural"},"Total: Accommodation type (excluding caravans / temporary structures)","Owned","5 rooms",{"$f":"VLOOKUP(G1162,Cntrol!$F$3:$G$9,2,FALSE)","v":3},53,21,19,6,3,4]
["E01022207","E01022207 Cotswold 005B","E01022207",{"$f":"VLOOKUP(A1163,'Output Areas'!$A:$E,5,FALSE)","v":"Rural"},"Total: Accommodation type (excluding caravans / temporary structures)","Owned","6 rooms",{"$f":"VLOOKUP(G1163,Cntrol!$F$3:$G$9,2,FALSE)","v":3},86,23,42,13,3,5]
["E01022207","E01022207 Cotswold 005B","E01022207",{"$f":"VLOOKUP(A1164,'Output Areas'!$A:$E,5,FALSE)","v":"Rural"},"Total: Accommodation type (excluding caravans / temporary structures)","Owned","7 rooms",{"$f":"VLOOKUP(G1164,Cntrol!$F$3:$G$9,2,FALSE)","v":4},72,20,33,12,5,2]
["E01022207","E01022207 Cotswold 005B","E01022207",{"$f":"VLOOKUP(A1165,'Output Areas'!$A:$E,5,FALSE)","v":"Rural"},"Total: Accommodation type (excluding caravans / temporary structures)","Owned","8 rooms or more",{"$f":"VLOOKUP(G1165,Cntrol!$F$3:$G$9,2,FALSE)","v":5},251,35,140,43,27,6]
["E01022207","E01022207 Cotswold 005B","E01022207",{"$f":"VLOOKUP(A1166,'Output Areas'!$A:$E,5,FALSE)","v":"Rural"},"Total: Accommodation type (excluding caravans / temporary structures)","Shared ownership or rented (excluding living rent free)","Total: Number of rooms",{"$f":"VLOOKUP(G1166,Cntrol!$F$3:$G$9,2,FALSE)","v":0},176,83,47,21,8,17]
["E01022207","E01022207 Cotswold 005B","E01022207",{"$f":"VLOOKUP(A1167,'Output Areas'!$A:$E,5,FALSE)","v":"Rural"},"Total: Accommodation type (excluding caravans / temporary structures)","Shared ownership or rented (excluding living rent free)","3 rooms or less",{"$f":"VLOOKUP(G1167,Cntrol!$F$3:$G$9,2,FALSE)","v":2},13,8,3,1,0,1]
["E01022207","E01022207 Cotswold 005B","E01022207",{"$f":"VLOOKUP(A1168,'Output Areas'!$A:$E,5,FALSE)","v":"Rural"},"Total: Accommodation type (excluding caravans / temporary structures)","Shared ownership or rented (excluding living rent free)","4 rooms",{"$f":"VLOOKUP(G1168,Cntrol!$F$3:$G$9,2,FALSE)","v":2},34,22,4,1,1,6]
["E01022207","E01022207 Cotswold 005B","E01022207",{"$f":"VLOOKUP(A1169,'Output Areas'!$A:$E,5,FALSE)","v":"Rural"},"Total: Accommodation type (excluding caravans / temporary structures)","Shared ownership or rented (excluding living rent free)","5 rooms",{"$f":"VLOOKUP(G1169,Cntrol!$F$3:$G$9,2,FALSE)","v":3},55,30,13,3,3,6]
["E01022207","E01022207 Cotswold 005B","E01022207",{"$f":"VLOOKUP(A1170,'Output Areas'!$A:$E,5,FALSE)","v":"Rural"},"Total: Accommodation type (excluding caravans / temporary structures)","Shared ownership or rented (excluding living rent free)","6 rooms",{"$f":"VLOOKUP(G1170,Cntrol!$F$3:$G$9,2,FALSE)","v":3},40,16,15,5,1,3]
["E01022207","E01022207 Cotswold 005B","E01022207",{"$f":"VLOOKUP(A1171,'Output Areas'!$A:$E,5,FALSE)","v":"Rural"},"Total: Accommodation type (excluding caravans / temporary structures)","Shared ownership or rented (excluding living rent free)","7 rooms",{"$f":"VLOOKUP(G1171,Cntrol!$F$3:$G$9,2,FALSE)","v":4},14,2,7,4,1,0]
["E01022207","E01022207 Cotswold 005B","E01022207",{"$f":"VLOOKUP(A1172,'Output Areas'!$A:$E,5,FALSE)","v":"Rural"},"Total: Accommodation type (excluding caravans / temporary structures)","Shared ownership or rented (excluding living rent free)","8 rooms or more",{"$f":"VLOOKUP(G1172,Cntrol!$F$3:$G$9,2,FALSE)","v":5},20,5,5,7,2,1]
["E01022207","E01022207 Cotswold 005B","E01022207",{"$f":"VLOOKUP(A1173,'Output Areas'!$A:$E,5,FALSE)","v":"Rural"},"Detached; semi-detached; terraced whole house or bungalow","Total: Tenure (excluding living rent free)","Total: Number of rooms",{"$f":"VLOOKUP(G1173,Cntrol!$F$3:$G$9,2,FALSE)","v":0},661,198,284,97,47,35]
["E01022207","E01022207 Cotswold 005B","E01022207",{"$f":"VLOOKUP(A1174,'Output Areas'!$A:$E,5,FALSE)","v":"Rural"},"Detached; semi-detached; terraced whole house or bungalow","Total: Tenure (excluding living rent free)","3 rooms or less",{"$f":"VLOOKUP(G1174,Cntrol!$F$3:$G$9,2,FALSE)","v":2},13,9,4,0,0,0]
["E01022207","E01022207 Cotswold 005B","E01022207",{"$f":"VLOOKUP(A1175,'Output Areas'!$A:$E,5,FALSE)","v":"Rural"},"Detached; semi-detached; terraced whole house or bungalow","Total: Tenure (excluding living rent free)","4 rooms",{"$f":"VLOOKUP(G1175,Cntrol!$F$3:$G$9,2,FALSE)","v":2},59,37,8,4,2,8]
["E01022207","E01022207 Cotswold 005B","E01022207",{"$f":"VLOOKUP(A1176,'Output Areas'!$A:$E,5,FALSE)","v":"Rural"},"Detached; semi-detached; terraced whole house or bungalow","Total: Tenure (excluding living rent free)","5 rooms",{"$f":"VLOOKUP(G1176,Cntrol!$F$3:$G$9,2,FALSE)","v":3},106,51,30,9,6,10]
["E01022207","E01022207 Cotswold 005B","E01022207",{"$f":"VLOOKUP(A1177,'Output Areas'!$A:$E,5,FALSE)","v":"Rural"},"Detached; semi-detached; terraced whole house or bungalow","Total: Tenure (excluding living rent free)","6 rooms",{"$f":"VLOOKUP(G1177,Cntrol!$F$3:$G$9,2,FALSE)","v":3},126,39,57,18,4,8]
["E01022207","E01022207 Cotswold 005B","E01022207",{"$f":"VLOOKUP(A1178,'Output Areas'!$A:$E,5,FALSE)","v":"Rural"},"Detached; semi-detached; terraced whole house or bungalow","Total: Tenure (excluding living rent free)","7 rooms",{"$f":"VLOOKUP(G1178,Cntrol!$F$3:$G$9,2,FALSE)","v":4},86,22,40,16,6,2]
["E01022207","E01022207 Cotswold 005B","E01022207",{"$f":"VLOOKUP(A1179,'Output Areas'!$A:$E,5,FALSE)","v":"Rural"},"Detached; semi-detached; terraced whole house or bungalow","Total: Tenure (excluding living rent free)","8 rooms or more",{"$f":"VLOOKUP(G1179,Cntrol!$F$3:$G$9,2,FALSE)","v":5},271,40,145,50,29,7]
["E01022207","E01022207 Cotswold 005B","E01022207",{"$f":"VLOOKUP(A1180,'Output Areas'!$A:$E,5,FALSE)","v":"Rural"},"Detached; semi-detached; terraced whole house or bungalow","Owned","Total: Number of rooms",{"$f":"VLOOKUP(G1180,Cntrol!$F$3:$G$9,2,FALSE)","v":0},495,119,241,77,39,19]
["E01022207","E01022207 Cotswold 005B","E01022207",{"$f":"VLOOKUP(A1181,'Output Areas'!$A:$E,5,FALSE)","v":"Rural"},"Detached; semi-detached; terraced whole house or bungalow","Owned","3 rooms or less",{"$f":"VLOOKUP(G1181,Cntrol!$F$3:$G$9,2,FALSE)","v":2},6,4,2,0,0,0]
["E01022207","E01022207 Cotswold 005B","E01022207",{"$f":"VLOOKUP(A1182,'Output Areas'!$A:$E,5,FALSE)","v":"Rural"},"Detached; semi-detached; terraced whole house or bungalow","Owned","4 rooms",{"$f":"VLOOKUP(G1182,Cntrol!$F$3:$G$9,2,FALSE)","v":2},28,16,6,3,1,2]
["E01022207","E01022207 Cotswold 005B","E01022207",{"$f":"VLOOKUP(A1183,'Output Areas'!$A:$E,5,FALSE)","v":"Rural"},"Detached; semi-detached; terraced whole house or bungalow","Owned","5 rooms",{"$f":"VLOOKUP(G1183,Cntrol!$F$3:$G$9,2,FALSE)","v":3},52,21,18,6,3,4]
["E01022207","E01022207 Cotswold 005B","E01022207",{"$f":"VLOOKUP(A1184,'Output Areas'!$A:$E,5,FALSE)","v":"Rural"},"Detached; semi-detached; terraced whole house or bungalow","Owned","6 rooms",{"$f":"VLOOKUP(G1184,Cntrol!$F$3:$G$9,2,FALSE)","v":3},86,23,42,13,3,5]
["E01022207","E01022207 Cotswold 005B","E01022207",{"$f":"VLOOKUP(A1185,'Output Areas'!$A:$E,5,FALSE)","v":"Rural"},"Detached; semi-detached; terraced whole house or bungalow","Owned","7 rooms",{"$f":"VLOOKUP(G1185,Cntrol!$F$3:$G$9,2,FALSE)","v":4},72,20,33,12,5,2]
["E01022207","E01022207 Cotswold 005B","E01022207",{"$f":"VLOOKUP(A1186,'Output Areas'!$A:$E,5,FALSE)","v":"Rural"},"Detached; semi-detached; terraced whole house or bungalow","Owned","8 rooms or more",{"$f":"VLOOKUP(G1186,Cntrol!$F$3:$G$9,2,FALSE)","v":5},251,35,140,43,27,6]
["E01022207","E01022207 Cotswold 005B","E01022207",{"$f":"VLOOKUP(A1187,'Output Areas'!$A:$E,5,FALSE)","v":"Rural"},"Detached; semi-detached; terraced whole house or bungalow","Shared ownership or rented (excluding living rent free)","Total: Number of rooms",{"$f":"VLOOKUP(G1187,Cntrol!$F$3:$G$9,2,FALSE)","v":0},166,79,43,20,8,16]
["E01022207","E01022207 Cotswold 005B","E01022207",{"$f":"VLOOKUP(A1188,'Output Areas'!$A:$E,5,FALSE)","v":"Rural"},"Detached; semi-detached; terraced whole house or bungalow","Shared ownership or rented (excluding living rent free)","3 rooms or less",{"$f":"VLOOKUP(G1188,Cntrol!$F$3:$G$9,2,FALSE)","v":2},7,5,2,0,0,0]
["E01022207","E01022207 Cotswold 005B","E01022207",{"$f":"VLOOKUP(A1189,'Output Areas'!$A:$E,5,FALSE)","v":"Rural"},"Detached; semi-detached; terraced whole house or bungalow","Shared ownership or rented (excluding living rent free)","4 rooms",{"$f":"VLOOKUP(G1189,Cntrol!$F$3:$G$9,2,FALSE)","v":2},31,21,2,1,1,6]
["E01022207","E01022207 Cotswold 005B","E01022207",{"$f":"VLOOKUP(A1190,'Output Areas'!$A:$E,5,FALSE)","v":"Rural"},"Detached; semi-detached; terraced whole house or bungalow","Shared ownership or rented (excluding living rent free)","5 rooms",{"$f":"VLOOKUP(G1190,Cntrol!$F$3:$G$9,2,FALSE)","v":3},54,30,12,3,3,6]
["E01022207","E01022207 Cotswold 005B","E01022207",{"$f":"VLOOKUP(A1191,'Output Areas'!$A:$E,5,FALSE)","v":"Rural"},"Detached; semi-detached; terraced whole house or bungalow","Shared ownership or rented (excluding living rent free)","6 rooms",{"$f":"VLOOKUP(G1191,Cntrol!$F$3:$G$9,2,FALSE)","v":3},40,16,15,5,1,3]
["E01022207","E01022207 Cotswold 005B","E01022207",{"$f":"VLOOKUP(A1192,'Output Areas'!$A:$E,5,FALSE)","v":"Rural"},"Detached; semi-detached; terraced whole house or bungalow","Shared ownership or rented (excluding living rent free)","7 rooms",{"$f":"VLOOKUP(G1192,Cntrol!$F$3:$G$9,2,FALSE)","v":4},14,2,7,4,1,0]
["E01022207","E01022207 Cotswold 005B","E01022207",{"$f":"VLOOKUP(A1193,'Output Areas'!$A:$E,5,FALSE)","v":"Rural"},"Detached; semi-detached; terraced whole house or bungalow","Shared ownership or rented (excluding living rent free)","8 rooms or more",{"$f":"VLOOKUP(G1193,Cntrol!$F$3:$G$9,2,FALSE)","v":5},20,5,5,7,2,1]
["E01022207","E01022207 Cotswold 005B","E01022207",{"$f":"VLOOKUP(A1194,'Output Areas'!$A:$E,5,FALSE)","v":"Rural"},"A flat; maisonette; apartment","Total: Tenure (excluding living rent free)","Total: Number of rooms",{"$f":"VLOOKUP(G1194,Cntrol!$F$3:$G$9,2,FALSE)","v":0},12,5,5,1,0,1]
["E01022207","E01022207 Cotswold 005B","E01022207",{"$f":"VLOOKUP(A1195,'Output Areas'!$A:$E,5,FALSE)","v":"Rural"},"A flat; maisonette; apartment","Total: Tenure (excluding living rent free)","3 rooms or less",{"$f":"VLOOKUP(G1195,Cntrol!$F$3:$G$9,2,FALSE)","v":2},7,4,1,1,0,1]
["E01022207","E01022207 Cotswold 005B","E01022207",{"$f":"VLOOKUP(A1196,'Output Areas'!$A:$E,5,FALSE)","v":"Rural"},"A flat; maisonette; apartment","Total: Tenure (excluding living rent free)","4 rooms",{"$f":"VLOOKUP(G1196,Cntrol!$F$3:$G$9,2,FALSE)","v":2},3,1,2,0,0,0]
["E01022207","E01022207 Cotswold 005B","E01022207",{"$f":"VLOOKUP(A1197,'Output Areas'!$A:$E,5,FALSE)","v":"Rural"},"A flat; maisonette; apartment","Total: Tenure (excluding living rent free)","5 rooms",{"$f":"VLOOKUP(G1197,Cntrol!$F$3:$G$9,2,FALSE)","v":3},2,0,2,0,0,0]
["E01022207","E01022207 Cotswold 005B","E01022207",{"$f":"VLOOKUP(A1198,'Output Areas'!$A:$E,5,FALSE)","v":"Rural"},"A flat; maisonette; apartment","Owned","Total: Number of rooms",{"$f":"VLOOKUP(G1198,Cntrol!$F$3:$G$9,2,FALSE)","v":0},2,1,1,0,0,0]
["E01022207","E01022207 Cotswold 005B","E01022207",{"$f":"VLOOKUP(A1199,'Output Areas'!$A:$E,5,FALSE)","v":"Rural"},"A flat; maisonette; apartment","Owned","3 rooms or less",{"$f":"VLOOKUP(G1199,Cntrol!$F$3:$G$9,2,FALSE)","v":2},1,1,0,0,0,0]
["E01022207","E01022207 Cotswold 005B","E01022207",{"$f":"VLOOKUP(A1200,'Output Areas'!$A:$E,5,FALSE)","v":"Rural"},"A flat; maisonette; apartment","Owned","5 rooms",{"$f":"VLOOKUP(G1200,Cntrol!$F$3:$G$9,2,FALSE)","v":3},1,0,1,0,0,0]
["E01022207","E01022207 Cotswold 005B","E01022207",{"$f":"VLOOKUP(A1201,'Output Areas'!$A:$E,5,FALSE)","v":"Rural"},"A flat; maisonette; apartment","Shared ownership or rented (excluding living rent free)","Total: Number of rooms",{"$f":"VLOOKUP(G1201,Cntrol!$F$3:$G$9,2,FALSE)","v":0},10,4,4,1,0,1]
["E01022207","E01022207 Cotswold 005B","E01022207",{"$f":"VLOOKUP(A1202,'Output Areas'!$A:$E,5,FALSE)","v":"Rural"},"A flat; maisonette; apartment","Shared ownership or rented (excluding living rent free)","3 rooms or less",{"$f":"VLOOKUP(G1202,Cntrol!$F$3:$G$9,2,FALSE)","v":2},6,3,1,1,0,1]
["E01022207","E01022207 Cotswold 005B","E01022207",{"$f":"VLOOKUP(A1203,'Output Areas'!$A:$E,5,FALSE)","v":"Rural"},"A flat; maisonette; apartment","Shared ownership or rented (excluding living rent free)","4 rooms",{"$f":"VLOOKUP(G1203,Cntrol!$F$3:$G$9,2,FALSE)","v":2},3,1,2,0,0,0]
["E01022207","E01022207 Cotswold 005B","E01022207",{"$f":"VLOOKUP(A1204,'Output Areas'!$A:$E,5,FALSE)","v":"Rural"},"A flat; maisonette; apartment","Shared ownership or rented (excluding living rent free)","5 rooms",{"$f":"VLOOKUP(G1204,Cntrol!$F$3:$G$9,2,FALSE)","v":3},1,0,1,0,0,0]
["E01022213","E01022213 Cotswold 005C","E01022213",{"$f":"VLOOKUP(A1205,'Output Areas'!$A:$E,5,FALSE)","v":"Small Settlements"},"Total: Accommodation type (excluding caravans / temporary structures)","Total: Tenure (excluding living rent free)","Total: Number of rooms",{"$f":"VLOOKUP(G1205,Cntrol!$F$3:$G$9,2,FALSE)","v":0},763,308,277,60,27,91]
["E01022213","E01022213 Cotswold 005C","E01022213",{"$f":"VLOOKUP(A1206,'Output Areas'!$A:$E,5,FALSE)","v":"Small Settlements"},"Total: Accommodation type (excluding caravans / temporary structures)","Total: Tenure (excluding living rent free)","3 rooms or less",{"$f":"VLOOKUP(G1206,Cntrol!$F$3:$G$9,2,FALSE)","v":2},61,27,10,1,1,22]
["E01022213","E01022213 Cotswold 005C","E01022213",{"$f":"VLOOKUP(A1207,'Output Areas'!$A:$E,5,FALSE)","v":"Small Settlements"},"Total: Accommodation type (excluding caravans / temporary structures)","Total: Tenure (excluding living rent free)","4 rooms",{"$f":"VLOOKUP(G1207,Cntrol!$F$3:$G$9,2,FALSE)","v":2},107,60,23,4,0,20]
["E01022213","E01022213 Cotswold 005C","E01022213",{"$f":"VLOOKUP(A1208,'Output Areas'!$A:$E,5,FALSE)","v":"Small Settlements"},"Total: Accommodation type (excluding caravans / temporary structures)","Total: Tenure (excluding living rent free)","5 rooms",{"$f":"VLOOKUP(G1208,Cntrol!$F$3:$G$9,2,FALSE)","v":3},154,86,35,8,3,22]
["E01022213","E01022213 Cotswold 005C","E01022213",{"$f":"VLOOKUP(A1209,'Output Areas'!$A:$E,5,FALSE)","v":"Small Settlements"},"Total: Accommodation type (excluding caravans / temporary structures)","Total: Tenure (excluding living rent free)","6 rooms",{"$f":"VLOOKUP(G1209,Cntrol!$F$3:$G$9,2,FALSE)","v":3},140,64,55,5,3,13]
["E01022213","E01022213 Cotswold 005C","E01022213",{"$f":"VLOOKUP(A1210,'Output Areas'!$A:$E,5,FALSE)","v":"Small Settlements"},"Total: Accommodation type (excluding caravans / temporary structures)","Total: Tenure (excluding living rent free)","7 rooms",{"$f":"VLOOKUP(G1210,Cntrol!$F$3:$G$9,2,FALSE)","v":4},101,28,49,13,4,7]
["E01022213","E01022213 Cotswold 005C","E01022213",{"$f":"VLOOKUP(A1211,'Output Areas'!$A:$E,5,FALSE)","v":"Small Settlements"},"Total: Accommodation type (excluding caravans / temporary structures)","Total: Tenure (excluding living rent free)","8 rooms or more",{"$f":"VLOOKUP(G1211,Cntrol!$F$3:$G$9,2,FALSE)","v":5},200,43,105,29,16,7]
["E01022213","E01022213 Cotswold 005C","E01022213",{"$f":"VLOOKUP(A1212,'Output Areas'!$A:$E,5,FALSE)","v":"Small Settlements"},"Total: Accommodation type (excluding caravans / temporary structures)","Owned","Total: Number of rooms",{"$f":"VLOOKUP(G1212,Cntrol!$F$3:$G$9,2,FALSE)","v":0},536,208,211,51,24,42]
["E01022213","E01022213 Cotswold 005C","E01022213",{"$f":"VLOOKUP(A1213,'Output Areas'!$A:$E,5,FALSE)","v":"Small Settlements"},"Total: Accommodation type (excluding caravans / temporary structures)","Owned","3 rooms or less",{"$f":"VLOOKUP(G1213,Cntrol!$F$3:$G$9,2,FALSE)","v":2},13,7,3,0,0,3]
["E01022213","E01022213 Cotswold 005C","E01022213",{"$f":"VLOOKUP(A1214,'Output Areas'!$A:$E,5,FALSE)","v":"Small Settlements"},"Total: Accommodation type (excluding caravans / temporary structures)","Owned","4 rooms",{"$f":"VLOOKUP(G1214,Cntrol!$F$3:$G$9,2,FALSE)","v":2},47,31,6,2,0,8]
["E01022213","E01022213 Cotswold 005C","E01022213",{"$f":"VLOOKUP(A1215,'Output Areas'!$A:$E,5,FALSE)","v":"Small Settlements"},"Total: Accommodation type (excluding caravans / temporary structures)","Owned","5 rooms",{"$f":"VLOOKUP(G1215,Cntrol!$F$3:$G$9,2,FALSE)","v":3},95,57,20,6,1,11]
["E01022213","E01022213 Cotswold 005C","E01022213",{"$f":"VLOOKUP(A1216,'Output Areas'!$A:$E,5,FALSE)","v":"Small Settlements"},"Total: Accommodation type (excluding caravans / temporary structures)","Owned","6 rooms",{"$f":"VLOOKUP(G1216,Cntrol!$F$3:$G$9,2,FALSE)","v":3},113,52,45,5,3,8]
["E01022213","E01022213 Cotswold 005C","E01022213",{"$f":"VLOOKUP(A1217,'Output Areas'!$A:$E,5,FALSE)","v":"Small Settlements"},"Total: Accommodation type (excluding caravans / temporary structures)","Owned","7 rooms",{"$f":"VLOOKUP(G1217,Cntrol!$F$3:$G$9,2,FALSE)","v":4},84,22,41,12,4,5]
["E01022213","E01022213 Cotswold 005C","E01022213",{"$f":"VLOOKUP(A1218,'Output Areas'!$A:$E,5,FALSE)","v":"Small Settlements"},"Total: Accommodation type (excluding caravans / temporary structures)","Owned","8 rooms or more",{"$f":"VLOOKUP(G1218,Cntrol!$F$3:$G$9,2,FALSE)","v":5},184,39,96,26,16,7]
["E01022213","E01022213 Cotswold 005C","E01022213",{"$f":"VLOOKUP(A1219,'Output Areas'!$A:$E,5,FALSE)","v":"Small Settlements"},"Total: Accommodation type (excluding caravans / temporary structures)","Shared ownership or rented (excluding living rent free)","Total: Number of rooms",{"$f":"VLOOKUP(G1219,Cntrol!$F$3:$G$9,2,FALSE)","v":0},227,100,66,9,3,49]
["E01022213","E01022213 Cotswold 005C","E01022213",{"$f":"VLOOKUP(A1220,'Output Areas'!$A:$E,5,FALSE)","v":"Small Settlements"},"Total: Accommodation type (excluding caravans / temporary structures)","Shared ownership or rented (excluding living rent free)","3 rooms or less",{"$f":"VLOOKUP(G1220,Cntrol!$F$3:$G$9,2,FALSE)","v":2},48,20,7,1,1,19]
["E01022213","E01022213 Cotswold 005C","E01022213",{"$f":"VLOOKUP(A1221,'Output Areas'!$A:$E,5,FALSE)","v":"Small Settlements"},"Total: Accommodation type (excluding caravans / temporary structures)","Shared ownership or rented (excluding living rent free)","4 rooms",{"$f":"VLOOKUP(G1221,Cntrol!$F$3:$G$9,2,FALSE)","v":2},60,29,17,2,0,12]
["E01022213","E01022213 Cotswold 005C","E01022213",{"$f":"VLOOKUP(A1222,'Output Areas'!$A:$E,5,FALSE)","v":"Small Settlements"},"Total: Accommodation type (excluding caravans / temporary structures)","Shared ownership or rented (excluding living rent free)","5 rooms",{"$f":"VLOOKUP(G1222,Cntrol!$F$3:$G$9,2,FALSE)","v":3},59,29,15,2,2,11]
["E01022213","E01022213 Cotswold 005C","E01022213",{"$f":"VLOOKUP(A1223,'Output Areas'!$A:$E,5,FALSE)","v":"Small Settlements"},"Total: Accommodation type (excluding caravans / temporary structures)","Shared ownership or rented (excluding living rent free)","6 rooms",{"$f":"VLOOKUP(G1223,Cntrol!$F$3:$G$9,2,FALSE)","v":3},27,12,10,0,0,5]
["E01022213","E01022213 Cotswold 005C","E01022213",{"$f":"VLOOKUP(A1224,'Output Areas'!$A:$E,5,FALSE)","v":"Small Settlements"},"Total: Accommodation type (excluding caravans / temporary structures)","Shared ownership or rented (excluding living rent free)","7 rooms",{"$f":"VLOOKUP(G1224,Cntrol!$F$3:$G$9,2,FALSE)","v":4},17,6,8,1,0,2]
["E01022213","E01022213 Cotswold 005C","E01022213",{"$f":"VLOOKUP(A1225,'Output Areas'!$A:$E,5,FALSE)","v":"Small Settlements"},"Total: Accommodation type (excluding caravans / temporary structures)","Shared ownership or rented (excluding living rent free)","8 rooms or more",{"$f":"VLOOKUP(G1225,Cntrol!$F$3:$G$9,2,FALSE)","v":5},16,4,9,3,0,0]
["E01022213","E01022213 Cotswold 005C","E01022213",{"$f":"VLOOKUP(A1226,'Output Areas'!$A:$E,5,FALSE)","v":"Small Settlements"},"Detached; semi-detached; terraced whole house or bungalow","Total: Tenure (excluding living rent free)","Total: Number of rooms",{"$f":"VLOOKUP(G1226,Cntrol!$F$3:$G$9,2,FALSE)","v":0},716,280,267,60,26,83]
["E01022213","E01022213 Cotswold 005C","E01022213",{"$f":"VLOOKUP(A1227,'Output Areas'!$A:$E,5,FALSE)","v":"Small Settlements"},"Detached; semi-detached; terraced whole house or bungalow","Total: Tenure (excluding living rent free)","3 rooms or less",{"$f":"VLOOKUP(G1227,Cntrol!$F$3:$G$9,2,FALSE)","v":2},38,16,4,1,0,17]
["E01022213","E01022213 Cotswold 005C","E01022213",{"$f":"VLOOKUP(A1228,'Output Areas'!$A:$E,5,FALSE)","v":"Small Settlements"},"Detached; semi-detached; terraced whole house or bungalow","Total: Tenure (excluding living rent free)","4 rooms",{"$f":"VLOOKUP(G1228,Cntrol!$F$3:$G$9,2,FALSE)","v":2},91,49,21,4,0,17]
["E01022213","E01022213 Cotswold 005C","E01022213",{"$f":"VLOOKUP(A1229,'Output Areas'!$A:$E,5,FALSE)","v":"Small Settlements"},"Detached; semi-detached; terraced whole house or bungalow","Total: Tenure (excluding living rent free)","5 rooms",{"$f":"VLOOKUP(G1229,Cntrol!$F$3:$G$9,2,FALSE)","v":3},150,82,35,8,3,22]
["E01022213","E01022213 Cotswold 005C","E01022213",{"$f":"VLOOKUP(A1230,'Output Areas'!$A:$E,5,FALSE)","v":"Small Settlements"},"Detached; semi-detached; terraced whole house or bungalow","Total: Tenure (excluding living rent free)","6 rooms",{"$f":"VLOOKUP(G1230,Cntrol!$F$3:$G$9,2,FALSE)","v":3},139,63,55,5,3,13]
["E01022213","E01022213 Cotswold 005C","E01022213",{"$f":"VLOOKUP(A1231,'Output Areas'!$A:$E,5,FALSE)","v":"Small Settlements"},"Detached; semi-detached; terraced whole house or bungalow","Total: Tenure (excluding living rent free)","7 rooms",{"$f":"VLOOKUP(G1231,Cntrol!$F$3:$G$9,2,FALSE)","v":4},100,28,48,13,4,7]
["E01022213","E01022213 Cotswold 005C","E01022213",{"$f":"VLOOKUP(A1232,'Output Areas'!$A:$E,5,FALSE)","v":"Small Settlements"},"Detached; semi-detached; terraced whole house or bungalow","Total: Tenure (excluding living rent free)","8 rooms or more",{"$f":"VLOOKUP(G1232,Cntrol!$F$3:$G$9,2,FALSE)","v":5},198,42,104,29,16,7]
["E01022213","E01022213 Cotswold 005C","E01022213",{"$f":"VLOOKUP(A1233,'Output Areas'!$A:$E,5,FALSE)","v":"Small Settlements"},"Detached; semi-detached; terraced whole house or bungalow","Owned","Total: Number of rooms",{"$f":"VLOOKUP(G1233,Cntrol!$F$3:$G$9,2,FALSE)","v":0},525,199,210,51,24,41]
["E01022213","E01022213 Cotswold 005C","E01022213",{"$f":"VLOOKUP(A1234,'Output Areas'!$A:$E,5,FALSE)","v":"Small Settlements"},"Detached; semi-detached; terraced whole house or bungalow","Owned","3 rooms or less",{"$f":"VLOOKUP(G1234,Cntrol!$F$3:$G$9,2,FALSE)","v":2},9,5,2,0,0,2]
["E01022213","E01022213 Cotswold 005C","E01022213",{"$f":"VLOOKUP(A1235,'Output Areas'!$A:$E,5,FALSE)","v":"Small Settlements"},"Detached; semi-detached; terraced whole house or bungalow","Owned","4 rooms",{"$f":"VLOOKUP(G1235,Cntrol!$F$3:$G$9,2,FALSE)","v":2},41,25,6,2,0,8]
["E01022213","E01022213 Cotswold 005C","E01022213",{"$f":"VLOOKUP(A1236,'Output Areas'!$A:$E,5,FALSE)","v":"Small Settlements"},"Detached; semi-detached; terraced whole house or bungalow","Owned","5 rooms",{"$f":"VLOOKUP(G1236,Cntrol!$F$3:$G$9,2,FALSE)","v":3},95,57,20,6,1,11]
["E01022213","E01022213 Cotswold 005C","E01022213",{"$f":"VLOOKUP(A1237,'Output Areas'!$A:$E,5,FALSE)","v":"Small Settlements"},"Detached; semi-detached; terraced whole house or bungalow","Owned","6 rooms",{"$f":"VLOOKUP(G1237,Cntrol!$F$3:$G$9,2,FALSE)","v":3},112,51,45,5,3,8]
["E01022213","E01022213 Cotswold 005C","E01022213",{"$f":"VLOOKUP(A1238,'Output Areas'!$A:$E,5,FALSE)","v":"Small Settlements"},"Detached; semi-detached; terraced whole house or bungalow","Owned","7 rooms",{"$f":"VLOOKUP(G1238,Cntrol!$F$3:$G$9,2,FALSE)","v":4},84,22,41,12,4,5]
["E01022213","E01022213 Cotswold 005C","E01022213",{"$f":"VLOOKUP(A1239,'Output Areas'!$A:$E,5,FALSE)","v":"Small Settlements"},"Detached; semi-detached; terraced whole house or bungalow","Owned","8 rooms or more",{"$f":"VLOOKUP(G1239,Cntrol!$F$3:$G$9,2,FALSE)","v":5},184,39,96,26,16,7]
["E01022213","E01022213 Cotswold 005C","E01022213",{"$f":"VLOOKUP(A1240,'Output Areas'!$A:$E,5,FALSE)","v":"Small Settlements"},"Detached; semi-detached; terraced whole house or bungalow","Shared ownership or rented (excluding living rent free)","Total: Number of rooms",{"$f":"VLOOKUP(G1240,Cntrol!$F$3:$G$9,2,FALSE)","v":0},191,81,57,9,2,42]
["E01022213","E01022213 Cotswold 005C","E01022213",{"$f":"VLOOKUP(A1241,'Output Areas'!$A:$E,5,FALSE)","v":"Small Settlements"},"Detached; semi-detached; terraced whole house or bungalow","Shared ownership or rented (excluding living rent free)","3 rooms or less",{"$f":"VLOOKUP(G1241,Cntrol!$F$3:$G$9,2,FALSE)","v":2},29,11,2,1,0,15]
["E01022213","E01022213 Cotswold 005C","E01022213",{"$f":"VLOOKUP(A1242,'Output Areas'!$A:$E,5,FALSE)","v":"Small Settlements"},"Detached; semi-detached; terraced whole house or bungalow","Shared ownership or rented (excluding living rent free)","4 rooms",{"$f":"VLOOKUP(G1242,Cntrol!$F$3:$G$9,2,FALSE)","v":2},50,24,15,2,0,9]
["E01022213","E01022213 Cotswold 005C","E01022213",{"$f":"VLOOKUP(A1243,'Output Areas'!$A:$E,5,FALSE)","v":"Small Settlements"},"Detached; semi-detached; terraced whole house or bungalow","Shared ownership or rented (excluding living rent free)","5 rooms",{"$f":"VLOOKUP(G1243,Cntrol!$F$3:$G$9,2,FALSE)","v":3},55,25,15,2,2,11]
["E01022213","E01022213 Cotswold 005C","E01022213",{"$f":"VLOOKUP(A1244,'Output Areas'!$A:$E,5,FALSE)","v":"Small Settlements"},"Detached; semi-detached; terraced whole house or bungalow","Shared ownership or rented (excluding living rent free)","6 rooms",{"$f":"VLOOKUP(G1244,Cntrol!$F$3:$G$9,2,FALSE)","v":3},27,12,10,0,0,5]
["E01022213","E01022213 Cotswold 005C","E01022213",{"$f":"VLOOKUP(A1245,'Output Areas'!$A:$E,5,FALSE)","v":"Small Settlements"},"Detached; semi-detached; terraced whole house or bungalow","Shared ownership or rented (excluding living rent free)","7 rooms",{"$f":"VLOOKUP(G1245,Cntrol!$F$3:$G$9,2,FALSE)","v":4},16,6,7,1,0,2]
["E01022213","E01022213 Cotswold 005C","E01022213",{"$f":"VLOOKUP(A1246,'Output Areas'!$A:$E,5,FALSE)","v":"Small Settlements"},"Detached; semi-detached; terraced whole house or bungalow","Shared ownership or rented (excluding living rent free)","8 rooms or more",{"$f":"VLOOKUP(G1246,Cntrol!$F$3:$G$9,2,FALSE)","v":5},14,3,8,3,0,0]
["E01022213","E01022213 Cotswold 005C","E01022213",{"$f":"VLOOKUP(A1247,'Output Areas'!$A:$E,5,FALSE)","v":"Small Settlements"},"A flat; maisonette; apartment","Total: Tenure (excluding living rent free)","Total: Number of rooms",{"$f":"VLOOKUP(G1247,Cntrol!$F$3:$G$9,2,FALSE)","v":0},47,28,10,0,1,8]
["E01022213","E01022213 Cotswold 005C","E01022213",{"$f":"VLOOKUP(A1248,'Output Areas'!$A:$E,5,FALSE)","v":"Small Settlements"},"A flat; maisonette; apartment","Total: Tenure (excluding living rent free)","3 rooms or less",{"$f":"VLOOKUP(G1248,Cntrol!$F$3:$G$9,2,FALSE)","v":2},23,11,6,0,1,5]
["E01022213","E01022213 Cotswold 005C","E01022213",{"$f":"VLOOKUP(A1249,'Output Areas'!$A:$E,5,FALSE)","v":"Small Settlements"},"A flat; maisonette; apartment","Total: Tenure (excluding living rent free)","4 rooms",{"$f":"VLOOKUP(G1249,Cntrol!$F$3:$G$9,2,FALSE)","v":2},16,11,2,0,0,3]
["E01022213","E01022213 Cotswold 005C","E01022213",{"$f":"VLOOKUP(A1250,'Output Areas'!$A:$E,5,FALSE)","v":"Small Settlements"},"A flat; maisonette; apartment","Total: Tenure (excluding living rent free)","5 rooms",{"$f":"VLOOKUP(G1250,Cntrol!$F$3:$G$9,2,FALSE)","v":3},4,4,0,0,0,0]
["E01022213","E01022213 Cotswold 005C","E01022213",{"$f":"VLOOKUP(A1251,'Output Areas'!$A:$E,5,FALSE)","v":"Small Settlements"},"A flat; maisonette; apartment","Total: Tenure (excluding living rent free)","6 rooms",{"$f":"VLOOKUP(G1251,Cntrol!$F$3:$G$9,2,FALSE)","v":3},1,1,0,0,0,0]
["E01022213","E01022213 Cotswold 005C","E01022213",{"$f":"VLOOKUP(A1252,'Output Areas'!$A:$E,5,FALSE)","v":"Small Settlements"},"A flat; maisonette; apartment","Total: Tenure (excluding living rent free)","7 rooms",{"$f":"VLOOKUP(G1252,Cntrol!$F$3:$G$9,2,FALSE)","v":4},1,0,1,0,0,0]
["E01022213","E01022213 Cotswold 005C","E01022213",{"$f":"VLOOKUP(A1253,'Output Areas'!$A:$E,5,FALSE)","v":"Small Settlements"},"A flat; maisonette; apartment","Total: Tenure (excluding living rent free)","8 rooms or more",{"$f":"VLOOKUP(G1253,Cntrol!$F$3:$G$9,2,FALSE)","v":5},2,1,1,0,0,0]
["E01022213","E01022213 Cotswold 005C","E01022213",{"$f":"VLOOKUP(A1254,'Output Areas'!$A:$E,5,FALSE)","v":"Small Settlements"},"A flat; maisonette; apartment","Owned","Total: Number of rooms",{"$f":"VLOOKUP(G1254,Cntrol!$F$3:$G$9,2,FALSE)","v":0},11,9,1,0,0,1]
["E01022213","E01022213 Cotswold 005C","E01022213",{"$f":"VLOOKUP(A1255,'Output Areas'!$A:$E,5,FALSE)","v":"Small Settlements"},"A flat; maisonette; apartment","Owned","3 rooms or less",{"$f":"VLOOKUP(G1255,Cntrol!$F$3:$G$9,2,FALSE)","v":2},4,2,1,0,0,1]
["E01022213","E01022213 Cotswold 005C","E01022213",{"$f":"VLOOKUP(A1256,'Output Areas'!$A:$E,5,FALSE)","v":"Small Settlements"},"A flat; maisonette; apartment","Owned","4 rooms",{"$f":"VLOOKUP(G1256,Cntrol!$F$3:$G$9,2,FALSE)","v":2},6,6,0,0,0,0]
["E01022213","E01022213 Cotswold 005C","E01022213",{"$f":"VLOOKUP(A1257,'Output Areas'!$A:$E,5,FALSE)","v":"Small Settlements"},"A flat; maisonette; apartment","Owned","6 rooms",{"$f":"VLOOKUP(G1257,Cntrol!$F$3:$G$9,2,FALSE)","v":3},1,1,0,0,0,0]
["E01022213","E01022213 Cotswold 005C","E01022213",{"$f":"VLOOKUP(A1258,'Output Areas'!$A:$E,5,FALSE)","v":"Small Settlements"},"A flat; maisonette; apartment","Shared ownership or rented (excluding living rent free)","Total: Number of rooms",{"$f":"VLOOKUP(G1258,Cntrol!$F$3:$G$9,2,FALSE)","v":0},36,19,9,0,1,7]
["E01022213","E01022213 Cotswold 005C","E01022213",{"$f":"VLOOKUP(A1259,'Output Areas'!$A:$E,5,FALSE)","v":"Small Settlements"},"A flat; maisonette; apartment","Shared ownership or rented (excluding living rent free)","3 rooms or less",{"$f":"VLOOKUP(G1259,Cntrol!$F$3:$G$9,2,FALSE)","v":2},19,9,5,0,1,4]
["E01022213","E01022213 Cotswold 005C","E01022213",{"$f":"VLOOKUP(A1260,'Output Areas'!$A:$E,5,FALSE)","v":"Small Settlements"},"A flat; maisonette; apartment","Shared ownership or rented (excluding living rent free)","4 rooms",{"$f":"VLOOKUP(G1260,Cntrol!$F$3:$G$9,2,FALSE)","v":2},10,5,2,0,0,3]
["E01022213","E01022213 Cotswold 005C","E01022213",{"$f":"VLOOKUP(A1261,'Output Areas'!$A:$E,5,FALSE)","v":"Small Settlements"},"A flat; maisonette; apartment","Shared ownership or rented (excluding living rent free)","5 rooms",{"$f":"VLOOKUP(G1261,Cntrol!$F$3:$G$9,2,FALSE)","v":3},4,4,0,0,0,0]
["E01022213","E01022213 Cotswold 005C","E01022213",{"$f":"VLOOKUP(A1262,'Output Areas'!$A:$E,5,FALSE)","v":"Small Settlements"},"A flat; maisonette; apartment","Shared ownership or rented (excluding living rent free)","7 rooms",{"$f":"VLOOKUP(G1262,Cntrol!$F$3:$G$9,2,FALSE)","v":4},1,0,1,0,0,0]
["E01022213","E01022213 Cotswold 005C","E01022213",{"$f":"VLOOKUP(A1263,'Output Areas'!$A:$E,5,FALSE)","v":"Small Settlements"},"A flat; maisonette; apartment","Shared ownership or rented (excluding living rent free)","8 rooms or more",{"$f":"VLOOKUP(G1263,Cntrol!$F$3:$G$9,2,FALSE)","v":5},2,1,1,0,0,0]
["E01022215","E01022215 Cotswold 005D","E01022215",{"$f":"VLOOKUP(A1264,'Output Areas'!$A:$E,5,FALSE)","v":"Rural"},"Total: Accommodation type (excluding caravans / temporary structures)","Total: Tenure (excluding living rent free)","Total: Number of rooms",{"$f":"VLOOKUP(G1264,Cntrol!$F$3:$G$9,2,FALSE)","v":0},751,257,298,112,47,37]
["E01022215","E01022215 Cotswold 005D","E01022215",{"$f":"VLOOKUP(A1265,'Output Areas'!$A:$E,5,FALSE)","v":"Rural"},"Total: Accommodation type (excluding caravans / temporary structures)","Total: Tenure (excluding living rent free)","3 rooms or less",{"$f":"VLOOKUP(G1265,Cntrol!$F$3:$G$9,2,FALSE)","v":2},46,28,5,3,2,8]
["E01022215","E01022215 Cotswold 005D","E01022215",{"$f":"VLOOKUP(A1266,'Output Areas'!$A:$E,5,FALSE)","v":"Rural"},"Total: Accommodation type (excluding caravans / temporary structures)","Total: Tenure (excluding living rent free)","4 rooms",{"$f":"VLOOKUP(G1266,Cntrol!$F$3:$G$9,2,FALSE)","v":2},78,47,22,2,1,6]
["E01022215","E01022215 Cotswold 005D","E01022215",{"$f":"VLOOKUP(A1267,'Output Areas'!$A:$E,5,FALSE)","v":"Rural"},"Total: Accommodation type (excluding caravans / temporary structures)","Total: Tenure (excluding living rent free)","5 rooms",{"$f":"VLOOKUP(G1267,Cntrol!$F$3:$G$9,2,FALSE)","v":3},136,57,48,18,1,12]
["E01022215","E01022215 Cotswold 005D","E01022215",{"$f":"VLOOKUP(A1268,'Output Areas'!$A:$E,5,FALSE)","v":"Rural"},"Total: Accommodation type (excluding caravans / temporary structures)","Total: Tenure (excluding living rent free)","6 rooms",{"$f":"VLOOKUP(G1268,Cntrol!$F$3:$G$9,2,FALSE)","v":3},136,55,52,18,5,6]
["E01022215","E01022215 Cotswold 005D","E01022215",{"$f":"VLOOKUP(A1269,'Output Areas'!$A:$E,5,FALSE)","v":"Rural"},"Total: Accommodation type (excluding caravans / temporary structures)","Total: Tenure (excluding living rent free)","7 rooms",{"$f":"VLOOKUP(G1269,Cntrol!$F$3:$G$9,2,FALSE)","v":4},112,35,53,13,6,5]
["E01022215","E01022215 Cotswold 005D","E01022215",{"$f":"VLOOKUP(A1270,'Output Areas'!$A:$E,5,FALSE)","v":"Rural"},"Total: Accommodation type (excluding caravans / temporary structures)","Total: Tenure (excluding living rent free)","8 rooms or more",{"$f":"VLOOKUP(G1270,Cntrol!$F$3:$G$9,2,FALSE)","v":5},243,35,118,58,32,0]
["E01022215","E01022215 Cotswold 005D","E01022215",{"$f":"VLOOKUP(A1271,'Output Areas'!$A:$E,5,FALSE)","v":"Rural"},"Total: Accommodation type (excluding caravans / temporary structures)","Owned","Total: Number of rooms",{"$f":"VLOOKUP(G1271,Cntrol!$F$3:$G$9,2,FALSE)","v":0},417,108,186,76,38,9]
["E01022215","E01022215 Cotswold 005D","E01022215",{"$f":"VLOOKUP(A1272,'Output Areas'!$A:$E,5,FALSE)","v":"Rural"},"Total: Accommodation type (excluding caravans / temporary structures)","Owned","3 rooms or less",{"$f":"VLOOKUP(G1272,Cntrol!$F$3:$G$9,2,FALSE)","v":2},13,7,2,1,2,1]
["E01022215","E01022215 Cotswold 005D","E01022215",{"$f":"VLOOKUP(A1273,'Output Areas'!$A:$E,5,FALSE)","v":"Rural"},"Total: Accommodation type (excluding caravans / temporary structures)","Owned","4 rooms",{"$f":"VLOOKUP(G1273,Cntrol!$F$3:$G$9,2,FALSE)","v":2},10,8,1,1,0,0]
["E01022215","E01022215 Cotswold 005D","E01022215",{"$f":"VLOOKUP(A1274,'Output Areas'!$A:$E,5,FALSE)","v":"Rural"},"Total: Accommodation type (excluding caravans / temporary structures)","Owned","5 rooms",{"$f":"VLOOKUP(G1274,Cntrol!$F$3:$G$9,2,FALSE)","v":3},51,21,16,7,1,6]
["E01022215","E01022215 Cotswold 005D","E01022215",{"$f":"VLOOKUP(A1275,'Output Areas'!$A:$E,5,FALSE)","v":"Rural"},"Total: Accommodation type (excluding caravans / temporary structures)","Owned","6 rooms",{"$f":"VLOOKUP(G1275,Cntrol!$F$3:$G$9,2,FALSE)","v":3},56,20,24,8,3,1]
["E01022215","E01022215 Cotswold 005D","E01022215",{"$f":"VLOOKUP(A1276,'Output Areas'!$A:$E,5,FALSE)","v":"Rural"},"Total: Accommodation type (excluding caravans / temporary structures)","Owned","7 rooms",{"$f":"VLOOKUP(G1276,Cntrol!$F$3:$G$9,2,FALSE)","v":4},82,25,41,9,6,1]
["E01022215","E01022215 Cotswold 005D","E01022215",{"$f":"VLOOKUP(A1277,'Output Areas'!$A:$E,5,FALSE)","v":"Rural"},"Total: Accommodation type (excluding caravans / temporary structures)","Owned","8 rooms or more",{"$f":"VLOOKUP(G1277,Cntrol!$F$3:$G$9,2,FALSE)","v":5},205,27,102,50,26,0]
["E01022215","E01022215 Cotswold 005D","E01022215",{"$f":"VLOOKUP(A1278,'Output Areas'!$A:$E,5,FALSE)","v":"Rural"},"Total: Accommodation type (excluding caravans / temporary structures)","Shared ownership or rented (excluding living rent free)","Total: Number of rooms",{"$f":"VLOOKUP(G1278,Cntrol!$F$3:$G$9,2,FALSE)","v":0},334,149,112,36,9,28]
["E01022215","E01022215 Cotswold 005D","E01022215",{"$f":"VLOOKUP(A1279,'Output Areas'!$A:$E,5,FALSE)","v":"Rural"},"Total: Accommodation type (excluding caravans / temporary structures)","Shared ownership or rented (excluding living rent free)","3 rooms or less",{"$f":"VLOOKUP(G1279,Cntrol!$F$3:$G$9,2,FALSE)","v":2},33,21,3,2,0,7]
["E01022215","E01022215 Cotswold 005D","E01022215",{"$f":"VLOOKUP(A1280,'Output Areas'!$A:$E,5,FALSE)","v":"Rural"},"Total: Accommodation type (excluding caravans / temporary structures)","Shared ownership or rented (excluding living rent free)","4 rooms",{"$f":"VLOOKUP(G1280,Cntrol!$F$3:$G$9,2,FALSE)","v":2},68,39,21,1,1,6]
["E01022215","E01022215 Cotswold 005D","E01022215",{"$f":"VLOOKUP(A1281,'Output Areas'!$A:$E,5,FALSE)","v":"Rural"},"Total: Accommodation type (excluding caravans / temporary structures)","Shared ownership or rented (excluding living rent free)","5 rooms",{"$f":"VLOOKUP(G1281,Cntrol!$F$3:$G$9,2,FALSE)","v":3},85,36,32,11,0,6]
["E01022215","E01022215 Cotswold 005D","E01022215",{"$f":"VLOOKUP(A1282,'Output Areas'!$A:$E,5,FALSE)","v":"Rural"},"Total: Accommodation type (excluding caravans / temporary structures)","Shared ownership or rented (excluding living rent free)","6 rooms",{"$f":"VLOOKUP(G1282,Cntrol!$F$3:$G$9,2,FALSE)","v":3},80,35,28,10,2,5]
["E01022215","E01022215 Cotswold 005D","E01022215",{"$f":"VLOOKUP(A1283,'Output Areas'!$A:$E,5,FALSE)","v":"Rural"},"Total: Accommodation type (excluding caravans / temporary structures)","Shared ownership or rented (excluding living rent free)","7 rooms",{"$f":"VLOOKUP(G1283,Cntrol!$F$3:$G$9,2,FALSE)","v":4},30,10,12,4,0,4]
["E01022215","E01022215 Cotswold 005D","E01022215",{"$f":"VLOOKUP(A1284,'Output Areas'!$A:$E,5,FALSE)","v":"Rural"},"Total: Accommodation type (excluding caravans / temporary structures)","Shared ownership or rented (excluding living rent free)","8 rooms or more",{"$f":"VLOOKUP(G1284,Cntrol!$F$3:$G$9,2,FALSE)","v":5},38,8,16,8,6,0]
["E01022215","E01022215 Cotswold 005D","E01022215",{"$f":"VLOOKUP(A1285,'Output Areas'!$A:$E,5,FALSE)","v":"Rural"},"Detached; semi-detached; terraced whole house or bungalow","Total: Tenure (excluding living rent free)","Total: Number of rooms",{"$f":"VLOOKUP(G1285,Cntrol!$F$3:$G$9,2,FALSE)","v":0},725,237,297,111,47,33]
["E01022215","E01022215 Cotswold 005D","E01022215",{"$f":"VLOOKUP(A1286,'Output Areas'!$A:$E,5,FALSE)","v":"Rural"},"Detached; semi-detached; terraced whole house or bungalow","Total: Tenure (excluding living rent free)","3 rooms or less",{"$f":"VLOOKUP(G1286,Cntrol!$F$3:$G$9,2,FALSE)","v":2},35,21,4,3,2,5]
["E01022215","E01022215 Cotswold 005D","E01022215",{"$f":"VLOOKUP(A1287,'Output Areas'!$A:$E,5,FALSE)","v":"Rural"},"Detached; semi-detached; terraced whole house or bungalow","Total: Tenure (excluding living rent free)","4 rooms",{"$f":"VLOOKUP(G1287,Cntrol!$F$3:$G$9,2,FALSE)","v":2},71,40,22,2,1,6]
["E01022215","E01022215 Cotswold 005D","E01022215",{"$f":"VLOOKUP(A1288,'Output Areas'!$A:$E,5,FALSE)","v":"Rural"},"Detached; semi-detached; terraced whole house or bungalow","Total: Tenure (excluding living rent free)","5 rooms",{"$f":"VLOOKUP(G1288,Cntrol!$F$3:$G$9,2,FALSE)","v":3},131,53,48,18,1,11]
["E01022215","E01022215 Cotswold 005D","E01022215",{"$f":"VLOOKUP(A1289,'Output Areas'!$A:$E,5,FALSE)","v":"Rural"},"Detached; semi-detached; terraced whole house or bungalow","Total: Tenure (excluding living rent free)","6 rooms",{"$f":"VLOOKUP(G1289,Cntrol!$F$3:$G$9,2,FALSE)","v":3},135,54,52,18,5,6]
["E01022215","E01022215 Cotswold 005D","E01022215",{"$f":"VLOOKUP(A1290,'Output Areas'!$A:$E,5,FALSE)","v":"Rural"},"Detached; semi-detached; terraced whole house or bungalow","Total: Tenure (excluding living rent free)","7 rooms",{"$f":"VLOOKUP(G1290,Cntrol!$F$3:$G$9,2,FALSE)","v":4},111,35,53,12,6,5]
["E01022215","E01022215 Cotswold 005D","E01022215",{"$f":"VLOOKUP(A1291,'Output Areas'!$A:$E,5,FALSE)","v":"Rural"},"Detached; semi-detached; terraced whole house or bungalow","Total: Tenure (excluding living rent free)","8 rooms or more",{"$f":"VLOOKUP(G1291,Cntrol!$F$3:$G$9,2,FALSE)","v":5},242,34,118,58,32,0]
["E01022215","E01022215 Cotswold 005D","E01022215",{"$f":"VLOOKUP(A1292,'Output Areas'!$A:$E,5,FALSE)","v":"Rural"},"Detached; semi-detached; terraced whole house or bungalow","Owned","Total: Number of rooms",{"$f":"VLOOKUP(G1292,Cntrol!$F$3:$G$9,2,FALSE)","v":0},404,99,185,75,38,7]
["E01022215","E01022215 Cotswold 005D","E01022215",{"$f":"VLOOKUP(A1293,'Output Areas'!$A:$E,5,FALSE)","v":"Rural"},"Detached; semi-detached; terraced whole house or bungalow","Owned","3 rooms or less",{"$f":"VLOOKUP(G1293,Cntrol!$F$3:$G$9,2,FALSE)","v":2},8,4,1,1,2,0]
["E01022215","E01022215 Cotswold 005D","E01022215",{"$f":"VLOOKUP(A1294,'Output Areas'!$A:$E,5,FALSE)","v":"Rural"},"Detached; semi-detached; terraced whole house or bungalow","Owned","4 rooms",{"$f":"VLOOKUP(G1294,Cntrol!$F$3:$G$9,2,FALSE)","v":2},9,7,1,1,0,0]
["E01022215","E01022215 Cotswold 005D","E01022215",{"$f":"VLOOKUP(A1295,'Output Areas'!$A:$E,5,FALSE)","v":"Rural"},"Detached; semi-detached; terraced whole house or bungalow","Owned","5 rooms",{"$f":"VLOOKUP(G1295,Cntrol!$F$3:$G$9,2,FALSE)","v":3},46,17,16,7,1,5]
["E01022215","E01022215 Cotswold 005D","E01022215",{"$f":"VLOOKUP(A1296,'Output Areas'!$A:$E,5,FALSE)","v":"Rural"},"Detached; semi-detached; terraced whole house or bungalow","Owned","6 rooms",{"$f":"VLOOKUP(G1296,Cntrol!$F$3:$G$9,2,FALSE)","v":3},56,20,24,8,3,1]
["E01022215","E01022215 Cotswold 005D","E01022215",{"$f":"VLOOKUP(A1297,'Output Areas'!$A:$E,5,FALSE)","v":"Rural"},"Detached; semi-detached; terraced whole house or bungalow","Owned","7 rooms",{"$f":"VLOOKUP(G1297,Cntrol!$F$3:$G$9,2,FALSE)","v":4},81,25,41,8,6,1]
["E01022215","E01022215 Cotswold 005D","E01022215",{"$f":"VLOOKUP(A1298,'Output Areas'!$A:$E,5,FALSE)","v":"Rural"},"Detached; semi-detached; terraced whole house or bungalow","Owned","8 rooms or more",{"$f":"VLOOKUP(G1298,Cntrol!$F$3:$G$9,2,FALSE)","v":5},204,26,102,50,26,0]
["E01022215","E01022215 Cotswold 005D","E01022215",{"$f":"VLOOKUP(A1299,'Output Areas'!$A:$E,5,FALSE)","v":"Rural"},"Detached; semi-detached; terraced whole house or bungalow","Shared ownership or rented (excluding living rent free)","Total: Number of rooms",{"$f":"VLOOKUP(G1299,Cntrol!$F$3:$G$9,2,FALSE)","v":0},321,138,112,36,9,26]
["E01022215","E01022215 Cotswold 005D","E01022215",{"$f":"VLOOKUP(A1300,'Output Areas'!$A:$E,5,FALSE)","v":"Rural"},"Detached; semi-detached; terraced whole house or bungalow","Shared ownership or rented (excluding living rent free)","3 rooms or less",{"$f":"VLOOKUP(G1300,Cntrol!$F$3:$G$9,2,FALSE)","v":2},27,17,3,2,0,5]
["E01022215","E01022215 Cotswold 005D","E01022215",{"$f":"VLOOKUP(A1301,'Output Areas'!$A:$E,5,FALSE)","v":"Rural"},"Detached; semi-detached; terraced whole house or bungalow","Shared ownership or rented (excluding living rent free)","4 rooms",{"$f":"VLOOKUP(G1301,Cntrol!$F$3:$G$9,2,FALSE)","v":2},62,33,21,1,1,6]
["E01022215","E01022215 Cotswold 005D","E01022215",{"$f":"VLOOKUP(A1302,'Output Areas'!$A:$E,5,FALSE)","v":"Rural"},"Detached; semi-detached; terraced whole house or bungalow","Shared ownership or rented (excluding living rent free)","5 rooms",{"$f":"VLOOKUP(G1302,Cntrol!$F$3:$G$9,2,FALSE)","v":3},85,36,32,11,0,6]
["E01022215","E01022215 Cotswold 005D","E01022215",{"$f":"VLOOKUP(A1303,'Output Areas'!$A:$E,5,FALSE)","v":"Rural"},"Detached; semi-detached; terraced whole house or bungalow","Shared ownership or rented (excluding living rent free)","6 rooms",{"$f":"VLOOKUP(G1303,Cntrol!$F$3:$G$9,2,FALSE)","v":3},79,34,28,10,2,5]
["E01022215","E01022215 Cotswold 005D","E01022215",{"$f":"VLOOKUP(A1304,'Output Areas'!$A:$E,5,FALSE)","v":"Rural"},"Detached; semi-detached; terraced whole house or bungalow","Shared ownership or rented (excluding living rent free)","7 rooms",{"$f":"VLOOKUP(G1304,Cntrol!$F$3:$G$9,2,FALSE)","v":4},30,10,12,4,0,4]
["E01022215","E01022215 Cotswold 005D","E01022215",{"$f":"VLOOKUP(A1305,'Output Areas'!$A:$E,5,FALSE)","v":"Rural"},"Detached; semi-detached; terraced whole house or bungalow","Shared ownership or rented (excluding living rent free)","8 rooms or more",{"$f":"VLOOKUP(G1305,Cntrol!$F$3:$G$9,2,FALSE)","v":5},38,8,16,8,6,0]
["E01022215","E01022215 Cotswold 005D","E01022215",{"$f":"VLOOKUP(A1306,'Output Areas'!$A:$E,5,FALSE)","v":"Rural"},"A flat; maisonette; apartment","Total: Tenure (excluding living rent free)","Total: Number of rooms",{"$f":"VLOOKUP(G1306,Cntrol!$F$3:$G$9,2,FALSE)","v":0},26,20,1,1,0,4]
["E01022215","E01022215 Cotswold 005D","E01022215",{"$f":"VLOOKUP(A1307,'Output Areas'!$A:$E,5,FALSE)","v":"Rural"},"A flat; maisonette; apartment","Total: Tenure (excluding living rent free)","3 rooms or less",{"$f":"VLOOKUP(G1307,Cntrol!$F$3:$G$9,2,FALSE)","v":2},11,7,1,0,0,3]
["E01022215","E01022215 Cotswold 005D","E01022215",{"$f":"VLOOKUP(A1308,'Output Areas'!$A:$E,5,FALSE)","v":"Rural"},"A flat; maisonette; apartment","Total: Tenure (excluding living rent free)","4 rooms",{"$f":"VLOOKUP(G1308,Cntrol!$F$3:$G$9,2,FALSE)","v":2},7,7,0,0,0,0]
["E01022215","E01022215 Cotswold 005D","E01022215",{"$f":"VLOOKUP(A1309,'Output Areas'!$A:$E,5,FALSE)","v":"Rural"},"A flat; maisonette; apartment","Total: Tenure (excluding living rent free)","5 rooms",{"$f":"VLOOKUP(G1309,Cntrol!$F$3:$G$9,2,FALSE)","v":3},5,4,0,0,0,1]
["E01022215","E01022215 Cotswold 005D","E01022215",{"$f":"VLOOKUP(A1310,'Output Areas'!$A:$E,5,FALSE)","v":"Rural"},"A flat; maisonette; apartment","Total: Tenure (excluding living rent free)","6 rooms",{"$f":"VLOOKUP(G1310,Cntrol!$F$3:$G$9,2,FALSE)","v":3},1,1,0,0,0,0]
["E01022215","E01022215 Cotswold 005D","E01022215",{"$f":"VLOOKUP(A1311,'Output Areas'!$A:$E,5,FALSE)","v":"Rural"},"A flat; maisonette; apartment","Total: Tenure (excluding living rent free)","7 rooms",{"$f":"VLOOKUP(G1311,Cntrol!$F$3:$G$9,2,FALSE)","v":4},1,0,0,1,0,0]
["E01022215","E01022215 Cotswold 005D","E01022215",{"$f":"VLOOKUP(A1312,'Output Areas'!$A:$E,5,FALSE)","v":"Rural"},"A flat; maisonette; apartment","Total: Tenure (excluding living rent free)","8 rooms or more",{"$f":"VLOOKUP(G1312,Cntrol!$F$3:$G$9,2,FALSE)","v":5},1,1,0,0,0,0]
["E01022215","E01022215 Cotswold 005D","E01022215",{"$f":"VLOOKUP(A1313,'Output Areas'!$A:$E,5,FALSE)","v":"Rural"},"A flat; maisonette; apartment","Owned","Total: Number of rooms",{"$f":"VLOOKUP(G1313,Cntrol!$F$3:$G$9,2,FALSE)","v":0},13,9,1,1,0,2]
["E01022215","E01022215 Cotswold 005D","E01022215",{"$f":"VLOOKUP(A1314,'Output Areas'!$A:$E,5,FALSE)","v":"Rural"},"A flat; maisonette; apartment","Owned","3 rooms or less",{"$f":"VLOOKUP(G1314,Cntrol!$F$3:$G$9,2,FALSE)","v":2},5,3,1,0,0,1]
["E01022215","E01022215 Cotswold 005D","E01022215",{"$f":"VLOOKUP(A1315,'Output Areas'!$A:$E,5,FALSE)","v":"Rural"},"A flat; maisonette; apartment","Owned","4 rooms",{"$f":"VLOOKUP(G1315,Cntrol!$F$3:$G$9,2,FALSE)","v":2},1,1,0,0,0,0]
["E01022215","E01022215 Cotswold 005D","E01022215",{"$f":"VLOOKUP(A1316,'Output Areas'!$A:$E,5,FALSE)","v":"Rural"},"A flat; maisonette; apartment","Owned","5 rooms",{"$f":"VLOOKUP(G1316,Cntrol!$F$3:$G$9,2,FALSE)","v":3},5,4,0,0,0,1]
["E01022215","E01022215 Cotswold 005D","E01022215",{"$f":"VLOOKUP(A1317,'Output Areas'!$A:$E,5,FALSE)","v":"Rural"},"A flat; maisonette; apartment","Owned","7 rooms",{"$f":"VLOOKUP(G1317,Cntrol!$F$3:$G$9,2,FALSE)","v":4},1,0,0,1,0,0]
["E01022215","E01022215 Cotswold 005D","E01022215",{"$f":"VLOOKUP(A1318,'Output Areas'!$A:$E,5,FALSE)","v":"Rural"},"A flat; maisonette; apartment","Owned","8 rooms or more",{"$f":"VLOOKUP(G1318,Cntrol!$F$3:$G$9,2,FALSE)","v":5},1,1,0,0,0,0]
["E01022215","E01022215 Cotswold 005D","E01022215",{"$f":"VLOOKUP(A1319,'Output Areas'!$A:$E,5,FALSE)","v":"Rural"},"A flat; maisonette; apartment","Shared ownership or rented (excluding living rent free)","Total: Number of rooms",{"$f":"VLOOKUP(G1319,Cntrol!$F$3:$G$9,2,FALSE)","v":0},13,11,0,0,0,2]
["E01022215","E01022215 Cotswold 005D","E01022215",{"$f":"VLOOKUP(A1320,'Output Areas'!$A:$E,5,FALSE)","v":"Rural"},"A flat; maisonette; apartment","Shared ownership or rented (excluding living rent free)","3 rooms or less",{"$f":"VLOOKUP(G1320,Cntrol!$F$3:$G$9,2,FALSE)","v":2},6,4,0,0,0,2]
["E01022215","E01022215 Cotswold 005D","E01022215",{"$f":"VLOOKUP(A1321,'Output Areas'!$A:$E,5,FALSE)","v":"Rural"},"A flat; maisonette; apartment","Shared ownership or rented (excluding living rent free)","4 rooms",{"$f":"VLOOKUP(G1321,Cntrol!$F$3:$G$9,2,FALSE)","v":2},6,6,0,0,0,0]
["E01022215","E01022215 Cotswold 005D","E01022215",{"$f":"VLOOKUP(A1322,'Output Areas'!$A:$E,5,FALSE)","v":"Rural"},"A flat; maisonette; apartment","Shared ownership or rented (excluding living rent free)","6 rooms",{"$f":"VLOOKUP(G1322,Cntrol!$F$3:$G$9,2,FALSE)","v":3},1,1,0,0,0,0]
["E01022188","E01022188 Cotswold 006A","E01022188",{"$f":"VLOOKUP(A1323,'Output Areas'!$A:$E,5,FALSE)","v":"Town and Fringe"},"Total: Accommodation type (excluding caravans / temporary structures)","Total: Tenure (excluding living rent free)","Total: Number of rooms",{"$f":"VLOOKUP(G1323,Cntrol!$F$3:$G$9,2,FALSE)","v":0},594,246,152,38,13,145]
["E01022188","E01022188 Cotswold 006A","E01022188",{"$f":"VLOOKUP(A1324,'Output Areas'!$A:$E,5,FALSE)","v":"Town and Fringe"},"Total: Accommodation type (excluding caravans / temporary structures)","Total: Tenure (excluding living rent free)","3 rooms or less",{"$f":"VLOOKUP(G1324,Cntrol!$F$3:$G$9,2,FALSE)","v":2},127,56,6,2,2,61]
["E01022188","E01022188 Cotswold 006A","E01022188",{"$f":"VLOOKUP(A1325,'Output Areas'!$A:$E,5,FALSE)","v":"Town and Fringe"},"Total: Accommodation type (excluding caravans / temporary structures)","Total: Tenure (excluding living rent free)","4 rooms",{"$f":"VLOOKUP(G1325,Cntrol!$F$3:$G$9,2,FALSE)","v":2},65,30,5,1,0,29]
["E01022188","E01022188 Cotswold 006A","E01022188",{"$f":"VLOOKUP(A1326,'Output Areas'!$A:$E,5,FALSE)","v":"Town and Fringe"},"Total: Accommodation type (excluding caravans / temporary structures)","Total: Tenure (excluding living rent free)","5 rooms",{"$f":"VLOOKUP(G1326,Cntrol!$F$3:$G$9,2,FALSE)","v":3},121,53,34,10,0,24]
["E01022188","E01022188 Cotswold 006A","E01022188",{"$f":"VLOOKUP(A1327,'Output Areas'!$A:$E,5,FALSE)","v":"Town and Fringe"},"Total: Accommodation type (excluding caravans / temporary structures)","Total: Tenure (excluding living rent free)","6 rooms",{"$f":"VLOOKUP(G1327,Cntrol!$F$3:$G$9,2,FALSE)","v":3},141,60,49,8,3,21]
["E01022188","E01022188 Cotswold 006A","E01022188",{"$f":"VLOOKUP(A1328,'Output Areas'!$A:$E,5,FALSE)","v":"Town and Fringe"},"Total: Accommodation type (excluding caravans / temporary structures)","Total: Tenure (excluding living rent free)","7 rooms",{"$f":"VLOOKUP(G1328,Cntrol!$F$3:$G$9,2,FALSE)","v":4},64,28,26,5,1,4]
["E01022188","E01022188 Cotswold 006A","E01022188",{"$f":"VLOOKUP(A1329,'Output Areas'!$A:$E,5,FALSE)","v":"Town and Fringe"},"Total: Accommodation type (excluding caravans / temporary structures)","Total: Tenure (excluding living rent free)","8 rooms or more",{"$f":"VLOOKUP(G1329,Cntrol!$F$3:$G$9,2,FALSE)","v":5},76,19,32,12,7,6]
["E01022188","E01022188 Cotswold 006A","E01022188",{"$f":"VLOOKUP(A1330,'Output Areas'!$A:$E,5,FALSE)","v":"Town and Fringe"},"Total: Accommodation type (excluding caravans / temporary structures)","Owned","Total: Number of rooms",{"$f":"VLOOKUP(G1330,Cntrol!$F$3:$G$9,2,FALSE)","v":0},301,126,109,31,8,27]
["E01022188","E01022188 Cotswold 006A","E01022188",{"$f":"VLOOKUP(A1331,'Output Areas'!$A:$E,5,FALSE)","v":"Town and Fringe"},"Total: Accommodation type (excluding caravans / temporary structures)","Owned","3 rooms or less",{"$f":"VLOOKUP(G1331,Cntrol!$F$3:$G$9,2,FALSE)","v":2},14,9,1,2,0,2]
["E01022188","E01022188 Cotswold 006A","E01022188",{"$f":"VLOOKUP(A1332,'Output Areas'!$A:$E,5,FALSE)","v":"Town and Fringe"},"Total: Accommodation type (excluding caravans / temporary structures)","Owned","4 rooms",{"$f":"VLOOKUP(G1332,Cntrol!$F$3:$G$9,2,FALSE)","v":2},9,8,0,0,0,1]
["E01022188","E01022188 Cotswold 006A","E01022188",{"$f":"VLOOKUP(A1333,'Output Areas'!$A:$E,5,FALSE)","v":"Town and Fringe"},"Total: Accommodation type (excluding caravans / temporary structures)","Owned","5 rooms",{"$f":"VLOOKUP(G1333,Cntrol!$F$3:$G$9,2,FALSE)","v":3},70,34,20,7,0,9]
["E01022188","E01022188 Cotswold 006A","E01022188",{"$f":"VLOOKUP(A1334,'Output Areas'!$A:$E,5,FALSE)","v":"Town and Fringe"},"Total: Accommodation type (excluding caravans / temporary structures)","Owned","6 rooms",{"$f":"VLOOKUP(G1334,Cntrol!$F$3:$G$9,2,FALSE)","v":3},89,38,36,5,3,7]
["E01022188","E01022188 Cotswold 006A","E01022188",{"$f":"VLOOKUP(A1335,'Output Areas'!$A:$E,5,FALSE)","v":"Town and Fringe"},"Total: Accommodation type (excluding caravans / temporary structures)","Owned","7 rooms",{"$f":"VLOOKUP(G1335,Cntrol!$F$3:$G$9,2,FALSE)","v":4},54,21,23,5,1,4]
["E01022188","E01022188 Cotswold 006A","E01022188",{"$f":"VLOOKUP(A1336,'Output Areas'!$A:$E,5,FALSE)","v":"Town and Fringe"},"Total: Accommodation type (excluding caravans / temporary structures)","Owned","8 rooms or more",{"$f":"VLOOKUP(G1336,Cntrol!$F$3:$G$9,2,FALSE)","v":5},65,16,29,12,4,4]
["E01022188","E01022188 Cotswold 006A","E01022188",{"$f":"VLOOKUP(A1337,'Output Areas'!$A:$E,5,FALSE)","v":"Town and Fringe"},"Total: Accommodation type (excluding caravans / temporary structures)","Shared ownership or rented (excluding living rent free)","Total: Number of rooms",{"$f":"VLOOKUP(G1337,Cntrol!$F$3:$G$9,2,FALSE)","v":0},293,120,43,7,5,118]
["E01022188","E01022188 Cotswold 006A","E01022188",{"$f":"VLOOKUP(A1338,'Output Areas'!$A:$E,5,FALSE)","v":"Town and Fringe"},"Total: Accommodation type (excluding caravans / temporary structures)","Shared ownership or rented (excluding living rent free)","3 rooms or less",{"$f":"VLOOKUP(G1338,Cntrol!$F$3:$G$9,2,FALSE)","v":2},113,47,5,0,2,59]
["E01022188","E01022188 Cotswold 006A","E01022188",{"$f":"VLOOKUP(A1339,'Output Areas'!$A:$E,5,FALSE)","v":"Town and Fringe"},"Total: Accommodation type (excluding caravans / temporary structures)","Shared ownership or rented (excluding living rent free)","4 rooms",{"$f":"VLOOKUP(G1339,Cntrol!$F$3:$G$9,2,FALSE)","v":2},56,22,5,1,0,28]
["E01022188","E01022188 Cotswold 006A","E01022188",{"$f":"VLOOKUP(A1340,'Output Areas'!$A:$E,5,FALSE)","v":"Town and Fringe"},"Total: Accommodation type (excluding caravans / temporary structures)","Shared ownership or rented (excluding living rent free)","5 rooms",{"$f":"VLOOKUP(G1340,Cntrol!$F$3:$G$9,2,FALSE)","v":3},51,19,14,3,0,15]
["E01022188","E01022188 Cotswold 006A","E01022188",{"$f":"VLOOKUP(A1341,'Output Areas'!$A:$E,5,FALSE)","v":"Town and Fringe"},"Total: Accommodation type (excluding caravans / temporary structures)","Shared ownership or rented (excluding living rent free)","6 rooms",{"$f":"VLOOKUP(G1341,Cntrol!$F$3:$G$9,2,FALSE)","v":3},52,22,13,3,0,14]
["E01022188","E01022188 Cotswold 006A","E01022188",{"$f":"VLOOKUP(A1342,'Output Areas'!$A:$E,5,FALSE)","v":"Town and Fringe"},"Total: Accommodation type (excluding caravans / temporary structures)","Shared ownership or rented (excluding living rent free)","7 rooms",{"$f":"VLOOKUP(G1342,Cntrol!$F$3:$G$9,2,FALSE)","v":4},10,7,3,0,0,0]
["E01022188","E01022188 Cotswold 006A","E01022188",{"$f":"VLOOKUP(A1343,'Output Areas'!$A:$E,5,FALSE)","v":"Town and Fringe"},"Total: Accommodation type (excluding caravans / temporary structures)","Shared ownership or rented (excluding living rent free)","8 rooms or more",{"$f":"VLOOKUP(G1343,Cntrol!$F$3:$G$9,2,FALSE)","v":5},11,3,3,0,3,2]
["E01022188","E01022188 Cotswold 006A","E01022188",{"$f":"VLOOKUP(A1344,'Output Areas'!$A:$E,5,FALSE)","v":"Town and Fringe"},"Detached; semi-detached; terraced whole house or bungalow","Total: Tenure (excluding living rent free)","Total: Number of rooms",{"$f":"VLOOKUP(G1344,Cntrol!$F$3:$G$9,2,FALSE)","v":0},435,178,145,38,11,63]
["E01022188","E01022188 Cotswold 006A","E01022188",{"$f":"VLOOKUP(A1345,'Output Areas'!$A:$E,5,FALSE)","v":"Town and Fringe"},"Detached; semi-detached; terraced whole house or bungalow","Total: Tenure (excluding living rent free)","3 rooms or less",{"$f":"VLOOKUP(G1345,Cntrol!$F$3:$G$9,2,FALSE)","v":2},14,4,2,2,0,6]
["E01022188","E01022188 Cotswold 006A","E01022188",{"$f":"VLOOKUP(A1346,'Output Areas'!$A:$E,5,FALSE)","v":"Town and Fringe"},"Detached; semi-detached; terraced whole house or bungalow","Total: Tenure (excluding living rent free)","4 rooms",{"$f":"VLOOKUP(G1346,Cntrol!$F$3:$G$9,2,FALSE)","v":2},32,17,4,1,0,10]
["E01022188","E01022188 Cotswold 006A","E01022188",{"$f":"VLOOKUP(A1347,'Output Areas'!$A:$E,5,FALSE)","v":"Town and Fringe"},"Detached; semi-detached; terraced whole house or bungalow","Total: Tenure (excluding living rent free)","5 rooms",{"$f":"VLOOKUP(G1347,Cntrol!$F$3:$G$9,2,FALSE)","v":3},115,51,34,10,0,20]
["E01022188","E01022188 Cotswold 006A","E01022188",{"$f":"VLOOKUP(A1348,'Output Areas'!$A:$E,5,FALSE)","v":"Town and Fringe"},"Detached; semi-detached; terraced whole house or bungalow","Total: Tenure (excluding living rent free)","6 rooms",{"$f":"VLOOKUP(G1348,Cntrol!$F$3:$G$9,2,FALSE)","v":3},136,60,47,8,3,18]
["E01022188","E01022188 Cotswold 006A","E01022188",{"$f":"VLOOKUP(A1349,'Output Areas'!$A:$E,5,FALSE)","v":"Town and Fringe"},"Detached; semi-detached; terraced whole house or bungalow","Total: Tenure (excluding living rent free)","7 rooms",{"$f":"VLOOKUP(G1349,Cntrol!$F$3:$G$9,2,FALSE)","v":4},64,28,26,5,1,4]
["E01022188","E01022188 Cotswold 006A","E01022188",{"$f":"VLOOKUP(A1350,'Output Areas'!$A:$E,5,FALSE)","v":"Town and Fringe"},"Detached; semi-detached; terraced whole house or bungalow","Total: Tenure (excluding living rent free)","8 rooms or more",{"$f":"VLOOKUP(G1350,Cntrol!$F$3:$G$9,2,FALSE)","v":5},74,18,32,12,7,5]
["E01022188","E01022188 Cotswold 006A","E01022188",{"$f":"VLOOKUP(A1351,'Output Areas'!$A:$E,5,FALSE)","v":"Town and Fringe"},"Detached; semi-detached; terraced whole house or bungalow","Owned","Total: Number of rooms",{"$f":"VLOOKUP(G1351,Cntrol!$F$3:$G$9,2,FALSE)","v":0},288,115,108,31,8,26]
["E01022188","E01022188 Cotswold 006A","E01022188",{"$f":"VLOOKUP(A1352,'Output Areas'!$A:$E,5,FALSE)","v":"Town and Fringe"},"Detached; semi-detached; terraced whole house or bungalow","Owned","3 rooms or less",{"$f":"VLOOKUP(G1352,Cntrol!$F$3:$G$9,2,FALSE)","v":2},6,2,1,2,0,1]
["E01022188","E01022188 Cotswold 006A","E01022188",{"$f":"VLOOKUP(A1353,'Output Areas'!$A:$E,5,FALSE)","v":"Town and Fringe"},"Detached; semi-detached; terraced whole house or bungalow","Owned","4 rooms",{"$f":"VLOOKUP(G1353,Cntrol!$F$3:$G$9,2,FALSE)","v":2},7,6,0,0,0,1]
["E01022188","E01022188 Cotswold 006A","E01022188",{"$f":"VLOOKUP(A1354,'Output Areas'!$A:$E,5,FALSE)","v":"Town and Fringe"},"Detached; semi-detached; terraced whole house or bungalow","Owned","5 rooms",{"$f":"VLOOKUP(G1354,Cntrol!$F$3:$G$9,2,FALSE)","v":3},68,32,20,7,0,9]
["E01022188","E01022188 Cotswold 006A","E01022188",{"$f":"VLOOKUP(A1355,'Output Areas'!$A:$E,5,FALSE)","v":"Town and Fringe"},"Detached; semi-detached; terraced whole house or bungalow","Owned","6 rooms",{"$f":"VLOOKUP(G1355,Cntrol!$F$3:$G$9,2,FALSE)","v":3},88,38,35,5,3,7]
["E01022188","E01022188 Cotswold 006A","E01022188",{"$f":"VLOOKUP(A1356,'Output Areas'!$A:$E,5,FALSE)","v":"Town and Fringe"},"Detached; semi-detached; terraced whole house or bungalow","Owned","7 rooms",{"$f":"VLOOKUP(G1356,Cntrol!$F$3:$G$9,2,FALSE)","v":4},54,21,23,5,1,4]
["E01022188","E01022188 Cotswold 006A","E01022188",{"$f":"VLOOKUP(A1357,'Output Areas'!$A:$E,5,FALSE)","v":"Town and Fringe"},"Detached; semi-detached; terraced whole house or bungalow","Owned","8 rooms or more",{"$f":"VLOOKUP(G1357,Cntrol!$F$3:$G$9,2,FALSE)","v":5},65,16,29,12,4,4]
["E01022188","E01022188 Cotswold 006A","E01022188",{"$f":"VLOOKUP(A1358,'Output Areas'!$A:$E,5,FALSE)","v":"Town and Fringe"},"Detached; semi-detached; terraced whole house or bungalow","Shared ownership or rented (excluding living rent free)","Total: Number of rooms",{"$f":"VLOOKUP(G1358,Cntrol!$F$3:$G$9,2,FALSE)","v":0},147,63,37,7,3,37]
["E01022188","E01022188 Cotswold 006A","E01022188",{"$f":"VLOOKUP(A1359,'Output Areas'!$A:$E,5,FALSE)","v":"Town and Fringe"},"Detached; semi-detached; terraced whole house or bungalow","Shared ownership or rented (excluding living rent free)","3 rooms or less",{"$f":"VLOOKUP(G1359,Cntrol!$F$3:$G$9,2,FALSE)","v":2},8,2,1,0,0,5]
["E01022188","E01022188 Cotswold 006A","E01022188",{"$f":"VLOOKUP(A1360,'Output Areas'!$A:$E,5,FALSE)","v":"Town and Fringe"},"Detached; semi-detached; terraced whole house or bungalow","Shared ownership or rented (excluding living rent free)","4 rooms",{"$f":"VLOOKUP(G1360,Cntrol!$F$3:$G$9,2,FALSE)","v":2},25,11,4,1,0,9]
["E01022188","E01022188 Cotswold 006A","E01022188",{"$f":"VLOOKUP(A1361,'Output Areas'!$A:$E,5,FALSE)","v":"Town and Fringe"},"Detached; semi-detached; terraced whole house or bungalow","Shared ownership or rented (excluding living rent free)","5 rooms",{"$f":"VLOOKUP(G1361,Cntrol!$F$3:$G$9,2,FALSE)","v":3},47,19,14,3,0,11]
["E01022188","E01022188 Cotswold 006A","E01022188",{"$f":"VLOOKUP(A1362,'Output Areas'!$A:$E,5,FALSE)","v":"Town and Fringe"},"Detached; semi-detached; terraced whole house or bungalow","Shared ownership or rented (excluding living rent free)","6 rooms",{"$f":"VLOOKUP(G1362,Cntrol!$F$3:$G$9,2,FALSE)","v":3},48,22,12,3,0,11]
["E01022188","E01022188 Cotswold 006A","E01022188",{"$f":"VLOOKUP(A1363,'Output Areas'!$A:$E,5,FALSE)","v":"Town and Fringe"},"Detached; semi-detached; terraced whole house or bungalow","Shared ownership or rented (excluding living rent free)","7 rooms",{"$f":"VLOOKUP(G1363,Cntrol!$F$3:$G$9,2,FALSE)","v":4},10,7,3,0,0,0]
["E01022188","E01022188 Cotswold 006A","E01022188",{"$f":"VLOOKUP(A1364,'Output Areas'!$A:$E,5,FALSE)","v":"Town and Fringe"},"Detached; semi-detached; terraced whole house or bungalow","Shared ownership or rented (excluding living rent free)","8 rooms or more",{"$f":"VLOOKUP(G1364,Cntrol!$F$3:$G$9,2,FALSE)","v":5},9,2,3,0,3,1]
["E01022188","E01022188 Cotswold 006A","E01022188",{"$f":"VLOOKUP(A1365,'Output Areas'!$A:$E,5,FALSE)","v":"Town and Fringe"},"A flat; maisonette; apartment","Total: Tenure (excluding living rent free)","Total: Number of rooms",{"$f":"VLOOKUP(G1365,Cntrol!$F$3:$G$9,2,FALSE)","v":0},159,68,7,0,2,82]
["E01022188","E01022188 Cotswold 006A","E01022188",{"$f":"VLOOKUP(A1366,'Output Areas'!$A:$E,5,FALSE)","v":"Town and Fringe"},"A flat; maisonette; apartment","Total: Tenure (excluding living rent free)","3 rooms or less",{"$f":"VLOOKUP(G1366,Cntrol!$F$3:$G$9,2,FALSE)","v":2},113,52,4,0,2,55]
["E01022188","E01022188 Cotswold 006A","E01022188",{"$f":"VLOOKUP(A1367,'Output Areas'!$A:$E,5,FALSE)","v":"Town and Fringe"},"A flat; maisonette; apartment","Total: Tenure (excluding living rent free)","4 rooms",{"$f":"VLOOKUP(G1367,Cntrol!$F$3:$G$9,2,FALSE)","v":2},33,13,1,0,0,19]
["E01022188","E01022188 Cotswold 006A","E01022188",{"$f":"VLOOKUP(A1368,'Output Areas'!$A:$E,5,FALSE)","v":"Town and Fringe"},"A flat; maisonette; apartment","Total: Tenure (excluding living rent free)","5 rooms",{"$f":"VLOOKUP(G1368,Cntrol!$F$3:$G$9,2,FALSE)","v":3},6,2,0,0,0,4]
["E01022188","E01022188 Cotswold 006A","E01022188",{"$f":"VLOOKUP(A1369,'Output Areas'!$A:$E,5,FALSE)","v":"Town and Fringe"},"A flat; maisonette; apartment","Total: Tenure (excluding living rent free)","6 rooms",{"$f":"VLOOKUP(G1369,Cntrol!$F$3:$G$9,2,FALSE)","v":3},5,0,2,0,0,3]
["E01022188","E01022188 Cotswold 006A","E01022188",{"$f":"VLOOKUP(A1370,'Output Areas'!$A:$E,5,FALSE)","v":"Town and Fringe"},"A flat; maisonette; apartment","Total: Tenure (excluding living rent free)","8 rooms or more",{"$f":"VLOOKUP(G1370,Cntrol!$F$3:$G$9,2,FALSE)","v":5},2,1,0,0,0,1]
["E01022188","E01022188 Cotswold 006A","E01022188",{"$f":"VLOOKUP(A1371,'Output Areas'!$A:$E,5,FALSE)","v":"Town and Fringe"},"A flat; maisonette; apartment","Owned","Total: Number of rooms",{"$f":"VLOOKUP(G1371,Cntrol!$F$3:$G$9,2,FALSE)","v":0},13,11,1,0,0,1]
["E01022188","E01022188 Cotswold 006A","E01022188",{"$f":"VLOOKUP(A1372,'Output Areas'!$A:$E,5,FALSE)","v":"Town and Fringe"},"A flat; maisonette; apartment","Owned","3 rooms or less",{"$f":"VLOOKUP(G1372,Cntrol!$F$3:$G$9,2,FALSE)","v":2},8,7,0,0,0,1]
["E01022188","E01022188 Cotswold 006A","E01022188",{"$f":"VLOOKUP(A1373,'Output Areas'!$A:$E,5,FALSE)","v":"Town and Fringe"},"A flat; maisonette; apartment","Owned","4 rooms",{"$f":"VLOOKUP(G1373,Cntrol!$F$3:$G$9,2,FALSE)","v":2},2,2,0,0,0,0]
["E01022188","E01022188 Cotswold 006A","E01022188",{"$f":"VLOOKUP(A1374,'Output Areas'!$A:$E,5,FALSE)","v":"Town and Fringe"},"A flat; maisonette; apartment","Owned","5 rooms",{"$f":"VLOOKUP(G1374,Cntrol!$F$3:$G$9,2,FALSE)","v":3},2,2,0,0,0,0]
["E01022188","E01022188 Cotswold 006A","E01022188",{"$f":"VLOOKUP(A1375,'Output Areas'!$A:$E,5,FALSE)","v":"Town and Fringe"},"A flat; maisonette; apartment","Owned","6 rooms",{"$f":"VLOOKUP(G1375,Cntrol!$F$3:$G$9,2,FALSE)","v":3},1,0,1,0,0,0]
["E01022188","E01022188 Cotswold 006A","E01022188",{"$f":"VLOOKUP(A1376,'Output Areas'!$A:$E,5,FALSE)","v":"Town and Fringe"},"A flat; maisonette; apartment","Shared ownership or rented (excluding living rent free)","Total: Number of rooms",{"$f":"VLOOKUP(G1376,Cntrol!$F$3:$G$9,2,FALSE)","v":0},146,57,6,0,2,81]
["E01022188","E01022188 Cotswold 006A","E01022188",{"$f":"VLOOKUP(A1377,'Output Areas'!$A:$E,5,FALSE)","v":"Town and Fringe"},"A flat; maisonette; apartment","Shared ownership or rented (excluding living rent free)","3 rooms or less",{"$f":"VLOOKUP(G1377,Cntrol!$F$3:$G$9,2,FALSE)","v":2},105,45,4,0,2,54]
["E01022188","E01022188 Cotswold 006A","E01022188",{"$f":"VLOOKUP(A1378,'Output Areas'!$A:$E,5,FALSE)","v":"Town and Fringe"},"A flat; maisonette; apartment","Shared ownership or rented (excluding living rent free)","4 rooms",{"$f":"VLOOKUP(G1378,Cntrol!$F$3:$G$9,2,FALSE)","v":2},31,11,1,0,0,19]
["E01022188","E01022188 Cotswold 006A","E01022188",{"$f":"VLOOKUP(A1379,'Output Areas'!$A:$E,5,FALSE)","v":"Town and Fringe"},"A flat; maisonette; apartment","Shared ownership or rented (excluding living rent free)","5 rooms",{"$f":"VLOOKUP(G1379,Cntrol!$F$3:$G$9,2,FALSE)","v":3},4,0,0,0,0,4]
["E01022188","E01022188 Cotswold 006A","E01022188",{"$f":"VLOOKUP(A1380,'Output Areas'!$A:$E,5,FALSE)","v":"Town and Fringe"},"A flat; maisonette; apartment","Shared ownership or rented (excluding living rent free)","6 rooms",{"$f":"VLOOKUP(G1380,Cntrol!$F$3:$G$9,2,FALSE)","v":3},4,0,1,0,0,3]
["E01022188","E01022188 Cotswold 006A","E01022188",{"$f":"VLOOKUP(A1381,'Output Areas'!$A:$E,5,FALSE)","v":"Town and Fringe"},"A flat; maisonette; apartment","Shared ownership or rented (excluding living rent free)","8 rooms or more",{"$f":"VLOOKUP(G1381,Cntrol!$F$3:$G$9,2,FALSE)","v":5},2,1,0,0,0,1]
["E01022189","E01022189 Cotswold 006B","E01022189",{"$f":"VLOOKUP(A1382,'Output Areas'!$A:$E,5,FALSE)","v":"Town and Fringe"},"Total: Accommodation type (excluding caravans / temporary structures)","Total: Tenure (excluding living rent free)","Total: Number of rooms",{"$f":"VLOOKUP(G1382,Cntrol!$F$3:$G$9,2,FALSE)","v":0},506,169,215,49,19,54]
["E01022189","E01022189 Cotswold 006B","E01022189",{"$f":"VLOOKUP(A1383,'Output Areas'!$A:$E,5,FALSE)","v":"Town and Fringe"},"Total: Accommodation type (excluding caravans / temporary structures)","Total: Tenure (excluding living rent free)","3 rooms or less",{"$f":"VLOOKUP(G1383,Cntrol!$F$3:$G$9,2,FALSE)","v":2},12,7,1,0,0,4]
["E01022189","E01022189 Cotswold 006B","E01022189",{"$f":"VLOOKUP(A1384,'Output Areas'!$A:$E,5,FALSE)","v":"Town and Fringe"},"Total: Accommodation type (excluding caravans / temporary structures)","Total: Tenure (excluding living rent free)","4 rooms",{"$f":"VLOOKUP(G1384,Cntrol!$F$3:$G$9,2,FALSE)","v":2},18,10,5,0,0,3]
["E01022189","E01022189 Cotswold 006B","E01022189",{"$f":"VLOOKUP(A1385,'Output Areas'!$A:$E,5,FALSE)","v":"Town and Fringe"},"Total: Accommodation type (excluding caravans / temporary structures)","Total: Tenure (excluding living rent free)","5 rooms",{"$f":"VLOOKUP(G1385,Cntrol!$F$3:$G$9,2,FALSE)","v":3},109,42,39,9,1,18]
["E01022189","E01022189 Cotswold 006B","E01022189",{"$f":"VLOOKUP(A1386,'Output Areas'!$A:$E,5,FALSE)","v":"Town and Fringe"},"Total: Accommodation type (excluding caravans / temporary structures)","Total: Tenure (excluding living rent free)","6 rooms",{"$f":"VLOOKUP(G1386,Cntrol!$F$3:$G$9,2,FALSE)","v":3},134,48,52,8,5,21]
["E01022189","E01022189 Cotswold 006B","E01022189",{"$f":"VLOOKUP(A1387,'Output Areas'!$A:$E,5,FALSE)","v":"Town and Fringe"},"Total: Accommodation type (excluding caravans / temporary structures)","Total: Tenure (excluding living rent free)","7 rooms",{"$f":"VLOOKUP(G1387,Cntrol!$F$3:$G$9,2,FALSE)","v":4},97,27,50,10,5,5]
["E01022189","E01022189 Cotswold 006B","E01022189",{"$f":"VLOOKUP(A1388,'Output Areas'!$A:$E,5,FALSE)","v":"Town and Fringe"},"Total: Accommodation type (excluding caravans / temporary structures)","Total: Tenure (excluding living rent free)","8 rooms or more",{"$f":"VLOOKUP(G1388,Cntrol!$F$3:$G$9,2,FALSE)","v":5},136,35,68,22,8,3]
["E01022189","E01022189 Cotswold 006B","E01022189",{"$f":"VLOOKUP(A1389,'Output Areas'!$A:$E,5,FALSE)","v":"Town and Fringe"},"Total: Accommodation type (excluding caravans / temporary structures)","Owned","Total: Number of rooms",{"$f":"VLOOKUP(G1389,Cntrol!$F$3:$G$9,2,FALSE)","v":0},434,140,197,46,17,34]
["E01022189","E01022189 Cotswold 006B","E01022189",{"$f":"VLOOKUP(A1390,'Output Areas'!$A:$E,5,FALSE)","v":"Town and Fringe"},"Total: Accommodation type (excluding caravans / temporary structures)","Owned","3 rooms or less",{"$f":"VLOOKUP(G1390,Cntrol!$F$3:$G$9,2,FALSE)","v":2},4,4,0,0,0,0]
["E01022189","E01022189 Cotswold 006B","E01022189",{"$f":"VLOOKUP(A1391,'Output Areas'!$A:$E,5,FALSE)","v":"Town and Fringe"},"Total: Accommodation type (excluding caravans / temporary structures)","Owned","4 rooms",{"$f":"VLOOKUP(G1391,Cntrol!$F$3:$G$9,2,FALSE)","v":2},14,10,3,0,0,1]
["E01022189","E01022189 Cotswold 006B","E01022189",{"$f":"VLOOKUP(A1392,'Output Areas'!$A:$E,5,FALSE)","v":"Town and Fringe"},"Total: Accommodation type (excluding caravans / temporary structures)","Owned","5 rooms",{"$f":"VLOOKUP(G1392,Cntrol!$F$3:$G$9,2,FALSE)","v":3},89,32,32,8,1,16]
["E01022189","E01022189 Cotswold 006B","E01022189",{"$f":"VLOOKUP(A1393,'Output Areas'!$A:$E,5,FALSE)","v":"Town and Fringe"},"Total: Accommodation type (excluding caravans / temporary structures)","Owned","6 rooms",{"$f":"VLOOKUP(G1393,Cntrol!$F$3:$G$9,2,FALSE)","v":3},104,35,48,8,3,10]
["E01022189","E01022189 Cotswold 006B","E01022189",{"$f":"VLOOKUP(A1394,'Output Areas'!$A:$E,5,FALSE)","v":"Town and Fringe"},"Total: Accommodation type (excluding caravans / temporary structures)","Owned","7 rooms",{"$f":"VLOOKUP(G1394,Cntrol!$F$3:$G$9,2,FALSE)","v":4},92,25,49,9,5,4]
["E01022189","E01022189 Cotswold 006B","E01022189",{"$f":"VLOOKUP(A1395,'Output Areas'!$A:$E,5,FALSE)","v":"Town and Fringe"},"Total: Accommodation type (excluding caravans / temporary structures)","Owned","8 rooms or more",{"$f":"VLOOKUP(G1395,Cntrol!$F$3:$G$9,2,FALSE)","v":5},131,34,65,21,8,3]
["E01022189","E01022189 Cotswold 006B","E01022189",{"$f":"VLOOKUP(A1396,'Output Areas'!$A:$E,5,FALSE)","v":"Town and Fringe"},"Total: Accommodation type (excluding caravans / temporary structures)","Shared ownership or rented (excluding living rent free)","Total: Number of rooms",{"$f":"VLOOKUP(G1396,Cntrol!$F$3:$G$9,2,FALSE)","v":0},72,29,18,3,2,20]
["E01022189","E01022189 Cotswold 006B","E01022189",{"$f":"VLOOKUP(A1397,'Output Areas'!$A:$E,5,FALSE)","v":"Town and Fringe"},"Total: Accommodation type (excluding caravans / temporary structures)","Shared ownership or rented (excluding living rent free)","3 rooms or less",{"$f":"VLOOKUP(G1397,Cntrol!$F$3:$G$9,2,FALSE)","v":2},8,3,1,0,0,4]
["E01022189","E01022189 Cotswold 006B","E01022189",{"$f":"VLOOKUP(A1398,'Output Areas'!$A:$E,5,FALSE)","v":"Town and Fringe"},"Total: Accommodation type (excluding caravans / temporary structures)","Shared ownership or rented (excluding living rent free)","4 rooms",{"$f":"VLOOKUP(G1398,Cntrol!$F$3:$G$9,2,FALSE)","v":2},4,0,2,0,0,2]
["E01022189","E01022189 Cotswold 006B","E01022189",{"$f":"VLOOKUP(A1399,'Output Areas'!$A:$E,5,FALSE)","v":"Town and Fringe"},"Total: Accommodation type (excluding caravans / temporary structures)","Shared ownership or rented (excluding living rent free)","5 rooms",{"$f":"VLOOKUP(G1399,Cntrol!$F$3:$G$9,2,FALSE)","v":3},20,10,7,1,0,2]
["E01022189","E01022189 Cotswold 006B","E01022189",{"$f":"VLOOKUP(A1400,'Output Areas'!$A:$E,5,FALSE)","v":"Town and Fringe"},"Total: Accommodation type (excluding caravans / temporary structures)","Shared ownership or rented (excluding living rent free)","6 rooms",{"$f":"VLOOKUP(G1400,Cntrol!$F$3:$G$9,2,FALSE)","v":3},30,13,4,0,2,11]
["E01022189","E01022189 Cotswold 006B","E01022189",{"$f":"VLOOKUP(A1401,'Output Areas'!$A:$E,5,FALSE)","v":"Town and Fringe"},"Total: Accommodation type (excluding caravans / temporary structures)","Shared ownership or rented (excluding living rent free)","7 rooms",{"$f":"VLOOKUP(G1401,Cntrol!$F$3:$G$9,2,FALSE)","v":4},5,2,1,1,0,1]
["E01022189","E01022189 Cotswold 006B","E01022189",{"$f":"VLOOKUP(A1402,'Output Areas'!$A:$E,5,FALSE)","v":"Town and Fringe"},"Total: Accommodation type (excluding caravans / temporary structures)","Shared ownership or rented (excluding living rent free)","8 rooms or more",{"$f":"VLOOKUP(G1402,Cntrol!$F$3:$G$9,2,FALSE)","v":5},5,1,3,1,0,0]
["E01022189","E01022189 Cotswold 006B","E01022189",{"$f":"VLOOKUP(A1403,'Output Areas'!$A:$E,5,FALSE)","v":"Town and Fringe"},"Detached; semi-detached; terraced whole house or bungalow","Total: Tenure (excluding living rent free)","Total: Number of rooms",{"$f":"VLOOKUP(G1403,Cntrol!$F$3:$G$9,2,FALSE)","v":0},497,165,214,49,19,50]
["E01022189","E01022189 Cotswold 006B","E01022189",{"$f":"VLOOKUP(A1404,'Output Areas'!$A:$E,5,FALSE)","v":"Town and Fringe"},"Detached; semi-detached; terraced whole house or bungalow","Total: Tenure (excluding living rent free)","3 rooms or less",{"$f":"VLOOKUP(G1404,Cntrol!$F$3:$G$9,2,FALSE)","v":2},5,4,0,0,0,1]
["E01022189","E01022189 Cotswold 006B","E01022189",{"$f":"VLOOKUP(A1405,'Output Areas'!$A:$E,5,FALSE)","v":"Town and Fringe"},"Detached; semi-detached; terraced whole house or bungalow","Total: Tenure (excluding living rent free)","4 rooms",{"$f":"VLOOKUP(G1405,Cntrol!$F$3:$G$9,2,FALSE)","v":2},17,10,5,0,0,2]
["E01022189","E01022189 Cotswold 006B","E01022189",{"$f":"VLOOKUP(A1406,'Output Areas'!$A:$E,5,FALSE)","v":"Town and Fringe"},"Detached; semi-detached; terraced whole house or bungalow","Total: Tenure (excluding living rent free)","5 rooms",{"$f":"VLOOKUP(G1406,Cntrol!$F$3:$G$9,2,FALSE)","v":3},109,42,39,9,1,18]
["E01022189","E01022189 Cotswold 006B","E01022189",{"$f":"VLOOKUP(A1407,'Output Areas'!$A:$E,5,FALSE)","v":"Town and Fringe"},"Detached; semi-detached; terraced whole house or bungalow","Total: Tenure (excluding living rent free)","6 rooms",{"$f":"VLOOKUP(G1407,Cntrol!$F$3:$G$9,2,FALSE)","v":3},133,47,52,8,5,21]
["E01022189","E01022189 Cotswold 006B","E01022189",{"$f":"VLOOKUP(A1408,'Output Areas'!$A:$E,5,FALSE)","v":"Town and Fringe"},"Detached; semi-detached; terraced whole house or bungalow","Total: Tenure (excluding living rent free)","7 rooms",{"$f":"VLOOKUP(G1408,Cntrol!$F$3:$G$9,2,FALSE)","v":4},97,27,50,10,5,5]
["E01022189","E01022189 Cotswold 006B","E01022189",{"$f":"VLOOKUP(A1409,'Output Areas'!$A:$E,5,FALSE)","v":"Town and Fringe"},"Detached; semi-detached; terraced whole house or bungalow","Total: Tenure (excluding living rent free)","8 rooms or more",{"$f":"VLOOKUP(G1409,Cntrol!$F$3:$G$9,2,FALSE)","v":5},136,35,68,22,8,3]
["E01022189","E01022189 Cotswold 006B","E01022189",{"$f":"VLOOKUP(A1410,'Output Areas'!$A:$E,5,FALSE)","v":"Town and Fringe"},"Detached; semi-detached; terraced whole house or bungalow","Owned","Total: Number of rooms",{"$f":"VLOOKUP(G1410,Cntrol!$F$3:$G$9,2,FALSE)","v":0},431,137,197,46,17,34]
["E01022189","E01022189 Cotswold 006B","E01022189",{"$f":"VLOOKUP(A1411,'Output Areas'!$A:$E,5,FALSE)","v":"Town and Fringe"},"Detached; semi-detached; terraced whole house or bungalow","Owned","3 rooms or less",{"$f":"VLOOKUP(G1411,Cntrol!$F$3:$G$9,2,FALSE)","v":2},2,2,0,0,0,0]
["E01022189","E01022189 Cotswold 006B","E01022189",{"$f":"VLOOKUP(A1412,'Output Areas'!$A:$E,5,FALSE)","v":"Town and Fringe"},"Detached; semi-detached; terraced whole house or bungalow","Owned","4 rooms",{"$f":"VLOOKUP(G1412,Cntrol!$F$3:$G$9,2,FALSE)","v":2},14,10,3,0,0,1]
["E01022189","E01022189 Cotswold 006B","E01022189",{"$f":"VLOOKUP(A1413,'Output Areas'!$A:$E,5,FALSE)","v":"Town and Fringe"},"Detached; semi-detached; terraced whole house or bungalow","Owned","5 rooms",{"$f":"VLOOKUP(G1413,Cntrol!$F$3:$G$9,2,FALSE)","v":3},89,32,32,8,1,16]
["E01022189","E01022189 Cotswold 006B","E01022189",{"$f":"VLOOKUP(A1414,'Output Areas'!$A:$E,5,FALSE)","v":"Town and Fringe"},"Detached; semi-detached; terraced whole house or bungalow","Owned","6 rooms",{"$f":"VLOOKUP(G1414,Cntrol!$F$3:$G$9,2,FALSE)","v":3},103,34,48,8,3,10]
["E01022189","E01022189 Cotswold 006B","E01022189",{"$f":"VLOOKUP(A1415,'Output Areas'!$A:$E,5,FALSE)","v":"Town and Fringe"},"Detached; semi-detached; terraced whole house or bungalow","Owned","7 rooms",{"$f":"VLOOKUP(G1415,Cntrol!$F$3:$G$9,2,FALSE)","v":4},92,25,49,9,5,4]
["E01022189","E01022189 Cotswold 006B","E01022189",{"$f":"VLOOKUP(A1416,'Output Areas'!$A:$E,5,FALSE)","v":"Town and Fringe"},"Detached; semi-detached; terraced whole house or bungalow","Owned","8 rooms or more",{"$f":"VLOOKUP(G1416,Cntrol!$F$3:$G$9,2,FALSE)","v":5},131,34,65,21,8,3]
["E01022189","E01022189 Cotswold 006B","E01022189",{"$f":"VLOOKUP(A1417,'Output Areas'!$A:$E,5,FALSE)","v":"Town and Fringe"},"Detached; semi-detached; terraced whole house or bungalow","Shared ownership or rented (excluding living rent free)","Total: Number of rooms",{"$f":"VLOOKUP(G1417,Cntrol!$F$3:$G$9,2,FALSE)","v":0},66,28,17,3,2,16]
["E01022189","E01022189 Cotswold 006B","E01022189",{"$f":"VLOOKUP(A1418,'Output Areas'!$A:$E,5,FALSE)","v":"Town and Fringe"},"Detached; semi-detached; terraced whole house or bungalow","Shared ownership or rented (excluding living rent free)","3 rooms or less",{"$f":"VLOOKUP(G1418,Cntrol!$F$3:$G$9,2,FALSE)","v":2},3,2,0,0,0,1]
["E01022189","E01022189 Cotswold 006B","E01022189",{"$f":"VLOOKUP(A1419,'Output Areas'!$A:$E,5,FALSE)","v":"Town and Fringe"},"Detached; semi-detached; terraced whole house or bungalow","Shared ownership or rented (excluding living rent free)","4 rooms",{"$f":"VLOOKUP(G1419,Cntrol!$F$3:$G$9,2,FALSE)","v":2},3,0,2,0,0,1]
["E01022189","E01022189 Cotswold 006B","E01022189",{"$f":"VLOOKUP(A1420,'Output Areas'!$A:$E,5,FALSE)","v":"Town and Fringe"},"Detached; semi-detached; terraced whole house or bungalow","Shared ownership or rented (excluding living rent free)","5 rooms",{"$f":"VLOOKUP(G1420,Cntrol!$F$3:$G$9,2,FALSE)","v":3},20,10,7,1,0,2]
["E01022189","E01022189 Cotswold 006B","E01022189",{"$f":"VLOOKUP(A1421,'Output Areas'!$A:$E,5,FALSE)","v":"Town and Fringe"},"Detached; semi-detached; terraced whole house or bungalow","Shared ownership or rented (excluding living rent free)","6 rooms",{"$f":"VLOOKUP(G1421,Cntrol!$F$3:$G$9,2,FALSE)","v":3},30,13,4,0,2,11]
["E01022189","E01022189 Cotswold 006B","E01022189",{"$f":"VLOOKUP(A1422,'Output Areas'!$A:$E,5,FALSE)","v":"Town and Fringe"},"Detached; semi-detached; terraced whole house or bungalow","Shared ownership or rented (excluding living rent free)","7 rooms",{"$f":"VLOOKUP(G1422,Cntrol!$F$3:$G$9,2,FALSE)","v":4},5,2,1,1,0,1]
["E01022189","E01022189 Cotswold 006B","E01022189",{"$f":"VLOOKUP(A1423,'Output Areas'!$A:$E,5,FALSE)","v":"Town and Fringe"},"Detached; semi-detached; terraced whole house or bungalow","Shared ownership or rented (excluding living rent free)","8 rooms or more",{"$f":"VLOOKUP(G1423,Cntrol!$F$3:$G$9,2,FALSE)","v":5},5,1,3,1,0,0]
["E01022189","E01022189 Cotswold 006B","E01022189",{"$f":"VLOOKUP(A1424,'Output Areas'!$A:$E,5,FALSE)","v":"Town and Fringe"},"A flat; maisonette; apartment","Total: Tenure (excluding living rent free)","Total: Number of rooms",{"$f":"VLOOKUP(G1424,Cntrol!$F$3:$G$9,2,FALSE)","v":0},9,4,1,0,0,4]
["E01022189","E01022189 Cotswold 006B","E01022189",{"$f":"VLOOKUP(A1425,'Output Areas'!$A:$E,5,FALSE)","v":"Town and Fringe"},"A flat; maisonette; apartment","Total: Tenure (excluding living rent free)","3 rooms or less",{"$f":"VLOOKUP(G1425,Cntrol!$F$3:$G$9,2,FALSE)","v":2},7,3,1,0,0,3]
["E01022189","E01022189 Cotswold 006B","E01022189",{"$f":"VLOOKUP(A1426,'Output Areas'!$A:$E,5,FALSE)","v":"Town and Fringe"},"A flat; maisonette; apartment","Total: Tenure (excluding living rent free)","4 rooms",{"$f":"VLOOKUP(G1426,Cntrol!$F$3:$G$9,2,FALSE)","v":2},1,0,0,0,0,1]
["E01022189","E01022189 Cotswold 006B","E01022189",{"$f":"VLOOKUP(A1427,'Output Areas'!$A:$E,5,FALSE)","v":"Town and Fringe"},"A flat; maisonette; apartment","Total: Tenure (excluding living rent free)","6 rooms",{"$f":"VLOOKUP(G1427,Cntrol!$F$3:$G$9,2,FALSE)","v":3},1,1,0,0,0,0]
["E01022189","E01022189 Cotswold 006B","E01022189",{"$f":"VLOOKUP(A1428,'Output Areas'!$A:$E,5,FALSE)","v":"Town and Fringe"},"A flat; maisonette; apartment","Owned","Total: Number of rooms",{"$f":"VLOOKUP(G1428,Cntrol!$F$3:$G$9,2,FALSE)","v":0},3,3,0,0,0,0]
["E01022189","E01022189 Cotswold 006B","E01022189",{"$f":"VLOOKUP(A1429,'Output Areas'!$A:$E,5,FALSE)","v":"Town and Fringe"},"A flat; maisonette; apartment","Owned","3 rooms or less",{"$f":"VLOOKUP(G1429,Cntrol!$F$3:$G$9,2,FALSE)","v":2},2,2,0,0,0,0]
["E01022189","E01022189 Cotswold 006B","E01022189",{"$f":"VLOOKUP(A1430,'Output Areas'!$A:$E,5,FALSE)","v":"Town and Fringe"},"A flat; maisonette; apartment","Owned","6 rooms",{"$f":"VLOOKUP(G1430,Cntrol!$F$3:$G$9,2,FALSE)","v":3},1,1,0,0,0,0]
["E01022189","E01022189 Cotswold 006B","E01022189",{"$f":"VLOOKUP(A1431,'Output Areas'!$A:$E,5,FALSE)","v":"Town and Fringe"},"A flat; maisonette; apartment","Shared ownership or rented (excluding living rent free)","Total: Number of rooms",{"$f":"VLOOKUP(G1431,Cntrol!$F$3:$G$9,2,FALSE)","v":0},6,1,1,0,0,4]
["E01022189","E01022189 Cotswold 006B","E01022189",{"$f":"VLOOKUP(A1432,'Output Areas'!$A:$E,5,FALSE)","v":"Town and Fringe"},"A flat; maisonette; apartment","Shared ownership or rented (excluding living rent free)","3 rooms or less",{"$f":"VLOOKUP(G1432,Cntrol!$F$3:$G$9,2,FALSE)","v":2},5,1,1,0,0,3]
["E01022189","E01022189 Cotswold 006B","E01022189",{"$f":"VLOOKUP(A1433,'Output Areas'!$A:$E,5,FALSE)","v":"Town and Fringe"},"A flat; maisonette; apartment","Shared ownership or rented (excluding living rent free)","4 rooms",{"$f":"VLOOKUP(G1433,Cntrol!$F$3:$G$9,2,FALSE)","v":2},1,0,0,0,0,1]
["E01022190","E01022190 Cotswold 006C","E01022190",{"$f":"VLOOKUP(A1434,'Output Areas'!$A:$E,5,FALSE)","v":"Town and Fringe"},"Total: Accommodation type (excluding caravans / temporary structures)","Total: Tenure (excluding living rent free)","Total: Number of rooms",{"$f":"VLOOKUP(G1434,Cntrol!$F$3:$G$9,2,FALSE)","v":0},526,222,185,40,23,56]
["E01022190","E01022190 Cotswold 006C","E01022190",{"$f":"VLOOKUP(A1435,'Output Areas'!$A:$E,5,FALSE)","v":"Town and Fringe"},"Total: Accommodation type (excluding caravans / temporary structures)","Total: Tenure (excluding living rent free)","3 rooms or less",{"$f":"VLOOKUP(G1435,Cntrol!$F$3:$G$9,2,FALSE)","v":2},24,9,2,1,0,12]
["E01022190","E01022190 Cotswold 006C","E01022190",{"$f":"VLOOKUP(A1436,'Output Areas'!$A:$E,5,FALSE)","v":"Town and Fringe"},"Total: Accommodation type (excluding caravans / temporary structures)","Total: Tenure (excluding living rent free)","4 rooms",{"$f":"VLOOKUP(G1436,Cntrol!$F$3:$G$9,2,FALSE)","v":2},54,29,13,1,0,11]
["E01022190","E01022190 Cotswold 006C","E01022190",{"$f":"VLOOKUP(A1437,'Output Areas'!$A:$E,5,FALSE)","v":"Town and Fringe"},"Total: Accommodation type (excluding caravans / temporary structures)","Total: Tenure (excluding living rent free)","5 rooms",{"$f":"VLOOKUP(G1437,Cntrol!$F$3:$G$9,2,FALSE)","v":3},191,86,71,14,3,17]
["E01022190","E01022190 Cotswold 006C","E01022190",{"$f":"VLOOKUP(A1438,'Output Areas'!$A:$E,5,FALSE)","v":"Town and Fringe"},"Total: Accommodation type (excluding caravans / temporary structures)","Total: Tenure (excluding living rent free)","6 rooms",{"$f":"VLOOKUP(G1438,Cntrol!$F$3:$G$9,2,FALSE)","v":3},155,67,53,14,10,11]
["E01022190","E01022190 Cotswold 006C","E01022190",{"$f":"VLOOKUP(A1439,'Output Areas'!$A:$E,5,FALSE)","v":"Town and Fringe"},"Total: Accommodation type (excluding caravans / temporary structures)","Total: Tenure (excluding living rent free)","7 rooms",{"$f":"VLOOKUP(G1439,Cntrol!$F$3:$G$9,2,FALSE)","v":4},58,25,23,4,2,4]
["E01022190","E01022190 Cotswold 006C","E01022190",{"$f":"VLOOKUP(A1440,'Output Areas'!$A:$E,5,FALSE)","v":"Town and Fringe"},"Total: Accommodation type (excluding caravans / temporary structures)","Total: Tenure (excluding living rent free)","8 rooms or more",{"$f":"VLOOKUP(G1440,Cntrol!$F$3:$G$9,2,FALSE)","v":5},44,6,23,6,8,1]
["E01022190","E01022190 Cotswold 006C","E01022190",{"$f":"VLOOKUP(A1441,'Output Areas'!$A:$E,5,FALSE)","v":"Town and Fringe"},"Total: Accommodation type (excluding caravans / temporary structures)","Owned","Total: Number of rooms",{"$f":"VLOOKUP(G1441,Cntrol!$F$3:$G$9,2,FALSE)","v":0},388,153,154,37,17,27]
["E01022190","E01022190 Cotswold 006C","E01022190",{"$f":"VLOOKUP(A1442,'Output Areas'!$A:$E,5,FALSE)","v":"Town and Fringe"},"Total: Accommodation type (excluding caravans / temporary structures)","Owned","3 rooms or less",{"$f":"VLOOKUP(G1442,Cntrol!$F$3:$G$9,2,FALSE)","v":2},4,1,0,1,0,2]
["E01022190","E01022190 Cotswold 006C","E01022190",{"$f":"VLOOKUP(A1443,'Output Areas'!$A:$E,5,FALSE)","v":"Town and Fringe"},"Total: Accommodation type (excluding caravans / temporary structures)","Owned","4 rooms",{"$f":"VLOOKUP(G1443,Cntrol!$F$3:$G$9,2,FALSE)","v":2},19,13,5,1,0,0]
["E01022190","E01022190 Cotswold 006C","E01022190",{"$f":"VLOOKUP(A1444,'Output Areas'!$A:$E,5,FALSE)","v":"Town and Fringe"},"Total: Accommodation type (excluding caravans / temporary structures)","Owned","5 rooms",{"$f":"VLOOKUP(G1444,Cntrol!$F$3:$G$9,2,FALSE)","v":3},143,56,60,13,3,11]
["E01022190","E01022190 Cotswold 006C","E01022190",{"$f":"VLOOKUP(A1445,'Output Areas'!$A:$E,5,FALSE)","v":"Town and Fringe"},"Total: Accommodation type (excluding caravans / temporary structures)","Owned","6 rooms",{"$f":"VLOOKUP(G1445,Cntrol!$F$3:$G$9,2,FALSE)","v":3},130,54,46,12,9,9]
["E01022190","E01022190 Cotswold 006C","E01022190",{"$f":"VLOOKUP(A1446,'Output Areas'!$A:$E,5,FALSE)","v":"Town and Fringe"},"Total: Accommodation type (excluding caravans / temporary structures)","Owned","7 rooms",{"$f":"VLOOKUP(G1446,Cntrol!$F$3:$G$9,2,FALSE)","v":4},52,23,21,4,0,4]
["E01022190","E01022190 Cotswold 006C","E01022190",{"$f":"VLOOKUP(A1447,'Output Areas'!$A:$E,5,FALSE)","v":"Town and Fringe"},"Total: Accommodation type (excluding caravans / temporary structures)","Owned","8 rooms or more",{"$f":"VLOOKUP(G1447,Cntrol!$F$3:$G$9,2,FALSE)","v":5},40,6,22,6,5,1]
["E01022190","E01022190 Cotswold 006C","E01022190",{"$f":"VLOOKUP(A1448,'Output Areas'!$A:$E,5,FALSE)","v":"Town and Fringe"},"Total: Accommodation type (excluding caravans / temporary structures)","Shared ownership or rented (excluding living rent free)","Total: Number of rooms",{"$f":"VLOOKUP(G1448,Cntrol!$F$3:$G$9,2,FALSE)","v":0},138,69,31,3,6,29]
["E01022190","E01022190 Cotswold 006C","E01022190",{"$f":"VLOOKUP(A1449,'Output Areas'!$A:$E,5,FALSE)","v":"Town and Fringe"},"Total: Accommodation type (excluding caravans / temporary structures)","Shared ownership or rented (excluding living rent free)","3 rooms or less",{"$f":"VLOOKUP(G1449,Cntrol!$F$3:$G$9,2,FALSE)","v":2},20,8,2,0,0,10]
["E01022190","E01022190 Cotswold 006C","E01022190",{"$f":"VLOOKUP(A1450,'Output Areas'!$A:$E,5,FALSE)","v":"Town and Fringe"},"Total: Accommodation type (excluding caravans / temporary structures)","Shared ownership or rented (excluding living rent free)","4 rooms",{"$f":"VLOOKUP(G1450,Cntrol!$F$3:$G$9,2,FALSE)","v":2},35,16,8,0,0,11]
["E01022190","E01022190 Cotswold 006C","E01022190",{"$f":"VLOOKUP(A1451,'Output Areas'!$A:$E,5,FALSE)","v":"Town and Fringe"},"Total: Accommodation type (excluding caravans / temporary structures)","Shared ownership or rented (excluding living rent free)","5 rooms",{"$f":"VLOOKUP(G1451,Cntrol!$F$3:$G$9,2,FALSE)","v":3},48,30,11,1,0,6]
["E01022190","E01022190 Cotswold 006C","E01022190",{"$f":"VLOOKUP(A1452,'Output Areas'!$A:$E,5,FALSE)","v":"Town and Fringe"},"Total: Accommodation type (excluding caravans / temporary structures)","Shared ownership or rented (excluding living rent free)","6 rooms",{"$f":"VLOOKUP(G1452,Cntrol!$F$3:$G$9,2,FALSE)","v":3},25,13,7,2,1,2]
["E01022190","E01022190 Cotswold 006C","E01022190",{"$f":"VLOOKUP(A1453,'Output Areas'!$A:$E,5,FALSE)","v":"Town and Fringe"},"Total: Accommodation type (excluding caravans / temporary structures)","Shared ownership or rented (excluding living rent free)","7 rooms",{"$f":"VLOOKUP(G1453,Cntrol!$F$3:$G$9,2,FALSE)","v":4},6,2,2,0,2,0]
["E01022190","E01022190 Cotswold 006C","E01022190",{"$f":"VLOOKUP(A1454,'Output Areas'!$A:$E,5,FALSE)","v":"Town and Fringe"},"Total: Accommodation type (excluding caravans / temporary structures)","Shared ownership or rented (excluding living rent free)","8 rooms or more",{"$f":"VLOOKUP(G1454,Cntrol!$F$3:$G$9,2,FALSE)","v":5},4,0,1,0,3,0]
["E01022190","E01022190 Cotswold 006C","E01022190",{"$f":"VLOOKUP(A1455,'Output Areas'!$A:$E,5,FALSE)","v":"Town and Fringe"},"Detached; semi-detached; terraced whole house or bungalow","Total: Tenure (excluding living rent free)","Total: Number of rooms",{"$f":"VLOOKUP(G1455,Cntrol!$F$3:$G$9,2,FALSE)","v":0},497,209,184,40,23,41]
["E01022190","E01022190 Cotswold 006C","E01022190",{"$f":"VLOOKUP(A1456,'Output Areas'!$A:$E,5,FALSE)","v":"Town and Fringe"},"Detached; semi-detached; terraced whole house or bungalow","Total: Tenure (excluding living rent free)","3 rooms or less",{"$f":"VLOOKUP(G1456,Cntrol!$F$3:$G$9,2,FALSE)","v":2},6,2,1,1,0,2]
["E01022190","E01022190 Cotswold 006C","E01022190",{"$f":"VLOOKUP(A1457,'Output Areas'!$A:$E,5,FALSE)","v":"Town and Fringe"},"Detached; semi-detached; terraced whole house or bungalow","Total: Tenure (excluding living rent free)","4 rooms",{"$f":"VLOOKUP(G1457,Cntrol!$F$3:$G$9,2,FALSE)","v":2},43,23,13,1,0,6]
["E01022190","E01022190 Cotswold 006C","E01022190",{"$f":"VLOOKUP(A1458,'Output Areas'!$A:$E,5,FALSE)","v":"Town and Fringe"},"Detached; semi-detached; terraced whole house or bungalow","Total: Tenure (excluding living rent free)","5 rooms",{"$f":"VLOOKUP(G1458,Cntrol!$F$3:$G$9,2,FALSE)","v":3},191,86,71,14,3,17]
["E01022190","E01022190 Cotswold 006C","E01022190",{"$f":"VLOOKUP(A1459,'Output Areas'!$A:$E,5,FALSE)","v":"Town and Fringe"},"Detached; semi-detached; terraced whole house or bungalow","Total: Tenure (excluding living rent free)","6 rooms",{"$f":"VLOOKUP(G1459,Cntrol!$F$3:$G$9,2,FALSE)","v":3},155,67,53,14,10,11]
["E01022190","E01022190 Cotswold 006C","E01022190",{"$f":"VLOOKUP(A1460,'Output Areas'!$A:$E,5,FALSE)","v":"Town and Fringe"},"Detached; semi-detached; terraced whole house or bungalow","Total: Tenure (excluding living rent free)","7 rooms",{"$f":"VLOOKUP(G1460,Cntrol!$F$3:$G$9,2,FALSE)","v":4},58,25,23,4,2,4]
["E01022190","E01022190 Cotswold 006C","E01022190",{"$f":"VLOOKUP(A1461,'Output Areas'!$A:$E,5,FALSE)","v":"Town and Fringe"},"Detached; semi-detached; terraced whole house or bungalow","Total: Tenure (excluding living rent free)","8 rooms or more",{"$f":"VLOOKUP(G1461,Cntrol!$F$3:$G$9,2,FALSE)","v":5},44,6,23,6,8,1]
["E01022190","E01022190 Cotswold 006C","E01022190",{"$f":"VLOOKUP(A1462,'Output Areas'!$A:$E,5,FALSE)","v":"Town and Fringe"},"Detached; semi-detached; terraced whole house or bungalow","Owned","Total: Number of rooms",{"$f":"VLOOKUP(G1462,Cntrol!$F$3:$G$9,2,FALSE)","v":0},388,153,154,37,17,27]
["E01022190","E01022190 Cotswold 006C","E01022190",{"$f":"VLOOKUP(A1463,'Output Areas'!$A:$E,5,FALSE)","v":"Town and Fringe"},"Detached; semi-detached; terraced whole house or bungalow","Owned","3 rooms or less",{"$f":"VLOOKUP(G1463,Cntrol!$F$3:$G$9,2,FALSE)","v":2},4,1,0,1,0,2]
["E01022190","E01022190 Cotswold 006C","E01022190",{"$f":"VLOOKUP(A1464,'Output Areas'!$A:$E,5,FALSE)","v":"Town and Fringe"},"Detached; semi-detached; terraced whole house or bungalow","Owned","4 rooms",{"$f":"VLOOKUP(G1464,Cntrol!$F$3:$G$9,2,FALSE)","v":2},19,13,5,1,0,0]
["E01022190","E01022190 Cotswold 006C","E01022190",{"$f":"VLOOKUP(A1465,'Output Areas'!$A:$E,5,FALSE)","v":"Town and Fringe"},"Detached; semi-detached; terraced whole house or bungalow","Owned","5 rooms",{"$f":"VLOOKUP(G1465,Cntrol!$F$3:$G$9,2,FALSE)","v":3},143,56,60,13,3,11]
["E01022190","E01022190 Cotswold 006C","E01022190",{"$f":"VLOOKUP(A1466,'Output Areas'!$A:$E,5,FALSE)","v":"Town and Fringe"},"Detached; semi-detached; terraced whole house or bungalow","Owned","6 rooms",{"$f":"VLOOKUP(G1466,Cntrol!$F$3:$G$9,2,FALSE)","v":3},130,54,46,12,9,9]
["E01022190","E01022190 Cotswold 006C","E01022190",{"$f":"VLOOKUP(A1467,'Output Areas'!$A:$E,5,FALSE)","v":"Town and Fringe"},"Detached; semi-detached; terraced whole house or bungalow","Owned","7 rooms",{"$f":"VLOOKUP(G1467,Cntrol!$F$3:$G$9,2,FALSE)","v":4},52,23,21,4,0,4]
["E01022190","E01022190 Cotswold 006C","E01022190",{"$f":"VLOOKUP(A1468,'Output Areas'!$A:$E,5,FALSE)","v":"Town and Fringe"},"Detached; semi-detached; terraced whole house or bungalow","Owned","8 rooms or more",{"$f":"VLOOKUP(G1468,Cntrol!$F$3:$G$9,2,FALSE)","v":5},40,6,22,6,5,1]
["E01022190","E01022190 Cotswold 006C","E01022190",{"$f":"VLOOKUP(A1469,'Output Areas'!$A:$E,5,FALSE)","v":"Town and Fringe"},"Detached; semi-detached; terraced whole house or bungalow","Shared ownership or rented (excluding living rent free)","Total: Number of rooms",{"$f":"VLOOKUP(G1469,Cntrol!$F$3:$G$9,2,FALSE)","v":0},109,56,30,3,6,14]
["E01022190","E01022190 Cotswold 006C","E01022190",{"$f":"VLOOKUP(A1470,'Output Areas'!$A:$E,5,FALSE)","v":"Town and Fringe"},"Detached; semi-detached; terraced whole house or bungalow","Shared ownership or rented (excluding living rent free)","3 rooms or less",{"$f":"VLOOKUP(G1470,Cntrol!$F$3:$G$9,2,FALSE)","v":2},2,1,1,0,0,0]
["E01022190","E01022190 Cotswold 006C","E01022190",{"$f":"VLOOKUP(A1471,'Output Areas'!$A:$E,5,FALSE)","v":"Town and Fringe"},"Detached; semi-detached; terraced whole house or bungalow","Shared ownership or rented (excluding living rent free)","4 rooms",{"$f":"VLOOKUP(G1471,Cntrol!$F$3:$G$9,2,FALSE)","v":2},24,10,8,0,0,6]
["E01022190","E01022190 Cotswold 006C","E01022190",{"$f":"VLOOKUP(A1472,'Output Areas'!$A:$E,5,FALSE)","v":"Town and Fringe"},"Detached; semi-detached; terraced whole house or bungalow","Shared ownership or rented (excluding living rent free)","5 rooms",{"$f":"VLOOKUP(G1472,Cntrol!$F$3:$G$9,2,FALSE)","v":3},48,30,11,1,0,6]
["E01022190","E01022190 Cotswold 006C","E01022190",{"$f":"VLOOKUP(A1473,'Output Areas'!$A:$E,5,FALSE)","v":"Town and Fringe"},"Detached; semi-detached; terraced whole house or bungalow","Shared ownership or rented (excluding living rent free)","6 rooms",{"$f":"VLOOKUP(G1473,Cntrol!$F$3:$G$9,2,FALSE)","v":3},25,13,7,2,1,2]
["E01022190","E01022190 Cotswold 006C","E01022190",{"$f":"VLOOKUP(A1474,'Output Areas'!$A:$E,5,FALSE)","v":"Town and Fringe"},"Detached; semi-detached; terraced whole house or bungalow","Shared ownership or rented (excluding living rent free)","7 rooms",{"$f":"VLOOKUP(G1474,Cntrol!$F$3:$G$9,2,FALSE)","v":4},6,2,2,0,2,0]
["E01022190","E01022190 Cotswold 006C","E01022190",{"$f":"VLOOKUP(A1475,'Output Areas'!$A:$E,5,FALSE)","v":"Town and Fringe"},"Detached; semi-detached; terraced whole house or bungalow","Shared ownership or rented (excluding living rent free)","8 rooms or more",{"$f":"VLOOKUP(G1475,Cntrol!$F$3:$G$9,2,FALSE)","v":5},4,0,1,0,3,0]
["E01022190","E01022190 Cotswold 006C","E01022190",{"$f":"VLOOKUP(A1476,'Output Areas'!$A:$E,5,FALSE)","v":"Town and Fringe"},"A flat; maisonette; apartment","Total: Tenure (excluding living rent free)","Total: Number of rooms",{"$f":"VLOOKUP(G1476,Cntrol!$F$3:$G$9,2,FALSE)","v":0},29,13,1,0,0,15]
["E01022190","E01022190 Cotswold 006C","E01022190",{"$f":"VLOOKUP(A1477,'Output Areas'!$A:$E,5,FALSE)","v":"Town and Fringe"},"A flat; maisonette; apartment","Total: Tenure (excluding living rent free)","3 rooms or less",{"$f":"VLOOKUP(G1477,Cntrol!$F$3:$G$9,2,FALSE)","v":2},18,7,1,0,0,10]
["E01022190","E01022190 Cotswold 006C","E01022190",{"$f":"VLOOKUP(A1478,'Output Areas'!$A:$E,5,FALSE)","v":"Town and Fringe"},"A flat; maisonette; apartment","Total: Tenure (excluding living rent free)","4 rooms",{"$f":"VLOOKUP(G1478,Cntrol!$F$3:$G$9,2,FALSE)","v":2},11,6,0,0,0,5]
["E01022190","E01022190 Cotswold 006C","E01022190",{"$f":"VLOOKUP(A1479,'Output Areas'!$A:$E,5,FALSE)","v":"Town and Fringe"},"A flat; maisonette; apartment","Shared ownership or rented (excluding living rent free)","Total: Number of rooms",{"$f":"VLOOKUP(G1479,Cntrol!$F$3:$G$9,2,FALSE)","v":0},29,13,1,0,0,15]
["E01022190","E01022190 Cotswold 006C","E01022190",{"$f":"VLOOKUP(A1480,'Output Areas'!$A:$E,5,FALSE)","v":"Town and Fringe"},"A flat; maisonette; apartment","Shared ownership or rented (excluding living rent free)","3 rooms or less",{"$f":"VLOOKUP(G1480,Cntrol!$F$3:$G$9,2,FALSE)","v":2},18,7,1,0,0,10]
["E01022190","E01022190 Cotswold 006C","E01022190",{"$f":"VLOOKUP(A1481,'Output Areas'!$A:$E,5,FALSE)","v":"Town and Fringe"},"A flat; maisonette; apartment","Shared ownership or rented (excluding living rent free)","4 rooms",{"$f":"VLOOKUP(G1481,Cntrol!$F$3:$G$9,2,FALSE)","v":2},11,6,0,0,0,5]
["E01022196","E01022196 Cotswold 006D","E01022196",{"$f":"VLOOKUP(A1482,'Output Areas'!$A:$E,5,FALSE)","v":"Town and Fringe"},"Total: Accommodation type (excluding caravans / temporary structures)","Total: Tenure (excluding living rent free)","Total: Number of rooms",{"$f":"VLOOKUP(G1482,Cntrol!$F$3:$G$9,2,FALSE)","v":0},722,309,238,74,24,77]
["E01022196","E01022196 Cotswold 006D","E01022196",{"$f":"VLOOKUP(A1483,'Output Areas'!$A:$E,5,FALSE)","v":"Town and Fringe"},"Total: Accommodation type (excluding caravans / temporary structures)","Total: Tenure (excluding living rent free)","3 rooms or less",{"$f":"VLOOKUP(G1483,Cntrol!$F$3:$G$9,2,FALSE)","v":2},41,27,3,1,0,10]
["E01022196","E01022196 Cotswold 006D","E01022196",{"$f":"VLOOKUP(A1484,'Output Areas'!$A:$E,5,FALSE)","v":"Town and Fringe"},"Total: Accommodation type (excluding caravans / temporary structures)","Total: Tenure (excluding living rent free)","4 rooms",{"$f":"VLOOKUP(G1484,Cntrol!$F$3:$G$9,2,FALSE)","v":2},88,36,21,0,0,31]
["E01022196","E01022196 Cotswold 006D","E01022196",{"$f":"VLOOKUP(A1485,'Output Areas'!$A:$E,5,FALSE)","v":"Town and Fringe"},"Total: Accommodation type (excluding caravans / temporary structures)","Total: Tenure (excluding living rent free)","5 rooms",{"$f":"VLOOKUP(G1485,Cntrol!$F$3:$G$9,2,FALSE)","v":3},143,73,37,13,2,18]
["E01022196","E01022196 Cotswold 006D","E01022196",{"$f":"VLOOKUP(A1486,'Output Areas'!$A:$E,5,FALSE)","v":"Town and Fringe"},"Total: Accommodation type (excluding caravans / temporary structures)","Total: Tenure (excluding living rent free)","6 rooms",{"$f":"VLOOKUP(G1486,Cntrol!$F$3:$G$9,2,FALSE)","v":3},163,87,47,16,1,12]
["E01022196","E01022196 Cotswold 006D","E01022196",{"$f":"VLOOKUP(A1487,'Output Areas'!$A:$E,5,FALSE)","v":"Town and Fringe"},"Total: Accommodation type (excluding caravans / temporary structures)","Total: Tenure (excluding living rent free)","7 rooms",{"$f":"VLOOKUP(G1487,Cntrol!$F$3:$G$9,2,FALSE)","v":4},111,47,45,8,7,4]
["E01022196","E01022196 Cotswold 006D","E01022196",{"$f":"VLOOKUP(A1488,'Output Areas'!$A:$E,5,FALSE)","v":"Town and Fringe"},"Total: Accommodation type (excluding caravans / temporary structures)","Total: Tenure (excluding living rent free)","8 rooms or more",{"$f":"VLOOKUP(G1488,Cntrol!$F$3:$G$9,2,FALSE)","v":5},176,39,85,36,14,2]
["E01022196","E01022196 Cotswold 006D","E01022196",{"$f":"VLOOKUP(A1489,'Output Areas'!$A:$E,5,FALSE)","v":"Town and Fringe"},"Total: Accommodation type (excluding caravans / temporary structures)","Owned","Total: Number of rooms",{"$f":"VLOOKUP(G1489,Cntrol!$F$3:$G$9,2,FALSE)","v":0},552,219,209,63,20,41]
["E01022196","E01022196 Cotswold 006D","E01022196",{"$f":"VLOOKUP(A1490,'Output Areas'!$A:$E,5,FALSE)","v":"Town and Fringe"},"Total: Accommodation type (excluding caravans / temporary structures)","Owned","3 rooms or less",{"$f":"VLOOKUP(G1490,Cntrol!$F$3:$G$9,2,FALSE)","v":2},6,3,2,0,0,1]
["E01022196","E01022196 Cotswold 006D","E01022196",{"$f":"VLOOKUP(A1491,'Output Areas'!$A:$E,5,FALSE)","v":"Town and Fringe"},"Total: Accommodation type (excluding caravans / temporary structures)","Owned","4 rooms",{"$f":"VLOOKUP(G1491,Cntrol!$F$3:$G$9,2,FALSE)","v":2},50,18,15,0,0,17]
["E01022196","E01022196 Cotswold 006D","E01022196",{"$f":"VLOOKUP(A1492,'Output Areas'!$A:$E,5,FALSE)","v":"Town and Fringe"},"Total: Accommodation type (excluding caravans / temporary structures)","Owned","5 rooms",{"$f":"VLOOKUP(G1492,Cntrol!$F$3:$G$9,2,FALSE)","v":3},83,43,23,8,0,9]
["E01022196","E01022196 Cotswold 006D","E01022196",{"$f":"VLOOKUP(A1493,'Output Areas'!$A:$E,5,FALSE)","v":"Town and Fringe"},"Total: Accommodation type (excluding caravans / temporary structures)","Owned","6 rooms",{"$f":"VLOOKUP(G1493,Cntrol!$F$3:$G$9,2,FALSE)","v":3},138,72,43,13,1,9]
["E01022196","E01022196 Cotswold 006D","E01022196",{"$f":"VLOOKUP(A1494,'Output Areas'!$A:$E,5,FALSE)","v":"Town and Fringe"},"Total: Accommodation type (excluding caravans / temporary structures)","Owned","7 rooms",{"$f":"VLOOKUP(G1494,Cntrol!$F$3:$G$9,2,FALSE)","v":4},104,46,43,7,5,3]
["E01022196","E01022196 Cotswold 006D","E01022196",{"$f":"VLOOKUP(A1495,'Output Areas'!$A:$E,5,FALSE)","v":"Town and Fringe"},"Total: Accommodation type (excluding caravans / temporary structures)","Owned","8 rooms or more",{"$f":"VLOOKUP(G1495,Cntrol!$F$3:$G$9,2,FALSE)","v":5},171,37,83,35,14,2]
["E01022196","E01022196 Cotswold 006D","E01022196",{"$f":"VLOOKUP(A1496,'Output Areas'!$A:$E,5,FALSE)","v":"Town and Fringe"},"Total: Accommodation type (excluding caravans / temporary structures)","Shared ownership or rented (excluding living rent free)","Total: Number of rooms",{"$f":"VLOOKUP(G1496,Cntrol!$F$3:$G$9,2,FALSE)","v":0},170,90,29,11,4,36]
["E01022196","E01022196 Cotswold 006D","E01022196",{"$f":"VLOOKUP(A1497,'Output Areas'!$A:$E,5,FALSE)","v":"Town and Fringe"},"Total: Accommodation type (excluding caravans / temporary structures)","Shared ownership or rented (excluding living rent free)","3 rooms or less",{"$f":"VLOOKUP(G1497,Cntrol!$F$3:$G$9,2,FALSE)","v":2},35,24,1,1,0,9]
["E01022196","E01022196 Cotswold 006D","E01022196",{"$f":"VLOOKUP(A1498,'Output Areas'!$A:$E,5,FALSE)","v":"Town and Fringe"},"Total: Accommodation type (excluding caravans / temporary structures)","Shared ownership or rented (excluding living rent free)","4 rooms",{"$f":"VLOOKUP(G1498,Cntrol!$F$3:$G$9,2,FALSE)","v":2},38,18,6,0,0,14]
["E01022196","E01022196 Cotswold 006D","E01022196",{"$f":"VLOOKUP(A1499,'Output Areas'!$A:$E,5,FALSE)","v":"Town and Fringe"},"Total: Accommodation type (excluding caravans / temporary structures)","Shared ownership or rented (excluding living rent free)","5 rooms",{"$f":"VLOOKUP(G1499,Cntrol!$F$3:$G$9,2,FALSE)","v":3},60,30,14,5,2,9]
["E01022196","E01022196 Cotswold 006D","E01022196",{"$f":"VLOOKUP(A1500,'Output Areas'!$A:$E,5,FALSE)","v":"Town and Fringe"},"Total: Accommodation type (excluding caravans / temporary structures)","Shared ownership or rented (excluding living rent free)","6 rooms",{"$f":"VLOOKUP(G1500,Cntrol!$F$3:$G$9,2,FALSE)","v":3},25,15,4,3,0,3]
["E01022196","E01022196 Cotswold 006D","E01022196",{"$f":"VLOOKUP(A1501,'Output Areas'!$A:$E,5,FALSE)","v":"Town and Fringe"},"Total: Accommodation type (excluding caravans / temporary structures)","Shared ownership or rented (excluding living rent free)","7 rooms",{"$f":"VLOOKUP(G1501,Cntrol!$F$3:$G$9,2,FALSE)","v":4},7,1,2,1,2,1]
["E01022196","E01022196 Cotswold 006D","E01022196",{"$f":"VLOOKUP(A1502,'Output Areas'!$A:$E,5,FALSE)","v":"Town and Fringe"},"Total: Accommodation type (excluding caravans / temporary structures)","Shared ownership or rented (excluding living rent free)","8 rooms or more",{"$f":"VLOOKUP(G1502,Cntrol!$F$3:$G$9,2,FALSE)","v":5},5,2,2,1,0,0]
["E01022196","E01022196 Cotswold 006D","E01022196",{"$f":"VLOOKUP(A1503,'Output Areas'!$A:$E,5,FALSE)","v":"Town and Fringe"},"Detached; semi-detached; terraced whole house or bungalow","Total: Tenure (excluding living rent free)","Total: Number of rooms",{"$f":"VLOOKUP(G1503,Cntrol!$F$3:$G$9,2,FALSE)","v":0},659,271,233,73,24,58]
["E01022196","E01022196 Cotswold 006D","E01022196",{"$f":"VLOOKUP(A1504,'Output Areas'!$A:$E,5,FALSE)","v":"Town and Fringe"},"Detached; semi-detached; terraced whole house or bungalow","Total: Tenure (excluding living rent free)","3 rooms or less",{"$f":"VLOOKUP(G1504,Cntrol!$F$3:$G$9,2,FALSE)","v":2},12,8,1,0,0,3]
["E01022196","E01022196 Cotswold 006D","E01022196",{"$f":"VLOOKUP(A1505,'Output Areas'!$A:$E,5,FALSE)","v":"Town and Fringe"},"Detached; semi-detached; terraced whole house or bungalow","Total: Tenure (excluding living rent free)","4 rooms",{"$f":"VLOOKUP(G1505,Cntrol!$F$3:$G$9,2,FALSE)","v":2},56,19,18,0,0,19]
["E01022196","E01022196 Cotswold 006D","E01022196",{"$f":"VLOOKUP(A1506,'Output Areas'!$A:$E,5,FALSE)","v":"Town and Fringe"},"Detached; semi-detached; terraced whole house or bungalow","Total: Tenure (excluding living rent free)","5 rooms",{"$f":"VLOOKUP(G1506,Cntrol!$F$3:$G$9,2,FALSE)","v":3},141,71,37,13,2,18]
["E01022196","E01022196 Cotswold 006D","E01022196",{"$f":"VLOOKUP(A1507,'Output Areas'!$A:$E,5,FALSE)","v":"Town and Fringe"},"Detached; semi-detached; terraced whole house or bungalow","Total: Tenure (excluding living rent free)","6 rooms",{"$f":"VLOOKUP(G1507,Cntrol!$F$3:$G$9,2,FALSE)","v":3},163,87,47,16,1,12]
["E01022196","E01022196 Cotswold 006D","E01022196",{"$f":"VLOOKUP(A1508,'Output Areas'!$A:$E,5,FALSE)","v":"Town and Fringe"},"Detached; semi-detached; terraced whole house or bungalow","Total: Tenure (excluding living rent free)","7 rooms",{"$f":"VLOOKUP(G1508,Cntrol!$F$3:$G$9,2,FALSE)","v":4},111,47,45,8,7,4]
["E01022196","E01022196 Cotswold 006D","E01022196",{"$f":"VLOOKUP(A1509,'Output Areas'!$A:$E,5,FALSE)","v":"Town and Fringe"},"Detached; semi-detached; terraced whole house or bungalow","Total: Tenure (excluding living rent free)","8 rooms or more",{"$f":"VLOOKUP(G1509,Cntrol!$F$3:$G$9,2,FALSE)","v":5},176,39,85,36,14,2]
["E01022196","E01022196 Cotswold 006D","E01022196",{"$f":"VLOOKUP(A1510,'Output Areas'!$A:$E,5,FALSE)","v":"Town and Fringe"},"Detached; semi-detached; terraced whole house or bungalow","Owned","Total: Number of rooms",{"$f":"VLOOKUP(G1510,Cntrol!$F$3:$G$9,2,FALSE)","v":0},540,213,206,63,20,38]
["E01022196","E01022196 Cotswold 006D","E01022196",{"$f":"VLOOKUP(A1511,'Output Areas'!$A:$E,5,FALSE)","v":"Town and Fringe"},"Detached; semi-detached; terraced whole house or bungalow","Owned","3 rooms or less",{"$f":"VLOOKUP(G1511,Cntrol!$F$3:$G$9,2,FALSE)","v":2},4,2,1,0,0,1]
["E01022196","E01022196 Cotswold 006D","E01022196",{"$f":"VLOOKUP(A1512,'Output Areas'!$A:$E,5,FALSE)","v":"Town and Fringe"},"Detached; semi-detached; terraced whole house or bungalow","Owned","4 rooms",{"$f":"VLOOKUP(G1512,Cntrol!$F$3:$G$9,2,FALSE)","v":2},41,14,13,0,0,14]
["E01022196","E01022196 Cotswold 006D","E01022196",{"$f":"VLOOKUP(A1513,'Output Areas'!$A:$E,5,FALSE)","v":"Town and Fringe"},"Detached; semi-detached; terraced whole house or bungalow","Owned","5 rooms",{"$f":"VLOOKUP(G1513,Cntrol!$F$3:$G$9,2,FALSE)","v":3},82,42,23,8,0,9]
["E01022196","E01022196 Cotswold 006D","E01022196",{"$f":"VLOOKUP(A1514,'Output Areas'!$A:$E,5,FALSE)","v":"Town and Fringe"},"Detached; semi-detached; terraced whole house or bungalow","Owned","6 rooms",{"$f":"VLOOKUP(G1514,Cntrol!$F$3:$G$9,2,FALSE)","v":3},138,72,43,13,1,9]
["E01022196","E01022196 Cotswold 006D","E01022196",{"$f":"VLOOKUP(A1515,'Output Areas'!$A:$E,5,FALSE)","v":"Town and Fringe"},"Detached; semi-detached; terraced whole house or bungalow","Owned","7 rooms",{"$f":"VLOOKUP(G1515,Cntrol!$F$3:$G$9,2,FALSE)","v":4},104,46,43,7,5,3]
["E01022196","E01022196 Cotswold 006D","E01022196",{"$f":"VLOOKUP(A1516,'Output Areas'!$A:$E,5,FALSE)","v":"Town and Fringe"},"Detached; semi-detached; terraced whole house or bungalow","Owned","8 rooms or more",{"$f":"VLOOKUP(G1516,Cntrol!$F$3:$G$9,2,FALSE)","v":5},171,37,83,35,14,2]
["E01022196","E01022196 Cotswold 006D","E01022196",{"$f":"VLOOKUP(A1517,'Output Areas'!$A:$E,5,FALSE)","v":"Town and Fringe"},"Detached; semi-detached; terraced whole house or bungalow","Shared ownership or rented (excluding living rent free)","Total: Number of rooms",{"$f":"VLOOKUP(G1517,Cntrol!$F$3:$G$9,2,FALSE)","v":0},119,58,27,10,4,20]
["E01022196","E01022196 Cotswold 006D","E01022196",{"$f":"VLOOKUP(A1518,'Output Areas'!$A:$E,5,FALSE)","v":"Town and Fringe"},"Detached; semi-detached; terraced whole house or bungalow","Shared ownership or rented (excluding living rent free)","3 rooms or less",{"$f":"VLOOKUP(G1518,Cntrol!$F$3:$G$9,2,FALSE)","v":2},8,6,0,0,0,2]
["E01022196","E01022196 Cotswold 006D","E01022196",{"$f":"VLOOKUP(A1519,'Output Areas'!$A:$E,5,FALSE)","v":"Town and Fringe"},"Detached; semi-detached; terraced whole house or bungalow","Shared ownership or rented (excluding living rent free)","4 rooms",{"$f":"VLOOKUP(G1519,Cntrol!$F$3:$G$9,2,FALSE)","v":2},15,5,5,0,0,5]
["E01022196","E01022196 Cotswold 006D","E01022196",{"$f":"VLOOKUP(A1520,'Output Areas'!$A:$E,5,FALSE)","v":"Town and Fringe"},"Detached; semi-detached; terraced whole house or bungalow","Shared ownership or rented (excluding living rent free)","5 rooms",{"$f":"VLOOKUP(G1520,Cntrol!$F$3:$G$9,2,FALSE)","v":3},59,29,14,5,2,9]
["E01022196","E01022196 Cotswold 006D","E01022196",{"$f":"VLOOKUP(A1521,'Output Areas'!$A:$E,5,FALSE)","v":"Town and Fringe"},"Detached; semi-detached; terraced whole house or bungalow","Shared ownership or rented (excluding living rent free)","6 rooms",{"$f":"VLOOKUP(G1521,Cntrol!$F$3:$G$9,2,FALSE)","v":3},25,15,4,3,0,3]
["E01022196","E01022196 Cotswold 006D","E01022196",{"$f":"VLOOKUP(A1522,'Output Areas'!$A:$E,5,FALSE)","v":"Town and Fringe"},"Detached; semi-detached; terraced whole house or bungalow","Shared ownership or rented (excluding living rent free)","7 rooms",{"$f":"VLOOKUP(G1522,Cntrol!$F$3:$G$9,2,FALSE)","v":4},7,1,2,1,2,1]
["E01022196","E01022196 Cotswold 006D","E01022196",{"$f":"VLOOKUP(A1523,'Output Areas'!$A:$E,5,FALSE)","v":"Town and Fringe"},"Detached; semi-detached; terraced whole house or bungalow","Shared ownership or rented (excluding living rent free)","8 rooms or more",{"$f":"VLOOKUP(G1523,Cntrol!$F$3:$G$9,2,FALSE)","v":5},5,2,2,1,0,0]
["E01022196","E01022196 Cotswold 006D","E01022196",{"$f":"VLOOKUP(A1524,'Output Areas'!$A:$E,5,FALSE)","v":"Town and Fringe"},"A flat; maisonette; apartment","Total: Tenure (excluding living rent free)","Total: Number of rooms",{"$f":"VLOOKUP(G1524,Cntrol!$F$3:$G$9,2,FALSE)","v":0},63,38,5,1,0,19]
["E01022196","E01022196 Cotswold 006D","E01022196",{"$f":"VLOOKUP(A1525,'Output Areas'!$A:$E,5,FALSE)","v":"Town and Fringe"},"A flat; maisonette; apartment","Total: Tenure (excluding living rent free)","3 rooms or less",{"$f":"VLOOKUP(G1525,Cntrol!$F$3:$G$9,2,FALSE)","v":2},29,19,2,1,0,7]
["E01022196","E01022196 Cotswold 006D","E01022196",{"$f":"VLOOKUP(A1526,'Output Areas'!$A:$E,5,FALSE)","v":"Town and Fringe"},"A flat; maisonette; apartment","Total: Tenure (excluding living rent free)","4 rooms",{"$f":"VLOOKUP(G1526,Cntrol!$F$3:$G$9,2,FALSE)","v":2},32,17,3,0,0,12]
["E01022196","E01022196 Cotswold 006D","E01022196",{"$f":"VLOOKUP(A1527,'Output Areas'!$A:$E,5,FALSE)","v":"Town and Fringe"},"A flat; maisonette; apartment","Total: Tenure (excluding living rent free)","5 rooms",{"$f":"VLOOKUP(G1527,Cntrol!$F$3:$G$9,2,FALSE)","v":3},2,2,0,0,0,0]
["E01022196","E01022196 Cotswold 006D","E01022196",{"$f":"VLOOKUP(A1528,'Output Areas'!$A:$E,5,FALSE)","v":"Town and Fringe"},"A flat; maisonette; apartment","Owned","Total: Number of rooms",{"$f":"VLOOKUP(G1528,Cntrol!$F$3:$G$9,2,FALSE)","v":0},12,6,3,0,0,3]
["E01022196","E01022196 Cotswold 006D","E01022196",{"$f":"VLOOKUP(A1529,'Output Areas'!$A:$E,5,FALSE)","v":"Town and Fringe"},"A flat; maisonette; apartment","Owned","3 rooms or less",{"$f":"VLOOKUP(G1529,Cntrol!$F$3:$G$9,2,FALSE)","v":2},2,1,1,0,0,0]
["E01022196","E01022196 Cotswold 006D","E01022196",{"$f":"VLOOKUP(A1530,'Output Areas'!$A:$E,5,FALSE)","v":"Town and Fringe"},"A flat; maisonette; apartment","Owned","4 rooms",{"$f":"VLOOKUP(G1530,Cntrol!$F$3:$G$9,2,FALSE)","v":2},9,4,2,0,0,3]
["E01022196","E01022196 Cotswold 006D","E01022196",{"$f":"VLOOKUP(A1531,'Output Areas'!$A:$E,5,FALSE)","v":"Town and Fringe"},"A flat; maisonette; apartment","Owned","5 rooms",{"$f":"VLOOKUP(G1531,Cntrol!$F$3:$G$9,2,FALSE)","v":3},1,1,0,0,0,0]
["E01022196","E01022196 Cotswold 006D","E01022196",{"$f":"VLOOKUP(A1532,'Output Areas'!$A:$E,5,FALSE)","v":"Town and Fringe"},"A flat; maisonette; apartment","Shared ownership or rented (excluding living rent free)","Total: Number of rooms",{"$f":"VLOOKUP(G1532,Cntrol!$F$3:$G$9,2,FALSE)","v":0},51,32,2,1,0,16]
["E01022196","E01022196 Cotswold 006D","E01022196",{"$f":"VLOOKUP(A1533,'Output Areas'!$A:$E,5,FALSE)","v":"Town and Fringe"},"A flat; maisonette; apartment","Shared ownership or rented (excluding living rent free)","3 rooms or less",{"$f":"VLOOKUP(G1533,Cntrol!$F$3:$G$9,2,FALSE)","v":2},27,18,1,1,0,7]
["E01022196","E01022196 Cotswold 006D","E01022196",{"$f":"VLOOKUP(A1534,'Output Areas'!$A:$E,5,FALSE)","v":"Town and Fringe"},"A flat; maisonette; apartment","Shared ownership or rented (excluding living rent free)","4 rooms",{"$f":"VLOOKUP(G1534,Cntrol!$F$3:$G$9,2,FALSE)","v":2},23,13,1,0,0,9]
["E01022196","E01022196 Cotswold 006D","E01022196",{"$f":"VLOOKUP(A1535,'Output Areas'!$A:$E,5,FALSE)","v":"Town and Fringe"},"A flat; maisonette; apartment","Shared ownership or rented (excluding living rent free)","5 rooms",{"$f":"VLOOKUP(G1535,Cntrol!$F$3:$G$9,2,FALSE)","v":3},1,1,0,0,0,0]
["E01022197","E01022197 Cotswold 006E","E01022197",{"$f":"VLOOKUP(A1536,'Output Areas'!$A:$E,5,FALSE)","v":"Rural"},"Total: Accommodation type (excluding caravans / temporary structures)","Total: Tenure (excluding living rent free)","Total: Number of rooms",{"$f":"VLOOKUP(G1536,Cntrol!$F$3:$G$9,2,FALSE)","v":0},769,301,288,81,35,64]
["E01022197","E01022197 Cotswold 006E","E01022197",{"$f":"VLOOKUP(A1537,'Output Areas'!$A:$E,5,FALSE)","v":"Rural"},"Total: Accommodation type (excluding caravans / temporary structures)","Total: Tenure (excluding living rent free)","3 rooms or less",{"$f":"VLOOKUP(G1537,Cntrol!$F$3:$G$9,2,FALSE)","v":2},21,12,4,1,0,4]
["E01022197","E01022197 Cotswold 006E","E01022197",{"$f":"VLOOKUP(A1538,'Output Areas'!$A:$E,5,FALSE)","v":"Rural"},"Total: Accommodation type (excluding caravans / temporary structures)","Total: Tenure (excluding living rent free)","4 rooms",{"$f":"VLOOKUP(G1538,Cntrol!$F$3:$G$9,2,FALSE)","v":2},99,57,24,3,2,13]
["E01022197","E01022197 Cotswold 006E","E01022197",{"$f":"VLOOKUP(A1539,'Output Areas'!$A:$E,5,FALSE)","v":"Rural"},"Total: Accommodation type (excluding caravans / temporary structures)","Total: Tenure (excluding living rent free)","5 rooms",{"$f":"VLOOKUP(G1539,Cntrol!$F$3:$G$9,2,FALSE)","v":3},202,99,66,12,6,19]
["E01022197","E01022197 Cotswold 006E","E01022197",{"$f":"VLOOKUP(A1540,'Output Areas'!$A:$E,5,FALSE)","v":"Rural"},"Total: Accommodation type (excluding caravans / temporary structures)","Total: Tenure (excluding living rent free)","6 rooms",{"$f":"VLOOKUP(G1540,Cntrol!$F$3:$G$9,2,FALSE)","v":3},178,70,61,21,5,21]
["E01022197","E01022197 Cotswold 006E","E01022197",{"$f":"VLOOKUP(A1541,'Output Areas'!$A:$E,5,FALSE)","v":"Rural"},"Total: Accommodation type (excluding caravans / temporary structures)","Total: Tenure (excluding living rent free)","7 rooms",{"$f":"VLOOKUP(G1541,Cntrol!$F$3:$G$9,2,FALSE)","v":4},119,36,52,20,6,5]
["E01022197","E01022197 Cotswold 006E","E01022197",{"$f":"VLOOKUP(A1542,'Output Areas'!$A:$E,5,FALSE)","v":"Rural"},"Total: Accommodation type (excluding caravans / temporary structures)","Total: Tenure (excluding living rent free)","8 rooms or more",{"$f":"VLOOKUP(G1542,Cntrol!$F$3:$G$9,2,FALSE)","v":5},150,27,81,24,16,2]
["E01022197","E01022197 Cotswold 006E","E01022197",{"$f":"VLOOKUP(A1543,'Output Areas'!$A:$E,5,FALSE)","v":"Rural"},"Total: Accommodation type (excluding caravans / temporary structures)","Owned","Total: Number of rooms",{"$f":"VLOOKUP(G1543,Cntrol!$F$3:$G$9,2,FALSE)","v":0},678,262,260,72,32,52]
["E01022197","E01022197 Cotswold 006E","E01022197",{"$f":"VLOOKUP(A1544,'Output Areas'!$A:$E,5,FALSE)","v":"Rural"},"Total: Accommodation type (excluding caravans / temporary structures)","Owned","3 rooms or less",{"$f":"VLOOKUP(G1544,Cntrol!$F$3:$G$9,2,FALSE)","v":2},11,7,2,1,0,1]
["E01022197","E01022197 Cotswold 006E","E01022197",{"$f":"VLOOKUP(A1545,'Output Areas'!$A:$E,5,FALSE)","v":"Rural"},"Total: Accommodation type (excluding caravans / temporary structures)","Owned","4 rooms",{"$f":"VLOOKUP(G1545,Cntrol!$F$3:$G$9,2,FALSE)","v":2},83,48,19,2,2,12]
["E01022197","E01022197 Cotswold 006E","E01022197",{"$f":"VLOOKUP(A1546,'Output Areas'!$A:$E,5,FALSE)","v":"Rural"},"Total: Accommodation type (excluding caravans / temporary structures)","Owned","5 rooms",{"$f":"VLOOKUP(G1546,Cntrol!$F$3:$G$9,2,FALSE)","v":3},165,83,54,8,5,15]
["E01022197","E01022197 Cotswold 006E","E01022197",{"$f":"VLOOKUP(A1547,'Output Areas'!$A:$E,5,FALSE)","v":"Rural"},"Total: Accommodation type (excluding caravans / temporary structures)","Owned","6 rooms",{"$f":"VLOOKUP(G1547,Cntrol!$F$3:$G$9,2,FALSE)","v":3},159,63,57,19,3,17]
["E01022197","E01022197 Cotswold 006E","E01022197",{"$f":"VLOOKUP(A1548,'Output Areas'!$A:$E,5,FALSE)","v":"Rural"},"Total: Accommodation type (excluding caravans / temporary structures)","Owned","7 rooms",{"$f":"VLOOKUP(G1548,Cntrol!$F$3:$G$9,2,FALSE)","v":4},111,34,47,19,6,5]
["E01022197","E01022197 Cotswold 006E","E01022197",{"$f":"VLOOKUP(A1549,'Output Areas'!$A:$E,5,FALSE)","v":"Rural"},"Total: Accommodation type (excluding caravans / temporary structures)","Owned","8 rooms or more",{"$f":"VLOOKUP(G1549,Cntrol!$F$3:$G$9,2,FALSE)","v":5},149,27,81,23,16,2]
["E01022197","E01022197 Cotswold 006E","E01022197",{"$f":"VLOOKUP(A1550,'Output Areas'!$A:$E,5,FALSE)","v":"Rural"},"Total: Accommodation type (excluding caravans / temporary structures)","Shared ownership or rented (excluding living rent free)","Total: Number of rooms",{"$f":"VLOOKUP(G1550,Cntrol!$F$3:$G$9,2,FALSE)","v":0},91,39,28,9,3,12]
["E01022197","E01022197 Cotswold 006E","E01022197",{"$f":"VLOOKUP(A1551,'Output Areas'!$A:$E,5,FALSE)","v":"Rural"},"Total: Accommodation type (excluding caravans / temporary structures)","Shared ownership or rented (excluding living rent free)","3 rooms or less",{"$f":"VLOOKUP(G1551,Cntrol!$F$3:$G$9,2,FALSE)","v":2},10,5,2,0,0,3]
["E01022197","E01022197 Cotswold 006E","E01022197",{"$f":"VLOOKUP(A1552,'Output Areas'!$A:$E,5,FALSE)","v":"Rural"},"Total: Accommodation type (excluding caravans / temporary structures)","Shared ownership or rented (excluding living rent free)","4 rooms",{"$f":"VLOOKUP(G1552,Cntrol!$F$3:$G$9,2,FALSE)","v":2},16,9,5,1,0,1]
["E01022197","E01022197 Cotswold 006E","E01022197",{"$f":"VLOOKUP(A1553,'Output Areas'!$A:$E,5,FALSE)","v":"Rural"},"Total: Accommodation type (excluding caravans / temporary structures)","Shared ownership or rented (excluding living rent free)","5 rooms",{"$f":"VLOOKUP(G1553,Cntrol!$F$3:$G$9,2,FALSE)","v":3},37,16,12,4,1,4]
["E01022197","E01022197 Cotswold 006E","E01022197",{"$f":"VLOOKUP(A1554,'Output Areas'!$A:$E,5,FALSE)","v":"Rural"},"Total: Accommodation type (excluding caravans / temporary structures)","Shared ownership or rented (excluding living rent free)","6 rooms",{"$f":"VLOOKUP(G1554,Cntrol!$F$3:$G$9,2,FALSE)","v":3},19,7,4,2,2,4]
["E01022197","E01022197 Cotswold 006E","E01022197",{"$f":"VLOOKUP(A1555,'Output Areas'!$A:$E,5,FALSE)","v":"Rural"},"Total: Accommodation type (excluding caravans / temporary structures)","Shared ownership or rented (excluding living rent free)","7 rooms",{"$f":"VLOOKUP(G1555,Cntrol!$F$3:$G$9,2,FALSE)","v":4},8,2,5,1,0,0]
["E01022197","E01022197 Cotswold 006E","E01022197",{"$f":"VLOOKUP(A1556,'Output Areas'!$A:$E,5,FALSE)","v":"Rural"},"Total: Accommodation type (excluding caravans / temporary structures)","Shared ownership or rented (excluding living rent free)","8 rooms or more",{"$f":"VLOOKUP(G1556,Cntrol!$F$3:$G$9,2,FALSE)","v":5},1,0,0,1,0,0]
["E01022197","E01022197 Cotswold 006E","E01022197",{"$f":"VLOOKUP(A1557,'Output Areas'!$A:$E,5,FALSE)","v":"Rural"},"Detached; semi-detached; terraced whole house or bungalow","Total: Tenure (excluding living rent free)","Total: Number of rooms",{"$f":"VLOOKUP(G1557,Cntrol!$F$3:$G$9,2,FALSE)","v":0},756,300,282,79,35,60]
["E01022197","E01022197 Cotswold 006E","E01022197",{"$f":"VLOOKUP(A1558,'Output Areas'!$A:$E,5,FALSE)","v":"Rural"},"Detached; semi-detached; terraced whole house or bungalow","Total: Tenure (excluding living rent free)","3 rooms or less",{"$f":"VLOOKUP(G1558,Cntrol!$F$3:$G$9,2,FALSE)","v":2},17,11,4,1,0,1]
["E01022197","E01022197 Cotswold 006E","E01022197",{"$f":"VLOOKUP(A1559,'Output Areas'!$A:$E,5,FALSE)","v":"Rural"},"Detached; semi-detached; terraced whole house or bungalow","Total: Tenure (excluding living rent free)","4 rooms",{"$f":"VLOOKUP(G1559,Cntrol!$F$3:$G$9,2,FALSE)","v":2},97,57,23,3,2,12]
["E01022197","E01022197 Cotswold 006E","E01022197",{"$f":"VLOOKUP(A1560,'Output Areas'!$A:$E,5,FALSE)","v":"Rural"},"Detached; semi-detached; terraced whole house or bungalow","Total: Tenure (excluding living rent free)","5 rooms",{"$f":"VLOOKUP(G1560,Cntrol!$F$3:$G$9,2,FALSE)","v":3},199,99,63,12,6,19]
["E01022197","E01022197 Cotswold 006E","E01022197",{"$f":"VLOOKUP(A1561,'Output Areas'!$A:$E,5,FALSE)","v":"Rural"},"Detached; semi-detached; terraced whole house or bungalow","Total: Tenure (excluding living rent free)","6 rooms",{"$f":"VLOOKUP(G1561,Cntrol!$F$3:$G$9,2,FALSE)","v":3},175,70,60,19,5,21]
["E01022197","E01022197 Cotswold 006E","E01022197",{"$f":"VLOOKUP(A1562,'Output Areas'!$A:$E,5,FALSE)","v":"Rural"},"Detached; semi-detached; terraced whole house or bungalow","Total: Tenure (excluding living rent free)","7 rooms",{"$f":"VLOOKUP(G1562,Cntrol!$F$3:$G$9,2,FALSE)","v":4},119,36,52,20,6,5]
["E01022197","E01022197 Cotswold 006E","E01022197",{"$f":"VLOOKUP(A1563,'Output Areas'!$A:$E,5,FALSE)","v":"Rural"},"Detached; semi-detached; terraced whole house or bungalow","Total: Tenure (excluding living rent free)","8 rooms or more",{"$f":"VLOOKUP(G1563,Cntrol!$F$3:$G$9,2,FALSE)","v":5},149,27,80,24,16,2]
["E01022197","E01022197 Cotswold 006E","E01022197",{"$f":"VLOOKUP(A1564,'Output Areas'!$A:$E,5,FALSE)","v":"Rural"},"Detached; semi-detached; terraced whole house or bungalow","Owned","Total: Number of rooms",{"$f":"VLOOKUP(G1564,Cntrol!$F$3:$G$9,2,FALSE)","v":0},674,262,257,71,32,52]
["E01022197","E01022197 Cotswold 006E","E01022197",{"$f":"VLOOKUP(A1565,'Output Areas'!$A:$E,5,FALSE)","v":"Rural"},"Detached; semi-detached; terraced whole house or bungalow","Owned","3 rooms or less",{"$f":"VLOOKUP(G1565,Cntrol!$F$3:$G$9,2,FALSE)","v":2},11,7,2,1,0,1]
["E01022197","E01022197 Cotswold 006E","E01022197",{"$f":"VLOOKUP(A1566,'Output Areas'!$A:$E,5,FALSE)","v":"Rural"},"Detached; semi-detached; terraced whole house or bungalow","Owned","4 rooms",{"$f":"VLOOKUP(G1566,Cntrol!$F$3:$G$9,2,FALSE)","v":2},83,48,19,2,2,12]
["E01022197","E01022197 Cotswold 006E","E01022197",{"$f":"VLOOKUP(A1567,'Output Areas'!$A:$E,5,FALSE)","v":"Rural"},"Detached; semi-detached; terraced whole house or bungalow","Owned","5 rooms",{"$f":"VLOOKUP(G1567,Cntrol!$F$3:$G$9,2,FALSE)","v":3},164,83,53,8,5,15]
["E01022197","E01022197 Cotswold 006E","E01022197",{"$f":"VLOOKUP(A1568,'Output Areas'!$A:$E,5,FALSE)","v":"Rural"},"Detached; semi-detached; terraced whole house or bungalow","Owned","6 rooms",{"$f":"VLOOKUP(G1568,Cntrol!$F$3:$G$9,2,FALSE)","v":3},157,63,56,18,3,17]
["E01022197","E01022197 Cotswold 006E","E01022197",{"$f":"VLOOKUP(A1569,'Output Areas'!$A:$E,5,FALSE)","v":"Rural"},"Detached; semi-detached; terraced whole house or bungalow","Owned","7 rooms",{"$f":"VLOOKUP(G1569,Cntrol!$F$3:$G$9,2,FALSE)","v":4},111,34,47,19,6,5]
["E01022197","E01022197 Cotswold 006E","E01022197",{"$f":"VLOOKUP(A1570,'Output Areas'!$A:$E,5,FALSE)","v":"Rural"},"Detached; semi-detached; terraced whole house or bungalow","Owned","8 rooms or more",{"$f":"VLOOKUP(G1570,Cntrol!$F$3:$G$9,2,FALSE)","v":5},148,27,80,23,16,2]
["E01022197","E01022197 Cotswold 006E","E01022197",{"$f":"VLOOKUP(A1571,'Output Areas'!$A:$E,5,FALSE)","v":"Rural"},"Detached; semi-detached; terraced whole house or bungalow","Shared ownership or rented (excluding living rent free)","Total: Number of rooms",{"$f":"VLOOKUP(G1571,Cntrol!$F$3:$G$9,2,FALSE)","v":0},82,38,25,8,3,8]
["E01022197","E01022197 Cotswold 006E","E01022197",{"$f":"VLOOKUP(A1572,'Output Areas'!$A:$E,5,FALSE)","v":"Rural"},"Detached; semi-detached; terraced whole house or bungalow","Shared ownership or rented (excluding living rent free)","3 rooms or less",{"$f":"VLOOKUP(G1572,Cntrol!$F$3:$G$9,2,FALSE)","v":2},6,4,2,0,0,0]
["E01022197","E01022197 Cotswold 006E","E01022197",{"$f":"VLOOKUP(A1573,'Output Areas'!$A:$E,5,FALSE)","v":"Rural"},"Detached; semi-detached; terraced whole house or bungalow","Shared ownership or rented (excluding living rent free)","4 rooms",{"$f":"VLOOKUP(G1573,Cntrol!$F$3:$G$9,2,FALSE)","v":2},14,9,4,1,0,0]
["E01022197","E01022197 Cotswold 006E","E01022197",{"$f":"VLOOKUP(A1574,'Output Areas'!$A:$E,5,FALSE)","v":"Rural"},"Detached; semi-detached; terraced whole house or bungalow","Shared ownership or rented (excluding living rent free)","5 rooms",{"$f":"VLOOKUP(G1574,Cntrol!$F$3:$G$9,2,FALSE)","v":3},35,16,10,4,1,4]
["E01022197","E01022197 Cotswold 006E","E01022197",{"$f":"VLOOKUP(A1575,'Output Areas'!$A:$E,5,FALSE)","v":"Rural"},"Detached; semi-detached; terraced whole house or bungalow","Shared ownership or rented (excluding living rent free)","6 rooms",{"$f":"VLOOKUP(G1575,Cntrol!$F$3:$G$9,2,FALSE)","v":3},18,7,4,1,2,4]
["E01022197","E01022197 Cotswold 006E","E01022197",{"$f":"VLOOKUP(A1576,'Output Areas'!$A:$E,5,FALSE)","v":"Rural"},"Detached; semi-detached; terraced whole house or bungalow","Shared ownership or rented (excluding living rent free)","7 rooms",{"$f":"VLOOKUP(G1576,Cntrol!$F$3:$G$9,2,FALSE)","v":4},8,2,5,1,0,0]
["E01022197","E01022197 Cotswold 006E","E01022197",{"$f":"VLOOKUP(A1577,'Output Areas'!$A:$E,5,FALSE)","v":"Rural"},"Detached; semi-detached; terraced whole house or bungalow","Shared ownership or rented (excluding living rent free)","8 rooms or more",{"$f":"VLOOKUP(G1577,Cntrol!$F$3:$G$9,2,FALSE)","v":5},1,0,0,1,0,0]
["E01022197","E01022197 Cotswold 006E","E01022197",{"$f":"VLOOKUP(A1578,'Output Areas'!$A:$E,5,FALSE)","v":"Rural"},"A flat; maisonette; apartment","Total: Tenure (excluding living rent free)","Total: Number of rooms",{"$f":"VLOOKUP(G1578,Cntrol!$F$3:$G$9,2,FALSE)","v":0},13,1,6,2,0,4]
["E01022197","E01022197 Cotswold 006E","E01022197",{"$f":"VLOOKUP(A1579,'Output Areas'!$A:$E,5,FALSE)","v":"Rural"},"A flat; maisonette; apartment","Total: Tenure (excluding living rent free)","3 rooms or less",{"$f":"VLOOKUP(G1579,Cntrol!$F$3:$G$9,2,FALSE)","v":2},4,1,0,0,0,3]
["E01022197","E01022197 Cotswold 006E","E01022197",{"$f":"VLOOKUP(A1580,'Output Areas'!$A:$E,5,FALSE)","v":"Rural"},"A flat; maisonette; apartment","Total: Tenure (excluding living rent free)","4 rooms",{"$f":"VLOOKUP(G1580,Cntrol!$F$3:$G$9,2,FALSE)","v":2},2,0,1,0,0,1]
["E01022197","E01022197 Cotswold 006E","E01022197",{"$f":"VLOOKUP(A1581,'Output Areas'!$A:$E,5,FALSE)","v":"Rural"},"A flat; maisonette; apartment","Total: Tenure (excluding living rent free)","5 rooms",{"$f":"VLOOKUP(G1581,Cntrol!$F$3:$G$9,2,FALSE)","v":3},3,0,3,0,0,0]
["E01022197","E01022197 Cotswold 006E","E01022197",{"$f":"VLOOKUP(A1582,'Output Areas'!$A:$E,5,FALSE)","v":"Rural"},"A flat; maisonette; apartment","Total: Tenure (excluding living rent free)","6 rooms",{"$f":"VLOOKUP(G1582,Cntrol!$F$3:$G$9,2,FALSE)","v":3},3,0,1,2,0,0]
["E01022197","E01022197 Cotswold 006E","E01022197",{"$f":"VLOOKUP(A1583,'Output Areas'!$A:$E,5,FALSE)","v":"Rural"},"A flat; maisonette; apartment","Total: Tenure (excluding living rent free)","8 rooms or more",{"$f":"VLOOKUP(G1583,Cntrol!$F$3:$G$9,2,FALSE)","v":5},1,0,1,0,0,0]
["E01022197","E01022197 Cotswold 006E","E01022197",{"$f":"VLOOKUP(A1584,'Output Areas'!$A:$E,5,FALSE)","v":"Rural"},"A flat; maisonette; apartment","Owned","Total: Number of rooms",{"$f":"VLOOKUP(G1584,Cntrol!$F$3:$G$9,2,FALSE)","v":0},4,0,3,1,0,0]
["E01022197","E01022197 Cotswold 006E","E01022197",{"$f":"VLOOKUP(A1585,'Output Areas'!$A:$E,5,FALSE)","v":"Rural"},"A flat; maisonette; apartment","Owned","5 rooms",{"$f":"VLOOKUP(G1585,Cntrol!$F$3:$G$9,2,FALSE)","v":3},1,0,1,0,0,0]
["E01022197","E01022197 Cotswold 006E","E01022197",{"$f":"VLOOKUP(A1586,'Output Areas'!$A:$E,5,FALSE)","v":"Rural"},"A flat; maisonette; apartment","Owned","6 rooms",{"$f":"VLOOKUP(G1586,Cntrol!$F$3:$G$9,2,FALSE)","v":3},2,0,1,1,0,0]
["E01022197","E01022197 Cotswold 006E","E01022197",{"$f":"VLOOKUP(A1587,'Output Areas'!$A:$E,5,FALSE)","v":"Rural"},"A flat; maisonette; apartment","Owned","8 rooms or more",{"$f":"VLOOKUP(G1587,Cntrol!$F$3:$G$9,2,FALSE)","v":5},1,0,1,0,0,0]
["E01022197","E01022197 Cotswold 006E","E01022197",{"$f":"VLOOKUP(A1588,'Output Areas'!$A:$E,5,FALSE)","v":"Rural"},"A flat; maisonette; apartment","Shared ownership or rented (excluding living rent free)","Total: Number of rooms",{"$f":"VLOOKUP(G1588,Cntrol!$F$3:$G$9,2,FALSE)","v":0},9,1,3,1,0,4]
["E01022197","E01022197 Cotswold 006E","E01022197",{"$f":"VLOOKUP(A1589,'Output Areas'!$A:$E,5,FALSE)","v":"Rural"},"A flat; maisonette; apartment","Shared ownership or rented (excluding living rent free)","3 rooms or less",{"$f":"VLOOKUP(G1589,Cntrol!$F$3:$G$9,2,FALSE)","v":2},4,1,0,0,0,3]
["E01022197","E01022197 Cotswold 006E","E01022197",{"$f":"VLOOKUP(A1590,'Output Areas'!$A:$E,5,FALSE)","v":"Rural"},"A flat; maisonette; apartment","Shared ownership or rented (excluding living rent free)","4 rooms",{"$f":"VLOOKUP(G1590,Cntrol!$F$3:$G$9,2,FALSE)","v":2},2,0,1,0,0,1]
["E01022197","E01022197 Cotswold 006E","E01022197",{"$f":"VLOOKUP(A1591,'Output Areas'!$A:$E,5,FALSE)","v":"Rural"},"A flat; maisonette; apartment","Shared ownership or rented (excluding living rent free)","5 rooms",{"$f":"VLOOKUP(G1591,Cntrol!$F$3:$G$9,2,FALSE)","v":3},2,0,2,0,0,0]
["E01022197","E01022197 Cotswold 006E","E01022197",{"$f":"VLOOKUP(A1592,'Output Areas'!$A:$E,5,FALSE)","v":"Rural"},"A flat; maisonette; apartment","Shared ownership or rented (excluding living rent free)","6 rooms",{"$f":"VLOOKUP(G1592,Cntrol!$F$3:$G$9,2,FALSE)","v":3},1,0,0,1,0,0]
["E01022194","E01022194 Cotswold 007A","E01022194",{"$f":"VLOOKUP(A1593,'Output Areas'!$A:$E,5,FALSE)","v":"Town and Fringe"},"Total: Accommodation type (excluding caravans / temporary structures)","Total: Tenure (excluding living rent free)","Total: Number of rooms",{"$f":"VLOOKUP(G1593,Cntrol!$F$3:$G$9,2,FALSE)","v":0},966,382,127,28,9,420]
["E01022194","E01022194 Cotswold 007A","E01022194",{"$f":"VLOOKUP(A1594,'Output Areas'!$A:$E,5,FALSE)","v":"Town and Fringe"},"Total: Accommodation type (excluding caravans / temporary structures)","Total: Tenure (excluding living rent free)","3 rooms or less",{"$f":"VLOOKUP(G1594,Cntrol!$F$3:$G$9,2,FALSE)","v":2},351,100,11,1,0,239]
["E01022194","E01022194 Cotswold 007A","E01022194",{"$f":"VLOOKUP(A1595,'Output Areas'!$A:$E,5,FALSE)","v":"Town and Fringe"},"Total: Accommodation type (excluding caravans / temporary structures)","Total: Tenure (excluding living rent free)","4 rooms",{"$f":"VLOOKUP(G1595,Cntrol!$F$3:$G$9,2,FALSE)","v":2},235,106,23,1,3,102]
["E01022194","E01022194 Cotswold 007A","E01022194",{"$f":"VLOOKUP(A1596,'Output Areas'!$A:$E,5,FALSE)","v":"Town and Fringe"},"Total: Accommodation type (excluding caravans / temporary structures)","Total: Tenure (excluding living rent free)","5 rooms",{"$f":"VLOOKUP(G1596,Cntrol!$F$3:$G$9,2,FALSE)","v":3},174,81,39,3,2,49]
["E01022194","E01022194 Cotswold 007A","E01022194",{"$f":"VLOOKUP(A1597,'Output Areas'!$A:$E,5,FALSE)","v":"Town and Fringe"},"Total: Accommodation type (excluding caravans / temporary structures)","Total: Tenure (excluding living rent free)","6 rooms",{"$f":"VLOOKUP(G1597,Cntrol!$F$3:$G$9,2,FALSE)","v":3},102,58,16,7,1,20]
["E01022194","E01022194 Cotswold 007A","E01022194",{"$f":"VLOOKUP(A1598,'Output Areas'!$A:$E,5,FALSE)","v":"Town and Fringe"},"Total: Accommodation type (excluding caravans / temporary structures)","Total: Tenure (excluding living rent free)","7 rooms",{"$f":"VLOOKUP(G1598,Cntrol!$F$3:$G$9,2,FALSE)","v":4},46,20,13,4,2,7]
["E01022194","E01022194 Cotswold 007A","E01022194",{"$f":"VLOOKUP(A1599,'Output Areas'!$A:$E,5,FALSE)","v":"Town and Fringe"},"Total: Accommodation type (excluding caravans / temporary structures)","Total: Tenure (excluding living rent free)","8 rooms or more",{"$f":"VLOOKUP(G1599,Cntrol!$F$3:$G$9,2,FALSE)","v":5},58,17,25,12,1,3]
["E01022194","E01022194 Cotswold 007A","E01022194",{"$f":"VLOOKUP(A1600,'Output Areas'!$A:$E,5,FALSE)","v":"Town and Fringe"},"Total: Accommodation type (excluding caravans / temporary structures)","Owned","Total: Number of rooms",{"$f":"VLOOKUP(G1600,Cntrol!$F$3:$G$9,2,FALSE)","v":0},483,201,76,17,5,184]
["E01022194","E01022194 Cotswold 007A","E01022194",{"$f":"VLOOKUP(A1601,'Output Areas'!$A:$E,5,FALSE)","v":"Town and Fringe"},"Total: Accommodation type (excluding caravans / temporary structures)","Owned","3 rooms or less",{"$f":"VLOOKUP(G1601,Cntrol!$F$3:$G$9,2,FALSE)","v":2},99,29,2,0,0,68]
["E01022194","E01022194 Cotswold 007A","E01022194",{"$f":"VLOOKUP(A1602,'Output Areas'!$A:$E,5,FALSE)","v":"Town and Fringe"},"Total: Accommodation type (excluding caravans / temporary structures)","Owned","4 rooms",{"$f":"VLOOKUP(G1602,Cntrol!$F$3:$G$9,2,FALSE)","v":2},129,50,12,0,2,65]
["E01022194","E01022194 Cotswold 007A","E01022194",{"$f":"VLOOKUP(A1603,'Output Areas'!$A:$E,5,FALSE)","v":"Town and Fringe"},"Total: Accommodation type (excluding caravans / temporary structures)","Owned","5 rooms",{"$f":"VLOOKUP(G1603,Cntrol!$F$3:$G$9,2,FALSE)","v":3},104,49,21,2,1,31]
["E01022194","E01022194 Cotswold 007A","E01022194",{"$f":"VLOOKUP(A1604,'Output Areas'!$A:$E,5,FALSE)","v":"Town and Fringe"},"Total: Accommodation type (excluding caravans / temporary structures)","Owned","6 rooms",{"$f":"VLOOKUP(G1604,Cntrol!$F$3:$G$9,2,FALSE)","v":3},65,39,7,5,0,14]
["E01022194","E01022194 Cotswold 007A","E01022194",{"$f":"VLOOKUP(A1605,'Output Areas'!$A:$E,5,FALSE)","v":"Town and Fringe"},"Total: Accommodation type (excluding caravans / temporary structures)","Owned","7 rooms",{"$f":"VLOOKUP(G1605,Cntrol!$F$3:$G$9,2,FALSE)","v":4},35,17,12,1,1,4]
["E01022194","E01022194 Cotswold 007A","E01022194",{"$f":"VLOOKUP(A1606,'Output Areas'!$A:$E,5,FALSE)","v":"Town and Fringe"},"Total: Accommodation type (excluding caravans / temporary structures)","Owned","8 rooms or more",{"$f":"VLOOKUP(G1606,Cntrol!$F$3:$G$9,2,FALSE)","v":5},51,17,22,9,1,2]
["E01022194","E01022194 Cotswold 007A","E01022194",{"$f":"VLOOKUP(A1607,'Output Areas'!$A:$E,5,FALSE)","v":"Town and Fringe"},"Total: Accommodation type (excluding caravans / temporary structures)","Shared ownership or rented (excluding living rent free)","Total: Number of rooms",{"$f":"VLOOKUP(G1607,Cntrol!$F$3:$G$9,2,FALSE)","v":0},483,181,51,11,4,236]
["E01022194","E01022194 Cotswold 007A","E01022194",{"$f":"VLOOKUP(A1608,'Output Areas'!$A:$E,5,FALSE)","v":"Town and Fringe"},"Total: Accommodation type (excluding caravans / temporary structures)","Shared ownership or rented (excluding living rent free)","3 rooms or less",{"$f":"VLOOKUP(G1608,Cntrol!$F$3:$G$9,2,FALSE)","v":2},252,71,9,1,0,171]
["E01022194","E01022194 Cotswold 007A","E01022194",{"$f":"VLOOKUP(A1609,'Output Areas'!$A:$E,5,FALSE)","v":"Town and Fringe"},"Total: Accommodation type (excluding caravans / temporary structures)","Shared ownership or rented (excluding living rent free)","4 rooms",{"$f":"VLOOKUP(G1609,Cntrol!$F$3:$G$9,2,FALSE)","v":2},106,56,11,1,1,37]
["E01022194","E01022194 Cotswold 007A","E01022194",{"$f":"VLOOKUP(A1610,'Output Areas'!$A:$E,5,FALSE)","v":"Town and Fringe"},"Total: Accommodation type (excluding caravans / temporary structures)","Shared ownership or rented (excluding living rent free)","5 rooms",{"$f":"VLOOKUP(G1610,Cntrol!$F$3:$G$9,2,FALSE)","v":3},70,32,18,1,1,18]
["E01022194","E01022194 Cotswold 007A","E01022194",{"$f":"VLOOKUP(A1611,'Output Areas'!$A:$E,5,FALSE)","v":"Town and Fringe"},"Total: Accommodation type (excluding caravans / temporary structures)","Shared ownership or rented (excluding living rent free)","6 rooms",{"$f":"VLOOKUP(G1611,Cntrol!$F$3:$G$9,2,FALSE)","v":3},37,19,9,2,1,6]
["E01022194","E01022194 Cotswold 007A","E01022194",{"$f":"VLOOKUP(A1612,'Output Areas'!$A:$E,5,FALSE)","v":"Town and Fringe"},"Total: Accommodation type (excluding caravans / temporary structures)","Shared ownership or rented (excluding living rent free)","7 rooms",{"$f":"VLOOKUP(G1612,Cntrol!$F$3:$G$9,2,FALSE)","v":4},11,3,1,3,1,3]
["E01022194","E01022194 Cotswold 007A","E01022194",{"$f":"VLOOKUP(A1613,'Output Areas'!$A:$E,5,FALSE)","v":"Town and Fringe"},"Total: Accommodation type (excluding caravans / temporary structures)","Shared ownership or rented (excluding living rent free)","8 rooms or more",{"$f":"VLOOKUP(G1613,Cntrol!$F$3:$G$9,2,FALSE)","v":5},7,0,3,3,0,1]
["E01022194","E01022194 Cotswold 007A","E01022194",{"$f":"VLOOKUP(A1614,'Output Areas'!$A:$E,5,FALSE)","v":"Town and Fringe"},"Detached; semi-detached; terraced whole house or bungalow","Total: Tenure (excluding living rent free)","Total: Number of rooms",{"$f":"VLOOKUP(G1614,Cntrol!$F$3:$G$9,2,FALSE)","v":0},414,191,95,22,5,101]
["E01022194","E01022194 Cotswold 007A","E01022194",{"$f":"VLOOKUP(A1615,'Output Areas'!$A:$E,5,FALSE)","v":"Town and Fringe"},"Detached; semi-detached; terraced whole house or bungalow","Total: Tenure (excluding living rent free)","3 rooms or less",{"$f":"VLOOKUP(G1615,Cntrol!$F$3:$G$9,2,FALSE)","v":2},40,7,2,0,0,31]
["E01022194","E01022194 Cotswold 007A","E01022194",{"$f":"VLOOKUP(A1616,'Output Areas'!$A:$E,5,FALSE)","v":"Town and Fringe"},"Detached; semi-detached; terraced whole house or bungalow","Total: Tenure (excluding living rent free)","4 rooms",{"$f":"VLOOKUP(G1616,Cntrol!$F$3:$G$9,2,FALSE)","v":2},47,26,11,0,0,10]
["E01022194","E01022194 Cotswold 007A","E01022194",{"$f":"VLOOKUP(A1617,'Output Areas'!$A:$E,5,FALSE)","v":"Town and Fringe"},"Detached; semi-detached; terraced whole house or bungalow","Total: Tenure (excluding living rent free)","5 rooms",{"$f":"VLOOKUP(G1617,Cntrol!$F$3:$G$9,2,FALSE)","v":3},144,71,33,3,2,35]
["E01022194","E01022194 Cotswold 007A","E01022194",{"$f":"VLOOKUP(A1618,'Output Areas'!$A:$E,5,FALSE)","v":"Town and Fringe"},"Detached; semi-detached; terraced whole house or bungalow","Total: Tenure (excluding living rent free)","6 rooms",{"$f":"VLOOKUP(G1618,Cntrol!$F$3:$G$9,2,FALSE)","v":3},86,50,13,7,0,16]
["E01022194","E01022194 Cotswold 007A","E01022194",{"$f":"VLOOKUP(A1619,'Output Areas'!$A:$E,5,FALSE)","v":"Town and Fringe"},"Detached; semi-detached; terraced whole house or bungalow","Total: Tenure (excluding living rent free)","7 rooms",{"$f":"VLOOKUP(G1619,Cntrol!$F$3:$G$9,2,FALSE)","v":4},43,20,12,3,2,6]
["E01022194","E01022194 Cotswold 007A","E01022194",{"$f":"VLOOKUP(A1620,'Output Areas'!$A:$E,5,FALSE)","v":"Town and Fringe"},"Detached; semi-detached; terraced whole house or bungalow","Total: Tenure (excluding living rent free)","8 rooms or more",{"$f":"VLOOKUP(G1620,Cntrol!$F$3:$G$9,2,FALSE)","v":5},54,17,24,9,1,3]
["E01022194","E01022194 Cotswold 007A","E01022194",{"$f":"VLOOKUP(A1621,'Output Areas'!$A:$E,5,FALSE)","v":"Town and Fringe"},"Detached; semi-detached; terraced whole house or bungalow","Owned","Total: Number of rooms",{"$f":"VLOOKUP(G1621,Cntrol!$F$3:$G$9,2,FALSE)","v":0},282,137,68,16,3,58]
["E01022194","E01022194 Cotswold 007A","E01022194",{"$f":"VLOOKUP(A1622,'Output Areas'!$A:$E,5,FALSE)","v":"Town and Fringe"},"Detached; semi-detached; terraced whole house or bungalow","Owned","3 rooms or less",{"$f":"VLOOKUP(G1622,Cntrol!$F$3:$G$9,2,FALSE)","v":2},11,3,1,0,0,7]
["E01022194","E01022194 Cotswold 007A","E01022194",{"$f":"VLOOKUP(A1623,'Output Areas'!$A:$E,5,FALSE)","v":"Town and Fringe"},"Detached; semi-detached; terraced whole house or bungalow","Owned","4 rooms",{"$f":"VLOOKUP(G1623,Cntrol!$F$3:$G$9,2,FALSE)","v":2},28,16,7,0,0,5]
["E01022194","E01022194 Cotswold 007A","E01022194",{"$f":"VLOOKUP(A1624,'Output Areas'!$A:$E,5,FALSE)","v":"Town and Fringe"},"Detached; semi-detached; terraced whole house or bungalow","Owned","5 rooms",{"$f":"VLOOKUP(G1624,Cntrol!$F$3:$G$9,2,FALSE)","v":3},97,47,20,2,1,27]
["E01022194","E01022194 Cotswold 007A","E01022194",{"$f":"VLOOKUP(A1625,'Output Areas'!$A:$E,5,FALSE)","v":"Town and Fringe"},"Detached; semi-detached; terraced whole house or bungalow","Owned","6 rooms",{"$f":"VLOOKUP(G1625,Cntrol!$F$3:$G$9,2,FALSE)","v":3},61,37,6,5,0,13]
["E01022194","E01022194 Cotswold 007A","E01022194",{"$f":"VLOOKUP(A1626,'Output Areas'!$A:$E,5,FALSE)","v":"Town and Fringe"},"Detached; semi-detached; terraced whole house or bungalow","Owned","7 rooms",{"$f":"VLOOKUP(G1626,Cntrol!$F$3:$G$9,2,FALSE)","v":4},35,17,12,1,1,4]
["E01022194","E01022194 Cotswold 007A","E01022194",{"$f":"VLOOKUP(A1627,'Output Areas'!$A:$E,5,FALSE)","v":"Town and Fringe"},"Detached; semi-detached; terraced whole house or bungalow","Owned","8 rooms or more",{"$f":"VLOOKUP(G1627,Cntrol!$F$3:$G$9,2,FALSE)","v":5},50,17,22,8,1,2]
["E01022194","E01022194 Cotswold 007A","E01022194",{"$f":"VLOOKUP(A1628,'Output Areas'!$A:$E,5,FALSE)","v":"Town and Fringe"},"Detached; semi-detached; terraced whole house or bungalow","Shared ownership or rented (excluding living rent free)","Total: Number of rooms",{"$f":"VLOOKUP(G1628,Cntrol!$F$3:$G$9,2,FALSE)","v":0},132,54,27,6,2,43]
["E01022194","E01022194 Cotswold 007A","E01022194",{"$f":"VLOOKUP(A1629,'Output Areas'!$A:$E,5,FALSE)","v":"Town and Fringe"},"Detached; semi-detached; terraced whole house or bungalow","Shared ownership or rented (excluding living rent free)","3 rooms or less",{"$f":"VLOOKUP(G1629,Cntrol!$F$3:$G$9,2,FALSE)","v":2},29,4,1,0,0,24]
["E01022194","E01022194 Cotswold 007A","E01022194",{"$f":"VLOOKUP(A1630,'Output Areas'!$A:$E,5,FALSE)","v":"Town and Fringe"},"Detached; semi-detached; terraced whole house or bungalow","Shared ownership or rented (excluding living rent free)","4 rooms",{"$f":"VLOOKUP(G1630,Cntrol!$F$3:$G$9,2,FALSE)","v":2},19,10,4,0,0,5]
["E01022194","E01022194 Cotswold 007A","E01022194",{"$f":"VLOOKUP(A1631,'Output Areas'!$A:$E,5,FALSE)","v":"Town and Fringe"},"Detached; semi-detached; terraced whole house or bungalow","Shared ownership or rented (excluding living rent free)","5 rooms",{"$f":"VLOOKUP(G1631,Cntrol!$F$3:$G$9,2,FALSE)","v":3},47,24,13,1,1,8]
["E01022194","E01022194 Cotswold 007A","E01022194",{"$f":"VLOOKUP(A1632,'Output Areas'!$A:$E,5,FALSE)","v":"Town and Fringe"},"Detached; semi-detached; terraced whole house or bungalow","Shared ownership or rented (excluding living rent free)","6 rooms",{"$f":"VLOOKUP(G1632,Cntrol!$F$3:$G$9,2,FALSE)","v":3},25,13,7,2,0,3]
["E01022194","E01022194 Cotswold 007A","E01022194",{"$f":"VLOOKUP(A1633,'Output Areas'!$A:$E,5,FALSE)","v":"Town and Fringe"},"Detached; semi-detached; terraced whole house or bungalow","Shared ownership or rented (excluding living rent free)","7 rooms",{"$f":"VLOOKUP(G1633,Cntrol!$F$3:$G$9,2,FALSE)","v":4},8,3,0,2,1,2]
["E01022194","E01022194 Cotswold 007A","E01022194",{"$f":"VLOOKUP(A1634,'Output Areas'!$A:$E,5,FALSE)","v":"Town and Fringe"},"Detached; semi-detached; terraced whole house or bungalow","Shared ownership or rented (excluding living rent free)","8 rooms or more",{"$f":"VLOOKUP(G1634,Cntrol!$F$3:$G$9,2,FALSE)","v":5},4,0,2,1,0,1]
["E01022194","E01022194 Cotswold 007A","E01022194",{"$f":"VLOOKUP(A1635,'Output Areas'!$A:$E,5,FALSE)","v":"Town and Fringe"},"A flat; maisonette; apartment","Total: Tenure (excluding living rent free)","Total: Number of rooms",{"$f":"VLOOKUP(G1635,Cntrol!$F$3:$G$9,2,FALSE)","v":0},552,191,32,6,4,319]
["E01022194","E01022194 Cotswold 007A","E01022194",{"$f":"VLOOKUP(A1636,'Output Areas'!$A:$E,5,FALSE)","v":"Town and Fringe"},"A flat; maisonette; apartment","Total: Tenure (excluding living rent free)","3 rooms or less",{"$f":"VLOOKUP(G1636,Cntrol!$F$3:$G$9,2,FALSE)","v":2},311,93,9,1,0,208]
["E01022194","E01022194 Cotswold 007A","E01022194",{"$f":"VLOOKUP(A1637,'Output Areas'!$A:$E,5,FALSE)","v":"Town and Fringe"},"A flat; maisonette; apartment","Total: Tenure (excluding living rent free)","4 rooms",{"$f":"VLOOKUP(G1637,Cntrol!$F$3:$G$9,2,FALSE)","v":2},188,80,12,1,3,92]
["E01022194","E01022194 Cotswold 007A","E01022194",{"$f":"VLOOKUP(A1638,'Output Areas'!$A:$E,5,FALSE)","v":"Town and Fringe"},"A flat; maisonette; apartment","Total: Tenure (excluding living rent free)","5 rooms",{"$f":"VLOOKUP(G1638,Cntrol!$F$3:$G$9,2,FALSE)","v":3},30,10,6,0,0,14]
["E01022194","E01022194 Cotswold 007A","E01022194",{"$f":"VLOOKUP(A1639,'Output Areas'!$A:$E,5,FALSE)","v":"Town and Fringe"},"A flat; maisonette; apartment","Total: Tenure (excluding living rent free)","6 rooms",{"$f":"VLOOKUP(G1639,Cntrol!$F$3:$G$9,2,FALSE)","v":3},16,8,3,0,1,4]
["E01022194","E01022194 Cotswold 007A","E01022194",{"$f":"VLOOKUP(A1640,'Output Areas'!$A:$E,5,FALSE)","v":"Town and Fringe"},"A flat; maisonette; apartment","Total: Tenure (excluding living rent free)","7 rooms",{"$f":"VLOOKUP(G1640,Cntrol!$F$3:$G$9,2,FALSE)","v":4},3,0,1,1,0,1]
["E01022194","E01022194 Cotswold 007A","E01022194",{"$f":"VLOOKUP(A1641,'Output Areas'!$A:$E,5,FALSE)","v":"Town and Fringe"},"A flat; maisonette; apartment","Total: Tenure (excluding living rent free)","8 rooms or more",{"$f":"VLOOKUP(G1641,Cntrol!$F$3:$G$9,2,FALSE)","v":5},4,0,1,3,0,0]
["E01022194","E01022194 Cotswold 007A","E01022194",{"$f":"VLOOKUP(A1642,'Output Areas'!$A:$E,5,FALSE)","v":"Town and Fringe"},"A flat; maisonette; apartment","Owned","Total: Number of rooms",{"$f":"VLOOKUP(G1642,Cntrol!$F$3:$G$9,2,FALSE)","v":0},201,64,8,1,2,126]
["E01022194","E01022194 Cotswold 007A","E01022194",{"$f":"VLOOKUP(A1643,'Output Areas'!$A:$E,5,FALSE)","v":"Town and Fringe"},"A flat; maisonette; apartment","Owned","3 rooms or less",{"$f":"VLOOKUP(G1643,Cntrol!$F$3:$G$9,2,FALSE)","v":2},88,26,1,0,0,61]
["E01022194","E01022194 Cotswold 007A","E01022194",{"$f":"VLOOKUP(A1644,'Output Areas'!$A:$E,5,FALSE)","v":"Town and Fringe"},"A flat; maisonette; apartment","Owned","4 rooms",{"$f":"VLOOKUP(G1644,Cntrol!$F$3:$G$9,2,FALSE)","v":2},101,34,5,0,2,60]
["E01022194","E01022194 Cotswold 007A","E01022194",{"$f":"VLOOKUP(A1645,'Output Areas'!$A:$E,5,FALSE)","v":"Town and Fringe"},"A flat; maisonette; apartment","Owned","5 rooms",{"$f":"VLOOKUP(G1645,Cntrol!$F$3:$G$9,2,FALSE)","v":3},7,2,1,0,0,4]
["E01022194","E01022194 Cotswold 007A","E01022194",{"$f":"VLOOKUP(A1646,'Output Areas'!$A:$E,5,FALSE)","v":"Town and Fringe"},"A flat; maisonette; apartment","Owned","6 rooms",{"$f":"VLOOKUP(G1646,Cntrol!$F$3:$G$9,2,FALSE)","v":3},4,2,1,0,0,1]
["E01022194","E01022194 Cotswold 007A","E01022194",{"$f":"VLOOKUP(A1647,'Output Areas'!$A:$E,5,FALSE)","v":"Town and Fringe"},"A flat; maisonette; apartment","Owned","8 rooms or more",{"$f":"VLOOKUP(G1647,Cntrol!$F$3:$G$9,2,FALSE)","v":5},1,0,0,1,0,0]
["E01022194","E01022194 Cotswold 007A","E01022194",{"$f":"VLOOKUP(A1648,'Output Areas'!$A:$E,5,FALSE)","v":"Town and Fringe"},"A flat; maisonette; apartment","Shared ownership or rented (excluding living rent free)","Total: Number of rooms",{"$f":"VLOOKUP(G1648,Cntrol!$F$3:$G$9,2,FALSE)","v":0},351,127,24,5,2,193]
["E01022194","E01022194 Cotswold 007A","E01022194",{"$f":"VLOOKUP(A1649,'Output Areas'!$A:$E,5,FALSE)","v":"Town and Fringe"},"A flat; maisonette; apartment","Shared ownership or rented (excluding living rent free)","3 rooms or less",{"$f":"VLOOKUP(G1649,Cntrol!$F$3:$G$9,2,FALSE)","v":2},223,67,8,1,0,147]
["E01022194","E01022194 Cotswold 007A","E01022194",{"$f":"VLOOKUP(A1650,'Output Areas'!$A:$E,5,FALSE)","v":"Town and Fringe"},"A flat; maisonette; apartment","Shared ownership or rented (excluding living rent free)","4 rooms",{"$f":"VLOOKUP(G1650,Cntrol!$F$3:$G$9,2,FALSE)","v":2},87,46,7,1,1,32]
["E01022194","E01022194 Cotswold 007A","E01022194",{"$f":"VLOOKUP(A1651,'Output Areas'!$A:$E,5,FALSE)","v":"Town and Fringe"},"A flat; maisonette; apartment","Shared ownership or rented (excluding living rent free)","5 rooms",{"$f":"VLOOKUP(G1651,Cntrol!$F$3:$G$9,2,FALSE)","v":3},23,8,5,0,0,10]
["E01022194","E01022194 Cotswold 007A","E01022194",{"$f":"VLOOKUP(A1652,'Output Areas'!$A:$E,5,FALSE)","v":"Town and Fringe"},"A flat; maisonette; apartment","Shared ownership or rented (excluding living rent free)","6 rooms",{"$f":"VLOOKUP(G1652,Cntrol!$F$3:$G$9,2,FALSE)","v":3},12,6,2,0,1,3]
["E01022194","E01022194 Cotswold 007A","E01022194",{"$f":"VLOOKUP(A1653,'Output Areas'!$A:$E,5,FALSE)","v":"Town and Fringe"},"A flat; maisonette; apartment","Shared ownership or rented (excluding living rent free)","7 rooms",{"$f":"VLOOKUP(G1653,Cntrol!$F$3:$G$9,2,FALSE)","v":4},3,0,1,1,0,1]
["E01022194","E01022194 Cotswold 007A","E01022194",{"$f":"VLOOKUP(A1654,'Output Areas'!$A:$E,5,FALSE)","v":"Town and Fringe"},"A flat; maisonette; apartment","Shared ownership or rented (excluding living rent free)","8 rooms or more",{"$f":"VLOOKUP(G1654,Cntrol!$F$3:$G$9,2,FALSE)","v":5},3,0,1,2,0,0]
["E01022195","E01022195 Cotswold 007B","E01022195",{"$f":"VLOOKUP(A1655,'Output Areas'!$A:$E,5,FALSE)","v":"Rural"},"Total: Accommodation type (excluding caravans / temporary structures)","Total: Tenure (excluding living rent free)","Total: Number of rooms",{"$f":"VLOOKUP(G1655,Cntrol!$F$3:$G$9,2,FALSE)","v":0},625,303,159,31,17,115]
["E01022195","E01022195 Cotswold 007B","E01022195",{"$f":"VLOOKUP(A1656,'Output Areas'!$A:$E,5,FALSE)","v":"Rural"},"Total: Accommodation type (excluding caravans / temporary structures)","Total: Tenure (excluding living rent free)","3 rooms or less",{"$f":"VLOOKUP(G1656,Cntrol!$F$3:$G$9,2,FALSE)","v":2},88,45,6,0,0,37]
["E01022195","E01022195 Cotswold 007B","E01022195",{"$f":"VLOOKUP(A1657,'Output Areas'!$A:$E,5,FALSE)","v":"Rural"},"Total: Accommodation type (excluding caravans / temporary structures)","Total: Tenure (excluding living rent free)","4 rooms",{"$f":"VLOOKUP(G1657,Cntrol!$F$3:$G$9,2,FALSE)","v":2},101,60,14,1,1,25]
["E01022195","E01022195 Cotswold 007B","E01022195",{"$f":"VLOOKUP(A1658,'Output Areas'!$A:$E,5,FALSE)","v":"Rural"},"Total: Accommodation type (excluding caravans / temporary structures)","Total: Tenure (excluding living rent free)","5 rooms",{"$f":"VLOOKUP(G1658,Cntrol!$F$3:$G$9,2,FALSE)","v":3},152,85,35,3,2,27]
["E01022195","E01022195 Cotswold 007B","E01022195",{"$f":"VLOOKUP(A1659,'Output Areas'!$A:$E,5,FALSE)","v":"Rural"},"Total: Accommodation type (excluding caravans / temporary structures)","Total: Tenure (excluding living rent free)","6 rooms",{"$f":"VLOOKUP(G1659,Cntrol!$F$3:$G$9,2,FALSE)","v":3},108,48,33,7,6,14]
["E01022195","E01022195 Cotswold 007B","E01022195",{"$f":"VLOOKUP(A1660,'Output Areas'!$A:$E,5,FALSE)","v":"Rural"},"Total: Accommodation type (excluding caravans / temporary structures)","Total: Tenure (excluding living rent free)","7 rooms",{"$f":"VLOOKUP(G1660,Cntrol!$F$3:$G$9,2,FALSE)","v":4},77,31,30,9,0,7]
["E01022195","E01022195 Cotswold 007B","E01022195",{"$f":"VLOOKUP(A1661,'Output Areas'!$A:$E,5,FALSE)","v":"Rural"},"Total: Accommodation type (excluding caravans / temporary structures)","Total: Tenure (excluding living rent free)","8 rooms or more",{"$f":"VLOOKUP(G1661,Cntrol!$F$3:$G$9,2,FALSE)","v":5},99,34,41,11,8,5]
["E01022195","E01022195 Cotswold 007B","E01022195",{"$f":"VLOOKUP(A1662,'Output Areas'!$A:$E,5,FALSE)","v":"Rural"},"Total: Accommodation type (excluding caravans / temporary structures)","Owned","Total: Number of rooms",{"$f":"VLOOKUP(G1662,Cntrol!$F$3:$G$9,2,FALSE)","v":0},394,189,117,24,8,56]
["E01022195","E01022195 Cotswold 007B","E01022195",{"$f":"VLOOKUP(A1663,'Output Areas'!$A:$E,5,FALSE)","v":"Rural"},"Total: Accommodation type (excluding caravans / temporary structures)","Owned","3 rooms or less",{"$f":"VLOOKUP(G1663,Cntrol!$F$3:$G$9,2,FALSE)","v":2},13,8,1,0,0,4]
["E01022195","E01022195 Cotswold 007B","E01022195",{"$f":"VLOOKUP(A1664,'Output Areas'!$A:$E,5,FALSE)","v":"Rural"},"Total: Accommodation type (excluding caravans / temporary structures)","Owned","4 rooms",{"$f":"VLOOKUP(G1664,Cntrol!$F$3:$G$9,2,FALSE)","v":2},40,22,7,0,0,11]
["E01022195","E01022195 Cotswold 007B","E01022195",{"$f":"VLOOKUP(A1665,'Output Areas'!$A:$E,5,FALSE)","v":"Rural"},"Total: Accommodation type (excluding caravans / temporary structures)","Owned","5 rooms",{"$f":"VLOOKUP(G1665,Cntrol!$F$3:$G$9,2,FALSE)","v":3},115,68,25,1,1,20]
["E01022195","E01022195 Cotswold 007B","E01022195",{"$f":"VLOOKUP(A1666,'Output Areas'!$A:$E,5,FALSE)","v":"Rural"},"Total: Accommodation type (excluding caravans / temporary structures)","Owned","6 rooms",{"$f":"VLOOKUP(G1666,Cntrol!$F$3:$G$9,2,FALSE)","v":3},81,36,23,6,3,13]
["E01022195","E01022195 Cotswold 007B","E01022195",{"$f":"VLOOKUP(A1667,'Output Areas'!$A:$E,5,FALSE)","v":"Rural"},"Total: Accommodation type (excluding caravans / temporary structures)","Owned","7 rooms",{"$f":"VLOOKUP(G1667,Cntrol!$F$3:$G$9,2,FALSE)","v":4},69,29,28,6,0,6]
["E01022195","E01022195 Cotswold 007B","E01022195",{"$f":"VLOOKUP(A1668,'Output Areas'!$A:$E,5,FALSE)","v":"Rural"},"Total: Accommodation type (excluding caravans / temporary structures)","Owned","8 rooms or more",{"$f":"VLOOKUP(G1668,Cntrol!$F$3:$G$9,2,FALSE)","v":5},76,26,33,11,4,2]
["E01022195","E01022195 Cotswold 007B","E01022195",{"$f":"VLOOKUP(A1669,'Output Areas'!$A:$E,5,FALSE)","v":"Rural"},"Total: Accommodation type (excluding caravans / temporary structures)","Shared ownership or rented (excluding living rent free)","Total: Number of rooms",{"$f":"VLOOKUP(G1669,Cntrol!$F$3:$G$9,2,FALSE)","v":0},231,114,42,7,9,59]
["E01022195","E01022195 Cotswold 007B","E01022195",{"$f":"VLOOKUP(A1670,'Output Areas'!$A:$E,5,FALSE)","v":"Rural"},"Total: Accommodation type (excluding caravans / temporary structures)","Shared ownership or rented (excluding living rent free)","3 rooms or less",{"$f":"VLOOKUP(G1670,Cntrol!$F$3:$G$9,2,FALSE)","v":2},75,37,5,0,0,33]
["E01022195","E01022195 Cotswold 007B","E01022195",{"$f":"VLOOKUP(A1671,'Output Areas'!$A:$E,5,FALSE)","v":"Rural"},"Total: Accommodation type (excluding caravans / temporary structures)","Shared ownership or rented (excluding living rent free)","4 rooms",{"$f":"VLOOKUP(G1671,Cntrol!$F$3:$G$9,2,FALSE)","v":2},61,38,7,1,1,14]
["E01022195","E01022195 Cotswold 007B","E01022195",{"$f":"VLOOKUP(A1672,'Output Areas'!$A:$E,5,FALSE)","v":"Rural"},"Total: Accommodation type (excluding caravans / temporary structures)","Shared ownership or rented (excluding living rent free)","5 rooms",{"$f":"VLOOKUP(G1672,Cntrol!$F$3:$G$9,2,FALSE)","v":3},37,17,10,2,1,7]
["E01022195","E01022195 Cotswold 007B","E01022195",{"$f":"VLOOKUP(A1673,'Output Areas'!$A:$E,5,FALSE)","v":"Rural"},"Total: Accommodation type (excluding caravans / temporary structures)","Shared ownership or rented (excluding living rent free)","6 rooms",{"$f":"VLOOKUP(G1673,Cntrol!$F$3:$G$9,2,FALSE)","v":3},27,12,10,1,3,1]
["E01022195","E01022195 Cotswold 007B","E01022195",{"$f":"VLOOKUP(A1674,'Output Areas'!$A:$E,5,FALSE)","v":"Rural"},"Total: Accommodation type (excluding caravans / temporary structures)","Shared ownership or rented (excluding living rent free)","7 rooms",{"$f":"VLOOKUP(G1674,Cntrol!$F$3:$G$9,2,FALSE)","v":4},8,2,2,3,0,1]
["E01022195","E01022195 Cotswold 007B","E01022195",{"$f":"VLOOKUP(A1675,'Output Areas'!$A:$E,5,FALSE)","v":"Rural"},"Total: Accommodation type (excluding caravans / temporary structures)","Shared ownership or rented (excluding living rent free)","8 rooms or more",{"$f":"VLOOKUP(G1675,Cntrol!$F$3:$G$9,2,FALSE)","v":5},23,8,8,0,4,3]
["E01022195","E01022195 Cotswold 007B","E01022195",{"$f":"VLOOKUP(A1676,'Output Areas'!$A:$E,5,FALSE)","v":"Rural"},"Detached; semi-detached; terraced whole house or bungalow","Total: Tenure (excluding living rent free)","Total: Number of rooms",{"$f":"VLOOKUP(G1676,Cntrol!$F$3:$G$9,2,FALSE)","v":0},523,252,147,31,14,79]
["E01022195","E01022195 Cotswold 007B","E01022195",{"$f":"VLOOKUP(A1677,'Output Areas'!$A:$E,5,FALSE)","v":"Rural"},"Detached; semi-detached; terraced whole house or bungalow","Total: Tenure (excluding living rent free)","3 rooms or less",{"$f":"VLOOKUP(G1677,Cntrol!$F$3:$G$9,2,FALSE)","v":2},43,24,3,0,0,16]
["E01022195","E01022195 Cotswold 007B","E01022195",{"$f":"VLOOKUP(A1678,'Output Areas'!$A:$E,5,FALSE)","v":"Rural"},"Detached; semi-detached; terraced whole house or bungalow","Total: Tenure (excluding living rent free)","4 rooms",{"$f":"VLOOKUP(G1678,Cntrol!$F$3:$G$9,2,FALSE)","v":2},67,42,9,1,0,15]
["E01022195","E01022195 Cotswold 007B","E01022195",{"$f":"VLOOKUP(A1679,'Output Areas'!$A:$E,5,FALSE)","v":"Rural"},"Detached; semi-detached; terraced whole house or bungalow","Total: Tenure (excluding living rent free)","5 rooms",{"$f":"VLOOKUP(G1679,Cntrol!$F$3:$G$9,2,FALSE)","v":3},135,76,33,3,0,23]
["E01022195","E01022195 Cotswold 007B","E01022195",{"$f":"VLOOKUP(A1680,'Output Areas'!$A:$E,5,FALSE)","v":"Rural"},"Detached; semi-detached; terraced whole house or bungalow","Total: Tenure (excluding living rent free)","6 rooms",{"$f":"VLOOKUP(G1680,Cntrol!$F$3:$G$9,2,FALSE)","v":3},106,47,33,7,6,13]
["E01022195","E01022195 Cotswold 007B","E01022195",{"$f":"VLOOKUP(A1681,'Output Areas'!$A:$E,5,FALSE)","v":"Rural"},"Detached; semi-detached; terraced whole house or bungalow","Total: Tenure (excluding living rent free)","7 rooms",{"$f":"VLOOKUP(G1681,Cntrol!$F$3:$G$9,2,FALSE)","v":4},76,30,30,9,0,7]
["E01022195","E01022195 Cotswold 007B","E01022195",{"$f":"VLOOKUP(A1682,'Output Areas'!$A:$E,5,FALSE)","v":"Rural"},"Detached; semi-detached; terraced whole house or bungalow","Total: Tenure (excluding living rent free)","8 rooms or more",{"$f":"VLOOKUP(G1682,Cntrol!$F$3:$G$9,2,FALSE)","v":5},96,33,39,11,8,5]
["E01022195","E01022195 Cotswold 007B","E01022195",{"$f":"VLOOKUP(A1683,'Output Areas'!$A:$E,5,FALSE)","v":"Rural"},"Detached; semi-detached; terraced whole house or bungalow","Owned","Total: Number of rooms",{"$f":"VLOOKUP(G1683,Cntrol!$F$3:$G$9,2,FALSE)","v":0},362,174,113,24,7,44]
["E01022195","E01022195 Cotswold 007B","E01022195",{"$f":"VLOOKUP(A1684,'Output Areas'!$A:$E,5,FALSE)","v":"Rural"},"Detached; semi-detached; terraced whole house or bungalow","Owned","3 rooms or less",{"$f":"VLOOKUP(G1684,Cntrol!$F$3:$G$9,2,FALSE)","v":2},7,4,1,0,0,2]
["E01022195","E01022195 Cotswold 007B","E01022195",{"$f":"VLOOKUP(A1685,'Output Areas'!$A:$E,5,FALSE)","v":"Rural"},"Detached; semi-detached; terraced whole house or bungalow","Owned","4 rooms",{"$f":"VLOOKUP(G1685,Cntrol!$F$3:$G$9,2,FALSE)","v":2},27,19,4,0,0,4]
["E01022195","E01022195 Cotswold 007B","E01022195",{"$f":"VLOOKUP(A1686,'Output Areas'!$A:$E,5,FALSE)","v":"Rural"},"Detached; semi-detached; terraced whole house or bungalow","Owned","5 rooms",{"$f":"VLOOKUP(G1686,Cntrol!$F$3:$G$9,2,FALSE)","v":3},105,62,25,1,0,17]
["E01022195","E01022195 Cotswold 007B","E01022195",{"$f":"VLOOKUP(A1687,'Output Areas'!$A:$E,5,FALSE)","v":"Rural"},"Detached; semi-detached; terraced whole house or bungalow","Owned","6 rooms",{"$f":"VLOOKUP(G1687,Cntrol!$F$3:$G$9,2,FALSE)","v":3},80,35,23,6,3,13]
["E01022195","E01022195 Cotswold 007B","E01022195",{"$f":"VLOOKUP(A1688,'Output Areas'!$A:$E,5,FALSE)","v":"Rural"},"Detached; semi-detached; terraced whole house or bungalow","Owned","7 rooms",{"$f":"VLOOKUP(G1688,Cntrol!$F$3:$G$9,2,FALSE)","v":4},68,28,28,6,0,6]
["E01022195","E01022195 Cotswold 007B","E01022195",{"$f":"VLOOKUP(A1689,'Output Areas'!$A:$E,5,FALSE)","v":"Rural"},"Detached; semi-detached; terraced whole house or bungalow","Owned","8 rooms or more",{"$f":"VLOOKUP(G1689,Cntrol!$F$3:$G$9,2,FALSE)","v":5},75,26,32,11,4,2]
["E01022195","E01022195 Cotswold 007B","E01022195",{"$f":"VLOOKUP(A1690,'Output Areas'!$A:$E,5,FALSE)","v":"Rural"},"Detached; semi-detached; terraced whole house or bungalow","Shared ownership or rented (excluding living rent free)","Total: Number of rooms",{"$f":"VLOOKUP(G1690,Cntrol!$F$3:$G$9,2,FALSE)","v":0},161,78,34,7,7,35]
["E01022195","E01022195 Cotswold 007B","E01022195",{"$f":"VLOOKUP(A1691,'Output Areas'!$A:$E,5,FALSE)","v":"Rural"},"Detached; semi-detached; terraced whole house or bungalow","Shared ownership or rented (excluding living rent free)","3 rooms or less",{"$f":"VLOOKUP(G1691,Cntrol!$F$3:$G$9,2,FALSE)","v":2},36,20,2,0,0,14]
["E01022195","E01022195 Cotswold 007B","E01022195",{"$f":"VLOOKUP(A1692,'Output Areas'!$A:$E,5,FALSE)","v":"Rural"},"Detached; semi-detached; terraced whole house or bungalow","Shared ownership or rented (excluding living rent free)","4 rooms",{"$f":"VLOOKUP(G1692,Cntrol!$F$3:$G$9,2,FALSE)","v":2},40,23,5,1,0,11]
["E01022195","E01022195 Cotswold 007B","E01022195",{"$f":"VLOOKUP(A1693,'Output Areas'!$A:$E,5,FALSE)","v":"Rural"},"Detached; semi-detached; terraced whole house or bungalow","Shared ownership or rented (excluding living rent free)","5 rooms",{"$f":"VLOOKUP(G1693,Cntrol!$F$3:$G$9,2,FALSE)","v":3},30,14,8,2,0,6]
["E01022195","E01022195 Cotswold 007B","E01022195",{"$f":"VLOOKUP(A1694,'Output Areas'!$A:$E,5,FALSE)","v":"Rural"},"Detached; semi-detached; terraced whole house or bungalow","Shared ownership or rented (excluding living rent free)","6 rooms",{"$f":"VLOOKUP(G1694,Cntrol!$F$3:$G$9,2,FALSE)","v":3},26,12,10,1,3,0]
["E01022195","E01022195 Cotswold 007B","E01022195",{"$f":"VLOOKUP(A1695,'Output Areas'!$A:$E,5,FALSE)","v":"Rural"},"Detached; semi-detached; terraced whole house or bungalow","Shared ownership or rented (excluding living rent free)","7 rooms",{"$f":"VLOOKUP(G1695,Cntrol!$F$3:$G$9,2,FALSE)","v":4},8,2,2,3,0,1]
["E01022195","E01022195 Cotswold 007B","E01022195",{"$f":"VLOOKUP(A1696,'Output Areas'!$A:$E,5,FALSE)","v":"Rural"},"Detached; semi-detached; terraced whole house or bungalow","Shared ownership or rented (excluding living rent free)","8 rooms or more",{"$f":"VLOOKUP(G1696,Cntrol!$F$3:$G$9,2,FALSE)","v":5},21,7,7,0,4,3]
["E01022195","E01022195 Cotswold 007B","E01022195",{"$f":"VLOOKUP(A1697,'Output Areas'!$A:$E,5,FALSE)","v":"Rural"},"A flat; maisonette; apartment","Total: Tenure (excluding living rent free)","Total: Number of rooms",{"$f":"VLOOKUP(G1697,Cntrol!$F$3:$G$9,2,FALSE)","v":0},102,51,12,0,3,36]
["E01022195","E01022195 Cotswold 007B","E01022195",{"$f":"VLOOKUP(A1698,'Output Areas'!$A:$E,5,FALSE)","v":"Rural"},"A flat; maisonette; apartment","Total: Tenure (excluding living rent free)","3 rooms or less",{"$f":"VLOOKUP(G1698,Cntrol!$F$3:$G$9,2,FALSE)","v":2},45,21,3,0,0,21]
["E01022195","E01022195 Cotswold 007B","E01022195",{"$f":"VLOOKUP(A1699,'Output Areas'!$A:$E,5,FALSE)","v":"Rural"},"A flat; maisonette; apartment","Total: Tenure (excluding living rent free)","4 rooms",{"$f":"VLOOKUP(G1699,Cntrol!$F$3:$G$9,2,FALSE)","v":2},34,18,5,0,1,10]
["E01022195","E01022195 Cotswold 007B","E01022195",{"$f":"VLOOKUP(A1700,'Output Areas'!$A:$E,5,FALSE)","v":"Rural"},"A flat; maisonette; apartment","Total: Tenure (excluding living rent free)","5 rooms",{"$f":"VLOOKUP(G1700,Cntrol!$F$3:$G$9,2,FALSE)","v":3},17,9,2,0,2,4]
["E01022195","E01022195 Cotswold 007B","E01022195",{"$f":"VLOOKUP(A1701,'Output Areas'!$A:$E,5,FALSE)","v":"Rural"},"A flat; maisonette; apartment","Total: Tenure (excluding living rent free)","6 rooms",{"$f":"VLOOKUP(G1701,Cntrol!$F$3:$G$9,2,FALSE)","v":3},2,1,0,0,0,1]
["E01022195","E01022195 Cotswold 007B","E01022195",{"$f":"VLOOKUP(A1702,'Output Areas'!$A:$E,5,FALSE)","v":"Rural"},"A flat; maisonette; apartment","Total: Tenure (excluding living rent free)","7 rooms",{"$f":"VLOOKUP(G1702,Cntrol!$F$3:$G$9,2,FALSE)","v":4},1,1,0,0,0,0]
["E01022195","E01022195 Cotswold 007B","E01022195",{"$f":"VLOOKUP(A1703,'Output Areas'!$A:$E,5,FALSE)","v":"Rural"},"A flat; maisonette; apartment","Total: Tenure (excluding living rent free)","8 rooms or more",{"$f":"VLOOKUP(G1703,Cntrol!$F$3:$G$9,2,FALSE)","v":5},3,1,2,0,0,0]
["E01022195","E01022195 Cotswold 007B","E01022195",{"$f":"VLOOKUP(A1704,'Output Areas'!$A:$E,5,FALSE)","v":"Rural"},"A flat; maisonette; apartment","Owned","Total: Number of rooms",{"$f":"VLOOKUP(G1704,Cntrol!$F$3:$G$9,2,FALSE)","v":0},32,15,4,0,1,12]
["E01022195","E01022195 Cotswold 007B","E01022195",{"$f":"VLOOKUP(A1705,'Output Areas'!$A:$E,5,FALSE)","v":"Rural"},"A flat; maisonette; apartment","Owned","3 rooms or less",{"$f":"VLOOKUP(G1705,Cntrol!$F$3:$G$9,2,FALSE)","v":2},6,4,0,0,0,2]
["E01022195","E01022195 Cotswold 007B","E01022195",{"$f":"VLOOKUP(A1706,'Output Areas'!$A:$E,5,FALSE)","v":"Rural"},"A flat; maisonette; apartment","Owned","4 rooms",{"$f":"VLOOKUP(G1706,Cntrol!$F$3:$G$9,2,FALSE)","v":2},13,3,3,0,0,7]
["E01022195","E01022195 Cotswold 007B","E01022195",{"$f":"VLOOKUP(A1707,'Output Areas'!$A:$E,5,FALSE)","v":"Rural"},"A flat; maisonette; apartment","Owned","5 rooms",{"$f":"VLOOKUP(G1707,Cntrol!$F$3:$G$9,2,FALSE)","v":3},10,6,0,0,1,3]
["E01022195","E01022195 Cotswold 007B","E01022195",{"$f":"VLOOKUP(A1708,'Output Areas'!$A:$E,5,FALSE)","v":"Rural"},"A flat; maisonette; apartment","Owned","6 rooms",{"$f":"VLOOKUP(G1708,Cntrol!$F$3:$G$9,2,FALSE)","v":3},1,1,0,0,0,0]
["E01022195","E01022195 Cotswold 007B","E01022195",{"$f":"VLOOKUP(A1709,'Output Areas'!$A:$E,5,FALSE)","v":"Rural"},"A flat; maisonette; apartment","Owned","7 rooms",{"$f":"VLOOKUP(G1709,Cntrol!$F$3:$G$9,2,FALSE)","v":4},1,1,0,0,0,0]
["E01022195","E01022195 Cotswold 007B","E01022195",{"$f":"VLOOKUP(A1710,'Output Areas'!$A:$E,5,FALSE)","v":"Rural"},"A flat; maisonette; apartment","Owned","8 rooms or more",{"$f":"VLOOKUP(G1710,Cntrol!$F$3:$G$9,2,FALSE)","v":5},1,0,1,0,0,0]
["E01022195","E01022195 Cotswold 007B","E01022195",{"$f":"VLOOKUP(A1711,'Output Areas'!$A:$E,5,FALSE)","v":"Rural"},"A flat; maisonette; apartment","Shared ownership or rented (excluding living rent free)","Total: Number of rooms",{"$f":"VLOOKUP(G1711,Cntrol!$F$3:$G$9,2,FALSE)","v":0},70,36,8,0,2,24]
["E01022195","E01022195 Cotswold 007B","E01022195",{"$f":"VLOOKUP(A1712,'Output Areas'!$A:$E,5,FALSE)","v":"Rural"},"A flat; maisonette; apartment","Shared ownership or rented (excluding living rent free)","3 rooms or less",{"$f":"VLOOKUP(G1712,Cntrol!$F$3:$G$9,2,FALSE)","v":2},39,17,3,0,0,19]
["E01022195","E01022195 Cotswold 007B","E01022195",{"$f":"VLOOKUP(A1713,'Output Areas'!$A:$E,5,FALSE)","v":"Rural"},"A flat; maisonette; apartment","Shared ownership or rented (excluding living rent free)","4 rooms",{"$f":"VLOOKUP(G1713,Cntrol!$F$3:$G$9,2,FALSE)","v":2},21,15,2,0,1,3]
["E01022195","E01022195 Cotswold 007B","E01022195",{"$f":"VLOOKUP(A1714,'Output Areas'!$A:$E,5,FALSE)","v":"Rural"},"A flat; maisonette; apartment","Shared ownership or rented (excluding living rent free)","5 rooms",{"$f":"VLOOKUP(G1714,Cntrol!$F$3:$G$9,2,FALSE)","v":3},7,3,2,0,1,1]
["E01022195","E01022195 Cotswold 007B","E01022195",{"$f":"VLOOKUP(A1715,'Output Areas'!$A:$E,5,FALSE)","v":"Rural"},"A flat; maisonette; apartment","Shared ownership or rented (excluding living rent free)","6 rooms",{"$f":"VLOOKUP(G1715,Cntrol!$F$3:$G$9,2,FALSE)","v":3},1,0,0,0,0,1]
["E01022195","E01022195 Cotswold 007B","E01022195",{"$f":"VLOOKUP(A1716,'Output Areas'!$A:$E,5,FALSE)","v":"Rural"},"A flat; maisonette; apartment","Shared ownership or rented (excluding living rent free)","8 rooms or more",{"$f":"VLOOKUP(G1716,Cntrol!$F$3:$G$9,2,FALSE)","v":5},2,1,1,0,0,0]
["E01022199","E01022199 Cotswold 007C","E01022199",{"$f":"VLOOKUP(A1717,'Output Areas'!$A:$E,5,FALSE)","v":"Town and Fringe"},"Total: Accommodation type (excluding caravans / temporary structures)","Total: Tenure (excluding living rent free)","Total: Number of rooms",{"$f":"VLOOKUP(G1717,Cntrol!$F$3:$G$9,2,FALSE)","v":0},850,401,215,31,8,195]
["E01022199","E01022199 Cotswold 007C","E01022199",{"$f":"VLOOKUP(A1718,'Output Areas'!$A:$E,5,FALSE)","v":"Town and Fringe"},"Total: Accommodation type (excluding caravans / temporary structures)","Total: Tenure (excluding living rent free)","3 rooms or less",{"$f":"VLOOKUP(G1718,Cntrol!$F$3:$G$9,2,FALSE)","v":2},182,77,12,0,0,93]
["E01022199","E01022199 Cotswold 007C","E01022199",{"$f":"VLOOKUP(A1719,'Output Areas'!$A:$E,5,FALSE)","v":"Town and Fringe"},"Total: Accommodation type (excluding caravans / temporary structures)","Total: Tenure (excluding living rent free)","4 rooms",{"$f":"VLOOKUP(G1719,Cntrol!$F$3:$G$9,2,FALSE)","v":2},202,113,33,2,0,54]
["E01022199","E01022199 Cotswold 007C","E01022199",{"$f":"VLOOKUP(A1720,'Output Areas'!$A:$E,5,FALSE)","v":"Town and Fringe"},"Total: Accommodation type (excluding caravans / temporary structures)","Total: Tenure (excluding living rent free)","5 rooms",{"$f":"VLOOKUP(G1720,Cntrol!$F$3:$G$9,2,FALSE)","v":3},162,85,57,4,0,16]
["E01022199","E01022199 Cotswold 007C","E01022199",{"$f":"VLOOKUP(A1721,'Output Areas'!$A:$E,5,FALSE)","v":"Town and Fringe"},"Total: Accommodation type (excluding caravans / temporary structures)","Total: Tenure (excluding living rent free)","6 rooms",{"$f":"VLOOKUP(G1721,Cntrol!$F$3:$G$9,2,FALSE)","v":3},158,78,48,7,2,23]
["E01022199","E01022199 Cotswold 007C","E01022199",{"$f":"VLOOKUP(A1722,'Output Areas'!$A:$E,5,FALSE)","v":"Town and Fringe"},"Total: Accommodation type (excluding caravans / temporary structures)","Total: Tenure (excluding living rent free)","7 rooms",{"$f":"VLOOKUP(G1722,Cntrol!$F$3:$G$9,2,FALSE)","v":4},61,21,30,5,1,4]
["E01022199","E01022199 Cotswold 007C","E01022199",{"$f":"VLOOKUP(A1723,'Output Areas'!$A:$E,5,FALSE)","v":"Town and Fringe"},"Total: Accommodation type (excluding caravans / temporary structures)","Total: Tenure (excluding living rent free)","8 rooms or more",{"$f":"VLOOKUP(G1723,Cntrol!$F$3:$G$9,2,FALSE)","v":5},85,27,35,13,5,5]
["E01022199","E01022199 Cotswold 007C","E01022199",{"$f":"VLOOKUP(A1724,'Output Areas'!$A:$E,5,FALSE)","v":"Town and Fringe"},"Total: Accommodation type (excluding caravans / temporary structures)","Owned","Total: Number of rooms",{"$f":"VLOOKUP(G1724,Cntrol!$F$3:$G$9,2,FALSE)","v":0},509,249,162,23,3,72]
["E01022199","E01022199 Cotswold 007C","E01022199",{"$f":"VLOOKUP(A1725,'Output Areas'!$A:$E,5,FALSE)","v":"Town and Fringe"},"Total: Accommodation type (excluding caravans / temporary structures)","Owned","3 rooms or less",{"$f":"VLOOKUP(G1725,Cntrol!$F$3:$G$9,2,FALSE)","v":2},32,20,2,0,0,10]
["E01022199","E01022199 Cotswold 007C","E01022199",{"$f":"VLOOKUP(A1726,'Output Areas'!$A:$E,5,FALSE)","v":"Town and Fringe"},"Total: Accommodation type (excluding caravans / temporary structures)","Owned","4 rooms",{"$f":"VLOOKUP(G1726,Cntrol!$F$3:$G$9,2,FALSE)","v":2},107,64,16,1,0,26]
["E01022199","E01022199 Cotswold 007C","E01022199",{"$f":"VLOOKUP(A1727,'Output Areas'!$A:$E,5,FALSE)","v":"Town and Fringe"},"Total: Accommodation type (excluding caravans / temporary structures)","Owned","5 rooms",{"$f":"VLOOKUP(G1727,Cntrol!$F$3:$G$9,2,FALSE)","v":3},116,62,37,3,0,14]
["E01022199","E01022199 Cotswold 007C","E01022199",{"$f":"VLOOKUP(A1728,'Output Areas'!$A:$E,5,FALSE)","v":"Town and Fringe"},"Total: Accommodation type (excluding caravans / temporary structures)","Owned","6 rooms",{"$f":"VLOOKUP(G1728,Cntrol!$F$3:$G$9,2,FALSE)","v":3},130,65,45,4,1,15]
["E01022199","E01022199 Cotswold 007C","E01022199",{"$f":"VLOOKUP(A1729,'Output Areas'!$A:$E,5,FALSE)","v":"Town and Fringe"},"Total: Accommodation type (excluding caravans / temporary structures)","Owned","7 rooms",{"$f":"VLOOKUP(G1729,Cntrol!$F$3:$G$9,2,FALSE)","v":4},49,15,29,3,0,2]
["E01022199","E01022199 Cotswold 007C","E01022199",{"$f":"VLOOKUP(A1730,'Output Areas'!$A:$E,5,FALSE)","v":"Town and Fringe"},"Total: Accommodation type (excluding caravans / temporary structures)","Owned","8 rooms or more",{"$f":"VLOOKUP(G1730,Cntrol!$F$3:$G$9,2,FALSE)","v":5},75,23,33,12,2,5]
["E01022199","E01022199 Cotswold 007C","E01022199",{"$f":"VLOOKUP(A1731,'Output Areas'!$A:$E,5,FALSE)","v":"Town and Fringe"},"Total: Accommodation type (excluding caravans / temporary structures)","Shared ownership or rented (excluding living rent free)","Total: Number of rooms",{"$f":"VLOOKUP(G1731,Cntrol!$F$3:$G$9,2,FALSE)","v":0},341,152,53,8,5,123]
["E01022199","E01022199 Cotswold 007C","E01022199",{"$f":"VLOOKUP(A1732,'Output Areas'!$A:$E,5,FALSE)","v":"Town and Fringe"},"Total: Accommodation type (excluding caravans / temporary structures)","Shared ownership or rented (excluding living rent free)","3 rooms or less",{"$f":"VLOOKUP(G1732,Cntrol!$F$3:$G$9,2,FALSE)","v":2},150,57,10,0,0,83]
["E01022199","E01022199 Cotswold 007C","E01022199",{"$f":"VLOOKUP(A1733,'Output Areas'!$A:$E,5,FALSE)","v":"Town and Fringe"},"Total: Accommodation type (excluding caravans / temporary structures)","Shared ownership or rented (excluding living rent free)","4 rooms",{"$f":"VLOOKUP(G1733,Cntrol!$F$3:$G$9,2,FALSE)","v":2},95,49,17,1,0,28]
["E01022199","E01022199 Cotswold 007C","E01022199",{"$f":"VLOOKUP(A1734,'Output Areas'!$A:$E,5,FALSE)","v":"Town and Fringe"},"Total: Accommodation type (excluding caravans / temporary structures)","Shared ownership or rented (excluding living rent free)","5 rooms",{"$f":"VLOOKUP(G1734,Cntrol!$F$3:$G$9,2,FALSE)","v":3},46,23,20,1,0,2]
["E01022199","E01022199 Cotswold 007C","E01022199",{"$f":"VLOOKUP(A1735,'Output Areas'!$A:$E,5,FALSE)","v":"Town and Fringe"},"Total: Accommodation type (excluding caravans / temporary structures)","Shared ownership or rented (excluding living rent free)","6 rooms",{"$f":"VLOOKUP(G1735,Cntrol!$F$3:$G$9,2,FALSE)","v":3},28,13,3,3,1,8]
["E01022199","E01022199 Cotswold 007C","E01022199",{"$f":"VLOOKUP(A1736,'Output Areas'!$A:$E,5,FALSE)","v":"Town and Fringe"},"Total: Accommodation type (excluding caravans / temporary structures)","Shared ownership or rented (excluding living rent free)","7 rooms",{"$f":"VLOOKUP(G1736,Cntrol!$F$3:$G$9,2,FALSE)","v":4},12,6,1,2,1,2]
["E01022199","E01022199 Cotswold 007C","E01022199",{"$f":"VLOOKUP(A1737,'Output Areas'!$A:$E,5,FALSE)","v":"Town and Fringe"},"Total: Accommodation type (excluding caravans / temporary structures)","Shared ownership or rented (excluding living rent free)","8 rooms or more",{"$f":"VLOOKUP(G1737,Cntrol!$F$3:$G$9,2,FALSE)","v":5},10,4,2,1,3,0]
["E01022199","E01022199 Cotswold 007C","E01022199",{"$f":"VLOOKUP(A1738,'Output Areas'!$A:$E,5,FALSE)","v":"Town and Fringe"},"Detached; semi-detached; terraced whole house or bungalow","Total: Tenure (excluding living rent free)","Total: Number of rooms",{"$f":"VLOOKUP(G1738,Cntrol!$F$3:$G$9,2,FALSE)","v":0},558,262,192,29,8,67]
["E01022199","E01022199 Cotswold 007C","E01022199",{"$f":"VLOOKUP(A1739,'Output Areas'!$A:$E,5,FALSE)","v":"Town and Fringe"},"Detached; semi-detached; terraced whole house or bungalow","Total: Tenure (excluding living rent free)","3 rooms or less",{"$f":"VLOOKUP(G1739,Cntrol!$F$3:$G$9,2,FALSE)","v":2},22,12,4,0,0,6]
["E01022199","E01022199 Cotswold 007C","E01022199",{"$f":"VLOOKUP(A1740,'Output Areas'!$A:$E,5,FALSE)","v":"Town and Fringe"},"Detached; semi-detached; terraced whole house or bungalow","Total: Tenure (excluding living rent free)","4 rooms",{"$f":"VLOOKUP(G1740,Cntrol!$F$3:$G$9,2,FALSE)","v":2},99,56,21,1,0,21]
["E01022199","E01022199 Cotswold 007C","E01022199",{"$f":"VLOOKUP(A1741,'Output Areas'!$A:$E,5,FALSE)","v":"Town and Fringe"},"Detached; semi-detached; terraced whole house or bungalow","Total: Tenure (excluding living rent free)","5 rooms",{"$f":"VLOOKUP(G1741,Cntrol!$F$3:$G$9,2,FALSE)","v":3},146,76,55,3,0,12]
["E01022199","E01022199 Cotswold 007C","E01022199",{"$f":"VLOOKUP(A1742,'Output Areas'!$A:$E,5,FALSE)","v":"Town and Fringe"},"Detached; semi-detached; terraced whole house or bungalow","Total: Tenure (excluding living rent free)","6 rooms",{"$f":"VLOOKUP(G1742,Cntrol!$F$3:$G$9,2,FALSE)","v":3},148,71,47,7,2,21]
["E01022199","E01022199 Cotswold 007C","E01022199",{"$f":"VLOOKUP(A1743,'Output Areas'!$A:$E,5,FALSE)","v":"Town and Fringe"},"Detached; semi-detached; terraced whole house or bungalow","Total: Tenure (excluding living rent free)","7 rooms",{"$f":"VLOOKUP(G1743,Cntrol!$F$3:$G$9,2,FALSE)","v":4},59,20,30,5,1,3]
["E01022199","E01022199 Cotswold 007C","E01022199",{"$f":"VLOOKUP(A1744,'Output Areas'!$A:$E,5,FALSE)","v":"Town and Fringe"},"Detached; semi-detached; terraced whole house or bungalow","Total: Tenure (excluding living rent free)","8 rooms or more",{"$f":"VLOOKUP(G1744,Cntrol!$F$3:$G$9,2,FALSE)","v":5},84,27,35,13,5,4]
["E01022199","E01022199 Cotswold 007C","E01022199",{"$f":"VLOOKUP(A1745,'Output Areas'!$A:$E,5,FALSE)","v":"Town and Fringe"},"Detached; semi-detached; terraced whole house or bungalow","Owned","Total: Number of rooms",{"$f":"VLOOKUP(G1745,Cntrol!$F$3:$G$9,2,FALSE)","v":0},432,201,156,22,3,50]
["E01022199","E01022199 Cotswold 007C","E01022199",{"$f":"VLOOKUP(A1746,'Output Areas'!$A:$E,5,FALSE)","v":"Town and Fringe"},"Detached; semi-detached; terraced whole house or bungalow","Owned","3 rooms or less",{"$f":"VLOOKUP(G1746,Cntrol!$F$3:$G$9,2,FALSE)","v":2},12,8,0,0,0,4]
["E01022199","E01022199 Cotswold 007C","E01022199",{"$f":"VLOOKUP(A1747,'Output Areas'!$A:$E,5,FALSE)","v":"Town and Fringe"},"Detached; semi-detached; terraced whole house or bungalow","Owned","4 rooms",{"$f":"VLOOKUP(G1747,Cntrol!$F$3:$G$9,2,FALSE)","v":2},67,37,13,1,0,16]
["E01022199","E01022199 Cotswold 007C","E01022199",{"$f":"VLOOKUP(A1748,'Output Areas'!$A:$E,5,FALSE)","v":"Town and Fringe"},"Detached; semi-detached; terraced whole house or bungalow","Owned","5 rooms",{"$f":"VLOOKUP(G1748,Cntrol!$F$3:$G$9,2,FALSE)","v":3},108,58,37,2,0,11]
["E01022199","E01022199 Cotswold 007C","E01022199",{"$f":"VLOOKUP(A1749,'Output Areas'!$A:$E,5,FALSE)","v":"Town and Fringe"},"Detached; semi-detached; terraced whole house or bungalow","Owned","6 rooms",{"$f":"VLOOKUP(G1749,Cntrol!$F$3:$G$9,2,FALSE)","v":3},122,60,44,4,1,13]
["E01022199","E01022199 Cotswold 007C","E01022199",{"$f":"VLOOKUP(A1750,'Output Areas'!$A:$E,5,FALSE)","v":"Town and Fringe"},"Detached; semi-detached; terraced whole house or bungalow","Owned","7 rooms",{"$f":"VLOOKUP(G1750,Cntrol!$F$3:$G$9,2,FALSE)","v":4},49,15,29,3,0,2]
["E01022199","E01022199 Cotswold 007C","E01022199",{"$f":"VLOOKUP(A1751,'Output Areas'!$A:$E,5,FALSE)","v":"Town and Fringe"},"Detached; semi-detached; terraced whole house or bungalow","Owned","8 rooms or more",{"$f":"VLOOKUP(G1751,Cntrol!$F$3:$G$9,2,FALSE)","v":5},74,23,33,12,2,4]
["E01022199","E01022199 Cotswold 007C","E01022199",{"$f":"VLOOKUP(A1752,'Output Areas'!$A:$E,5,FALSE)","v":"Town and Fringe"},"Detached; semi-detached; terraced whole house or bungalow","Shared ownership or rented (excluding living rent free)","Total: Number of rooms",{"$f":"VLOOKUP(G1752,Cntrol!$F$3:$G$9,2,FALSE)","v":0},126,61,36,7,5,17]
["E01022199","E01022199 Cotswold 007C","E01022199",{"$f":"VLOOKUP(A1753,'Output Areas'!$A:$E,5,FALSE)","v":"Town and Fringe"},"Detached; semi-detached; terraced whole house or bungalow","Shared ownership or rented (excluding living rent free)","3 rooms or less",{"$f":"VLOOKUP(G1753,Cntrol!$F$3:$G$9,2,FALSE)","v":2},10,4,4,0,0,2]
["E01022199","E01022199 Cotswold 007C","E01022199",{"$f":"VLOOKUP(A1754,'Output Areas'!$A:$E,5,FALSE)","v":"Town and Fringe"},"Detached; semi-detached; terraced whole house or bungalow","Shared ownership or rented (excluding living rent free)","4 rooms",{"$f":"VLOOKUP(G1754,Cntrol!$F$3:$G$9,2,FALSE)","v":2},32,19,8,0,0,5]
["E01022199","E01022199 Cotswold 007C","E01022199",{"$f":"VLOOKUP(A1755,'Output Areas'!$A:$E,5,FALSE)","v":"Town and Fringe"},"Detached; semi-detached; terraced whole house or bungalow","Shared ownership or rented (excluding living rent free)","5 rooms",{"$f":"VLOOKUP(G1755,Cntrol!$F$3:$G$9,2,FALSE)","v":3},38,18,18,1,0,1]
["E01022199","E01022199 Cotswold 007C","E01022199",{"$f":"VLOOKUP(A1756,'Output Areas'!$A:$E,5,FALSE)","v":"Town and Fringe"},"Detached; semi-detached; terraced whole house or bungalow","Shared ownership or rented (excluding living rent free)","6 rooms",{"$f":"VLOOKUP(G1756,Cntrol!$F$3:$G$9,2,FALSE)","v":3},26,11,3,3,1,8]
["E01022199","E01022199 Cotswold 007C","E01022199",{"$f":"VLOOKUP(A1757,'Output Areas'!$A:$E,5,FALSE)","v":"Town and Fringe"},"Detached; semi-detached; terraced whole house or bungalow","Shared ownership or rented (excluding living rent free)","7 rooms",{"$f":"VLOOKUP(G1757,Cntrol!$F$3:$G$9,2,FALSE)","v":4},10,5,1,2,1,1]
["E01022199","E01022199 Cotswold 007C","E01022199",{"$f":"VLOOKUP(A1758,'Output Areas'!$A:$E,5,FALSE)","v":"Town and Fringe"},"Detached; semi-detached; terraced whole house or bungalow","Shared ownership or rented (excluding living rent free)","8 rooms or more",{"$f":"VLOOKUP(G1758,Cntrol!$F$3:$G$9,2,FALSE)","v":5},10,4,2,1,3,0]
["E01022199","E01022199 Cotswold 007C","E01022199",{"$f":"VLOOKUP(A1759,'Output Areas'!$A:$E,5,FALSE)","v":"Town and Fringe"},"A flat; maisonette; apartment","Total: Tenure (excluding living rent free)","Total: Number of rooms",{"$f":"VLOOKUP(G1759,Cntrol!$F$3:$G$9,2,FALSE)","v":0},292,139,23,2,0,128]
["E01022199","E01022199 Cotswold 007C","E01022199",{"$f":"VLOOKUP(A1760,'Output Areas'!$A:$E,5,FALSE)","v":"Town and Fringe"},"A flat; maisonette; apartment","Total: Tenure (excluding living rent free)","3 rooms or less",{"$f":"VLOOKUP(G1760,Cntrol!$F$3:$G$9,2,FALSE)","v":2},160,65,8,0,0,87]
["E01022199","E01022199 Cotswold 007C","E01022199",{"$f":"VLOOKUP(A1761,'Output Areas'!$A:$E,5,FALSE)","v":"Town and Fringe"},"A flat; maisonette; apartment","Total: Tenure (excluding living rent free)","4 rooms",{"$f":"VLOOKUP(G1761,Cntrol!$F$3:$G$9,2,FALSE)","v":2},103,57,12,1,0,33]
["E01022199","E01022199 Cotswold 007C","E01022199",{"$f":"VLOOKUP(A1762,'Output Areas'!$A:$E,5,FALSE)","v":"Town and Fringe"},"A flat; maisonette; apartment","Total: Tenure (excluding living rent free)","5 rooms",{"$f":"VLOOKUP(G1762,Cntrol!$F$3:$G$9,2,FALSE)","v":3},16,9,2,1,0,4]
["E01022199","E01022199 Cotswold 007C","E01022199",{"$f":"VLOOKUP(A1763,'Output Areas'!$A:$E,5,FALSE)","v":"Town and Fringe"},"A flat; maisonette; apartment","Total: Tenure (excluding living rent free)","6 rooms",{"$f":"VLOOKUP(G1763,Cntrol!$F$3:$G$9,2,FALSE)","v":3},10,7,1,0,0,2]
["E01022199","E01022199 Cotswold 007C","E01022199",{"$f":"VLOOKUP(A1764,'Output Areas'!$A:$E,5,FALSE)","v":"Town and Fringe"},"A flat; maisonette; apartment","Total: Tenure (excluding living rent free)","7 rooms",{"$f":"VLOOKUP(G1764,Cntrol!$F$3:$G$9,2,FALSE)","v":4},2,1,0,0,0,1]
["E01022199","E01022199 Cotswold 007C","E01022199",{"$f":"VLOOKUP(A1765,'Output Areas'!$A:$E,5,FALSE)","v":"Town and Fringe"},"A flat; maisonette; apartment","Total: Tenure (excluding living rent free)","8 rooms or more",{"$f":"VLOOKUP(G1765,Cntrol!$F$3:$G$9,2,FALSE)","v":5},1,0,0,0,0,1]
["E01022199","E01022199 Cotswold 007C","E01022199",{"$f":"VLOOKUP(A1766,'Output Areas'!$A:$E,5,FALSE)","v":"Town and Fringe"},"A flat; maisonette; apartment","Owned","Total: Number of rooms",{"$f":"VLOOKUP(G1766,Cntrol!$F$3:$G$9,2,FALSE)","v":0},77,48,6,1,0,22]
["E01022199","E01022199 Cotswold 007C","E01022199",{"$f":"VLOOKUP(A1767,'Output Areas'!$A:$E,5,FALSE)","v":"Town and Fringe"},"A flat; maisonette; apartment","Owned","3 rooms or less",{"$f":"VLOOKUP(G1767,Cntrol!$F$3:$G$9,2,FALSE)","v":2},20,12,2,0,0,6]
["E01022199","E01022199 Cotswold 007C","E01022199",{"$f":"VLOOKUP(A1768,'Output Areas'!$A:$E,5,FALSE)","v":"Town and Fringe"},"A flat; maisonette; apartment","Owned","4 rooms",{"$f":"VLOOKUP(G1768,Cntrol!$F$3:$G$9,2,FALSE)","v":2},40,27,3,0,0,10]
["E01022199","E01022199 Cotswold 007C","E01022199",{"$f":"VLOOKUP(A1769,'Output Areas'!$A:$E,5,FALSE)","v":"Town and Fringe"},"A flat; maisonette; apartment","Owned","5 rooms",{"$f":"VLOOKUP(G1769,Cntrol!$F$3:$G$9,2,FALSE)","v":3},8,4,0,1,0,3]
["E01022199","E01022199 Cotswold 007C","E01022199",{"$f":"VLOOKUP(A1770,'Output Areas'!$A:$E,5,FALSE)","v":"Town and Fringe"},"A flat; maisonette; apartment","Owned","6 rooms",{"$f":"VLOOKUP(G1770,Cntrol!$F$3:$G$9,2,FALSE)","v":3},8,5,1,0,0,2]
["E01022199","E01022199 Cotswold 007C","E01022199",{"$f":"VLOOKUP(A1771,'Output Areas'!$A:$E,5,FALSE)","v":"Town and Fringe"},"A flat; maisonette; apartment","Owned","8 rooms or more",{"$f":"VLOOKUP(G1771,Cntrol!$F$3:$G$9,2,FALSE)","v":5},1,0,0,0,0,1]
["E01022199","E01022199 Cotswold 007C","E01022199",{"$f":"VLOOKUP(A1772,'Output Areas'!$A:$E,5,FALSE)","v":"Town and Fringe"},"A flat; maisonette; apartment","Shared ownership or rented (excluding living rent free)","Total: Number of rooms",{"$f":"VLOOKUP(G1772,Cntrol!$F$3:$G$9,2,FALSE)","v":0},215,91,17,1,0,106]
["E01022199","E01022199 Cotswold 007C","E01022199",{"$f":"VLOOKUP(A1773,'Output Areas'!$A:$E,5,FALSE)","v":"Town and Fringe"},"A flat; maisonette; apartment","Shared ownership or rented (excluding living rent free)","3 rooms or less",{"$f":"VLOOKUP(G1773,Cntrol!$F$3:$G$9,2,FALSE)","v":2},140,53,6,0,0,81]
["E01022199","E01022199 Cotswold 007C","E01022199",{"$f":"VLOOKUP(A1774,'Output Areas'!$A:$E,5,FALSE)","v":"Town and Fringe"},"A flat; maisonette; apartment","Shared ownership or rented (excluding living rent free)","4 rooms",{"$f":"VLOOKUP(G1774,Cntrol!$F$3:$G$9,2,FALSE)","v":2},63,30,9,1,0,23]
["E01022199","E01022199 Cotswold 007C","E01022199",{"$f":"VLOOKUP(A1775,'Output Areas'!$A:$E,5,FALSE)","v":"Town and Fringe"},"A flat; maisonette; apartment","Shared ownership or rented (excluding living rent free)","5 rooms",{"$f":"VLOOKUP(G1775,Cntrol!$F$3:$G$9,2,FALSE)","v":3},8,5,2,0,0,1]
["E01022199","E01022199 Cotswold 007C","E01022199",{"$f":"VLOOKUP(A1776,'Output Areas'!$A:$E,5,FALSE)","v":"Town and Fringe"},"A flat; maisonette; apartment","Shared ownership or rented (excluding living rent free)","6 rooms",{"$f":"VLOOKUP(G1776,Cntrol!$F$3:$G$9,2,FALSE)","v":3},2,2,0,0,0,0]
["E01022199","E01022199 Cotswold 007C","E01022199",{"$f":"VLOOKUP(A1777,'Output Areas'!$A:$E,5,FALSE)","v":"Town and Fringe"},"A flat; maisonette; apartment","Shared ownership or rented (excluding living rent free)","7 rooms",{"$f":"VLOOKUP(G1777,Cntrol!$F$3:$G$9,2,FALSE)","v":4},2,1,0,0,0,1]
["E01022200","E01022200 Cotswold 007D","E01022200",{"$f":"VLOOKUP(A1778,'Output Areas'!$A:$E,5,FALSE)","v":"Town and Fringe"},"Total: Accommodation type (excluding caravans / temporary structures)","Total: Tenure (excluding living rent free)","Total: Number of rooms",{"$f":"VLOOKUP(G1778,Cntrol!$F$3:$G$9,2,FALSE)","v":0},602,269,91,12,3,227]
["E01022200","E01022200 Cotswold 007D","E01022200",{"$f":"VLOOKUP(A1779,'Output Areas'!$A:$E,5,FALSE)","v":"Town and Fringe"},"Total: Accommodation type (excluding caravans / temporary structures)","Total: Tenure (excluding living rent free)","3 rooms or less",{"$f":"VLOOKUP(G1779,Cntrol!$F$3:$G$9,2,FALSE)","v":2},167,58,5,0,0,104]
["E01022200","E01022200 Cotswold 007D","E01022200",{"$f":"VLOOKUP(A1780,'Output Areas'!$A:$E,5,FALSE)","v":"Town and Fringe"},"Total: Accommodation type (excluding caravans / temporary structures)","Total: Tenure (excluding living rent free)","4 rooms",{"$f":"VLOOKUP(G1780,Cntrol!$F$3:$G$9,2,FALSE)","v":2},197,85,24,1,0,87]
["E01022200","E01022200 Cotswold 007D","E01022200",{"$f":"VLOOKUP(A1781,'Output Areas'!$A:$E,5,FALSE)","v":"Town and Fringe"},"Total: Accommodation type (excluding caravans / temporary structures)","Total: Tenure (excluding living rent free)","5 rooms",{"$f":"VLOOKUP(G1781,Cntrol!$F$3:$G$9,2,FALSE)","v":3},146,83,31,1,0,31]
["E01022200","E01022200 Cotswold 007D","E01022200",{"$f":"VLOOKUP(A1782,'Output Areas'!$A:$E,5,FALSE)","v":"Town and Fringe"},"Total: Accommodation type (excluding caravans / temporary structures)","Total: Tenure (excluding living rent free)","6 rooms",{"$f":"VLOOKUP(G1782,Cntrol!$F$3:$G$9,2,FALSE)","v":3},41,17,12,6,1,5]
["E01022200","E01022200 Cotswold 007D","E01022200",{"$f":"VLOOKUP(A1783,'Output Areas'!$A:$E,5,FALSE)","v":"Town and Fringe"},"Total: Accommodation type (excluding caravans / temporary structures)","Total: Tenure (excluding living rent free)","7 rooms",{"$f":"VLOOKUP(G1783,Cntrol!$F$3:$G$9,2,FALSE)","v":4},20,14,6,0,0,0]
["E01022200","E01022200 Cotswold 007D","E01022200",{"$f":"VLOOKUP(A1784,'Output Areas'!$A:$E,5,FALSE)","v":"Town and Fringe"},"Total: Accommodation type (excluding caravans / temporary structures)","Total: Tenure (excluding living rent free)","8 rooms or more",{"$f":"VLOOKUP(G1784,Cntrol!$F$3:$G$9,2,FALSE)","v":5},31,12,13,4,2,0]
["E01022200","E01022200 Cotswold 007D","E01022200",{"$f":"VLOOKUP(A1785,'Output Areas'!$A:$E,5,FALSE)","v":"Town and Fringe"},"Total: Accommodation type (excluding caravans / temporary structures)","Owned","Total: Number of rooms",{"$f":"VLOOKUP(G1785,Cntrol!$F$3:$G$9,2,FALSE)","v":0},180,96,53,9,3,19]
["E01022200","E01022200 Cotswold 007D","E01022200",{"$f":"VLOOKUP(A1786,'Output Areas'!$A:$E,5,FALSE)","v":"Town and Fringe"},"Total: Accommodation type (excluding caravans / temporary structures)","Owned","3 rooms or less",{"$f":"VLOOKUP(G1786,Cntrol!$F$3:$G$9,2,FALSE)","v":2},7,3,1,0,0,3]
["E01022200","E01022200 Cotswold 007D","E01022200",{"$f":"VLOOKUP(A1787,'Output Areas'!$A:$E,5,FALSE)","v":"Town and Fringe"},"Total: Accommodation type (excluding caravans / temporary structures)","Owned","4 rooms",{"$f":"VLOOKUP(G1787,Cntrol!$F$3:$G$9,2,FALSE)","v":2},29,17,5,0,0,7]
["E01022200","E01022200 Cotswold 007D","E01022200",{"$f":"VLOOKUP(A1788,'Output Areas'!$A:$E,5,FALSE)","v":"Town and Fringe"},"Total: Accommodation type (excluding caravans / temporary structures)","Owned","5 rooms",{"$f":"VLOOKUP(G1788,Cntrol!$F$3:$G$9,2,FALSE)","v":3},62,36,20,1,0,5]
["E01022200","E01022200 Cotswold 007D","E01022200",{"$f":"VLOOKUP(A1789,'Output Areas'!$A:$E,5,FALSE)","v":"Town and Fringe"},"Total: Accommodation type (excluding caravans / temporary structures)","Owned","6 rooms",{"$f":"VLOOKUP(G1789,Cntrol!$F$3:$G$9,2,FALSE)","v":3},36,16,11,4,1,4]
["E01022200","E01022200 Cotswold 007D","E01022200",{"$f":"VLOOKUP(A1790,'Output Areas'!$A:$E,5,FALSE)","v":"Town and Fringe"},"Total: Accommodation type (excluding caravans / temporary structures)","Owned","7 rooms",{"$f":"VLOOKUP(G1790,Cntrol!$F$3:$G$9,2,FALSE)","v":4},18,14,4,0,0,0]
["E01022200","E01022200 Cotswold 007D","E01022200",{"$f":"VLOOKUP(A1791,'Output Areas'!$A:$E,5,FALSE)","v":"Town and Fringe"},"Total: Accommodation type (excluding caravans / temporary structures)","Owned","8 rooms or more",{"$f":"VLOOKUP(G1791,Cntrol!$F$3:$G$9,2,FALSE)","v":5},28,10,12,4,2,0]
["E01022200","E01022200 Cotswold 007D","E01022200",{"$f":"VLOOKUP(A1792,'Output Areas'!$A:$E,5,FALSE)","v":"Town and Fringe"},"Total: Accommodation type (excluding caravans / temporary structures)","Shared ownership or rented (excluding living rent free)","Total: Number of rooms",{"$f":"VLOOKUP(G1792,Cntrol!$F$3:$G$9,2,FALSE)","v":0},422,173,38,3,0,208]
["E01022200","E01022200 Cotswold 007D","E01022200",{"$f":"VLOOKUP(A1793,'Output Areas'!$A:$E,5,FALSE)","v":"Town and Fringe"},"Total: Accommodation type (excluding caravans / temporary structures)","Shared ownership or rented (excluding living rent free)","3 rooms or less",{"$f":"VLOOKUP(G1793,Cntrol!$F$3:$G$9,2,FALSE)","v":2},160,55,4,0,0,101]
["E01022200","E01022200 Cotswold 007D","E01022200",{"$f":"VLOOKUP(A1794,'Output Areas'!$A:$E,5,FALSE)","v":"Town and Fringe"},"Total: Accommodation type (excluding caravans / temporary structures)","Shared ownership or rented (excluding living rent free)","4 rooms",{"$f":"VLOOKUP(G1794,Cntrol!$F$3:$G$9,2,FALSE)","v":2},168,68,19,1,0,80]
["E01022200","E01022200 Cotswold 007D","E01022200",{"$f":"VLOOKUP(A1795,'Output Areas'!$A:$E,5,FALSE)","v":"Town and Fringe"},"Total: Accommodation type (excluding caravans / temporary structures)","Shared ownership or rented (excluding living rent free)","5 rooms",{"$f":"VLOOKUP(G1795,Cntrol!$F$3:$G$9,2,FALSE)","v":3},84,47,11,0,0,26]
["E01022200","E01022200 Cotswold 007D","E01022200",{"$f":"VLOOKUP(A1796,'Output Areas'!$A:$E,5,FALSE)","v":"Town and Fringe"},"Total: Accommodation type (excluding caravans / temporary structures)","Shared ownership or rented (excluding living rent free)","6 rooms",{"$f":"VLOOKUP(G1796,Cntrol!$F$3:$G$9,2,FALSE)","v":3},5,1,1,2,0,1]
["E01022200","E01022200 Cotswold 007D","E01022200",{"$f":"VLOOKUP(A1797,'Output Areas'!$A:$E,5,FALSE)","v":"Town and Fringe"},"Total: Accommodation type (excluding caravans / temporary structures)","Shared ownership or rented (excluding living rent free)","7 rooms",{"$f":"VLOOKUP(G1797,Cntrol!$F$3:$G$9,2,FALSE)","v":4},2,0,2,0,0,0]
["E01022200","E01022200 Cotswold 007D","E01022200",{"$f":"VLOOKUP(A1798,'Output Areas'!$A:$E,5,FALSE)","v":"Town and Fringe"},"Total: Accommodation type (excluding caravans / temporary structures)","Shared ownership or rented (excluding living rent free)","8 rooms or more",{"$f":"VLOOKUP(G1798,Cntrol!$F$3:$G$9,2,FALSE)","v":5},3,2,1,0,0,0]
["E01022200","E01022200 Cotswold 007D","E01022200",{"$f":"VLOOKUP(A1799,'Output Areas'!$A:$E,5,FALSE)","v":"Town and Fringe"},"Detached; semi-detached; terraced whole house or bungalow","Total: Tenure (excluding living rent free)","Total: Number of rooms",{"$f":"VLOOKUP(G1799,Cntrol!$F$3:$G$9,2,FALSE)","v":0},306,152,68,11,3,72]
["E01022200","E01022200 Cotswold 007D","E01022200",{"$f":"VLOOKUP(A1800,'Output Areas'!$A:$E,5,FALSE)","v":"Town and Fringe"},"Detached; semi-detached; terraced whole house or bungalow","Total: Tenure (excluding living rent free)","3 rooms or less",{"$f":"VLOOKUP(G1800,Cntrol!$F$3:$G$9,2,FALSE)","v":2},16,5,1,0,0,10]
["E01022200","E01022200 Cotswold 007D","E01022200",{"$f":"VLOOKUP(A1801,'Output Areas'!$A:$E,5,FALSE)","v":"Town and Fringe"},"Detached; semi-detached; terraced whole house or bungalow","Total: Tenure (excluding living rent free)","4 rooms",{"$f":"VLOOKUP(G1801,Cntrol!$F$3:$G$9,2,FALSE)","v":2},63,27,8,0,0,28]
["E01022200","E01022200 Cotswold 007D","E01022200",{"$f":"VLOOKUP(A1802,'Output Areas'!$A:$E,5,FALSE)","v":"Town and Fringe"},"Detached; semi-detached; terraced whole house or bungalow","Total: Tenure (excluding living rent free)","5 rooms",{"$f":"VLOOKUP(G1802,Cntrol!$F$3:$G$9,2,FALSE)","v":3},138,79,29,1,0,29]
["E01022200","E01022200 Cotswold 007D","E01022200",{"$f":"VLOOKUP(A1803,'Output Areas'!$A:$E,5,FALSE)","v":"Town and Fringe"},"Detached; semi-detached; terraced whole house or bungalow","Total: Tenure (excluding living rent free)","6 rooms",{"$f":"VLOOKUP(G1803,Cntrol!$F$3:$G$9,2,FALSE)","v":3},41,17,12,6,1,5]
["E01022200","E01022200 Cotswold 007D","E01022200",{"$f":"VLOOKUP(A1804,'Output Areas'!$A:$E,5,FALSE)","v":"Town and Fringe"},"Detached; semi-detached; terraced whole house or bungalow","Total: Tenure (excluding living rent free)","7 rooms",{"$f":"VLOOKUP(G1804,Cntrol!$F$3:$G$9,2,FALSE)","v":4},19,14,5,0,0,0]
["E01022200","E01022200 Cotswold 007D","E01022200",{"$f":"VLOOKUP(A1805,'Output Areas'!$A:$E,5,FALSE)","v":"Town and Fringe"},"Detached; semi-detached; terraced whole house or bungalow","Total: Tenure (excluding living rent free)","8 rooms or more",{"$f":"VLOOKUP(G1805,Cntrol!$F$3:$G$9,2,FALSE)","v":5},29,10,13,4,2,0]
["E01022200","E01022200 Cotswold 007D","E01022200",{"$f":"VLOOKUP(A1806,'Output Areas'!$A:$E,5,FALSE)","v":"Town and Fringe"},"Detached; semi-detached; terraced whole house or bungalow","Owned","Total: Number of rooms",{"$f":"VLOOKUP(G1806,Cntrol!$F$3:$G$9,2,FALSE)","v":0},157,80,49,9,3,16]
["E01022200","E01022200 Cotswold 007D","E01022200",{"$f":"VLOOKUP(A1807,'Output Areas'!$A:$E,5,FALSE)","v":"Town and Fringe"},"Detached; semi-detached; terraced whole house or bungalow","Owned","3 rooms or less",{"$f":"VLOOKUP(G1807,Cntrol!$F$3:$G$9,2,FALSE)","v":2},3,0,0,0,0,3]
["E01022200","E01022200 Cotswold 007D","E01022200",{"$f":"VLOOKUP(A1808,'Output Areas'!$A:$E,5,FALSE)","v":"Town and Fringe"},"Detached; semi-detached; terraced whole house or bungalow","Owned","4 rooms",{"$f":"VLOOKUP(G1808,Cntrol!$F$3:$G$9,2,FALSE)","v":2},11,5,2,0,0,4]
["E01022200","E01022200 Cotswold 007D","E01022200",{"$f":"VLOOKUP(A1809,'Output Areas'!$A:$E,5,FALSE)","v":"Town and Fringe"},"Detached; semi-detached; terraced whole house or bungalow","Owned","5 rooms",{"$f":"VLOOKUP(G1809,Cntrol!$F$3:$G$9,2,FALSE)","v":3},62,36,20,1,0,5]
["E01022200","E01022200 Cotswold 007D","E01022200",{"$f":"VLOOKUP(A1810,'Output Areas'!$A:$E,5,FALSE)","v":"Town and Fringe"},"Detached; semi-detached; terraced whole house or bungalow","Owned","6 rooms",{"$f":"VLOOKUP(G1810,Cntrol!$F$3:$G$9,2,FALSE)","v":3},36,16,11,4,1,4]
["E01022200","E01022200 Cotswold 007D","E01022200",{"$f":"VLOOKUP(A1811,'Output Areas'!$A:$E,5,FALSE)","v":"Town and Fringe"},"Detached; semi-detached; terraced whole house or bungalow","Owned","7 rooms",{"$f":"VLOOKUP(G1811,Cntrol!$F$3:$G$9,2,FALSE)","v":4},18,14,4,0,0,0]
["E01022200","E01022200 Cotswold 007D","E01022200",{"$f":"VLOOKUP(A1812,'Output Areas'!$A:$E,5,FALSE)","v":"Town and Fringe"},"Detached; semi-detached; terraced whole house or bungalow","Owned","8 rooms or more",{"$f":"VLOOKUP(G1812,Cntrol!$F$3:$G$9,2,FALSE)","v":5},27,9,12,4,2,0]
["E01022200","E01022200 Cotswold 007D","E01022200",{"$f":"VLOOKUP(A1813,'Output Areas'!$A:$E,5,FALSE)","v":"Town and Fringe"},"Detached; semi-detached; terraced whole house or bungalow","Shared ownership or rented (excluding living rent free)","Total: Number of rooms",{"$f":"VLOOKUP(G1813,Cntrol!$F$3:$G$9,2,FALSE)","v":0},149,72,19,2,0,56]
["E01022200","E01022200 Cotswold 007D","E01022200",{"$f":"VLOOKUP(A1814,'Output Areas'!$A:$E,5,FALSE)","v":"Town and Fringe"},"Detached; semi-detached; terraced whole house or bungalow","Shared ownership or rented (excluding living rent free)","3 rooms or less",{"$f":"VLOOKUP(G1814,Cntrol!$F$3:$G$9,2,FALSE)","v":2},13,5,1,0,0,7]
["E01022200","E01022200 Cotswold 007D","E01022200",{"$f":"VLOOKUP(A1815,'Output Areas'!$A:$E,5,FALSE)","v":"Town and Fringe"},"Detached; semi-detached; terraced whole house or bungalow","Shared ownership or rented (excluding living rent free)","4 rooms",{"$f":"VLOOKUP(G1815,Cntrol!$F$3:$G$9,2,FALSE)","v":2},52,22,6,0,0,24]
["E01022200","E01022200 Cotswold 007D","E01022200",{"$f":"VLOOKUP(A1816,'Output Areas'!$A:$E,5,FALSE)","v":"Town and Fringe"},"Detached; semi-detached; terraced whole house or bungalow","Shared ownership or rented (excluding living rent free)","5 rooms",{"$f":"VLOOKUP(G1816,Cntrol!$F$3:$G$9,2,FALSE)","v":3},76,43,9,0,0,24]
["E01022200","E01022200 Cotswold 007D","E01022200",{"$f":"VLOOKUP(A1817,'Output Areas'!$A:$E,5,FALSE)","v":"Town and Fringe"},"Detached; semi-detached; terraced whole house or bungalow","Shared ownership or rented (excluding living rent free)","6 rooms",{"$f":"VLOOKUP(G1817,Cntrol!$F$3:$G$9,2,FALSE)","v":3},5,1,1,2,0,1]
["E01022200","E01022200 Cotswold 007D","E01022200",{"$f":"VLOOKUP(A1818,'Output Areas'!$A:$E,5,FALSE)","v":"Town and Fringe"},"Detached; semi-detached; terraced whole house or bungalow","Shared ownership or rented (excluding living rent free)","7 rooms",{"$f":"VLOOKUP(G1818,Cntrol!$F$3:$G$9,2,FALSE)","v":4},1,0,1,0,0,0]
["E01022200","E01022200 Cotswold 007D","E01022200",{"$f":"VLOOKUP(A1819,'Output Areas'!$A:$E,5,FALSE)","v":"Town and Fringe"},"Detached; semi-detached; terraced whole house or bungalow","Shared ownership or rented (excluding living rent free)","8 rooms or more",{"$f":"VLOOKUP(G1819,Cntrol!$F$3:$G$9,2,FALSE)","v":5},2,1,1,0,0,0]
["E01022200","E01022200 Cotswold 007D","E01022200",{"$f":"VLOOKUP(A1820,'Output Areas'!$A:$E,5,FALSE)","v":"Town and Fringe"},"A flat; maisonette; apartment","Total: Tenure (excluding living rent free)","Total: Number of rooms",{"$f":"VLOOKUP(G1820,Cntrol!$F$3:$G$9,2,FALSE)","v":0},296,117,23,1,0,155]
["E01022200","E01022200 Cotswold 007D","E01022200",{"$f":"VLOOKUP(A1821,'Output Areas'!$A:$E,5,FALSE)","v":"Town and Fringe"},"A flat; maisonette; apartment","Total: Tenure (excluding living rent free)","3 rooms or less",{"$f":"VLOOKUP(G1821,Cntrol!$F$3:$G$9,2,FALSE)","v":2},151,53,4,0,0,94]
["E01022200","E01022200 Cotswold 007D","E01022200",{"$f":"VLOOKUP(A1822,'Output Areas'!$A:$E,5,FALSE)","v":"Town and Fringe"},"A flat; maisonette; apartment","Total: Tenure (excluding living rent free)","4 rooms",{"$f":"VLOOKUP(G1822,Cntrol!$F$3:$G$9,2,FALSE)","v":2},134,58,16,1,0,59]
["E01022200","E01022200 Cotswold 007D","E01022200",{"$f":"VLOOKUP(A1823,'Output Areas'!$A:$E,5,FALSE)","v":"Town and Fringe"},"A flat; maisonette; apartment","Total: Tenure (excluding living rent free)","5 rooms",{"$f":"VLOOKUP(G1823,Cntrol!$F$3:$G$9,2,FALSE)","v":3},8,4,2,0,0,2]
["E01022200","E01022200 Cotswold 007D","E01022200",{"$f":"VLOOKUP(A1824,'Output Areas'!$A:$E,5,FALSE)","v":"Town and Fringe"},"A flat; maisonette; apartment","Total: Tenure (excluding living rent free)","7 rooms",{"$f":"VLOOKUP(G1824,Cntrol!$F$3:$G$9,2,FALSE)","v":4},1,0,1,0,0,0]
["E01022200","E01022200 Cotswold 007D","E01022200",{"$f":"VLOOKUP(A1825,'Output Areas'!$A:$E,5,FALSE)","v":"Town and Fringe"},"A flat; maisonette; apartment","Total: Tenure (excluding living rent free)","8 rooms or more",{"$f":"VLOOKUP(G1825,Cntrol!$F$3:$G$9,2,FALSE)","v":5},2,2,0,0,0,0]
["E01022200","E01022200 Cotswold 007D","E01022200",{"$f":"VLOOKUP(A1826,'Output Areas'!$A:$E,5,FALSE)","v":"Town and Fringe"},"A flat; maisonette; apartment","Owned","Total: Number of rooms",{"$f":"VLOOKUP(G1826,Cntrol!$F$3:$G$9,2,FALSE)","v":0},23,16,4,0,0,3]
["E01022200","E01022200 Cotswold 007D","E01022200",{"$f":"VLOOKUP(A1827,'Output Areas'!$A:$E,5,FALSE)","v":"Town and Fringe"},"A flat; maisonette; apartment","Owned","3 rooms or less",{"$f":"VLOOKUP(G1827,Cntrol!$F$3:$G$9,2,FALSE)","v":2},4,3,1,0,0,0]
["E01022200","E01022200 Cotswold 007D","E01022200",{"$f":"VLOOKUP(A1828,'Output Areas'!$A:$E,5,FALSE)","v":"Town and Fringe"},"A flat; maisonette; apartment","Owned","4 rooms",{"$f":"VLOOKUP(G1828,Cntrol!$F$3:$G$9,2,FALSE)","v":2},18,12,3,0,0,3]
["E01022200","E01022200 Cotswold 007D","E01022200",{"$f":"VLOOKUP(A1829,'Output Areas'!$A:$E,5,FALSE)","v":"Town and Fringe"},"A flat; maisonette; apartment","Owned","8 rooms or more",{"$f":"VLOOKUP(G1829,Cntrol!$F$3:$G$9,2,FALSE)","v":5},1,1,0,0,0,0]
["E01022200","E01022200 Cotswold 007D","E01022200",{"$f":"VLOOKUP(A1830,'Output Areas'!$A:$E,5,FALSE)","v":"Town and Fringe"},"A flat; maisonette; apartment","Shared ownership or rented (excluding living rent free)","Total: Number of rooms",{"$f":"VLOOKUP(G1830,Cntrol!$F$3:$G$9,2,FALSE)","v":0},273,101,19,1,0,152]
["E01022200","E01022200 Cotswold 007D","E01022200",{"$f":"VLOOKUP(A1831,'Output Areas'!$A:$E,5,FALSE)","v":"Town and Fringe"},"A flat; maisonette; apartment","Shared ownership or rented (excluding living rent free)","3 rooms or less",{"$f":"VLOOKUP(G1831,Cntrol!$F$3:$G$9,2,FALSE)","v":2},147,50,3,0,0,94]
["E01022200","E01022200 Cotswold 007D","E01022200",{"$f":"VLOOKUP(A1832,'Output Areas'!$A:$E,5,FALSE)","v":"Town and Fringe"},"A flat; maisonette; apartment","Shared ownership or rented (excluding living rent free)","4 rooms",{"$f":"VLOOKUP(G1832,Cntrol!$F$3:$G$9,2,FALSE)","v":2},116,46,13,1,0,56]
["E01022200","E01022200 Cotswold 007D","E01022200",{"$f":"VLOOKUP(A1833,'Output Areas'!$A:$E,5,FALSE)","v":"Town and Fringe"},"A flat; maisonette; apartment","Shared ownership or rented (excluding living rent free)","5 rooms",{"$f":"VLOOKUP(G1833,Cntrol!$F$3:$G$9,2,FALSE)","v":3},8,4,2,0,0,2]
["E01022200","E01022200 Cotswold 007D","E01022200",{"$f":"VLOOKUP(A1834,'Output Areas'!$A:$E,5,FALSE)","v":"Town and Fringe"},"A flat; maisonette; apartment","Shared ownership or rented (excluding living rent free)","7 rooms",{"$f":"VLOOKUP(G1834,Cntrol!$F$3:$G$9,2,FALSE)","v":4},1,0,1,0,0,0]
["E01022200","E01022200 Cotswold 007D","E01022200",{"$f":"VLOOKUP(A1835,'Output Areas'!$A:$E,5,FALSE)","v":"Town and Fringe"},"A flat; maisonette; apartment","Shared ownership or rented (excluding living rent free)","8 rooms or more",{"$f":"VLOOKUP(G1835,Cntrol!$F$3:$G$9,2,FALSE)","v":5},1,1,0,0,0,0]
["E01022191","E01022191 Cotswold 008A","E01022191",{"$f":"VLOOKUP(A1836,'Output Areas'!$A:$E,5,FALSE)","v":"Town and Fringe"},"Total: Accommodation type (excluding caravans / temporary structures)","Total: Tenure (excluding living rent free)","Total: Number of rooms",{"$f":"VLOOKUP(G1836,Cntrol!$F$3:$G$9,2,FALSE)","v":0},647,329,171,35,7,105]
["E01022191","E01022191 Cotswold 008A","E01022191",{"$f":"VLOOKUP(A1837,'Output Areas'!$A:$E,5,FALSE)","v":"Town and Fringe"},"Total: Accommodation type (excluding caravans / temporary structures)","Total: Tenure (excluding living rent free)","3 rooms or less",{"$f":"VLOOKUP(G1837,Cntrol!$F$3:$G$9,2,FALSE)","v":2},109,58,12,2,0,37]
["E01022191","E01022191 Cotswold 008A","E01022191",{"$f":"VLOOKUP(A1838,'Output Areas'!$A:$E,5,FALSE)","v":"Town and Fringe"},"Total: Accommodation type (excluding caravans / temporary structures)","Total: Tenure (excluding living rent free)","4 rooms",{"$f":"VLOOKUP(G1838,Cntrol!$F$3:$G$9,2,FALSE)","v":2},196,122,34,7,1,32]
["E01022191","E01022191 Cotswold 008A","E01022191",{"$f":"VLOOKUP(A1839,'Output Areas'!$A:$E,5,FALSE)","v":"Town and Fringe"},"Total: Accommodation type (excluding caravans / temporary structures)","Total: Tenure (excluding living rent free)","5 rooms",{"$f":"VLOOKUP(G1839,Cntrol!$F$3:$G$9,2,FALSE)","v":3},143,73,36,6,2,26]
["E01022191","E01022191 Cotswold 008A","E01022191",{"$f":"VLOOKUP(A1840,'Output Areas'!$A:$E,5,FALSE)","v":"Town and Fringe"},"Total: Accommodation type (excluding caravans / temporary structures)","Total: Tenure (excluding living rent free)","6 rooms",{"$f":"VLOOKUP(G1840,Cntrol!$F$3:$G$9,2,FALSE)","v":3},84,41,29,8,1,5]
["E01022191","E01022191 Cotswold 008A","E01022191",{"$f":"VLOOKUP(A1841,'Output Areas'!$A:$E,5,FALSE)","v":"Town and Fringe"},"Total: Accommodation type (excluding caravans / temporary structures)","Total: Tenure (excluding living rent free)","7 rooms",{"$f":"VLOOKUP(G1841,Cntrol!$F$3:$G$9,2,FALSE)","v":4},38,16,16,1,2,3]
["E01022191","E01022191 Cotswold 008A","E01022191",{"$f":"VLOOKUP(A1842,'Output Areas'!$A:$E,5,FALSE)","v":"Town and Fringe"},"Total: Accommodation type (excluding caravans / temporary structures)","Total: Tenure (excluding living rent free)","8 rooms or more",{"$f":"VLOOKUP(G1842,Cntrol!$F$3:$G$9,2,FALSE)","v":5},77,19,44,11,1,2]
["E01022191","E01022191 Cotswold 008A","E01022191",{"$f":"VLOOKUP(A1843,'Output Areas'!$A:$E,5,FALSE)","v":"Town and Fringe"},"Total: Accommodation type (excluding caravans / temporary structures)","Owned","Total: Number of rooms",{"$f":"VLOOKUP(G1843,Cntrol!$F$3:$G$9,2,FALSE)","v":0},357,182,121,23,2,29]
["E01022191","E01022191 Cotswold 008A","E01022191",{"$f":"VLOOKUP(A1844,'Output Areas'!$A:$E,5,FALSE)","v":"Town and Fringe"},"Total: Accommodation type (excluding caravans / temporary structures)","Owned","3 rooms or less",{"$f":"VLOOKUP(G1844,Cntrol!$F$3:$G$9,2,FALSE)","v":2},24,17,4,0,0,3]
["E01022191","E01022191 Cotswold 008A","E01022191",{"$f":"VLOOKUP(A1845,'Output Areas'!$A:$E,5,FALSE)","v":"Town and Fringe"},"Total: Accommodation type (excluding caravans / temporary structures)","Owned","4 rooms",{"$f":"VLOOKUP(G1845,Cntrol!$F$3:$G$9,2,FALSE)","v":2},81,52,16,3,1,9]
["E01022191","E01022191 Cotswold 008A","E01022191",{"$f":"VLOOKUP(A1846,'Output Areas'!$A:$E,5,FALSE)","v":"Town and Fringe"},"Total: Accommodation type (excluding caravans / temporary structures)","Owned","5 rooms",{"$f":"VLOOKUP(G1846,Cntrol!$F$3:$G$9,2,FALSE)","v":3},83,51,18,2,1,11]
["E01022191","E01022191 Cotswold 008A","E01022191",{"$f":"VLOOKUP(A1847,'Output Areas'!$A:$E,5,FALSE)","v":"Town and Fringe"},"Total: Accommodation type (excluding caravans / temporary structures)","Owned","6 rooms",{"$f":"VLOOKUP(G1847,Cntrol!$F$3:$G$9,2,FALSE)","v":3},64,29,27,6,0,2]
["E01022191","E01022191 Cotswold 008A","E01022191",{"$f":"VLOOKUP(A1848,'Output Areas'!$A:$E,5,FALSE)","v":"Town and Fringe"},"Total: Accommodation type (excluding caravans / temporary structures)","Owned","7 rooms",{"$f":"VLOOKUP(G1848,Cntrol!$F$3:$G$9,2,FALSE)","v":4},33,15,14,1,0,3]
["E01022191","E01022191 Cotswold 008A","E01022191",{"$f":"VLOOKUP(A1849,'Output Areas'!$A:$E,5,FALSE)","v":"Town and Fringe"},"Total: Accommodation type (excluding caravans / temporary structures)","Owned","8 rooms or more",{"$f":"VLOOKUP(G1849,Cntrol!$F$3:$G$9,2,FALSE)","v":5},72,18,42,11,0,1]
["E01022191","E01022191 Cotswold 008A","E01022191",{"$f":"VLOOKUP(A1850,'Output Areas'!$A:$E,5,FALSE)","v":"Town and Fringe"},"Total: Accommodation type (excluding caravans / temporary structures)","Shared ownership or rented (excluding living rent free)","Total: Number of rooms",{"$f":"VLOOKUP(G1850,Cntrol!$F$3:$G$9,2,FALSE)","v":0},290,147,50,12,5,76]
["E01022191","E01022191 Cotswold 008A","E01022191",{"$f":"VLOOKUP(A1851,'Output Areas'!$A:$E,5,FALSE)","v":"Town and Fringe"},"Total: Accommodation type (excluding caravans / temporary structures)","Shared ownership or rented (excluding living rent free)","3 rooms or less",{"$f":"VLOOKUP(G1851,Cntrol!$F$3:$G$9,2,FALSE)","v":2},85,41,8,2,0,34]
["E01022191","E01022191 Cotswold 008A","E01022191",{"$f":"VLOOKUP(A1852,'Output Areas'!$A:$E,5,FALSE)","v":"Town and Fringe"},"Total: Accommodation type (excluding caravans / temporary structures)","Shared ownership or rented (excluding living rent free)","4 rooms",{"$f":"VLOOKUP(G1852,Cntrol!$F$3:$G$9,2,FALSE)","v":2},115,70,18,4,0,23]
["E01022191","E01022191 Cotswold 008A","E01022191",{"$f":"VLOOKUP(A1853,'Output Areas'!$A:$E,5,FALSE)","v":"Town and Fringe"},"Total: Accommodation type (excluding caravans / temporary structures)","Shared ownership or rented (excluding living rent free)","5 rooms",{"$f":"VLOOKUP(G1853,Cntrol!$F$3:$G$9,2,FALSE)","v":3},60,22,18,4,1,15]
["E01022191","E01022191 Cotswold 008A","E01022191",{"$f":"VLOOKUP(A1854,'Output Areas'!$A:$E,5,FALSE)","v":"Town and Fringe"},"Total: Accommodation type (excluding caravans / temporary structures)","Shared ownership or rented (excluding living rent free)","6 rooms",{"$f":"VLOOKUP(G1854,Cntrol!$F$3:$G$9,2,FALSE)","v":3},20,12,2,2,1,3]
["E01022191","E01022191 Cotswold 008A","E01022191",{"$f":"VLOOKUP(A1855,'Output Areas'!$A:$E,5,FALSE)","v":"Town and Fringe"},"Total: Accommodation type (excluding caravans / temporary structures)","Shared ownership or rented (excluding living rent free)","7 rooms",{"$f":"VLOOKUP(G1855,Cntrol!$F$3:$G$9,2,FALSE)","v":4},5,1,2,0,2,0]
["E01022191","E01022191 Cotswold 008A","E01022191",{"$f":"VLOOKUP(A1856,'Output Areas'!$A:$E,5,FALSE)","v":"Town and Fringe"},"Total: Accommodation type (excluding caravans / temporary structures)","Shared ownership or rented (excluding living rent free)","8 rooms or more",{"$f":"VLOOKUP(G1856,Cntrol!$F$3:$G$9,2,FALSE)","v":5},5,1,2,0,1,1]
["E01022191","E01022191 Cotswold 008A","E01022191",{"$f":"VLOOKUP(A1857,'Output Areas'!$A:$E,5,FALSE)","v":"Town and Fringe"},"Detached; semi-detached; terraced whole house or bungalow","Total: Tenure (excluding living rent free)","Total: Number of rooms",{"$f":"VLOOKUP(G1857,Cntrol!$F$3:$G$9,2,FALSE)","v":0},551,270,162,31,7,81]
["E01022191","E01022191 Cotswold 008A","E01022191",{"$f":"VLOOKUP(A1858,'Output Areas'!$A:$E,5,FALSE)","v":"Town and Fringe"},"Detached; semi-detached; terraced whole house or bungalow","Total: Tenure (excluding living rent free)","3 rooms or less",{"$f":"VLOOKUP(G1858,Cntrol!$F$3:$G$9,2,FALSE)","v":2},39,15,6,0,0,18]
["E01022191","E01022191 Cotswold 008A","E01022191",{"$f":"VLOOKUP(A1859,'Output Areas'!$A:$E,5,FALSE)","v":"Town and Fringe"},"Detached; semi-detached; terraced whole house or bungalow","Total: Tenure (excluding living rent free)","4 rooms",{"$f":"VLOOKUP(G1859,Cntrol!$F$3:$G$9,2,FALSE)","v":2},174,107,31,5,1,30]
["E01022191","E01022191 Cotswold 008A","E01022191",{"$f":"VLOOKUP(A1860,'Output Areas'!$A:$E,5,FALSE)","v":"Town and Fringe"},"Detached; semi-detached; terraced whole house or bungalow","Total: Tenure (excluding living rent free)","5 rooms",{"$f":"VLOOKUP(G1860,Cntrol!$F$3:$G$9,2,FALSE)","v":3},139,72,36,6,2,23]
["E01022191","E01022191 Cotswold 008A","E01022191",{"$f":"VLOOKUP(A1861,'Output Areas'!$A:$E,5,FALSE)","v":"Town and Fringe"},"Detached; semi-detached; terraced whole house or bungalow","Total: Tenure (excluding living rent free)","6 rooms",{"$f":"VLOOKUP(G1861,Cntrol!$F$3:$G$9,2,FALSE)","v":3},84,41,29,8,1,5]
["E01022191","E01022191 Cotswold 008A","E01022191",{"$f":"VLOOKUP(A1862,'Output Areas'!$A:$E,5,FALSE)","v":"Town and Fringe"},"Detached; semi-detached; terraced whole house or bungalow","Total: Tenure (excluding living rent free)","7 rooms",{"$f":"VLOOKUP(G1862,Cntrol!$F$3:$G$9,2,FALSE)","v":4},38,16,16,1,2,3]
["E01022191","E01022191 Cotswold 008A","E01022191",{"$f":"VLOOKUP(A1863,'Output Areas'!$A:$E,5,FALSE)","v":"Town and Fringe"},"Detached; semi-detached; terraced whole house or bungalow","Total: Tenure (excluding living rent free)","8 rooms or more",{"$f":"VLOOKUP(G1863,Cntrol!$F$3:$G$9,2,FALSE)","v":5},77,19,44,11,1,2]
["E01022191","E01022191 Cotswold 008A","E01022191",{"$f":"VLOOKUP(A1864,'Output Areas'!$A:$E,5,FALSE)","v":"Town and Fringe"},"Detached; semi-detached; terraced whole house or bungalow","Owned","Total: Number of rooms",{"$f":"VLOOKUP(G1864,Cntrol!$F$3:$G$9,2,FALSE)","v":0},331,165,116,23,2,25]
["E01022191","E01022191 Cotswold 008A","E01022191",{"$f":"VLOOKUP(A1865,'Output Areas'!$A:$E,5,FALSE)","v":"Town and Fringe"},"Detached; semi-detached; terraced whole house or bungalow","Owned","3 rooms or less",{"$f":"VLOOKUP(G1865,Cntrol!$F$3:$G$9,2,FALSE)","v":2},9,7,1,0,0,1]
["E01022191","E01022191 Cotswold 008A","E01022191",{"$f":"VLOOKUP(A1866,'Output Areas'!$A:$E,5,FALSE)","v":"Town and Fringe"},"Detached; semi-detached; terraced whole house or bungalow","Owned","4 rooms",{"$f":"VLOOKUP(G1866,Cntrol!$F$3:$G$9,2,FALSE)","v":2},70,45,14,3,1,7]
["E01022191","E01022191 Cotswold 008A","E01022191",{"$f":"VLOOKUP(A1867,'Output Areas'!$A:$E,5,FALSE)","v":"Town and Fringe"},"Detached; semi-detached; terraced whole house or bungalow","Owned","5 rooms",{"$f":"VLOOKUP(G1867,Cntrol!$F$3:$G$9,2,FALSE)","v":3},83,51,18,2,1,11]
["E01022191","E01022191 Cotswold 008A","E01022191",{"$f":"VLOOKUP(A1868,'Output Areas'!$A:$E,5,FALSE)","v":"Town and Fringe"},"Detached; semi-detached; terraced whole house or bungalow","Owned","6 rooms",{"$f":"VLOOKUP(G1868,Cntrol!$F$3:$G$9,2,FALSE)","v":3},64,29,27,6,0,2]
["E01022191","E01022191 Cotswold 008A","E01022191",{"$f":"VLOOKUP(A1869,'Output Areas'!$A:$E,5,FALSE)","v":"Town and Fringe"},"Detached; semi-detached; terraced whole house or bungalow","Owned","7 rooms",{"$f":"VLOOKUP(G1869,Cntrol!$F$3:$G$9,2,FALSE)","v":4},33,15,14,1,0,3]
["E01022191","E01022191 Cotswold 008A","E01022191",{"$f":"VLOOKUP(A1870,'Output Areas'!$A:$E,5,FALSE)","v":"Town and Fringe"},"Detached; semi-detached; terraced whole house or bungalow","Owned","8 rooms or more",{"$f":"VLOOKUP(G1870,Cntrol!$F$3:$G$9,2,FALSE)","v":5},72,18,42,11,0,1]
["E01022191","E01022191 Cotswold 008A","E01022191",{"$f":"VLOOKUP(A1871,'Output Areas'!$A:$E,5,FALSE)","v":"Town and Fringe"},"Detached; semi-detached; terraced whole house or bungalow","Shared ownership or rented (excluding living rent free)","Total: Number of rooms",{"$f":"VLOOKUP(G1871,Cntrol!$F$3:$G$9,2,FALSE)","v":0},220,105,46,8,5,56]
["E01022191","E01022191 Cotswold 008A","E01022191",{"$f":"VLOOKUP(A1872,'Output Areas'!$A:$E,5,FALSE)","v":"Town and Fringe"},"Detached; semi-detached; terraced whole house or bungalow","Shared ownership or rented (excluding living rent free)","3 rooms or less",{"$f":"VLOOKUP(G1872,Cntrol!$F$3:$G$9,2,FALSE)","v":2},30,8,5,0,0,17]
["E01022191","E01022191 Cotswold 008A","E01022191",{"$f":"VLOOKUP(A1873,'Output Areas'!$A:$E,5,FALSE)","v":"Town and Fringe"},"Detached; semi-detached; terraced whole house or bungalow","Shared ownership or rented (excluding living rent free)","4 rooms",{"$f":"VLOOKUP(G1873,Cntrol!$F$3:$G$9,2,FALSE)","v":2},104,62,17,2,0,23]
["E01022191","E01022191 Cotswold 008A","E01022191",{"$f":"VLOOKUP(A1874,'Output Areas'!$A:$E,5,FALSE)","v":"Town and Fringe"},"Detached; semi-detached; terraced whole house or bungalow","Shared ownership or rented (excluding living rent free)","5 rooms",{"$f":"VLOOKUP(G1874,Cntrol!$F$3:$G$9,2,FALSE)","v":3},56,21,18,4,1,12]
["E01022191","E01022191 Cotswold 008A","E01022191",{"$f":"VLOOKUP(A1875,'Output Areas'!$A:$E,5,FALSE)","v":"Town and Fringe"},"Detached; semi-detached; terraced whole house or bungalow","Shared ownership or rented (excluding living rent free)","6 rooms",{"$f":"VLOOKUP(G1875,Cntrol!$F$3:$G$9,2,FALSE)","v":3},20,12,2,2,1,3]
["E01022191","E01022191 Cotswold 008A","E01022191",{"$f":"VLOOKUP(A1876,'Output Areas'!$A:$E,5,FALSE)","v":"Town and Fringe"},"Detached; semi-detached; terraced whole house or bungalow","Shared ownership or rented (excluding living rent free)","7 rooms",{"$f":"VLOOKUP(G1876,Cntrol!$F$3:$G$9,2,FALSE)","v":4},5,1,2,0,2,0]
["E01022191","E01022191 Cotswold 008A","E01022191",{"$f":"VLOOKUP(A1877,'Output Areas'!$A:$E,5,FALSE)","v":"Town and Fringe"},"Detached; semi-detached; terraced whole house or bungalow","Shared ownership or rented (excluding living rent free)","8 rooms or more",{"$f":"VLOOKUP(G1877,Cntrol!$F$3:$G$9,2,FALSE)","v":5},5,1,2,0,1,1]
["E01022191","E01022191 Cotswold 008A","E01022191",{"$f":"VLOOKUP(A1878,'Output Areas'!$A:$E,5,FALSE)","v":"Town and Fringe"},"A flat; maisonette; apartment","Total: Tenure (excluding living rent free)","Total: Number of rooms",{"$f":"VLOOKUP(G1878,Cntrol!$F$3:$G$9,2,FALSE)","v":0},96,59,9,4,0,24]
["E01022191","E01022191 Cotswold 008A","E01022191",{"$f":"VLOOKUP(A1879,'Output Areas'!$A:$E,5,FALSE)","v":"Town and Fringe"},"A flat; maisonette; apartment","Total: Tenure (excluding living rent free)","3 rooms or less",{"$f":"VLOOKUP(G1879,Cntrol!$F$3:$G$9,2,FALSE)","v":2},70,43,6,2,0,19]
["E01022191","E01022191 Cotswold 008A","E01022191",{"$f":"VLOOKUP(A1880,'Output Areas'!$A:$E,5,FALSE)","v":"Town and Fringe"},"A flat; maisonette; apartment","Total: Tenure (excluding living rent free)","4 rooms",{"$f":"VLOOKUP(G1880,Cntrol!$F$3:$G$9,2,FALSE)","v":2},22,15,3,2,0,2]
["E01022191","E01022191 Cotswold 008A","E01022191",{"$f":"VLOOKUP(A1881,'Output Areas'!$A:$E,5,FALSE)","v":"Town and Fringe"},"A flat; maisonette; apartment","Total: Tenure (excluding living rent free)","5 rooms",{"$f":"VLOOKUP(G1881,Cntrol!$F$3:$G$9,2,FALSE)","v":3},4,1,0,0,0,3]
["E01022191","E01022191 Cotswold 008A","E01022191",{"$f":"VLOOKUP(A1882,'Output Areas'!$A:$E,5,FALSE)","v":"Town and Fringe"},"A flat; maisonette; apartment","Owned","Total: Number of rooms",{"$f":"VLOOKUP(G1882,Cntrol!$F$3:$G$9,2,FALSE)","v":0},26,17,5,0,0,4]
["E01022191","E01022191 Cotswold 008A","E01022191",{"$f":"VLOOKUP(A1883,'Output Areas'!$A:$E,5,FALSE)","v":"Town and Fringe"},"A flat; maisonette; apartment","Owned","3 rooms or less",{"$f":"VLOOKUP(G1883,Cntrol!$F$3:$G$9,2,FALSE)","v":2},15,10,3,0,0,2]
["E01022191","E01022191 Cotswold 008A","E01022191",{"$f":"VLOOKUP(A1884,'Output Areas'!$A:$E,5,FALSE)","v":"Town and Fringe"},"A flat; maisonette; apartment","Owned","4 rooms",{"$f":"VLOOKUP(G1884,Cntrol!$F$3:$G$9,2,FALSE)","v":2},11,7,2,0,0,2]
["E01022191","E01022191 Cotswold 008A","E01022191",{"$f":"VLOOKUP(A1885,'Output Areas'!$A:$E,5,FALSE)","v":"Town and Fringe"},"A flat; maisonette; apartment","Shared ownership or rented (excluding living rent free)","Total: Number of rooms",{"$f":"VLOOKUP(G1885,Cntrol!$F$3:$G$9,2,FALSE)","v":0},70,42,4,4,0,20]
["E01022191","E01022191 Cotswold 008A","E01022191",{"$f":"VLOOKUP(A1886,'Output Areas'!$A:$E,5,FALSE)","v":"Town and Fringe"},"A flat; maisonette; apartment","Shared ownership or rented (excluding living rent free)","3 rooms or less",{"$f":"VLOOKUP(G1886,Cntrol!$F$3:$G$9,2,FALSE)","v":2},55,33,3,2,0,17]
["E01022191","E01022191 Cotswold 008A","E01022191",{"$f":"VLOOKUP(A1887,'Output Areas'!$A:$E,5,FALSE)","v":"Town and Fringe"},"A flat; maisonette; apartment","Shared ownership or rented (excluding living rent free)","4 rooms",{"$f":"VLOOKUP(G1887,Cntrol!$F$3:$G$9,2,FALSE)","v":2},11,8,1,2,0,0]
["E01022191","E01022191 Cotswold 008A","E01022191",{"$f":"VLOOKUP(A1888,'Output Areas'!$A:$E,5,FALSE)","v":"Town and Fringe"},"A flat; maisonette; apartment","Shared ownership or rented (excluding living rent free)","5 rooms",{"$f":"VLOOKUP(G1888,Cntrol!$F$3:$G$9,2,FALSE)","v":3},4,1,0,0,0,3]
["E01022192","E01022192 Cotswold 008B","E01022192",{"$f":"VLOOKUP(A1889,'Output Areas'!$A:$E,5,FALSE)","v":"Town and Fringe"},"Total: Accommodation type (excluding caravans / temporary structures)","Total: Tenure (excluding living rent free)","Total: Number of rooms",{"$f":"VLOOKUP(G1889,Cntrol!$F$3:$G$9,2,FALSE)","v":0},526,240,120,34,11,121]
["E01022192","E01022192 Cotswold 008B","E01022192",{"$f":"VLOOKUP(A1890,'Output Areas'!$A:$E,5,FALSE)","v":"Town and Fringe"},"Total: Accommodation type (excluding caravans / temporary structures)","Total: Tenure (excluding living rent free)","3 rooms or less",{"$f":"VLOOKUP(G1890,Cntrol!$F$3:$G$9,2,FALSE)","v":2},72,42,6,2,0,22]
["E01022192","E01022192 Cotswold 008B","E01022192",{"$f":"VLOOKUP(A1891,'Output Areas'!$A:$E,5,FALSE)","v":"Town and Fringe"},"Total: Accommodation type (excluding caravans / temporary structures)","Total: Tenure (excluding living rent free)","4 rooms",{"$f":"VLOOKUP(G1891,Cntrol!$F$3:$G$9,2,FALSE)","v":2},64,31,13,1,0,19]
["E01022192","E01022192 Cotswold 008B","E01022192",{"$f":"VLOOKUP(A1892,'Output Areas'!$A:$E,5,FALSE)","v":"Town and Fringe"},"Total: Accommodation type (excluding caravans / temporary structures)","Total: Tenure (excluding living rent free)","5 rooms",{"$f":"VLOOKUP(G1892,Cntrol!$F$3:$G$9,2,FALSE)","v":3},191,90,44,8,0,49]
["E01022192","E01022192 Cotswold 008B","E01022192",{"$f":"VLOOKUP(A1893,'Output Areas'!$A:$E,5,FALSE)","v":"Town and Fringe"},"Total: Accommodation type (excluding caravans / temporary structures)","Total: Tenure (excluding living rent free)","6 rooms",{"$f":"VLOOKUP(G1893,Cntrol!$F$3:$G$9,2,FALSE)","v":3},127,52,30,11,5,29]
["E01022192","E01022192 Cotswold 008B","E01022192",{"$f":"VLOOKUP(A1894,'Output Areas'!$A:$E,5,FALSE)","v":"Town and Fringe"},"Total: Accommodation type (excluding caravans / temporary structures)","Total: Tenure (excluding living rent free)","7 rooms",{"$f":"VLOOKUP(G1894,Cntrol!$F$3:$G$9,2,FALSE)","v":4},43,20,16,3,3,1]
["E01022192","E01022192 Cotswold 008B","E01022192",{"$f":"VLOOKUP(A1895,'Output Areas'!$A:$E,5,FALSE)","v":"Town and Fringe"},"Total: Accommodation type (excluding caravans / temporary structures)","Total: Tenure (excluding living rent free)","8 rooms or more",{"$f":"VLOOKUP(G1895,Cntrol!$F$3:$G$9,2,FALSE)","v":5},29,5,11,9,3,1]
["E01022192","E01022192 Cotswold 008B","E01022192",{"$f":"VLOOKUP(A1896,'Output Areas'!$A:$E,5,FALSE)","v":"Town and Fringe"},"Total: Accommodation type (excluding caravans / temporary structures)","Owned","Total: Number of rooms",{"$f":"VLOOKUP(G1896,Cntrol!$F$3:$G$9,2,FALSE)","v":0},249,112,74,23,6,34]
["E01022192","E01022192 Cotswold 008B","E01022192",{"$f":"VLOOKUP(A1897,'Output Areas'!$A:$E,5,FALSE)","v":"Town and Fringe"},"Total: Accommodation type (excluding caravans / temporary structures)","Owned","3 rooms or less",{"$f":"VLOOKUP(G1897,Cntrol!$F$3:$G$9,2,FALSE)","v":2},12,6,2,2,0,2]
["E01022192","E01022192 Cotswold 008B","E01022192",{"$f":"VLOOKUP(A1898,'Output Areas'!$A:$E,5,FALSE)","v":"Town and Fringe"},"Total: Accommodation type (excluding caravans / temporary structures)","Owned","4 rooms",{"$f":"VLOOKUP(G1898,Cntrol!$F$3:$G$9,2,FALSE)","v":2},20,12,4,0,0,4]
["E01022192","E01022192 Cotswold 008B","E01022192",{"$f":"VLOOKUP(A1899,'Output Areas'!$A:$E,5,FALSE)","v":"Town and Fringe"},"Total: Accommodation type (excluding caravans / temporary structures)","Owned","5 rooms",{"$f":"VLOOKUP(G1899,Cntrol!$F$3:$G$9,2,FALSE)","v":3},76,38,20,2,0,16]
["E01022192","E01022192 Cotswold 008B","E01022192",{"$f":"VLOOKUP(A1900,'Output Areas'!$A:$E,5,FALSE)","v":"Town and Fringe"},"Total: Accommodation type (excluding caravans / temporary structures)","Owned","6 rooms",{"$f":"VLOOKUP(G1900,Cntrol!$F$3:$G$9,2,FALSE)","v":3},77,36,22,7,2,10]
["E01022192","E01022192 Cotswold 008B","E01022192",{"$f":"VLOOKUP(A1901,'Output Areas'!$A:$E,5,FALSE)","v":"Town and Fringe"},"Total: Accommodation type (excluding caravans / temporary structures)","Owned","7 rooms",{"$f":"VLOOKUP(G1901,Cntrol!$F$3:$G$9,2,FALSE)","v":4},38,17,16,3,1,1]
["E01022192","E01022192 Cotswold 008B","E01022192",{"$f":"VLOOKUP(A1902,'Output Areas'!$A:$E,5,FALSE)","v":"Town and Fringe"},"Total: Accommodation type (excluding caravans / temporary structures)","Owned","8 rooms or more",{"$f":"VLOOKUP(G1902,Cntrol!$F$3:$G$9,2,FALSE)","v":5},26,3,10,9,3,1]
["E01022192","E01022192 Cotswold 008B","E01022192",{"$f":"VLOOKUP(A1903,'Output Areas'!$A:$E,5,FALSE)","v":"Town and Fringe"},"Total: Accommodation type (excluding caravans / temporary structures)","Shared ownership or rented (excluding living rent free)","Total: Number of rooms",{"$f":"VLOOKUP(G1903,Cntrol!$F$3:$G$9,2,FALSE)","v":0},277,128,46,11,5,87]
["E01022192","E01022192 Cotswold 008B","E01022192",{"$f":"VLOOKUP(A1904,'Output Areas'!$A:$E,5,FALSE)","v":"Town and Fringe"},"Total: Accommodation type (excluding caravans / temporary structures)","Shared ownership or rented (excluding living rent free)","3 rooms or less",{"$f":"VLOOKUP(G1904,Cntrol!$F$3:$G$9,2,FALSE)","v":2},60,36,4,0,0,20]
["E01022192","E01022192 Cotswold 008B","E01022192",{"$f":"VLOOKUP(A1905,'Output Areas'!$A:$E,5,FALSE)","v":"Town and Fringe"},"Total: Accommodation type (excluding caravans / temporary structures)","Shared ownership or rented (excluding living rent free)","4 rooms",{"$f":"VLOOKUP(G1905,Cntrol!$F$3:$G$9,2,FALSE)","v":2},44,19,9,1,0,15]
["E01022192","E01022192 Cotswold 008B","E01022192",{"$f":"VLOOKUP(A1906,'Output Areas'!$A:$E,5,FALSE)","v":"Town and Fringe"},"Total: Accommodation type (excluding caravans / temporary structures)","Shared ownership or rented (excluding living rent free)","5 rooms",{"$f":"VLOOKUP(G1906,Cntrol!$F$3:$G$9,2,FALSE)","v":3},115,52,24,6,0,33]
["E01022192","E01022192 Cotswold 008B","E01022192",{"$f":"VLOOKUP(A1907,'Output Areas'!$A:$E,5,FALSE)","v":"Town and Fringe"},"Total: Accommodation type (excluding caravans / temporary structures)","Shared ownership or rented (excluding living rent free)","6 rooms",{"$f":"VLOOKUP(G1907,Cntrol!$F$3:$G$9,2,FALSE)","v":3},50,16,8,4,3,19]
["E01022192","E01022192 Cotswold 008B","E01022192",{"$f":"VLOOKUP(A1908,'Output Areas'!$A:$E,5,FALSE)","v":"Town and Fringe"},"Total: Accommodation type (excluding caravans / temporary structures)","Shared ownership or rented (excluding living rent free)","7 rooms",{"$f":"VLOOKUP(G1908,Cntrol!$F$3:$G$9,2,FALSE)","v":4},5,3,0,0,2,0]
["E01022192","E01022192 Cotswold 008B","E01022192",{"$f":"VLOOKUP(A1909,'Output Areas'!$A:$E,5,FALSE)","v":"Town and Fringe"},"Total: Accommodation type (excluding caravans / temporary structures)","Shared ownership or rented (excluding living rent free)","8 rooms or more",{"$f":"VLOOKUP(G1909,Cntrol!$F$3:$G$9,2,FALSE)","v":5},3,2,1,0,0,0]
["E01022192","E01022192 Cotswold 008B","E01022192",{"$f":"VLOOKUP(A1910,'Output Areas'!$A:$E,5,FALSE)","v":"Town and Fringe"},"Detached; semi-detached; terraced whole house or bungalow","Total: Tenure (excluding living rent free)","Total: Number of rooms",{"$f":"VLOOKUP(G1910,Cntrol!$F$3:$G$9,2,FALSE)","v":0},434,185,111,32,10,96]
["E01022192","E01022192 Cotswold 008B","E01022192",{"$f":"VLOOKUP(A1911,'Output Areas'!$A:$E,5,FALSE)","v":"Town and Fringe"},"Detached; semi-detached; terraced whole house or bungalow","Total: Tenure (excluding living rent free)","3 rooms or less",{"$f":"VLOOKUP(G1911,Cntrol!$F$3:$G$9,2,FALSE)","v":2},10,4,0,1,0,5]
["E01022192","E01022192 Cotswold 008B","E01022192",{"$f":"VLOOKUP(A1912,'Output Areas'!$A:$E,5,FALSE)","v":"Town and Fringe"},"Detached; semi-detached; terraced whole house or bungalow","Total: Tenure (excluding living rent free)","4 rooms",{"$f":"VLOOKUP(G1912,Cntrol!$F$3:$G$9,2,FALSE)","v":2},36,15,10,0,0,11]
["E01022192","E01022192 Cotswold 008B","E01022192",{"$f":"VLOOKUP(A1913,'Output Areas'!$A:$E,5,FALSE)","v":"Town and Fringe"},"Detached; semi-detached; terraced whole house or bungalow","Total: Tenure (excluding living rent free)","5 rooms",{"$f":"VLOOKUP(G1913,Cntrol!$F$3:$G$9,2,FALSE)","v":3},190,89,44,8,0,49]
["E01022192","E01022192 Cotswold 008B","E01022192",{"$f":"VLOOKUP(A1914,'Output Areas'!$A:$E,5,FALSE)","v":"Town and Fringe"},"Detached; semi-detached; terraced whole house or bungalow","Total: Tenure (excluding living rent free)","6 rooms",{"$f":"VLOOKUP(G1914,Cntrol!$F$3:$G$9,2,FALSE)","v":3},127,52,30,11,5,29]
["E01022192","E01022192 Cotswold 008B","E01022192",{"$f":"VLOOKUP(A1915,'Output Areas'!$A:$E,5,FALSE)","v":"Town and Fringe"},"Detached; semi-detached; terraced whole house or bungalow","Total: Tenure (excluding living rent free)","7 rooms",{"$f":"VLOOKUP(G1915,Cntrol!$F$3:$G$9,2,FALSE)","v":4},42,20,16,3,2,1]
["E01022192","E01022192 Cotswold 008B","E01022192",{"$f":"VLOOKUP(A1916,'Output Areas'!$A:$E,5,FALSE)","v":"Town and Fringe"},"Detached; semi-detached; terraced whole house or bungalow","Total: Tenure (excluding living rent free)","8 rooms or more",{"$f":"VLOOKUP(G1916,Cntrol!$F$3:$G$9,2,FALSE)","v":5},29,5,11,9,3,1]
["E01022192","E01022192 Cotswold 008B","E01022192",{"$f":"VLOOKUP(A1917,'Output Areas'!$A:$E,5,FALSE)","v":"Town and Fringe"},"Detached; semi-detached; terraced whole house or bungalow","Owned","Total: Number of rooms",{"$f":"VLOOKUP(G1917,Cntrol!$F$3:$G$9,2,FALSE)","v":0},231,100,72,22,6,31]
["E01022192","E01022192 Cotswold 008B","E01022192",{"$f":"VLOOKUP(A1918,'Output Areas'!$A:$E,5,FALSE)","v":"Town and Fringe"},"Detached; semi-detached; terraced whole house or bungalow","Owned","3 rooms or less",{"$f":"VLOOKUP(G1918,Cntrol!$F$3:$G$9,2,FALSE)","v":2},3,1,0,1,0,1]
["E01022192","E01022192 Cotswold 008B","E01022192",{"$f":"VLOOKUP(A1919,'Output Areas'!$A:$E,5,FALSE)","v":"Town and Fringe"},"Detached; semi-detached; terraced whole house or bungalow","Owned","4 rooms",{"$f":"VLOOKUP(G1919,Cntrol!$F$3:$G$9,2,FALSE)","v":2},12,6,4,0,0,2]
["E01022192","E01022192 Cotswold 008B","E01022192",{"$f":"VLOOKUP(A1920,'Output Areas'!$A:$E,5,FALSE)","v":"Town and Fringe"},"Detached; semi-detached; terraced whole house or bungalow","Owned","5 rooms",{"$f":"VLOOKUP(G1920,Cntrol!$F$3:$G$9,2,FALSE)","v":3},75,37,20,2,0,16]
["E01022192","E01022192 Cotswold 008B","E01022192",{"$f":"VLOOKUP(A1921,'Output Areas'!$A:$E,5,FALSE)","v":"Town and Fringe"},"Detached; semi-detached; terraced whole house or bungalow","Owned","6 rooms",{"$f":"VLOOKUP(G1921,Cntrol!$F$3:$G$9,2,FALSE)","v":3},77,36,22,7,2,10]
["E01022192","E01022192 Cotswold 008B","E01022192",{"$f":"VLOOKUP(A1922,'Output Areas'!$A:$E,5,FALSE)","v":"Town and Fringe"},"Detached; semi-detached; terraced whole house or bungalow","Owned","7 rooms",{"$f":"VLOOKUP(G1922,Cntrol!$F$3:$G$9,2,FALSE)","v":4},38,17,16,3,1,1]
["E01022192","E01022192 Cotswold 008B","E01022192",{"$f":"VLOOKUP(A1923,'Output Areas'!$A:$E,5,FALSE)","v":"Town and Fringe"},"Detached; semi-detached; terraced whole house or bungalow","Owned","8 rooms or more",{"$f":"VLOOKUP(G1923,Cntrol!$F$3:$G$9,2,FALSE)","v":5},26,3,10,9,3,1]
["E01022192","E01022192 Cotswold 008B","E01022192",{"$f":"VLOOKUP(A1924,'Output Areas'!$A:$E,5,FALSE)","v":"Town and Fringe"},"Detached; semi-detached; terraced whole house or bungalow","Shared ownership or rented (excluding living rent free)","Total: Number of rooms",{"$f":"VLOOKUP(G1924,Cntrol!$F$3:$G$9,2,FALSE)","v":0},203,85,39,10,4,65]
["E01022192","E01022192 Cotswold 008B","E01022192",{"$f":"VLOOKUP(A1925,'Output Areas'!$A:$E,5,FALSE)","v":"Town and Fringe"},"Detached; semi-detached; terraced whole house or bungalow","Shared ownership or rented (excluding living rent free)","3 rooms or less",{"$f":"VLOOKUP(G1925,Cntrol!$F$3:$G$9,2,FALSE)","v":2},7,3,0,0,0,4]
["E01022192","E01022192 Cotswold 008B","E01022192",{"$f":"VLOOKUP(A1926,'Output Areas'!$A:$E,5,FALSE)","v":"Town and Fringe"},"Detached; semi-detached; terraced whole house or bungalow","Shared ownership or rented (excluding living rent free)","4 rooms",{"$f":"VLOOKUP(G1926,Cntrol!$F$3:$G$9,2,FALSE)","v":2},24,9,6,0,0,9]
["E01022192","E01022192 Cotswold 008B","E01022192",{"$f":"VLOOKUP(A1927,'Output Areas'!$A:$E,5,FALSE)","v":"Town and Fringe"},"Detached; semi-detached; terraced whole house or bungalow","Shared ownership or rented (excluding living rent free)","5 rooms",{"$f":"VLOOKUP(G1927,Cntrol!$F$3:$G$9,2,FALSE)","v":3},115,52,24,6,0,33]
["E01022192","E01022192 Cotswold 008B","E01022192",{"$f":"VLOOKUP(A1928,'Output Areas'!$A:$E,5,FALSE)","v":"Town and Fringe"},"Detached; semi-detached; terraced whole house or bungalow","Shared ownership or rented (excluding living rent free)","6 rooms",{"$f":"VLOOKUP(G1928,Cntrol!$F$3:$G$9,2,FALSE)","v":3},50,16,8,4,3,19]
["E01022192","E01022192 Cotswold 008B","E01022192",{"$f":"VLOOKUP(A1929,'Output Areas'!$A:$E,5,FALSE)","v":"Town and Fringe"},"Detached; semi-detached; terraced whole house or bungalow","Shared ownership or rented (excluding living rent free)","7 rooms",{"$f":"VLOOKUP(G1929,Cntrol!$F$3:$G$9,2,FALSE)","v":4},4,3,0,0,1,0]
["E01022192","E01022192 Cotswold 008B","E01022192",{"$f":"VLOOKUP(A1930,'Output Areas'!$A:$E,5,FALSE)","v":"Town and Fringe"},"Detached; semi-detached; terraced whole house or bungalow","Shared ownership or rented (excluding living rent free)","8 rooms or more",{"$f":"VLOOKUP(G1930,Cntrol!$F$3:$G$9,2,FALSE)","v":5},3,2,1,0,0,0]
["E01022192","E01022192 Cotswold 008B","E01022192",{"$f":"VLOOKUP(A1931,'Output Areas'!$A:$E,5,FALSE)","v":"Town and Fringe"},"A flat; maisonette; apartment","Total: Tenure (excluding living rent free)","Total: Number of rooms",{"$f":"VLOOKUP(G1931,Cntrol!$F$3:$G$9,2,FALSE)","v":0},92,55,9,2,1,25]
["E01022192","E01022192 Cotswold 008B","E01022192",{"$f":"VLOOKUP(A1932,'Output Areas'!$A:$E,5,FALSE)","v":"Town and Fringe"},"A flat; maisonette; apartment","Total: Tenure (excluding living rent free)","3 rooms or less",{"$f":"VLOOKUP(G1932,Cntrol!$F$3:$G$9,2,FALSE)","v":2},62,38,6,1,0,17]
["E01022192","E01022192 Cotswold 008B","E01022192",{"$f":"VLOOKUP(A1933,'Output Areas'!$A:$E,5,FALSE)","v":"Town and Fringe"},"A flat; maisonette; apartment","Total: Tenure (excluding living rent free)","4 rooms",{"$f":"VLOOKUP(G1933,Cntrol!$F$3:$G$9,2,FALSE)","v":2},28,16,3,1,0,8]
["E01022192","E01022192 Cotswold 008B","E01022192",{"$f":"VLOOKUP(A1934,'Output Areas'!$A:$E,5,FALSE)","v":"Town and Fringe"},"A flat; maisonette; apartment","Total: Tenure (excluding living rent free)","5 rooms",{"$f":"VLOOKUP(G1934,Cntrol!$F$3:$G$9,2,FALSE)","v":3},1,1,0,0,0,0]
["E01022192","E01022192 Cotswold 008B","E01022192",{"$f":"VLOOKUP(A1935,'Output Areas'!$A:$E,5,FALSE)","v":"Town and Fringe"},"A flat; maisonette; apartment","Total: Tenure (excluding living rent free)","7 rooms",{"$f":"VLOOKUP(G1935,Cntrol!$F$3:$G$9,2,FALSE)","v":4},1,0,0,0,1,0]
["E01022192","E01022192 Cotswold 008B","E01022192",{"$f":"VLOOKUP(A1936,'Output Areas'!$A:$E,5,FALSE)","v":"Town and Fringe"},"A flat; maisonette; apartment","Owned","Total: Number of rooms",{"$f":"VLOOKUP(G1936,Cntrol!$F$3:$G$9,2,FALSE)","v":0},18,12,2,1,0,3]
["E01022192","E01022192 Cotswold 008B","E01022192",{"$f":"VLOOKUP(A1937,'Output Areas'!$A:$E,5,FALSE)","v":"Town and Fringe"},"A flat; maisonette; apartment","Owned","3 rooms or less",{"$f":"VLOOKUP(G1937,Cntrol!$F$3:$G$9,2,FALSE)","v":2},9,5,2,1,0,1]
["E01022192","E01022192 Cotswold 008B","E01022192",{"$f":"VLOOKUP(A1938,'Output Areas'!$A:$E,5,FALSE)","v":"Town and Fringe"},"A flat; maisonette; apartment","Owned","4 rooms",{"$f":"VLOOKUP(G1938,Cntrol!$F$3:$G$9,2,FALSE)","v":2},8,6,0,0,0,2]
["E01022192","E01022192 Cotswold 008B","E01022192",{"$f":"VLOOKUP(A1939,'Output Areas'!$A:$E,5,FALSE)","v":"Town and Fringe"},"A flat; maisonette; apartment","Owned","5 rooms",{"$f":"VLOOKUP(G1939,Cntrol!$F$3:$G$9,2,FALSE)","v":3},1,1,0,0,0,0]
["E01022192","E01022192 Cotswold 008B","E01022192",{"$f":"VLOOKUP(A1940,'Output Areas'!$A:$E,5,FALSE)","v":"Town and Fringe"},"A flat; maisonette; apartment","Shared ownership or rented (excluding living rent free)","Total: Number of rooms",{"$f":"VLOOKUP(G1940,Cntrol!$F$3:$G$9,2,FALSE)","v":0},74,43,7,1,1,22]
["E01022192","E01022192 Cotswold 008B","E01022192",{"$f":"VLOOKUP(A1941,'Output Areas'!$A:$E,5,FALSE)","v":"Town and Fringe"},"A flat; maisonette; apartment","Shared ownership or rented (excluding living rent free)","3 rooms or less",{"$f":"VLOOKUP(G1941,Cntrol!$F$3:$G$9,2,FALSE)","v":2},53,33,4,0,0,16]
["E01022192","E01022192 Cotswold 008B","E01022192",{"$f":"VLOOKUP(A1942,'Output Areas'!$A:$E,5,FALSE)","v":"Town and Fringe"},"A flat; maisonette; apartment","Shared ownership or rented (excluding living rent free)","4 rooms",{"$f":"VLOOKUP(G1942,Cntrol!$F$3:$G$9,2,FALSE)","v":2},20,10,3,1,0,6]
["E01022192","E01022192 Cotswold 008B","E01022192",{"$f":"VLOOKUP(A1943,'Output Areas'!$A:$E,5,FALSE)","v":"Town and Fringe"},"A flat; maisonette; apartment","Shared ownership or rented (excluding living rent free)","7 rooms",{"$f":"VLOOKUP(G1943,Cntrol!$F$3:$G$9,2,FALSE)","v":4},1,0,0,0,1,0]
["E01022193","E01022193 Cotswold 008C","E01022193",{"$f":"VLOOKUP(A1944,'Output Areas'!$A:$E,5,FALSE)","v":"Town and Fringe"},"Total: Accommodation type (excluding caravans / temporary structures)","Total: Tenure (excluding living rent free)","Total: Number of rooms",{"$f":"VLOOKUP(G1944,Cntrol!$F$3:$G$9,2,FALSE)","v":0},415,168,172,34,14,27]
["E01022193","E01022193 Cotswold 008C","E01022193",{"$f":"VLOOKUP(A1945,'Output Areas'!$A:$E,5,FALSE)","v":"Town and Fringe"},"Total: Accommodation type (excluding caravans / temporary structures)","Total: Tenure (excluding living rent free)","3 rooms or less",{"$f":"VLOOKUP(G1945,Cntrol!$F$3:$G$9,2,FALSE)","v":2},16,10,1,0,0,5]
["E01022193","E01022193 Cotswold 008C","E01022193",{"$f":"VLOOKUP(A1946,'Output Areas'!$A:$E,5,FALSE)","v":"Town and Fringe"},"Total: Accommodation type (excluding caravans / temporary structures)","Total: Tenure (excluding living rent free)","4 rooms",{"$f":"VLOOKUP(G1946,Cntrol!$F$3:$G$9,2,FALSE)","v":2},33,16,8,0,0,9]
["E01022193","E01022193 Cotswold 008C","E01022193",{"$f":"VLOOKUP(A1947,'Output Areas'!$A:$E,5,FALSE)","v":"Town and Fringe"},"Total: Accommodation type (excluding caravans / temporary structures)","Total: Tenure (excluding living rent free)","5 rooms",{"$f":"VLOOKUP(G1947,Cntrol!$F$3:$G$9,2,FALSE)","v":3},59,34,20,2,0,3]
["E01022193","E01022193 Cotswold 008C","E01022193",{"$f":"VLOOKUP(A1948,'Output Areas'!$A:$E,5,FALSE)","v":"Town and Fringe"},"Total: Accommodation type (excluding caravans / temporary structures)","Total: Tenure (excluding living rent free)","6 rooms",{"$f":"VLOOKUP(G1948,Cntrol!$F$3:$G$9,2,FALSE)","v":3},88,47,28,6,2,5]
["E01022193","E01022193 Cotswold 008C","E01022193",{"$f":"VLOOKUP(A1949,'Output Areas'!$A:$E,5,FALSE)","v":"Town and Fringe"},"Total: Accommodation type (excluding caravans / temporary structures)","Total: Tenure (excluding living rent free)","7 rooms",{"$f":"VLOOKUP(G1949,Cntrol!$F$3:$G$9,2,FALSE)","v":4},78,31,37,5,4,1]
["E01022193","E01022193 Cotswold 008C","E01022193",{"$f":"VLOOKUP(A1950,'Output Areas'!$A:$E,5,FALSE)","v":"Town and Fringe"},"Total: Accommodation type (excluding caravans / temporary structures)","Total: Tenure (excluding living rent free)","8 rooms or more",{"$f":"VLOOKUP(G1950,Cntrol!$F$3:$G$9,2,FALSE)","v":5},141,30,78,21,8,4]
["E01022193","E01022193 Cotswold 008C","E01022193",{"$f":"VLOOKUP(A1951,'Output Areas'!$A:$E,5,FALSE)","v":"Town and Fringe"},"Total: Accommodation type (excluding caravans / temporary structures)","Owned","Total: Number of rooms",{"$f":"VLOOKUP(G1951,Cntrol!$F$3:$G$9,2,FALSE)","v":0},338,132,152,31,10,13]
["E01022193","E01022193 Cotswold 008C","E01022193",{"$f":"VLOOKUP(A1952,'Output Areas'!$A:$E,5,FALSE)","v":"Town and Fringe"},"Total: Accommodation type (excluding caravans / temporary structures)","Owned","3 rooms or less",{"$f":"VLOOKUP(G1952,Cntrol!$F$3:$G$9,2,FALSE)","v":2},4,4,0,0,0,0]
["E01022193","E01022193 Cotswold 008C","E01022193",{"$f":"VLOOKUP(A1953,'Output Areas'!$A:$E,5,FALSE)","v":"Town and Fringe"},"Total: Accommodation type (excluding caravans / temporary structures)","Owned","4 rooms",{"$f":"VLOOKUP(G1953,Cntrol!$F$3:$G$9,2,FALSE)","v":2},7,4,2,0,0,1]
["E01022193","E01022193 Cotswold 008C","E01022193",{"$f":"VLOOKUP(A1954,'Output Areas'!$A:$E,5,FALSE)","v":"Town and Fringe"},"Total: Accommodation type (excluding caravans / temporary structures)","Owned","5 rooms",{"$f":"VLOOKUP(G1954,Cntrol!$F$3:$G$9,2,FALSE)","v":3},44,25,15,1,0,3]
["E01022193","E01022193 Cotswold 008C","E01022193",{"$f":"VLOOKUP(A1955,'Output Areas'!$A:$E,5,FALSE)","v":"Town and Fringe"},"Total: Accommodation type (excluding caravans / temporary structures)","Owned","6 rooms",{"$f":"VLOOKUP(G1955,Cntrol!$F$3:$G$9,2,FALSE)","v":3},80,44,26,5,1,4]
["E01022193","E01022193 Cotswold 008C","E01022193",{"$f":"VLOOKUP(A1956,'Output Areas'!$A:$E,5,FALSE)","v":"Town and Fringe"},"Total: Accommodation type (excluding caravans / temporary structures)","Owned","7 rooms",{"$f":"VLOOKUP(G1956,Cntrol!$F$3:$G$9,2,FALSE)","v":4},68,26,33,5,3,1]
["E01022193","E01022193 Cotswold 008C","E01022193",{"$f":"VLOOKUP(A1957,'Output Areas'!$A:$E,5,FALSE)","v":"Town and Fringe"},"Total: Accommodation type (excluding caravans / temporary structures)","Owned","8 rooms or more",{"$f":"VLOOKUP(G1957,Cntrol!$F$3:$G$9,2,FALSE)","v":5},135,29,76,20,6,4]
["E01022193","E01022193 Cotswold 008C","E01022193",{"$f":"VLOOKUP(A1958,'Output Areas'!$A:$E,5,FALSE)","v":"Town and Fringe"},"Total: Accommodation type (excluding caravans / temporary structures)","Shared ownership or rented (excluding living rent free)","Total: Number of rooms",{"$f":"VLOOKUP(G1958,Cntrol!$F$3:$G$9,2,FALSE)","v":0},77,36,20,3,4,14]
["E01022193","E01022193 Cotswold 008C","E01022193",{"$f":"VLOOKUP(A1959,'Output Areas'!$A:$E,5,FALSE)","v":"Town and Fringe"},"Total: Accommodation type (excluding caravans / temporary structures)","Shared ownership or rented (excluding living rent free)","3 rooms or less",{"$f":"VLOOKUP(G1959,Cntrol!$F$3:$G$9,2,FALSE)","v":2},12,6,1,0,0,5]
["E01022193","E01022193 Cotswold 008C","E01022193",{"$f":"VLOOKUP(A1960,'Output Areas'!$A:$E,5,FALSE)","v":"Town and Fringe"},"Total: Accommodation type (excluding caravans / temporary structures)","Shared ownership or rented (excluding living rent free)","4 rooms",{"$f":"VLOOKUP(G1960,Cntrol!$F$3:$G$9,2,FALSE)","v":2},26,12,6,0,0,8]
["E01022193","E01022193 Cotswold 008C","E01022193",{"$f":"VLOOKUP(A1961,'Output Areas'!$A:$E,5,FALSE)","v":"Town and Fringe"},"Total: Accommodation type (excluding caravans / temporary structures)","Shared ownership or rented (excluding living rent free)","5 rooms",{"$f":"VLOOKUP(G1961,Cntrol!$F$3:$G$9,2,FALSE)","v":3},15,9,5,1,0,0]
["E01022193","E01022193 Cotswold 008C","E01022193",{"$f":"VLOOKUP(A1962,'Output Areas'!$A:$E,5,FALSE)","v":"Town and Fringe"},"Total: Accommodation type (excluding caravans / temporary structures)","Shared ownership or rented (excluding living rent free)","6 rooms",{"$f":"VLOOKUP(G1962,Cntrol!$F$3:$G$9,2,FALSE)","v":3},8,3,2,1,1,1]
["E01022193","E01022193 Cotswold 008C","E01022193",{"$f":"VLOOKUP(A1963,'Output Areas'!$A:$E,5,FALSE)","v":"Town and Fringe"},"Total: Accommodation type (excluding caravans / temporary structures)","Shared ownership or rented (excluding living rent free)","7 rooms",{"$f":"VLOOKUP(G1963,Cntrol!$F$3:$G$9,2,FALSE)","v":4},10,5,4,0,1,0]
["E01022193","E01022193 Cotswold 008C","E01022193",{"$f":"VLOOKUP(A1964,'Output Areas'!$A:$E,5,FALSE)","v":"Town and Fringe"},"Total: Accommodation type (excluding caravans / temporary structures)","Shared ownership or rented (excluding living rent free)","8 rooms or more",{"$f":"VLOOKUP(G1964,Cntrol!$F$3:$G$9,2,FALSE)","v":5},6,1,2,1,2,0]
["E01022193","E01022193 Cotswold 008C","E01022193",{"$f":"VLOOKUP(A1965,'Output Areas'!$A:$E,5,FALSE)","v":"Town and Fringe"},"Detached; semi-detached; terraced whole house or bungalow","Total: Tenure (excluding living rent free)","Total: Number of rooms",{"$f":"VLOOKUP(G1965,Cntrol!$F$3:$G$9,2,FALSE)","v":0},400,161,170,34,14,21]
["E01022193","E01022193 Cotswold 008C","E01022193",{"$f":"VLOOKUP(A1966,'Output Areas'!$A:$E,5,FALSE)","v":"Town and Fringe"},"Detached; semi-detached; terraced whole house or bungalow","Total: Tenure (excluding living rent free)","3 rooms or less",{"$f":"VLOOKUP(G1966,Cntrol!$F$3:$G$9,2,FALSE)","v":2},3,3,0,0,0,0]
["E01022193","E01022193 Cotswold 008C","E01022193",{"$f":"VLOOKUP(A1967,'Output Areas'!$A:$E,5,FALSE)","v":"Town and Fringe"},"Detached; semi-detached; terraced whole house or bungalow","Total: Tenure (excluding living rent free)","4 rooms",{"$f":"VLOOKUP(G1967,Cntrol!$F$3:$G$9,2,FALSE)","v":2},32,16,8,0,0,8]
["E01022193","E01022193 Cotswold 008C","E01022193",{"$f":"VLOOKUP(A1968,'Output Areas'!$A:$E,5,FALSE)","v":"Town and Fringe"},"Detached; semi-detached; terraced whole house or bungalow","Total: Tenure (excluding living rent free)","5 rooms",{"$f":"VLOOKUP(G1968,Cntrol!$F$3:$G$9,2,FALSE)","v":3},59,34,20,2,0,3]
["E01022193","E01022193 Cotswold 008C","E01022193",{"$f":"VLOOKUP(A1969,'Output Areas'!$A:$E,5,FALSE)","v":"Town and Fringe"},"Detached; semi-detached; terraced whole house or bungalow","Total: Tenure (excluding living rent free)","6 rooms",{"$f":"VLOOKUP(G1969,Cntrol!$F$3:$G$9,2,FALSE)","v":3},87,47,27,6,2,5]
["E01022193","E01022193 Cotswold 008C","E01022193",{"$f":"VLOOKUP(A1970,'Output Areas'!$A:$E,5,FALSE)","v":"Town and Fringe"},"Detached; semi-detached; terraced whole house or bungalow","Total: Tenure (excluding living rent free)","7 rooms",{"$f":"VLOOKUP(G1970,Cntrol!$F$3:$G$9,2,FALSE)","v":4},78,31,37,5,4,1]
["E01022193","E01022193 Cotswold 008C","E01022193",{"$f":"VLOOKUP(A1971,'Output Areas'!$A:$E,5,FALSE)","v":"Town and Fringe"},"Detached; semi-detached; terraced whole house or bungalow","Total: Tenure (excluding living rent free)","8 rooms or more",{"$f":"VLOOKUP(G1971,Cntrol!$F$3:$G$9,2,FALSE)","v":5},141,30,78,21,8,4]
["E01022193","E01022193 Cotswold 008C","E01022193",{"$f":"VLOOKUP(A1972,'Output Areas'!$A:$E,5,FALSE)","v":"Town and Fringe"},"Detached; semi-detached; terraced whole house or bungalow","Owned","Total: Number of rooms",{"$f":"VLOOKUP(G1972,Cntrol!$F$3:$G$9,2,FALSE)","v":0},337,131,152,31,10,13]
["E01022193","E01022193 Cotswold 008C","E01022193",{"$f":"VLOOKUP(A1973,'Output Areas'!$A:$E,5,FALSE)","v":"Town and Fringe"},"Detached; semi-detached; terraced whole house or bungalow","Owned","3 rooms or less",{"$f":"VLOOKUP(G1973,Cntrol!$F$3:$G$9,2,FALSE)","v":2},3,3,0,0,0,0]
["E01022193","E01022193 Cotswold 008C","E01022193",{"$f":"VLOOKUP(A1974,'Output Areas'!$A:$E,5,FALSE)","v":"Town and Fringe"},"Detached; semi-detached; terraced whole house or bungalow","Owned","4 rooms",{"$f":"VLOOKUP(G1974,Cntrol!$F$3:$G$9,2,FALSE)","v":2},7,4,2,0,0,1]
["E01022193","E01022193 Cotswold 008C","E01022193",{"$f":"VLOOKUP(A1975,'Output Areas'!$A:$E,5,FALSE)","v":"Town and Fringe"},"Detached; semi-detached; terraced whole house or bungalow","Owned","5 rooms",{"$f":"VLOOKUP(G1975,Cntrol!$F$3:$G$9,2,FALSE)","v":3},44,25,15,1,0,3]
["E01022193","E01022193 Cotswold 008C","E01022193",{"$f":"VLOOKUP(A1976,'Output Areas'!$A:$E,5,FALSE)","v":"Town and Fringe"},"Detached; semi-detached; terraced whole house or bungalow","Owned","6 rooms",{"$f":"VLOOKUP(G1976,Cntrol!$F$3:$G$9,2,FALSE)","v":3},80,44,26,5,1,4]
["E01022193","E01022193 Cotswold 008C","E01022193",{"$f":"VLOOKUP(A1977,'Output Areas'!$A:$E,5,FALSE)","v":"Town and Fringe"},"Detached; semi-detached; terraced whole house or bungalow","Owned","7 rooms",{"$f":"VLOOKUP(G1977,Cntrol!$F$3:$G$9,2,FALSE)","v":4},68,26,33,5,3,1]
["E01022193","E01022193 Cotswold 008C","E01022193",{"$f":"VLOOKUP(A1978,'Output Areas'!$A:$E,5,FALSE)","v":"Town and Fringe"},"Detached; semi-detached; terraced whole house or bungalow","Owned","8 rooms or more",{"$f":"VLOOKUP(G1978,Cntrol!$F$3:$G$9,2,FALSE)","v":5},135,29,76,20,6,4]
["E01022193","E01022193 Cotswold 008C","E01022193",{"$f":"VLOOKUP(A1979,'Output Areas'!$A:$E,5,FALSE)","v":"Town and Fringe"},"Detached; semi-detached; terraced whole house or bungalow","Shared ownership or rented (excluding living rent free)","Total: Number of rooms",{"$f":"VLOOKUP(G1979,Cntrol!$F$3:$G$9,2,FALSE)","v":0},63,30,18,3,4,8]
["E01022193","E01022193 Cotswold 008C","E01022193",{"$f":"VLOOKUP(A1980,'Output Areas'!$A:$E,5,FALSE)","v":"Town and Fringe"},"Detached; semi-detached; terraced whole house or bungalow","Shared ownership or rented (excluding living rent free)","4 rooms",{"$f":"VLOOKUP(G1980,Cntrol!$F$3:$G$9,2,FALSE)","v":2},25,12,6,0,0,7]
["E01022193","E01022193 Cotswold 008C","E01022193",{"$f":"VLOOKUP(A1981,'Output Areas'!$A:$E,5,FALSE)","v":"Town and Fringe"},"Detached; semi-detached; terraced whole house or bungalow","Shared ownership or rented (excluding living rent free)","5 rooms",{"$f":"VLOOKUP(G1981,Cntrol!$F$3:$G$9,2,FALSE)","v":3},15,9,5,1,0,0]
["E01022193","E01022193 Cotswold 008C","E01022193",{"$f":"VLOOKUP(A1982,'Output Areas'!$A:$E,5,FALSE)","v":"Town and Fringe"},"Detached; semi-detached; terraced whole house or bungalow","Shared ownership or rented (excluding living rent free)","6 rooms",{"$f":"VLOOKUP(G1982,Cntrol!$F$3:$G$9,2,FALSE)","v":3},7,3,1,1,1,1]
["E01022193","E01022193 Cotswold 008C","E01022193",{"$f":"VLOOKUP(A1983,'Output Areas'!$A:$E,5,FALSE)","v":"Town and Fringe"},"Detached; semi-detached; terraced whole house or bungalow","Shared ownership or rented (excluding living rent free)","7 rooms",{"$f":"VLOOKUP(G1983,Cntrol!$F$3:$G$9,2,FALSE)","v":4},10,5,4,0,1,0]
["E01022193","E01022193 Cotswold 008C","E01022193",{"$f":"VLOOKUP(A1984,'Output Areas'!$A:$E,5,FALSE)","v":"Town and Fringe"},"Detached; semi-detached; terraced whole house or bungalow","Shared ownership or rented (excluding living rent free)","8 rooms or more",{"$f":"VLOOKUP(G1984,Cntrol!$F$3:$G$9,2,FALSE)","v":5},6,1,2,1,2,0]
["E01022193","E01022193 Cotswold 008C","E01022193",{"$f":"VLOOKUP(A1985,'Output Areas'!$A:$E,5,FALSE)","v":"Town and Fringe"},"A flat; maisonette; apartment","Total: Tenure (excluding living rent free)","Total: Number of rooms",{"$f":"VLOOKUP(G1985,Cntrol!$F$3:$G$9,2,FALSE)","v":0},15,7,2,0,0,6]
["E01022193","E01022193 Cotswold 008C","E01022193",{"$f":"VLOOKUP(A1986,'Output Areas'!$A:$E,5,FALSE)","v":"Town and Fringe"},"A flat; maisonette; apartment","Total: Tenure (excluding living rent free)","3 rooms or less",{"$f":"VLOOKUP(G1986,Cntrol!$F$3:$G$9,2,FALSE)","v":2},13,7,1,0,0,5]
["E01022193","E01022193 Cotswold 008C","E01022193",{"$f":"VLOOKUP(A1987,'Output Areas'!$A:$E,5,FALSE)","v":"Town and Fringe"},"A flat; maisonette; apartment","Total: Tenure (excluding living rent free)","4 rooms",{"$f":"VLOOKUP(G1987,Cntrol!$F$3:$G$9,2,FALSE)","v":2},1,0,0,0,0,1]
["E01022193","E01022193 Cotswold 008C","E01022193",{"$f":"VLOOKUP(A1988,'Output Areas'!$A:$E,5,FALSE)","v":"Town and Fringe"},"A flat; maisonette; apartment","Total: Tenure (excluding living rent free)","6 rooms",{"$f":"VLOOKUP(G1988,Cntrol!$F$3:$G$9,2,FALSE)","v":3},1,0,1,0,0,0]
["E01022193","E01022193 Cotswold 008C","E01022193",{"$f":"VLOOKUP(A1989,'Output Areas'!$A:$E,5,FALSE)","v":"Town and Fringe"},"A flat; maisonette; apartment","Owned","Total: Number of rooms",{"$f":"VLOOKUP(G1989,Cntrol!$F$3:$G$9,2,FALSE)","v":0},1,1,0,0,0,0]
["E01022193","E01022193 Cotswold 008C","E01022193",{"$f":"VLOOKUP(A1990,'Output Areas'!$A:$E,5,FALSE)","v":"Town and Fringe"},"A flat; maisonette; apartment","Owned","3 rooms or less",{"$f":"VLOOKUP(G1990,Cntrol!$F$3:$G$9,2,FALSE)","v":2},1,1,0,0,0,0]
["E01022193","E01022193 Cotswold 008C","E01022193",{"$f":"VLOOKUP(A1991,'Output Areas'!$A:$E,5,FALSE)","v":"Town and Fringe"},"A flat; maisonette; apartment","Shared ownership or rented (excluding living rent free)","Total: Number of rooms",{"$f":"VLOOKUP(G1991,Cntrol!$F$3:$G$9,2,FALSE)","v":0},14,6,2,0,0,6]
["E01022193","E01022193 Cotswold 008C","E01022193",{"$f":"VLOOKUP(A1992,'Output Areas'!$A:$E,5,FALSE)","v":"Town and Fringe"},"A flat; maisonette; apartment","Shared ownership or rented (excluding living rent free)","3 rooms or less",{"$f":"VLOOKUP(G1992,Cntrol!$F$3:$G$9,2,FALSE)","v":2},12,6,1,0,0,5]
["E01022193","E01022193 Cotswold 008C","E01022193",{"$f":"VLOOKUP(A1993,'Output Areas'!$A:$E,5,FALSE)","v":"Town and Fringe"},"A flat; maisonette; apartment","Shared ownership or rented (excluding living rent free)","4 rooms",{"$f":"VLOOKUP(G1993,Cntrol!$F$3:$G$9,2,FALSE)","v":2},1,0,0,0,0,1]
["E01022193","E01022193 Cotswold 008C","E01022193",{"$f":"VLOOKUP(A1994,'Output Areas'!$A:$E,5,FALSE)","v":"Town and Fringe"},"A flat; maisonette; apartment","Shared ownership or rented (excluding living rent free)","6 rooms",{"$f":"VLOOKUP(G1994,Cntrol!$F$3:$G$9,2,FALSE)","v":3},1,0,1,0,0,0]
["E01022198","E01022198 Cotswold 008D","E01022198",{"$f":"VLOOKUP(A1995,'Output Areas'!$A:$E,5,FALSE)","v":"Town and Fringe"},"Total: Accommodation type (excluding caravans / temporary structures)","Total: Tenure (excluding living rent free)","Total: Number of rooms",{"$f":"VLOOKUP(G1995,Cntrol!$F$3:$G$9,2,FALSE)","v":0},559,258,145,40,9,107]
["E01022198","E01022198 Cotswold 008D","E01022198",{"$f":"VLOOKUP(A1996,'Output Areas'!$A:$E,5,FALSE)","v":"Town and Fringe"},"Total: Accommodation type (excluding caravans / temporary structures)","Total: Tenure (excluding living rent free)","3 rooms or less",{"$f":"VLOOKUP(G1996,Cntrol!$F$3:$G$9,2,FALSE)","v":2},57,25,7,0,0,25]
["E01022198","E01022198 Cotswold 008D","E01022198",{"$f":"VLOOKUP(A1997,'Output Areas'!$A:$E,5,FALSE)","v":"Town and Fringe"},"Total: Accommodation type (excluding caravans / temporary structures)","Total: Tenure (excluding living rent free)","4 rooms",{"$f":"VLOOKUP(G1997,Cntrol!$F$3:$G$9,2,FALSE)","v":2},146,76,25,0,0,45]
["E01022198","E01022198 Cotswold 008D","E01022198",{"$f":"VLOOKUP(A1998,'Output Areas'!$A:$E,5,FALSE)","v":"Town and Fringe"},"Total: Accommodation type (excluding caravans / temporary structures)","Total: Tenure (excluding living rent free)","5 rooms",{"$f":"VLOOKUP(G1998,Cntrol!$F$3:$G$9,2,FALSE)","v":3},134,66,30,12,3,23]
["E01022198","E01022198 Cotswold 008D","E01022198",{"$f":"VLOOKUP(A1999,'Output Areas'!$A:$E,5,FALSE)","v":"Town and Fringe"},"Total: Accommodation type (excluding caravans / temporary structures)","Total: Tenure (excluding living rent free)","6 rooms",{"$f":"VLOOKUP(G1999,Cntrol!$F$3:$G$9,2,FALSE)","v":3},82,38,29,5,1,9]
["E01022198","E01022198 Cotswold 008D","E01022198",{"$f":"VLOOKUP(A2000,'Output Areas'!$A:$E,5,FALSE)","v":"Town and Fringe"},"Total: Accommodation type (excluding caravans / temporary structures)","Total: Tenure (excluding living rent free)","7 rooms",{"$f":"VLOOKUP(G2000,Cntrol!$F$3:$G$9,2,FALSE)","v":4},65,30,19,8,4,4]
["E01022198","E01022198 Cotswold 008D","E01022198",{"$f":"VLOOKUP(A2001,'Output Areas'!$A:$E,5,FALSE)","v":"Town and Fringe"},"Total: Accommodation type (excluding caravans / temporary structures)","Total: Tenure (excluding living rent free)","8 rooms or more",{"$f":"VLOOKUP(G2001,Cntrol!$F$3:$G$9,2,FALSE)","v":5},75,23,35,15,1,1]
["E01022198","E01022198 Cotswold 008D","E01022198",{"$f":"VLOOKUP(A2002,'Output Areas'!$A:$E,5,FALSE)","v":"Town and Fringe"},"Total: Accommodation type (excluding caravans / temporary structures)","Owned","Total: Number of rooms",{"$f":"VLOOKUP(G2002,Cntrol!$F$3:$G$9,2,FALSE)","v":0},341,154,111,35,6,35]
["E01022198","E01022198 Cotswold 008D","E01022198",{"$f":"VLOOKUP(A2003,'Output Areas'!$A:$E,5,FALSE)","v":"Town and Fringe"},"Total: Accommodation type (excluding caravans / temporary structures)","Owned","3 rooms or less",{"$f":"VLOOKUP(G2003,Cntrol!$F$3:$G$9,2,FALSE)","v":2},15,9,2,0,0,4]
["E01022198","E01022198 Cotswold 008D","E01022198",{"$f":"VLOOKUP(A2004,'Output Areas'!$A:$E,5,FALSE)","v":"Town and Fringe"},"Total: Accommodation type (excluding caravans / temporary structures)","Owned","4 rooms",{"$f":"VLOOKUP(G2004,Cntrol!$F$3:$G$9,2,FALSE)","v":2},71,39,13,0,0,19]
["E01022198","E01022198 Cotswold 008D","E01022198",{"$f":"VLOOKUP(A2005,'Output Areas'!$A:$E,5,FALSE)","v":"Town and Fringe"},"Total: Accommodation type (excluding caravans / temporary structures)","Owned","5 rooms",{"$f":"VLOOKUP(G2005,Cntrol!$F$3:$G$9,2,FALSE)","v":3},78,39,23,9,3,4]
["E01022198","E01022198 Cotswold 008D","E01022198",{"$f":"VLOOKUP(A2006,'Output Areas'!$A:$E,5,FALSE)","v":"Town and Fringe"},"Total: Accommodation type (excluding caravans / temporary structures)","Owned","6 rooms",{"$f":"VLOOKUP(G2006,Cntrol!$F$3:$G$9,2,FALSE)","v":3},62,30,24,4,0,4]
["E01022198","E01022198 Cotswold 008D","E01022198",{"$f":"VLOOKUP(A2007,'Output Areas'!$A:$E,5,FALSE)","v":"Town and Fringe"},"Total: Accommodation type (excluding caravans / temporary structures)","Owned","7 rooms",{"$f":"VLOOKUP(G2007,Cntrol!$F$3:$G$9,2,FALSE)","v":4},49,18,17,8,3,3]
["E01022198","E01022198 Cotswold 008D","E01022198",{"$f":"VLOOKUP(A2008,'Output Areas'!$A:$E,5,FALSE)","v":"Town and Fringe"},"Total: Accommodation type (excluding caravans / temporary structures)","Owned","8 rooms or more",{"$f":"VLOOKUP(G2008,Cntrol!$F$3:$G$9,2,FALSE)","v":5},66,19,32,14,0,1]
["E01022198","E01022198 Cotswold 008D","E01022198",{"$f":"VLOOKUP(A2009,'Output Areas'!$A:$E,5,FALSE)","v":"Town and Fringe"},"Total: Accommodation type (excluding caravans / temporary structures)","Shared ownership or rented (excluding living rent free)","Total: Number of rooms",{"$f":"VLOOKUP(G2009,Cntrol!$F$3:$G$9,2,FALSE)","v":0},218,104,34,5,3,72]
["E01022198","E01022198 Cotswold 008D","E01022198",{"$f":"VLOOKUP(A2010,'Output Areas'!$A:$E,5,FALSE)","v":"Town and Fringe"},"Total: Accommodation type (excluding caravans / temporary structures)","Shared ownership or rented (excluding living rent free)","3 rooms or less",{"$f":"VLOOKUP(G2010,Cntrol!$F$3:$G$9,2,FALSE)","v":2},42,16,5,0,0,21]
["E01022198","E01022198 Cotswold 008D","E01022198",{"$f":"VLOOKUP(A2011,'Output Areas'!$A:$E,5,FALSE)","v":"Town and Fringe"},"Total: Accommodation type (excluding caravans / temporary structures)","Shared ownership or rented (excluding living rent free)","4 rooms",{"$f":"VLOOKUP(G2011,Cntrol!$F$3:$G$9,2,FALSE)","v":2},75,37,12,0,0,26]
["E01022198","E01022198 Cotswold 008D","E01022198",{"$f":"VLOOKUP(A2012,'Output Areas'!$A:$E,5,FALSE)","v":"Town and Fringe"},"Total: Accommodation type (excluding caravans / temporary structures)","Shared ownership or rented (excluding living rent free)","5 rooms",{"$f":"VLOOKUP(G2012,Cntrol!$F$3:$G$9,2,FALSE)","v":3},56,27,7,3,0,19]
["E01022198","E01022198 Cotswold 008D","E01022198",{"$f":"VLOOKUP(A2013,'Output Areas'!$A:$E,5,FALSE)","v":"Town and Fringe"},"Total: Accommodation type (excluding caravans / temporary structures)","Shared ownership or rented (excluding living rent free)","6 rooms",{"$f":"VLOOKUP(G2013,Cntrol!$F$3:$G$9,2,FALSE)","v":3},20,8,5,1,1,5]
["E01022198","E01022198 Cotswold 008D","E01022198",{"$f":"VLOOKUP(A2014,'Output Areas'!$A:$E,5,FALSE)","v":"Town and Fringe"},"Total: Accommodation type (excluding caravans / temporary structures)","Shared ownership or rented (excluding living rent free)","7 rooms",{"$f":"VLOOKUP(G2014,Cntrol!$F$3:$G$9,2,FALSE)","v":4},16,12,2,0,1,1]
["E01022198","E01022198 Cotswold 008D","E01022198",{"$f":"VLOOKUP(A2015,'Output Areas'!$A:$E,5,FALSE)","v":"Town and Fringe"},"Total: Accommodation type (excluding caravans / temporary structures)","Shared ownership or rented (excluding living rent free)","8 rooms or more",{"$f":"VLOOKUP(G2015,Cntrol!$F$3:$G$9,2,FALSE)","v":5},9,4,3,1,1,0]
["E01022198","E01022198 Cotswold 008D","E01022198",{"$f":"VLOOKUP(A2016,'Output Areas'!$A:$E,5,FALSE)","v":"Town and Fringe"},"Detached; semi-detached; terraced whole house or bungalow","Total: Tenure (excluding living rent free)","Total: Number of rooms",{"$f":"VLOOKUP(G2016,Cntrol!$F$3:$G$9,2,FALSE)","v":0},433,190,122,40,9,72]
["E01022198","E01022198 Cotswold 008D","E01022198",{"$f":"VLOOKUP(A2017,'Output Areas'!$A:$E,5,FALSE)","v":"Town and Fringe"},"Detached; semi-detached; terraced whole house or bungalow","Total: Tenure (excluding living rent free)","3 rooms or less",{"$f":"VLOOKUP(G2017,Cntrol!$F$3:$G$9,2,FALSE)","v":2},18,7,2,0,0,9]
["E01022198","E01022198 Cotswold 008D","E01022198",{"$f":"VLOOKUP(A2018,'Output Areas'!$A:$E,5,FALSE)","v":"Town and Fringe"},"Detached; semi-detached; terraced whole house or bungalow","Total: Tenure (excluding living rent free)","4 rooms",{"$f":"VLOOKUP(G2018,Cntrol!$F$3:$G$9,2,FALSE)","v":2},76,38,11,0,0,27]
["E01022198","E01022198 Cotswold 008D","E01022198",{"$f":"VLOOKUP(A2019,'Output Areas'!$A:$E,5,FALSE)","v":"Town and Fringe"},"Detached; semi-detached; terraced whole house or bungalow","Total: Tenure (excluding living rent free)","5 rooms",{"$f":"VLOOKUP(G2019,Cntrol!$F$3:$G$9,2,FALSE)","v":3},120,56,27,12,3,22]
["E01022198","E01022198 Cotswold 008D","E01022198",{"$f":"VLOOKUP(A2020,'Output Areas'!$A:$E,5,FALSE)","v":"Town and Fringe"},"Detached; semi-detached; terraced whole house or bungalow","Total: Tenure (excluding living rent free)","6 rooms",{"$f":"VLOOKUP(G2020,Cntrol!$F$3:$G$9,2,FALSE)","v":3},80,37,28,5,1,9]
["E01022198","E01022198 Cotswold 008D","E01022198",{"$f":"VLOOKUP(A2021,'Output Areas'!$A:$E,5,FALSE)","v":"Town and Fringe"},"Detached; semi-detached; terraced whole house or bungalow","Total: Tenure (excluding living rent free)","7 rooms",{"$f":"VLOOKUP(G2021,Cntrol!$F$3:$G$9,2,FALSE)","v":4},64,29,19,8,4,4]
["E01022198","E01022198 Cotswold 008D","E01022198",{"$f":"VLOOKUP(A2022,'Output Areas'!$A:$E,5,FALSE)","v":"Town and Fringe"},"Detached; semi-detached; terraced whole house or bungalow","Total: Tenure (excluding living rent free)","8 rooms or more",{"$f":"VLOOKUP(G2022,Cntrol!$F$3:$G$9,2,FALSE)","v":5},75,23,35,15,1,1]
["E01022198","E01022198 Cotswold 008D","E01022198",{"$f":"VLOOKUP(A2023,'Output Areas'!$A:$E,5,FALSE)","v":"Town and Fringe"},"Detached; semi-detached; terraced whole house or bungalow","Owned","Total: Number of rooms",{"$f":"VLOOKUP(G2023,Cntrol!$F$3:$G$9,2,FALSE)","v":0},285,122,100,35,6,22]
["E01022198","E01022198 Cotswold 008D","E01022198",{"$f":"VLOOKUP(A2024,'Output Areas'!$A:$E,5,FALSE)","v":"Town and Fringe"},"Detached; semi-detached; terraced whole house or bungalow","Owned","3 rooms or less",{"$f":"VLOOKUP(G2024,Cntrol!$F$3:$G$9,2,FALSE)","v":2},5,3,2,0,0,0]
["E01022198","E01022198 Cotswold 008D","E01022198",{"$f":"VLOOKUP(A2025,'Output Areas'!$A:$E,5,FALSE)","v":"Town and Fringe"},"Detached; semi-detached; terraced whole house or bungalow","Owned","4 rooms",{"$f":"VLOOKUP(G2025,Cntrol!$F$3:$G$9,2,FALSE)","v":2},35,20,4,0,0,11]
["E01022198","E01022198 Cotswold 008D","E01022198",{"$f":"VLOOKUP(A2026,'Output Areas'!$A:$E,5,FALSE)","v":"Town and Fringe"},"Detached; semi-detached; terraced whole house or bungalow","Owned","5 rooms",{"$f":"VLOOKUP(G2026,Cntrol!$F$3:$G$9,2,FALSE)","v":3},69,33,21,9,3,3]
["E01022198","E01022198 Cotswold 008D","E01022198",{"$f":"VLOOKUP(A2027,'Output Areas'!$A:$E,5,FALSE)","v":"Town and Fringe"},"Detached; semi-detached; terraced whole house or bungalow","Owned","6 rooms",{"$f":"VLOOKUP(G2027,Cntrol!$F$3:$G$9,2,FALSE)","v":3},61,29,24,4,0,4]
["E01022198","E01022198 Cotswold 008D","E01022198",{"$f":"VLOOKUP(A2028,'Output Areas'!$A:$E,5,FALSE)","v":"Town and Fringe"},"Detached; semi-detached; terraced whole house or bungalow","Owned","7 rooms",{"$f":"VLOOKUP(G2028,Cntrol!$F$3:$G$9,2,FALSE)","v":4},49,18,17,8,3,3]
["E01022198","E01022198 Cotswold 008D","E01022198",{"$f":"VLOOKUP(A2029,'Output Areas'!$A:$E,5,FALSE)","v":"Town and Fringe"},"Detached; semi-detached; terraced whole house or bungalow","Owned","8 rooms or more",{"$f":"VLOOKUP(G2029,Cntrol!$F$3:$G$9,2,FALSE)","v":5},66,19,32,14,0,1]
["E01022198","E01022198 Cotswold 008D","E01022198",{"$f":"VLOOKUP(A2030,'Output Areas'!$A:$E,5,FALSE)","v":"Town and Fringe"},"Detached; semi-detached; terraced whole house or bungalow","Shared ownership or rented (excluding living rent free)","Total: Number of rooms",{"$f":"VLOOKUP(G2030,Cntrol!$F$3:$G$9,2,FALSE)","v":0},148,68,22,5,3,50]
["E01022198","E01022198 Cotswold 008D","E01022198",{"$f":"VLOOKUP(A2031,'Output Areas'!$A:$E,5,FALSE)","v":"Town and Fringe"},"Detached; semi-detached; terraced whole house or bungalow","Shared ownership or rented (excluding living rent free)","3 rooms or less",{"$f":"VLOOKUP(G2031,Cntrol!$F$3:$G$9,2,FALSE)","v":2},13,4,0,0,0,9]
["E01022198","E01022198 Cotswold 008D","E01022198",{"$f":"VLOOKUP(A2032,'Output Areas'!$A:$E,5,FALSE)","v":"Town and Fringe"},"Detached; semi-detached; terraced whole house or bungalow","Shared ownership or rented (excluding living rent free)","4 rooms",{"$f":"VLOOKUP(G2032,Cntrol!$F$3:$G$9,2,FALSE)","v":2},41,18,7,0,0,16]
["E01022198","E01022198 Cotswold 008D","E01022198",{"$f":"VLOOKUP(A2033,'Output Areas'!$A:$E,5,FALSE)","v":"Town and Fringe"},"Detached; semi-detached; terraced whole house or bungalow","Shared ownership or rented (excluding living rent free)","5 rooms",{"$f":"VLOOKUP(G2033,Cntrol!$F$3:$G$9,2,FALSE)","v":3},51,23,6,3,0,19]
["E01022198","E01022198 Cotswold 008D","E01022198",{"$f":"VLOOKUP(A2034,'Output Areas'!$A:$E,5,FALSE)","v":"Town and Fringe"},"Detached; semi-detached; terraced whole house or bungalow","Shared ownership or rented (excluding living rent free)","6 rooms",{"$f":"VLOOKUP(G2034,Cntrol!$F$3:$G$9,2,FALSE)","v":3},19,8,4,1,1,5]
["E01022198","E01022198 Cotswold 008D","E01022198",{"$f":"VLOOKUP(A2035,'Output Areas'!$A:$E,5,FALSE)","v":"Town and Fringe"},"Detached; semi-detached; terraced whole house or bungalow","Shared ownership or rented (excluding living rent free)","7 rooms",{"$f":"VLOOKUP(G2035,Cntrol!$F$3:$G$9,2,FALSE)","v":4},15,11,2,0,1,1]
["E01022198","E01022198 Cotswold 008D","E01022198",{"$f":"VLOOKUP(A2036,'Output Areas'!$A:$E,5,FALSE)","v":"Town and Fringe"},"Detached; semi-detached; terraced whole house or bungalow","Shared ownership or rented (excluding living rent free)","8 rooms or more",{"$f":"VLOOKUP(G2036,Cntrol!$F$3:$G$9,2,FALSE)","v":5},9,4,3,1,1,0]
["E01022198","E01022198 Cotswold 008D","E01022198",{"$f":"VLOOKUP(A2037,'Output Areas'!$A:$E,5,FALSE)","v":"Town and Fringe"},"A flat; maisonette; apartment","Total: Tenure (excluding living rent free)","Total: Number of rooms",{"$f":"VLOOKUP(G2037,Cntrol!$F$3:$G$9,2,FALSE)","v":0},126,68,23,0,0,35]
["E01022198","E01022198 Cotswold 008D","E01022198",{"$f":"VLOOKUP(A2038,'Output Areas'!$A:$E,5,FALSE)","v":"Town and Fringe"},"A flat; maisonette; apartment","Total: Tenure (excluding living rent free)","3 rooms or less",{"$f":"VLOOKUP(G2038,Cntrol!$F$3:$G$9,2,FALSE)","v":2},39,18,5,0,0,16]
["E01022198","E01022198 Cotswold 008D","E01022198",{"$f":"VLOOKUP(A2039,'Output Areas'!$A:$E,5,FALSE)","v":"Town and Fringe"},"A flat; maisonette; apartment","Total: Tenure (excluding living rent free)","4 rooms",{"$f":"VLOOKUP(G2039,Cntrol!$F$3:$G$9,2,FALSE)","v":2},70,38,14,0,0,18]
["E01022198","E01022198 Cotswold 008D","E01022198",{"$f":"VLOOKUP(A2040,'Output Areas'!$A:$E,5,FALSE)","v":"Town and Fringe"},"A flat; maisonette; apartment","Total: Tenure (excluding living rent free)","5 rooms",{"$f":"VLOOKUP(G2040,Cntrol!$F$3:$G$9,2,FALSE)","v":3},14,10,3,0,0,1]
["E01022198","E01022198 Cotswold 008D","E01022198",{"$f":"VLOOKUP(A2041,'Output Areas'!$A:$E,5,FALSE)","v":"Town and Fringe"},"A flat; maisonette; apartment","Total: Tenure (excluding living rent free)","6 rooms",{"$f":"VLOOKUP(G2041,Cntrol!$F$3:$G$9,2,FALSE)","v":3},2,1,1,0,0,0]
["E01022198","E01022198 Cotswold 008D","E01022198",{"$f":"VLOOKUP(A2042,'Output Areas'!$A:$E,5,FALSE)","v":"Town and Fringe"},"A flat; maisonette; apartment","Total: Tenure (excluding living rent free)","7 rooms",{"$f":"VLOOKUP(G2042,Cntrol!$F$3:$G$9,2,FALSE)","v":4},1,1,0,0,0,0]
["E01022198","E01022198 Cotswold 008D","E01022198",{"$f":"VLOOKUP(A2043,'Output Areas'!$A:$E,5,FALSE)","v":"Town and Fringe"},"A flat; maisonette; apartment","Owned","Total: Number of rooms",{"$f":"VLOOKUP(G2043,Cntrol!$F$3:$G$9,2,FALSE)","v":0},56,32,11,0,0,13]
["E01022198","E01022198 Cotswold 008D","E01022198",{"$f":"VLOOKUP(A2044,'Output Areas'!$A:$E,5,FALSE)","v":"Town and Fringe"},"A flat; maisonette; apartment","Owned","3 rooms or less",{"$f":"VLOOKUP(G2044,Cntrol!$F$3:$G$9,2,FALSE)","v":2},10,6,0,0,0,4]
["E01022198","E01022198 Cotswold 008D","E01022198",{"$f":"VLOOKUP(A2045,'Output Areas'!$A:$E,5,FALSE)","v":"Town and Fringe"},"A flat; maisonette; apartment","Owned","4 rooms",{"$f":"VLOOKUP(G2045,Cntrol!$F$3:$G$9,2,FALSE)","v":2},36,19,9,0,0,8]
["E01022198","E01022198 Cotswold 008D","E01022198",{"$f":"VLOOKUP(A2046,'Output Areas'!$A:$E,5,FALSE)","v":"Town and Fringe"},"A flat; maisonette; apartment","Owned","5 rooms",{"$f":"VLOOKUP(G2046,Cntrol!$F$3:$G$9,2,FALSE)","v":3},9,6,2,0,0,1]
["E01022198","E01022198 Cotswold 008D","E01022198",{"$f":"VLOOKUP(A2047,'Output Areas'!$A:$E,5,FALSE)","v":"Town and Fringe"},"A flat; maisonette; apartment","Owned","6 rooms",{"$f":"VLOOKUP(G2047,Cntrol!$F$3:$G$9,2,FALSE)","v":3},1,1,0,0,0,0]
["E01022198","E01022198 Cotswold 008D","E01022198",{"$f":"VLOOKUP(A2048,'Output Areas'!$A:$E,5,FALSE)","v":"Town and Fringe"},"A flat; maisonette; apartment","Shared ownership or rented (excluding living rent free)","Total: Number of rooms",{"$f":"VLOOKUP(G2048,Cntrol!$F$3:$G$9,2,FALSE)","v":0},70,36,12,0,0,22]
["E01022198","E01022198 Cotswold 008D","E01022198",{"$f":"VLOOKUP(A2049,'Output Areas'!$A:$E,5,FALSE)","v":"Town and Fringe"},"A flat; maisonette; apartment","Shared ownership or rented (excluding living rent free)","3 rooms or less",{"$f":"VLOOKUP(G2049,Cntrol!$F$3:$G$9,2,FALSE)","v":2},29,12,5,0,0,12]
["E01022198","E01022198 Cotswold 008D","E01022198",{"$f":"VLOOKUP(A2050,'Output Areas'!$A:$E,5,FALSE)","v":"Town and Fringe"},"A flat; maisonette; apartment","Shared ownership or rented (excluding living rent free)","4 rooms",{"$f":"VLOOKUP(G2050,Cntrol!$F$3:$G$9,2,FALSE)","v":2},34,19,5,0,0,10]
["E01022198","E01022198 Cotswold 008D","E01022198",{"$f":"VLOOKUP(A2051,'Output Areas'!$A:$E,5,FALSE)","v":"Town and Fringe"},"A flat; maisonette; apartment","Shared ownership or rented (excluding living rent free)","5 rooms",{"$f":"VLOOKUP(G2051,Cntrol!$F$3:$G$9,2,FALSE)","v":3},5,4,1,0,0,0]
["E01022198","E01022198 Cotswold 008D","E01022198",{"$f":"VLOOKUP(A2052,'Output Areas'!$A:$E,5,FALSE)","v":"Town and Fringe"},"A flat; maisonette; apartment","Shared ownership or rented (excluding living rent free)","6 rooms",{"$f":"VLOOKUP(G2052,Cntrol!$F$3:$G$9,2,FALSE)","v":3},1,0,1,0,0,0]
["E01022198","E01022198 Cotswold 008D","E01022198",{"$f":"VLOOKUP(A2053,'Output Areas'!$A:$E,5,FALSE)","v":"Town and Fringe"},"A flat; maisonette; apartment","Shared ownership or rented (excluding living rent free)","7 rooms",{"$f":"VLOOKUP(G2053,Cntrol!$F$3:$G$9,2,FALSE)","v":4},1,1,0,0,0,0]
["E01022225","E01022225 Cotswold 008E","E01022225",{"$f":"VLOOKUP(A2054,'Output Areas'!$A:$E,5,FALSE)","v":"Rural"},"Total: Accommodation type (excluding caravans / temporary structures)","Total: Tenure (excluding living rent free)","Total: Number of rooms",{"$f":"VLOOKUP(G2054,Cntrol!$F$3:$G$9,2,FALSE)","v":0},568,259,167,44,15,83]
["E01022225","E01022225 Cotswold 008E","E01022225",{"$f":"VLOOKUP(A2055,'Output Areas'!$A:$E,5,FALSE)","v":"Rural"},"Total: Accommodation type (excluding caravans / temporary structures)","Total: Tenure (excluding living rent free)","3 rooms or less",{"$f":"VLOOKUP(G2055,Cntrol!$F$3:$G$9,2,FALSE)","v":2},41,24,3,0,0,14]
["E01022225","E01022225 Cotswold 008E","E01022225",{"$f":"VLOOKUP(A2056,'Output Areas'!$A:$E,5,FALSE)","v":"Rural"},"Total: Accommodation type (excluding caravans / temporary structures)","Total: Tenure (excluding living rent free)","4 rooms",{"$f":"VLOOKUP(G2056,Cntrol!$F$3:$G$9,2,FALSE)","v":2},116,60,23,3,2,28]
["E01022225","E01022225 Cotswold 008E","E01022225",{"$f":"VLOOKUP(A2057,'Output Areas'!$A:$E,5,FALSE)","v":"Rural"},"Total: Accommodation type (excluding caravans / temporary structures)","Total: Tenure (excluding living rent free)","5 rooms",{"$f":"VLOOKUP(G2057,Cntrol!$F$3:$G$9,2,FALSE)","v":3},165,85,48,9,2,21]
["E01022225","E01022225 Cotswold 008E","E01022225",{"$f":"VLOOKUP(A2058,'Output Areas'!$A:$E,5,FALSE)","v":"Rural"},"Total: Accommodation type (excluding caravans / temporary structures)","Total: Tenure (excluding living rent free)","6 rooms",{"$f":"VLOOKUP(G2058,Cntrol!$F$3:$G$9,2,FALSE)","v":3},117,60,35,5,2,15]
["E01022225","E01022225 Cotswold 008E","E01022225",{"$f":"VLOOKUP(A2059,'Output Areas'!$A:$E,5,FALSE)","v":"Rural"},"Total: Accommodation type (excluding caravans / temporary structures)","Total: Tenure (excluding living rent free)","7 rooms",{"$f":"VLOOKUP(G2059,Cntrol!$F$3:$G$9,2,FALSE)","v":4},52,16,27,5,1,3]
["E01022225","E01022225 Cotswold 008E","E01022225",{"$f":"VLOOKUP(A2060,'Output Areas'!$A:$E,5,FALSE)","v":"Rural"},"Total: Accommodation type (excluding caravans / temporary structures)","Total: Tenure (excluding living rent free)","8 rooms or more",{"$f":"VLOOKUP(G2060,Cntrol!$F$3:$G$9,2,FALSE)","v":5},77,14,31,22,8,2]
["E01022225","E01022225 Cotswold 008E","E01022225",{"$f":"VLOOKUP(A2061,'Output Areas'!$A:$E,5,FALSE)","v":"Rural"},"Total: Accommodation type (excluding caravans / temporary structures)","Owned","Total: Number of rooms",{"$f":"VLOOKUP(G2061,Cntrol!$F$3:$G$9,2,FALSE)","v":0},301,120,105,36,13,27]
["E01022225","E01022225 Cotswold 008E","E01022225",{"$f":"VLOOKUP(A2062,'Output Areas'!$A:$E,5,FALSE)","v":"Rural"},"Total: Accommodation type (excluding caravans / temporary structures)","Owned","3 rooms or less",{"$f":"VLOOKUP(G2062,Cntrol!$F$3:$G$9,2,FALSE)","v":2},10,8,1,0,0,1]
["E01022225","E01022225 Cotswold 008E","E01022225",{"$f":"VLOOKUP(A2063,'Output Areas'!$A:$E,5,FALSE)","v":"Rural"},"Total: Accommodation type (excluding caravans / temporary structures)","Owned","4 rooms",{"$f":"VLOOKUP(G2063,Cntrol!$F$3:$G$9,2,FALSE)","v":2},31,14,7,1,2,7]
["E01022225","E01022225 Cotswold 008E","E01022225",{"$f":"VLOOKUP(A2064,'Output Areas'!$A:$E,5,FALSE)","v":"Rural"},"Total: Accommodation type (excluding caravans / temporary structures)","Owned","5 rooms",{"$f":"VLOOKUP(G2064,Cntrol!$F$3:$G$9,2,FALSE)","v":3},83,37,28,7,2,9]
["E01022225","E01022225 Cotswold 008E","E01022225",{"$f":"VLOOKUP(A2065,'Output Areas'!$A:$E,5,FALSE)","v":"Rural"},"Total: Accommodation type (excluding caravans / temporary structures)","Owned","6 rooms",{"$f":"VLOOKUP(G2065,Cntrol!$F$3:$G$9,2,FALSE)","v":3},69,39,18,2,2,8]
["E01022225","E01022225 Cotswold 008E","E01022225",{"$f":"VLOOKUP(A2066,'Output Areas'!$A:$E,5,FALSE)","v":"Rural"},"Total: Accommodation type (excluding caravans / temporary structures)","Owned","7 rooms",{"$f":"VLOOKUP(G2066,Cntrol!$F$3:$G$9,2,FALSE)","v":4},40,12,22,5,0,1]
["E01022225","E01022225 Cotswold 008E","E01022225",{"$f":"VLOOKUP(A2067,'Output Areas'!$A:$E,5,FALSE)","v":"Rural"},"Total: Accommodation type (excluding caravans / temporary structures)","Owned","8 rooms or more",{"$f":"VLOOKUP(G2067,Cntrol!$F$3:$G$9,2,FALSE)","v":5},68,10,29,21,7,1]
["E01022225","E01022225 Cotswold 008E","E01022225",{"$f":"VLOOKUP(A2068,'Output Areas'!$A:$E,5,FALSE)","v":"Rural"},"Total: Accommodation type (excluding caravans / temporary structures)","Shared ownership or rented (excluding living rent free)","Total: Number of rooms",{"$f":"VLOOKUP(G2068,Cntrol!$F$3:$G$9,2,FALSE)","v":0},267,139,62,8,2,56]
["E01022225","E01022225 Cotswold 008E","E01022225",{"$f":"VLOOKUP(A2069,'Output Areas'!$A:$E,5,FALSE)","v":"Rural"},"Total: Accommodation type (excluding caravans / temporary structures)","Shared ownership or rented (excluding living rent free)","3 rooms or less",{"$f":"VLOOKUP(G2069,Cntrol!$F$3:$G$9,2,FALSE)","v":2},31,16,2,0,0,13]
["E01022225","E01022225 Cotswold 008E","E01022225",{"$f":"VLOOKUP(A2070,'Output Areas'!$A:$E,5,FALSE)","v":"Rural"},"Total: Accommodation type (excluding caravans / temporary structures)","Shared ownership or rented (excluding living rent free)","4 rooms",{"$f":"VLOOKUP(G2070,Cntrol!$F$3:$G$9,2,FALSE)","v":2},85,46,16,2,0,21]
["E01022225","E01022225 Cotswold 008E","E01022225",{"$f":"VLOOKUP(A2071,'Output Areas'!$A:$E,5,FALSE)","v":"Rural"},"Total: Accommodation type (excluding caravans / temporary structures)","Shared ownership or rented (excluding living rent free)","5 rooms",{"$f":"VLOOKUP(G2071,Cntrol!$F$3:$G$9,2,FALSE)","v":3},82,48,20,2,0,12]
["E01022225","E01022225 Cotswold 008E","E01022225",{"$f":"VLOOKUP(A2072,'Output Areas'!$A:$E,5,FALSE)","v":"Rural"},"Total: Accommodation type (excluding caravans / temporary structures)","Shared ownership or rented (excluding living rent free)","6 rooms",{"$f":"VLOOKUP(G2072,Cntrol!$F$3:$G$9,2,FALSE)","v":3},48,21,17,3,0,7]
["E01022225","E01022225 Cotswold 008E","E01022225",{"$f":"VLOOKUP(A2073,'Output Areas'!$A:$E,5,FALSE)","v":"Rural"},"Total: Accommodation type (excluding caravans / temporary structures)","Shared ownership or rented (excluding living rent free)","7 rooms",{"$f":"VLOOKUP(G2073,Cntrol!$F$3:$G$9,2,FALSE)","v":4},12,4,5,0,1,2]
["E01022225","E01022225 Cotswold 008E","E01022225",{"$f":"VLOOKUP(A2074,'Output Areas'!$A:$E,5,FALSE)","v":"Rural"},"Total: Accommodation type (excluding caravans / temporary structures)","Shared ownership or rented (excluding living rent free)","8 rooms or more",{"$f":"VLOOKUP(G2074,Cntrol!$F$3:$G$9,2,FALSE)","v":5},9,4,2,1,1,1]
["E01022225","E01022225 Cotswold 008E","E01022225",{"$f":"VLOOKUP(A2075,'Output Areas'!$A:$E,5,FALSE)","v":"Rural"},"Detached; semi-detached; terraced whole house or bungalow","Total: Tenure (excluding living rent free)","Total: Number of rooms",{"$f":"VLOOKUP(G2075,Cntrol!$F$3:$G$9,2,FALSE)","v":0},523,241,160,44,15,63]
["E01022225","E01022225 Cotswold 008E","E01022225",{"$f":"VLOOKUP(A2076,'Output Areas'!$A:$E,5,FALSE)","v":"Rural"},"Detached; semi-detached; terraced whole house or bungalow","Total: Tenure (excluding living rent free)","3 rooms or less",{"$f":"VLOOKUP(G2076,Cntrol!$F$3:$G$9,2,FALSE)","v":2},19,13,3,0,0,3]
["E01022225","E01022225 Cotswold 008E","E01022225",{"$f":"VLOOKUP(A2077,'Output Areas'!$A:$E,5,FALSE)","v":"Rural"},"Detached; semi-detached; terraced whole house or bungalow","Total: Tenure (excluding living rent free)","4 rooms",{"$f":"VLOOKUP(G2077,Cntrol!$F$3:$G$9,2,FALSE)","v":2},100,54,19,3,2,22]
["E01022225","E01022225 Cotswold 008E","E01022225",{"$f":"VLOOKUP(A2078,'Output Areas'!$A:$E,5,FALSE)","v":"Rural"},"Detached; semi-detached; terraced whole house or bungalow","Total: Tenure (excluding living rent free)","5 rooms",{"$f":"VLOOKUP(G2078,Cntrol!$F$3:$G$9,2,FALSE)","v":3},162,84,47,9,2,20]
["E01022225","E01022225 Cotswold 008E","E01022225",{"$f":"VLOOKUP(A2079,'Output Areas'!$A:$E,5,FALSE)","v":"Rural"},"Detached; semi-detached; terraced whole house or bungalow","Total: Tenure (excluding living rent free)","6 rooms",{"$f":"VLOOKUP(G2079,Cntrol!$F$3:$G$9,2,FALSE)","v":3},114,60,33,5,2,14]
["E01022225","E01022225 Cotswold 008E","E01022225",{"$f":"VLOOKUP(A2080,'Output Areas'!$A:$E,5,FALSE)","v":"Rural"},"Detached; semi-detached; terraced whole house or bungalow","Total: Tenure (excluding living rent free)","7 rooms",{"$f":"VLOOKUP(G2080,Cntrol!$F$3:$G$9,2,FALSE)","v":4},52,16,27,5,1,3]
["E01022225","E01022225 Cotswold 008E","E01022225",{"$f":"VLOOKUP(A2081,'Output Areas'!$A:$E,5,FALSE)","v":"Rural"},"Detached; semi-detached; terraced whole house or bungalow","Total: Tenure (excluding living rent free)","8 rooms or more",{"$f":"VLOOKUP(G2081,Cntrol!$F$3:$G$9,2,FALSE)","v":5},76,14,31,22,8,1]
["E01022225","E01022225 Cotswold 008E","E01022225",{"$f":"VLOOKUP(A2082,'Output Areas'!$A:$E,5,FALSE)","v":"Rural"},"Detached; semi-detached; terraced whole house or bungalow","Owned","Total: Number of rooms",{"$f":"VLOOKUP(G2082,Cntrol!$F$3:$G$9,2,FALSE)","v":0},296,117,103,36,13,27]
["E01022225","E01022225 Cotswold 008E","E01022225",{"$f":"VLOOKUP(A2083,'Output Areas'!$A:$E,5,FALSE)","v":"Rural"},"Detached; semi-detached; terraced whole house or bungalow","Owned","3 rooms or less",{"$f":"VLOOKUP(G2083,Cntrol!$F$3:$G$9,2,FALSE)","v":2},8,6,1,0,0,1]
["E01022225","E01022225 Cotswold 008E","E01022225",{"$f":"VLOOKUP(A2084,'Output Areas'!$A:$E,5,FALSE)","v":"Rural"},"Detached; semi-detached; terraced whole house or bungalow","Owned","4 rooms",{"$f":"VLOOKUP(G2084,Cntrol!$F$3:$G$9,2,FALSE)","v":2},29,13,6,1,2,7]
["E01022225","E01022225 Cotswold 008E","E01022225",{"$f":"VLOOKUP(A2085,'Output Areas'!$A:$E,5,FALSE)","v":"Rural"},"Detached; semi-detached; terraced whole house or bungalow","Owned","5 rooms",{"$f":"VLOOKUP(G2085,Cntrol!$F$3:$G$9,2,FALSE)","v":3},82,37,27,7,2,9]
["E01022225","E01022225 Cotswold 008E","E01022225",{"$f":"VLOOKUP(A2086,'Output Areas'!$A:$E,5,FALSE)","v":"Rural"},"Detached; semi-detached; terraced whole house or bungalow","Owned","6 rooms",{"$f":"VLOOKUP(G2086,Cntrol!$F$3:$G$9,2,FALSE)","v":3},69,39,18,2,2,8]
["E01022225","E01022225 Cotswold 008E","E01022225",{"$f":"VLOOKUP(A2087,'Output Areas'!$A:$E,5,FALSE)","v":"Rural"},"Detached; semi-detached; terraced whole house or bungalow","Owned","7 rooms",{"$f":"VLOOKUP(G2087,Cntrol!$F$3:$G$9,2,FALSE)","v":4},40,12,22,5,0,1]
["E01022225","E01022225 Cotswold 008E","E01022225",{"$f":"VLOOKUP(A2088,'Output Areas'!$A:$E,5,FALSE)","v":"Rural"},"Detached; semi-detached; terraced whole house or bungalow","Owned","8 rooms or more",{"$f":"VLOOKUP(G2088,Cntrol!$F$3:$G$9,2,FALSE)","v":5},68,10,29,21,7,1]
["E01022225","E01022225 Cotswold 008E","E01022225",{"$f":"VLOOKUP(A2089,'Output Areas'!$A:$E,5,FALSE)","v":"Rural"},"Detached; semi-detached; terraced whole house or bungalow","Shared ownership or rented (excluding living rent free)","Total: Number of rooms",{"$f":"VLOOKUP(G2089,Cntrol!$F$3:$G$9,2,FALSE)","v":0},227,124,57,8,2,36]
["E01022225","E01022225 Cotswold 008E","E01022225",{"$f":"VLOOKUP(A2090,'Output Areas'!$A:$E,5,FALSE)","v":"Rural"},"Detached; semi-detached; terraced whole house or bungalow","Shared ownership or rented (excluding living rent free)","3 rooms or less",{"$f":"VLOOKUP(G2090,Cntrol!$F$3:$G$9,2,FALSE)","v":2},11,7,2,0,0,2]
["E01022225","E01022225 Cotswold 008E","E01022225",{"$f":"VLOOKUP(A2091,'Output Areas'!$A:$E,5,FALSE)","v":"Rural"},"Detached; semi-detached; terraced whole house or bungalow","Shared ownership or rented (excluding living rent free)","4 rooms",{"$f":"VLOOKUP(G2091,Cntrol!$F$3:$G$9,2,FALSE)","v":2},71,41,13,2,0,15]
["E01022225","E01022225 Cotswold 008E","E01022225",{"$f":"VLOOKUP(A2092,'Output Areas'!$A:$E,5,FALSE)","v":"Rural"},"Detached; semi-detached; terraced whole house or bungalow","Shared ownership or rented (excluding living rent free)","5 rooms",{"$f":"VLOOKUP(G2092,Cntrol!$F$3:$G$9,2,FALSE)","v":3},80,47,20,2,0,11]
["E01022225","E01022225 Cotswold 008E","E01022225",{"$f":"VLOOKUP(A2093,'Output Areas'!$A:$E,5,FALSE)","v":"Rural"},"Detached; semi-detached; terraced whole house or bungalow","Shared ownership or rented (excluding living rent free)","6 rooms",{"$f":"VLOOKUP(G2093,Cntrol!$F$3:$G$9,2,FALSE)","v":3},45,21,15,3,0,6]
["E01022225","E01022225 Cotswold 008E","E01022225",{"$f":"VLOOKUP(A2094,'Output Areas'!$A:$E,5,FALSE)","v":"Rural"},"Detached; semi-detached; terraced whole house or bungalow","Shared ownership or rented (excluding living rent free)","7 rooms",{"$f":"VLOOKUP(G2094,Cntrol!$F$3:$G$9,2,FALSE)","v":4},12,4,5,0,1,2]
["E01022225","E01022225 Cotswold 008E","E01022225",{"$f":"VLOOKUP(A2095,'Output Areas'!$A:$E,5,FALSE)","v":"Rural"},"Detached; semi-detached; terraced whole house or bungalow","Shared ownership or rented (excluding living rent free)","8 rooms or more",{"$f":"VLOOKUP(G2095,Cntrol!$F$3:$G$9,2,FALSE)","v":5},8,4,2,1,1,0]
["E01022225","E01022225 Cotswold 008E","E01022225",{"$f":"VLOOKUP(A2096,'Output Areas'!$A:$E,5,FALSE)","v":"Rural"},"A flat; maisonette; apartment","Total: Tenure (excluding living rent free)","Total: Number of rooms",{"$f":"VLOOKUP(G2096,Cntrol!$F$3:$G$9,2,FALSE)","v":0},45,18,7,0,0,20]
["E01022225","E01022225 Cotswold 008E","E01022225",{"$f":"VLOOKUP(A2097,'Output Areas'!$A:$E,5,FALSE)","v":"Rural"},"A flat; maisonette; apartment","Total: Tenure (excluding living rent free)","3 rooms or less",{"$f":"VLOOKUP(G2097,Cntrol!$F$3:$G$9,2,FALSE)","v":2},22,11,0,0,0,11]
["E01022225","E01022225 Cotswold 008E","E01022225",{"$f":"VLOOKUP(A2098,'Output Areas'!$A:$E,5,FALSE)","v":"Rural"},"A flat; maisonette; apartment","Total: Tenure (excluding living rent free)","4 rooms",{"$f":"VLOOKUP(G2098,Cntrol!$F$3:$G$9,2,FALSE)","v":2},16,6,4,0,0,6]
["E01022225","E01022225 Cotswold 008E","E01022225",{"$f":"VLOOKUP(A2099,'Output Areas'!$A:$E,5,FALSE)","v":"Rural"},"A flat; maisonette; apartment","Total: Tenure (excluding living rent free)","5 rooms",{"$f":"VLOOKUP(G2099,Cntrol!$F$3:$G$9,2,FALSE)","v":3},3,1,1,0,0,1]
["E01022225","E01022225 Cotswold 008E","E01022225",{"$f":"VLOOKUP(A2100,'Output Areas'!$A:$E,5,FALSE)","v":"Rural"},"A flat; maisonette; apartment","Total: Tenure (excluding living rent free)","6 rooms",{"$f":"VLOOKUP(G2100,Cntrol!$F$3:$G$9,2,FALSE)","v":3},3,0,2,0,0,1]
["E01022225","E01022225 Cotswold 008E","E01022225",{"$f":"VLOOKUP(A2101,'Output Areas'!$A:$E,5,FALSE)","v":"Rural"},"A flat; maisonette; apartment","Total: Tenure (excluding living rent free)","8 rooms or more",{"$f":"VLOOKUP(G2101,Cntrol!$F$3:$G$9,2,FALSE)","v":5},1,0,0,0,0,1]
["E01022225","E01022225 Cotswold 008E","E01022225",{"$f":"VLOOKUP(A2102,'Output Areas'!$A:$E,5,FALSE)","v":"Rural"},"A flat; maisonette; apartment","Owned","Total: Number of rooms",{"$f":"VLOOKUP(G2102,Cntrol!$F$3:$G$9,2,FALSE)","v":0},5,3,2,0,0,0]
["E01022225","E01022225 Cotswold 008E","E01022225",{"$f":"VLOOKUP(A2103,'Output Areas'!$A:$E,5,FALSE)","v":"Rural"},"A flat; maisonette; apartment","Owned","3 rooms or less",{"$f":"VLOOKUP(G2103,Cntrol!$F$3:$G$9,2,FALSE)","v":2},2,2,0,0,0,0]
["E01022225","E01022225 Cotswold 008E","E01022225",{"$f":"VLOOKUP(A2104,'Output Areas'!$A:$E,5,FALSE)","v":"Rural"},"A flat; maisonette; apartment","Owned","4 rooms",{"$f":"VLOOKUP(G2104,Cntrol!$F$3:$G$9,2,FALSE)","v":2},2,1,1,0,0,0]
["E01022225","E01022225 Cotswold 008E","E01022225",{"$f":"VLOOKUP(A2105,'Output Areas'!$A:$E,5,FALSE)","v":"Rural"},"A flat; maisonette; apartment","Owned","5 rooms",{"$f":"VLOOKUP(G2105,Cntrol!$F$3:$G$9,2,FALSE)","v":3},1,0,1,0,0,0]
["E01022225","E01022225 Cotswold 008E","E01022225",{"$f":"VLOOKUP(A2106,'Output Areas'!$A:$E,5,FALSE)","v":"Rural"},"A flat; maisonette; apartment","Shared ownership or rented (excluding living rent free)","Total: Number of rooms",{"$f":"VLOOKUP(G2106,Cntrol!$F$3:$G$9,2,FALSE)","v":0},40,15,5,0,0,20]
["E01022225","E01022225 Cotswold 008E","E01022225",{"$f":"VLOOKUP(A2107,'Output Areas'!$A:$E,5,FALSE)","v":"Rural"},"A flat; maisonette; apartment","Shared ownership or rented (excluding living rent free)","3 rooms or less",{"$f":"VLOOKUP(G2107,Cntrol!$F$3:$G$9,2,FALSE)","v":2},20,9,0,0,0,11]
["E01022225","E01022225 Cotswold 008E","E01022225",{"$f":"VLOOKUP(A2108,'Output Areas'!$A:$E,5,FALSE)","v":"Rural"},"A flat; maisonette; apartment","Shared ownership or rented (excluding living rent free)","4 rooms",{"$f":"VLOOKUP(G2108,Cntrol!$F$3:$G$9,2,FALSE)","v":2},14,5,3,0,0,6]
["E01022225","E01022225 Cotswold 008E","E01022225",{"$f":"VLOOKUP(A2109,'Output Areas'!$A:$E,5,FALSE)","v":"Rural"},"A flat; maisonette; apartment","Shared ownership or rented (excluding living rent free)","5 rooms",{"$f":"VLOOKUP(G2109,Cntrol!$F$3:$G$9,2,FALSE)","v":3},2,1,0,0,0,1]
["E01022225","E01022225 Cotswold 008E","E01022225",{"$f":"VLOOKUP(A2110,'Output Areas'!$A:$E,5,FALSE)","v":"Rural"},"A flat; maisonette; apartment","Shared ownership or rented (excluding living rent free)","6 rooms",{"$f":"VLOOKUP(G2110,Cntrol!$F$3:$G$9,2,FALSE)","v":3},3,0,2,0,0,1]
["E01022225","E01022225 Cotswold 008E","E01022225",{"$f":"VLOOKUP(A2111,'Output Areas'!$A:$E,5,FALSE)","v":"Rural"},"A flat; maisonette; apartment","Shared ownership or rented (excluding living rent free)","8 rooms or more",{"$f":"VLOOKUP(G2111,Cntrol!$F$3:$G$9,2,FALSE)","v":5},1,0,0,0,0,1]
["E01022202","E01022202 Cotswold 009A","E01022202",{"$f":"VLOOKUP(A2112,'Output Areas'!$A:$E,5,FALSE)","v":"Rural"},"Total: Accommodation type (excluding caravans / temporary structures)","Total: Tenure (excluding living rent free)","Total: Number of rooms",{"$f":"VLOOKUP(G2112,Cntrol!$F$3:$G$9,2,FALSE)","v":0},415,126,190,61,16,22]
["E01022202","E01022202 Cotswold 009A","E01022202",{"$f":"VLOOKUP(A2113,'Output Areas'!$A:$E,5,FALSE)","v":"Rural"},"Total: Accommodation type (excluding caravans / temporary structures)","Total: Tenure (excluding living rent free)","3 rooms or less",{"$f":"VLOOKUP(G2113,Cntrol!$F$3:$G$9,2,FALSE)","v":2},2,1,0,0,0,1]
["E01022202","E01022202 Cotswold 009A","E01022202",{"$f":"VLOOKUP(A2114,'Output Areas'!$A:$E,5,FALSE)","v":"Rural"},"Total: Accommodation type (excluding caravans / temporary structures)","Total: Tenure (excluding living rent free)","4 rooms",{"$f":"VLOOKUP(G2114,Cntrol!$F$3:$G$9,2,FALSE)","v":2},39,22,7,1,1,8]
["E01022202","E01022202 Cotswold 009A","E01022202",{"$f":"VLOOKUP(A2115,'Output Areas'!$A:$E,5,FALSE)","v":"Rural"},"Total: Accommodation type (excluding caravans / temporary structures)","Total: Tenure (excluding living rent free)","5 rooms",{"$f":"VLOOKUP(G2115,Cntrol!$F$3:$G$9,2,FALSE)","v":3},63,22,33,2,0,6]
["E01022202","E01022202 Cotswold 009A","E01022202",{"$f":"VLOOKUP(A2116,'Output Areas'!$A:$E,5,FALSE)","v":"Rural"},"Total: Accommodation type (excluding caravans / temporary structures)","Total: Tenure (excluding living rent free)","6 rooms",{"$f":"VLOOKUP(G2116,Cntrol!$F$3:$G$9,2,FALSE)","v":3},71,33,27,8,1,2]
["E01022202","E01022202 Cotswold 009A","E01022202",{"$f":"VLOOKUP(A2117,'Output Areas'!$A:$E,5,FALSE)","v":"Rural"},"Total: Accommodation type (excluding caravans / temporary structures)","Total: Tenure (excluding living rent free)","7 rooms",{"$f":"VLOOKUP(G2117,Cntrol!$F$3:$G$9,2,FALSE)","v":4},64,16,35,9,2,2]
["E01022202","E01022202 Cotswold 009A","E01022202",{"$f":"VLOOKUP(A2118,'Output Areas'!$A:$E,5,FALSE)","v":"Rural"},"Total: Accommodation type (excluding caravans / temporary structures)","Total: Tenure (excluding living rent free)","8 rooms or more",{"$f":"VLOOKUP(G2118,Cntrol!$F$3:$G$9,2,FALSE)","v":5},176,32,88,41,12,3]
["E01022202","E01022202 Cotswold 009A","E01022202",{"$f":"VLOOKUP(A2119,'Output Areas'!$A:$E,5,FALSE)","v":"Rural"},"Total: Accommodation type (excluding caravans / temporary structures)","Owned","Total: Number of rooms",{"$f":"VLOOKUP(G2119,Cntrol!$F$3:$G$9,2,FALSE)","v":0},321,86,157,52,15,11]
["E01022202","E01022202 Cotswold 009A","E01022202",{"$f":"VLOOKUP(A2120,'Output Areas'!$A:$E,5,FALSE)","v":"Rural"},"Total: Accommodation type (excluding caravans / temporary structures)","Owned","3 rooms or less",{"$f":"VLOOKUP(G2120,Cntrol!$F$3:$G$9,2,FALSE)","v":2},1,0,0,0,0,1]
["E01022202","E01022202 Cotswold 009A","E01022202",{"$f":"VLOOKUP(A2121,'Output Areas'!$A:$E,5,FALSE)","v":"Rural"},"Total: Accommodation type (excluding caravans / temporary structures)","Owned","4 rooms",{"$f":"VLOOKUP(G2121,Cntrol!$F$3:$G$9,2,FALSE)","v":2},16,10,3,0,1,2]
["E01022202","E01022202 Cotswold 009A","E01022202",{"$f":"VLOOKUP(A2122,'Output Areas'!$A:$E,5,FALSE)","v":"Rural"},"Total: Accommodation type (excluding caravans / temporary structures)","Owned","5 rooms",{"$f":"VLOOKUP(G2122,Cntrol!$F$3:$G$9,2,FALSE)","v":3},38,15,17,2,0,4]
["E01022202","E01022202 Cotswold 009A","E01022202",{"$f":"VLOOKUP(A2123,'Output Areas'!$A:$E,5,FALSE)","v":"Rural"},"Total: Accommodation type (excluding caravans / temporary structures)","Owned","6 rooms",{"$f":"VLOOKUP(G2123,Cntrol!$F$3:$G$9,2,FALSE)","v":3},44,16,21,6,0,1]
["E01022202","E01022202 Cotswold 009A","E01022202",{"$f":"VLOOKUP(A2124,'Output Areas'!$A:$E,5,FALSE)","v":"Rural"},"Total: Accommodation type (excluding caravans / temporary structures)","Owned","7 rooms",{"$f":"VLOOKUP(G2124,Cntrol!$F$3:$G$9,2,FALSE)","v":4},60,14,35,8,2,1]
["E01022202","E01022202 Cotswold 009A","E01022202",{"$f":"VLOOKUP(A2125,'Output Areas'!$A:$E,5,FALSE)","v":"Rural"},"Total: Accommodation type (excluding caravans / temporary structures)","Owned","8 rooms or more",{"$f":"VLOOKUP(G2125,Cntrol!$F$3:$G$9,2,FALSE)","v":5},162,31,81,36,12,2]
["E01022202","E01022202 Cotswold 009A","E01022202",{"$f":"VLOOKUP(A2126,'Output Areas'!$A:$E,5,FALSE)","v":"Rural"},"Total: Accommodation type (excluding caravans / temporary structures)","Shared ownership or rented (excluding living rent free)","Total: Number of rooms",{"$f":"VLOOKUP(G2126,Cntrol!$F$3:$G$9,2,FALSE)","v":0},94,40,33,9,1,11]
["E01022202","E01022202 Cotswold 009A","E01022202",{"$f":"VLOOKUP(A2127,'Output Areas'!$A:$E,5,FALSE)","v":"Rural"},"Total: Accommodation type (excluding caravans / temporary structures)","Shared ownership or rented (excluding living rent free)","3 rooms or less",{"$f":"VLOOKUP(G2127,Cntrol!$F$3:$G$9,2,FALSE)","v":2},1,1,0,0,0,0]
["E01022202","E01022202 Cotswold 009A","E01022202",{"$f":"VLOOKUP(A2128,'Output Areas'!$A:$E,5,FALSE)","v":"Rural"},"Total: Accommodation type (excluding caravans / temporary structures)","Shared ownership or rented (excluding living rent free)","4 rooms",{"$f":"VLOOKUP(G2128,Cntrol!$F$3:$G$9,2,FALSE)","v":2},23,12,4,1,0,6]
["E01022202","E01022202 Cotswold 009A","E01022202",{"$f":"VLOOKUP(A2129,'Output Areas'!$A:$E,5,FALSE)","v":"Rural"},"Total: Accommodation type (excluding caravans / temporary structures)","Shared ownership or rented (excluding living rent free)","5 rooms",{"$f":"VLOOKUP(G2129,Cntrol!$F$3:$G$9,2,FALSE)","v":3},25,7,16,0,0,2]
["E01022202","E01022202 Cotswold 009A","E01022202",{"$f":"VLOOKUP(A2130,'Output Areas'!$A:$E,5,FALSE)","v":"Rural"},"Total: Accommodation type (excluding caravans / temporary structures)","Shared ownership or rented (excluding living rent free)","6 rooms",{"$f":"VLOOKUP(G2130,Cntrol!$F$3:$G$9,2,FALSE)","v":3},27,17,6,2,1,1]
["E01022202","E01022202 Cotswold 009A","E01022202",{"$f":"VLOOKUP(A2131,'Output Areas'!$A:$E,5,FALSE)","v":"Rural"},"Total: Accommodation type (excluding caravans / temporary structures)","Shared ownership or rented (excluding living rent free)","7 rooms",{"$f":"VLOOKUP(G2131,Cntrol!$F$3:$G$9,2,FALSE)","v":4},4,2,0,1,0,1]
["E01022202","E01022202 Cotswold 009A","E01022202",{"$f":"VLOOKUP(A2132,'Output Areas'!$A:$E,5,FALSE)","v":"Rural"},"Total: Accommodation type (excluding caravans / temporary structures)","Shared ownership or rented (excluding living rent free)","8 rooms or more",{"$f":"VLOOKUP(G2132,Cntrol!$F$3:$G$9,2,FALSE)","v":5},14,1,7,5,0,1]
["E01022202","E01022202 Cotswold 009A","E01022202",{"$f":"VLOOKUP(A2133,'Output Areas'!$A:$E,5,FALSE)","v":"Rural"},"Detached; semi-detached; terraced whole house or bungalow","Total: Tenure (excluding living rent free)","Total: Number of rooms",{"$f":"VLOOKUP(G2133,Cntrol!$F$3:$G$9,2,FALSE)","v":0},409,125,188,61,16,19]
["E01022202","E01022202 Cotswold 009A","E01022202",{"$f":"VLOOKUP(A2134,'Output Areas'!$A:$E,5,FALSE)","v":"Rural"},"Detached; semi-detached; terraced whole house or bungalow","Total: Tenure (excluding living rent free)","3 rooms or less",{"$f":"VLOOKUP(G2134,Cntrol!$F$3:$G$9,2,FALSE)","v":2},2,1,0,0,0,1]
["E01022202","E01022202 Cotswold 009A","E01022202",{"$f":"VLOOKUP(A2135,'Output Areas'!$A:$E,5,FALSE)","v":"Rural"},"Detached; semi-detached; terraced whole house or bungalow","Total: Tenure (excluding living rent free)","4 rooms",{"$f":"VLOOKUP(G2135,Cntrol!$F$3:$G$9,2,FALSE)","v":2},33,21,5,1,1,5]
["E01022202","E01022202 Cotswold 009A","E01022202",{"$f":"VLOOKUP(A2136,'Output Areas'!$A:$E,5,FALSE)","v":"Rural"},"Detached; semi-detached; terraced whole house or bungalow","Total: Tenure (excluding living rent free)","5 rooms",{"$f":"VLOOKUP(G2136,Cntrol!$F$3:$G$9,2,FALSE)","v":3},63,22,33,2,0,6]
["E01022202","E01022202 Cotswold 009A","E01022202",{"$f":"VLOOKUP(A2137,'Output Areas'!$A:$E,5,FALSE)","v":"Rural"},"Detached; semi-detached; terraced whole house or bungalow","Total: Tenure (excluding living rent free)","6 rooms",{"$f":"VLOOKUP(G2137,Cntrol!$F$3:$G$9,2,FALSE)","v":3},71,33,27,8,1,2]
["E01022202","E01022202 Cotswold 009A","E01022202",{"$f":"VLOOKUP(A2138,'Output Areas'!$A:$E,5,FALSE)","v":"Rural"},"Detached; semi-detached; terraced whole house or bungalow","Total: Tenure (excluding living rent free)","7 rooms",{"$f":"VLOOKUP(G2138,Cntrol!$F$3:$G$9,2,FALSE)","v":4},64,16,35,9,2,2]
["E01022202","E01022202 Cotswold 009A","E01022202",{"$f":"VLOOKUP(A2139,'Output Areas'!$A:$E,5,FALSE)","v":"Rural"},"Detached; semi-detached; terraced whole house or bungalow","Total: Tenure (excluding living rent free)","8 rooms or more",{"$f":"VLOOKUP(G2139,Cntrol!$F$3:$G$9,2,FALSE)","v":5},176,32,88,41,12,3]
["E01022202","E01022202 Cotswold 009A","E01022202",{"$f":"VLOOKUP(A2140,'Output Areas'!$A:$E,5,FALSE)","v":"Rural"},"Detached; semi-detached; terraced whole house or bungalow","Owned","Total: Number of rooms",{"$f":"VLOOKUP(G2140,Cntrol!$F$3:$G$9,2,FALSE)","v":0},320,85,157,52,15,11]
["E01022202","E01022202 Cotswold 009A","E01022202",{"$f":"VLOOKUP(A2141,'Output Areas'!$A:$E,5,FALSE)","v":"Rural"},"Detached; semi-detached; terraced whole house or bungalow","Owned","3 rooms or less",{"$f":"VLOOKUP(G2141,Cntrol!$F$3:$G$9,2,FALSE)","v":2},1,0,0,0,0,1]
["E01022202","E01022202 Cotswold 009A","E01022202",{"$f":"VLOOKUP(A2142,'Output Areas'!$A:$E,5,FALSE)","v":"Rural"},"Detached; semi-detached; terraced whole house or bungalow","Owned","4 rooms",{"$f":"VLOOKUP(G2142,Cntrol!$F$3:$G$9,2,FALSE)","v":2},15,9,3,0,1,2]
["E01022202","E01022202 Cotswold 009A","E01022202",{"$f":"VLOOKUP(A2143,'Output Areas'!$A:$E,5,FALSE)","v":"Rural"},"Detached; semi-detached; terraced whole house or bungalow","Owned","5 rooms",{"$f":"VLOOKUP(G2143,Cntrol!$F$3:$G$9,2,FALSE)","v":3},38,15,17,2,0,4]
["E01022202","E01022202 Cotswold 009A","E01022202",{"$f":"VLOOKUP(A2144,'Output Areas'!$A:$E,5,FALSE)","v":"Rural"},"Detached; semi-detached; terraced whole house or bungalow","Owned","6 rooms",{"$f":"VLOOKUP(G2144,Cntrol!$F$3:$G$9,2,FALSE)","v":3},44,16,21,6,0,1]
["E01022202","E01022202 Cotswold 009A","E01022202",{"$f":"VLOOKUP(A2145,'Output Areas'!$A:$E,5,FALSE)","v":"Rural"},"Detached; semi-detached; terraced whole house or bungalow","Owned","7 rooms",{"$f":"VLOOKUP(G2145,Cntrol!$F$3:$G$9,2,FALSE)","v":4},60,14,35,8,2,1]
["E01022202","E01022202 Cotswold 009A","E01022202",{"$f":"VLOOKUP(A2146,'Output Areas'!$A:$E,5,FALSE)","v":"Rural"},"Detached; semi-detached; terraced whole house or bungalow","Owned","8 rooms or more",{"$f":"VLOOKUP(G2146,Cntrol!$F$3:$G$9,2,FALSE)","v":5},162,31,81,36,12,2]
["E01022202","E01022202 Cotswold 009A","E01022202",{"$f":"VLOOKUP(A2147,'Output Areas'!$A:$E,5,FALSE)","v":"Rural"},"Detached; semi-detached; terraced whole house or bungalow","Shared ownership or rented (excluding living rent free)","Total: Number of rooms",{"$f":"VLOOKUP(G2147,Cntrol!$F$3:$G$9,2,FALSE)","v":0},89,40,31,9,1,8]
["E01022202","E01022202 Cotswold 009A","E01022202",{"$f":"VLOOKUP(A2148,'Output Areas'!$A:$E,5,FALSE)","v":"Rural"},"Detached; semi-detached; terraced whole house or bungalow","Shared ownership or rented (excluding living rent free)","3 rooms or less",{"$f":"VLOOKUP(G2148,Cntrol!$F$3:$G$9,2,FALSE)","v":2},1,1,0,0,0,0]
["E01022202","E01022202 Cotswold 009A","E01022202",{"$f":"VLOOKUP(A2149,'Output Areas'!$A:$E,5,FALSE)","v":"Rural"},"Detached; semi-detached; terraced whole house or bungalow","Shared ownership or rented (excluding living rent free)","4 rooms",{"$f":"VLOOKUP(G2149,Cntrol!$F$3:$G$9,2,FALSE)","v":2},18,12,2,1,0,3]
["E01022202","E01022202 Cotswold 009A","E01022202",{"$f":"VLOOKUP(A2150,'Output Areas'!$A:$E,5,FALSE)","v":"Rural"},"Detached; semi-detached; terraced whole house or bungalow","Shared ownership or rented (excluding living rent free)","5 rooms",{"$f":"VLOOKUP(G2150,Cntrol!$F$3:$G$9,2,FALSE)","v":3},25,7,16,0,0,2]
["E01022202","E01022202 Cotswold 009A","E01022202",{"$f":"VLOOKUP(A2151,'Output Areas'!$A:$E,5,FALSE)","v":"Rural"},"Detached; semi-detached; terraced whole house or bungalow","Shared ownership or rented (excluding living rent free)","6 rooms",{"$f":"VLOOKUP(G2151,Cntrol!$F$3:$G$9,2,FALSE)","v":3},27,17,6,2,1,1]
["E01022202","E01022202 Cotswold 009A","E01022202",{"$f":"VLOOKUP(A2152,'Output Areas'!$A:$E,5,FALSE)","v":"Rural"},"Detached; semi-detached; terraced whole house or bungalow","Shared ownership or rented (excluding living rent free)","7 rooms",{"$f":"VLOOKUP(G2152,Cntrol!$F$3:$G$9,2,FALSE)","v":4},4,2,0,1,0,1]
["E01022202","E01022202 Cotswold 009A","E01022202",{"$f":"VLOOKUP(A2153,'Output Areas'!$A:$E,5,FALSE)","v":"Rural"},"Detached; semi-detached; terraced whole house or bungalow","Shared ownership or rented (excluding living rent free)","8 rooms or more",{"$f":"VLOOKUP(G2153,Cntrol!$F$3:$G$9,2,FALSE)","v":5},14,1,7,5,0,1]
["E01022202","E01022202 Cotswold 009A","E01022202",{"$f":"VLOOKUP(A2154,'Output Areas'!$A:$E,5,FALSE)","v":"Rural"},"A flat; maisonette; apartment","Total: Tenure (excluding living rent free)","Total: Number of rooms",{"$f":"VLOOKUP(G2154,Cntrol!$F$3:$G$9,2,FALSE)","v":0},6,1,2,0,0,3]
["E01022202","E01022202 Cotswold 009A","E01022202",{"$f":"VLOOKUP(A2155,'Output Areas'!$A:$E,5,FALSE)","v":"Rural"},"A flat; maisonette; apartment","Total: Tenure (excluding living rent free)","4 rooms",{"$f":"VLOOKUP(G2155,Cntrol!$F$3:$G$9,2,FALSE)","v":2},6,1,2,0,0,3]
["E01022202","E01022202 Cotswold 009A","E01022202",{"$f":"VLOOKUP(A2156,'Output Areas'!$A:$E,5,FALSE)","v":"Rural"},"A flat; maisonette; apartment","Owned","Total: Number of rooms",{"$f":"VLOOKUP(G2156,Cntrol!$F$3:$G$9,2,FALSE)","v":0},1,1,0,0,0,0]
["E01022202","E01022202 Cotswold 009A","E01022202",{"$f":"VLOOKUP(A2157,'Output Areas'!$A:$E,5,FALSE)","v":"Rural"},"A flat; maisonette; apartment","Owned","4 rooms",{"$f":"VLOOKUP(G2157,Cntrol!$F$3:$G$9,2,FALSE)","v":2},1,1,0,0,0,0]
["E01022202","E01022202 Cotswold 009A","E01022202",{"$f":"VLOOKUP(A2158,'Output Areas'!$A:$E,5,FALSE)","v":"Rural"},"A flat; maisonette; apartment","Shared ownership or rented (excluding living rent free)","Total: Number of rooms",{"$f":"VLOOKUP(G2158,Cntrol!$F$3:$G$9,2,FALSE)","v":0},5,0,2,0,0,3]
["E01022202","E01022202 Cotswold 009A","E01022202",{"$f":"VLOOKUP(A2159,'Output Areas'!$A:$E,5,FALSE)","v":"Rural"},"A flat; maisonette; apartment","Shared ownership or rented (excluding living rent free)","4 rooms",{"$f":"VLOOKUP(G2159,Cntrol!$F$3:$G$9,2,FALSE)","v":2},5,0,2,0,0,3]
["E01022203","E01022203 Cotswold 009B","E01022203",{"$f":"VLOOKUP(A2160,'Output Areas'!$A:$E,5,FALSE)","v":"Rural"},"Total: Accommodation type (excluding caravans / temporary structures)","Total: Tenure (excluding living rent free)","Total: Number of rooms",{"$f":"VLOOKUP(G2160,Cntrol!$F$3:$G$9,2,FALSE)","v":0},625,256,201,60,24,84]
["E01022203","E01022203 Cotswold 009B","E01022203",{"$f":"VLOOKUP(A2161,'Output Areas'!$A:$E,5,FALSE)","v":"Rural"},"Total: Accommodation type (excluding caravans / temporary structures)","Total: Tenure (excluding living rent free)","3 rooms or less",{"$f":"VLOOKUP(G2161,Cntrol!$F$3:$G$9,2,FALSE)","v":2},17,9,4,0,0,4]
["E01022203","E01022203 Cotswold 009B","E01022203",{"$f":"VLOOKUP(A2162,'Output Areas'!$A:$E,5,FALSE)","v":"Rural"},"Total: Accommodation type (excluding caravans / temporary structures)","Total: Tenure (excluding living rent free)","4 rooms",{"$f":"VLOOKUP(G2162,Cntrol!$F$3:$G$9,2,FALSE)","v":2},101,53,17,5,0,26]
["E01022203","E01022203 Cotswold 009B","E01022203",{"$f":"VLOOKUP(A2163,'Output Areas'!$A:$E,5,FALSE)","v":"Rural"},"Total: Accommodation type (excluding caravans / temporary structures)","Total: Tenure (excluding living rent free)","5 rooms",{"$f":"VLOOKUP(G2163,Cntrol!$F$3:$G$9,2,FALSE)","v":3},130,66,28,8,4,24]
["E01022203","E01022203 Cotswold 009B","E01022203",{"$f":"VLOOKUP(A2164,'Output Areas'!$A:$E,5,FALSE)","v":"Rural"},"Total: Accommodation type (excluding caravans / temporary structures)","Total: Tenure (excluding living rent free)","6 rooms",{"$f":"VLOOKUP(G2164,Cntrol!$F$3:$G$9,2,FALSE)","v":3},134,65,44,11,1,13]
["E01022203","E01022203 Cotswold 009B","E01022203",{"$f":"VLOOKUP(A2165,'Output Areas'!$A:$E,5,FALSE)","v":"Rural"},"Total: Accommodation type (excluding caravans / temporary structures)","Total: Tenure (excluding living rent free)","7 rooms",{"$f":"VLOOKUP(G2165,Cntrol!$F$3:$G$9,2,FALSE)","v":4},97,36,37,11,6,7]
["E01022203","E01022203 Cotswold 009B","E01022203",{"$f":"VLOOKUP(A2166,'Output Areas'!$A:$E,5,FALSE)","v":"Rural"},"Total: Accommodation type (excluding caravans / temporary structures)","Total: Tenure (excluding living rent free)","8 rooms or more",{"$f":"VLOOKUP(G2166,Cntrol!$F$3:$G$9,2,FALSE)","v":5},146,27,71,25,13,10]
["E01022203","E01022203 Cotswold 009B","E01022203",{"$f":"VLOOKUP(A2167,'Output Areas'!$A:$E,5,FALSE)","v":"Rural"},"Total: Accommodation type (excluding caravans / temporary structures)","Owned","Total: Number of rooms",{"$f":"VLOOKUP(G2167,Cntrol!$F$3:$G$9,2,FALSE)","v":0},501,207,168,53,19,54]
["E01022203","E01022203 Cotswold 009B","E01022203",{"$f":"VLOOKUP(A2168,'Output Areas'!$A:$E,5,FALSE)","v":"Rural"},"Total: Accommodation type (excluding caravans / temporary structures)","Owned","3 rooms or less",{"$f":"VLOOKUP(G2168,Cntrol!$F$3:$G$9,2,FALSE)","v":2},6,3,2,0,0,1]
["E01022203","E01022203 Cotswold 009B","E01022203",{"$f":"VLOOKUP(A2169,'Output Areas'!$A:$E,5,FALSE)","v":"Rural"},"Total: Accommodation type (excluding caravans / temporary structures)","Owned","4 rooms",{"$f":"VLOOKUP(G2169,Cntrol!$F$3:$G$9,2,FALSE)","v":2},60,35,10,4,0,11]
["E01022203","E01022203 Cotswold 009B","E01022203",{"$f":"VLOOKUP(A2170,'Output Areas'!$A:$E,5,FALSE)","v":"Rural"},"Total: Accommodation type (excluding caravans / temporary structures)","Owned","5 rooms",{"$f":"VLOOKUP(G2170,Cntrol!$F$3:$G$9,2,FALSE)","v":3},103,55,21,3,2,22]
["E01022203","E01022203 Cotswold 009B","E01022203",{"$f":"VLOOKUP(A2171,'Output Areas'!$A:$E,5,FALSE)","v":"Rural"},"Total: Accommodation type (excluding caravans / temporary structures)","Owned","6 rooms",{"$f":"VLOOKUP(G2171,Cntrol!$F$3:$G$9,2,FALSE)","v":3},114,59,34,11,0,10]
["E01022203","E01022203 Cotswold 009B","E01022203",{"$f":"VLOOKUP(A2172,'Output Areas'!$A:$E,5,FALSE)","v":"Rural"},"Total: Accommodation type (excluding caravans / temporary structures)","Owned","7 rooms",{"$f":"VLOOKUP(G2172,Cntrol!$F$3:$G$9,2,FALSE)","v":4},82,28,34,11,5,4]
["E01022203","E01022203 Cotswold 009B","E01022203",{"$f":"VLOOKUP(A2173,'Output Areas'!$A:$E,5,FALSE)","v":"Rural"},"Total: Accommodation type (excluding caravans / temporary structures)","Owned","8 rooms or more",{"$f":"VLOOKUP(G2173,Cntrol!$F$3:$G$9,2,FALSE)","v":5},136,27,67,24,12,6]
["E01022203","E01022203 Cotswold 009B","E01022203",{"$f":"VLOOKUP(A2174,'Output Areas'!$A:$E,5,FALSE)","v":"Rural"},"Total: Accommodation type (excluding caravans / temporary structures)","Shared ownership or rented (excluding living rent free)","Total: Number of rooms",{"$f":"VLOOKUP(G2174,Cntrol!$F$3:$G$9,2,FALSE)","v":0},124,49,33,7,5,30]
["E01022203","E01022203 Cotswold 009B","E01022203",{"$f":"VLOOKUP(A2175,'Output Areas'!$A:$E,5,FALSE)","v":"Rural"},"Total: Accommodation type (excluding caravans / temporary structures)","Shared ownership or rented (excluding living rent free)","3 rooms or less",{"$f":"VLOOKUP(G2175,Cntrol!$F$3:$G$9,2,FALSE)","v":2},11,6,2,0,0,3]
["E01022203","E01022203 Cotswold 009B","E01022203",{"$f":"VLOOKUP(A2176,'Output Areas'!$A:$E,5,FALSE)","v":"Rural"},"Total: Accommodation type (excluding caravans / temporary structures)","Shared ownership or rented (excluding living rent free)","4 rooms",{"$f":"VLOOKUP(G2176,Cntrol!$F$3:$G$9,2,FALSE)","v":2},41,18,7,1,0,15]
["E01022203","E01022203 Cotswold 009B","E01022203",{"$f":"VLOOKUP(A2177,'Output Areas'!$A:$E,5,FALSE)","v":"Rural"},"Total: Accommodation type (excluding caravans / temporary structures)","Shared ownership or rented (excluding living rent free)","5 rooms",{"$f":"VLOOKUP(G2177,Cntrol!$F$3:$G$9,2,FALSE)","v":3},27,11,7,5,2,2]
["E01022203","E01022203 Cotswold 009B","E01022203",{"$f":"VLOOKUP(A2178,'Output Areas'!$A:$E,5,FALSE)","v":"Rural"},"Total: Accommodation type (excluding caravans / temporary structures)","Shared ownership or rented (excluding living rent free)","6 rooms",{"$f":"VLOOKUP(G2178,Cntrol!$F$3:$G$9,2,FALSE)","v":3},20,6,10,0,1,3]
["E01022203","E01022203 Cotswold 009B","E01022203",{"$f":"VLOOKUP(A2179,'Output Areas'!$A:$E,5,FALSE)","v":"Rural"},"Total: Accommodation type (excluding caravans / temporary structures)","Shared ownership or rented (excluding living rent free)","7 rooms",{"$f":"VLOOKUP(G2179,Cntrol!$F$3:$G$9,2,FALSE)","v":4},15,8,3,0,1,3]
["E01022203","E01022203 Cotswold 009B","E01022203",{"$f":"VLOOKUP(A2180,'Output Areas'!$A:$E,5,FALSE)","v":"Rural"},"Total: Accommodation type (excluding caravans / temporary structures)","Shared ownership or rented (excluding living rent free)","8 rooms or more",{"$f":"VLOOKUP(G2180,Cntrol!$F$3:$G$9,2,FALSE)","v":5},10,0,4,1,1,4]
["E01022203","E01022203 Cotswold 009B","E01022203",{"$f":"VLOOKUP(A2181,'Output Areas'!$A:$E,5,FALSE)","v":"Rural"},"Detached; semi-detached; terraced whole house or bungalow","Total: Tenure (excluding living rent free)","Total: Number of rooms",{"$f":"VLOOKUP(G2181,Cntrol!$F$3:$G$9,2,FALSE)","v":0},601,248,192,60,23,78]
["E01022203","E01022203 Cotswold 009B","E01022203",{"$f":"VLOOKUP(A2182,'Output Areas'!$A:$E,5,FALSE)","v":"Rural"},"Detached; semi-detached; terraced whole house or bungalow","Total: Tenure (excluding living rent free)","3 rooms or less",{"$f":"VLOOKUP(G2182,Cntrol!$F$3:$G$9,2,FALSE)","v":2},9,7,1,0,0,1]
["E01022203","E01022203 Cotswold 009B","E01022203",{"$f":"VLOOKUP(A2183,'Output Areas'!$A:$E,5,FALSE)","v":"Rural"},"Detached; semi-detached; terraced whole house or bungalow","Total: Tenure (excluding living rent free)","4 rooms",{"$f":"VLOOKUP(G2183,Cntrol!$F$3:$G$9,2,FALSE)","v":2},94,49,15,5,0,25]
["E01022203","E01022203 Cotswold 009B","E01022203",{"$f":"VLOOKUP(A2184,'Output Areas'!$A:$E,5,FALSE)","v":"Rural"},"Detached; semi-detached; terraced whole house or bungalow","Total: Tenure (excluding living rent free)","5 rooms",{"$f":"VLOOKUP(G2184,Cntrol!$F$3:$G$9,2,FALSE)","v":3},127,64,27,8,4,24]
["E01022203","E01022203 Cotswold 009B","E01022203",{"$f":"VLOOKUP(A2185,'Output Areas'!$A:$E,5,FALSE)","v":"Rural"},"Detached; semi-detached; terraced whole house or bungalow","Total: Tenure (excluding living rent free)","6 rooms",{"$f":"VLOOKUP(G2185,Cntrol!$F$3:$G$9,2,FALSE)","v":3},130,65,41,11,0,13]
["E01022203","E01022203 Cotswold 009B","E01022203",{"$f":"VLOOKUP(A2186,'Output Areas'!$A:$E,5,FALSE)","v":"Rural"},"Detached; semi-detached; terraced whole house or bungalow","Total: Tenure (excluding living rent free)","7 rooms",{"$f":"VLOOKUP(G2186,Cntrol!$F$3:$G$9,2,FALSE)","v":4},96,36,37,11,6,6]
["E01022203","E01022203 Cotswold 009B","E01022203",{"$f":"VLOOKUP(A2187,'Output Areas'!$A:$E,5,FALSE)","v":"Rural"},"Detached; semi-detached; terraced whole house or bungalow","Total: Tenure (excluding living rent free)","8 rooms or more",{"$f":"VLOOKUP(G2187,Cntrol!$F$3:$G$9,2,FALSE)","v":5},145,27,71,25,13,9]
["E01022203","E01022203 Cotswold 009B","E01022203",{"$f":"VLOOKUP(A2188,'Output Areas'!$A:$E,5,FALSE)","v":"Rural"},"Detached; semi-detached; terraced whole house or bungalow","Owned","Total: Number of rooms",{"$f":"VLOOKUP(G2188,Cntrol!$F$3:$G$9,2,FALSE)","v":0},491,203,164,53,19,52]
["E01022203","E01022203 Cotswold 009B","E01022203",{"$f":"VLOOKUP(A2189,'Output Areas'!$A:$E,5,FALSE)","v":"Rural"},"Detached; semi-detached; terraced whole house or bungalow","Owned","3 rooms or less",{"$f":"VLOOKUP(G2189,Cntrol!$F$3:$G$9,2,FALSE)","v":2},4,3,1,0,0,0]
["E01022203","E01022203 Cotswold 009B","E01022203",{"$f":"VLOOKUP(A2190,'Output Areas'!$A:$E,5,FALSE)","v":"Rural"},"Detached; semi-detached; terraced whole house or bungalow","Owned","4 rooms",{"$f":"VLOOKUP(G2190,Cntrol!$F$3:$G$9,2,FALSE)","v":2},57,33,10,4,0,10]
["E01022203","E01022203 Cotswold 009B","E01022203",{"$f":"VLOOKUP(A2191,'Output Areas'!$A:$E,5,FALSE)","v":"Rural"},"Detached; semi-detached; terraced whole house or bungalow","Owned","5 rooms",{"$f":"VLOOKUP(G2191,Cntrol!$F$3:$G$9,2,FALSE)","v":3},100,53,20,3,2,22]
["E01022203","E01022203 Cotswold 009B","E01022203",{"$f":"VLOOKUP(A2192,'Output Areas'!$A:$E,5,FALSE)","v":"Rural"},"Detached; semi-detached; terraced whole house or bungalow","Owned","6 rooms",{"$f":"VLOOKUP(G2192,Cntrol!$F$3:$G$9,2,FALSE)","v":3},112,59,32,11,0,10]
["E01022203","E01022203 Cotswold 009B","E01022203",{"$f":"VLOOKUP(A2193,'Output Areas'!$A:$E,5,FALSE)","v":"Rural"},"Detached; semi-detached; terraced whole house or bungalow","Owned","7 rooms",{"$f":"VLOOKUP(G2193,Cntrol!$F$3:$G$9,2,FALSE)","v":4},82,28,34,11,5,4]
["E01022203","E01022203 Cotswold 009B","E01022203",{"$f":"VLOOKUP(A2194,'Output Areas'!$A:$E,5,FALSE)","v":"Rural"},"Detached; semi-detached; terraced whole house or bungalow","Owned","8 rooms or more",{"$f":"VLOOKUP(G2194,Cntrol!$F$3:$G$9,2,FALSE)","v":5},136,27,67,24,12,6]
["E01022203","E01022203 Cotswold 009B","E01022203",{"$f":"VLOOKUP(A2195,'Output Areas'!$A:$E,5,FALSE)","v":"Rural"},"Detached; semi-detached; terraced whole house or bungalow","Shared ownership or rented (excluding living rent free)","Total: Number of rooms",{"$f":"VLOOKUP(G2195,Cntrol!$F$3:$G$9,2,FALSE)","v":0},110,45,28,7,4,26]
["E01022203","E01022203 Cotswold 009B","E01022203",{"$f":"VLOOKUP(A2196,'Output Areas'!$A:$E,5,FALSE)","v":"Rural"},"Detached; semi-detached; terraced whole house or bungalow","Shared ownership or rented (excluding living rent free)","3 rooms or less",{"$f":"VLOOKUP(G2196,Cntrol!$F$3:$G$9,2,FALSE)","v":2},5,4,0,0,0,1]
["E01022203","E01022203 Cotswold 009B","E01022203",{"$f":"VLOOKUP(A2197,'Output Areas'!$A:$E,5,FALSE)","v":"Rural"},"Detached; semi-detached; terraced whole house or bungalow","Shared ownership or rented (excluding living rent free)","4 rooms",{"$f":"VLOOKUP(G2197,Cntrol!$F$3:$G$9,2,FALSE)","v":2},37,16,5,1,0,15]
["E01022203","E01022203 Cotswold 009B","E01022203",{"$f":"VLOOKUP(A2198,'Output Areas'!$A:$E,5,FALSE)","v":"Rural"},"Detached; semi-detached; terraced whole house or bungalow","Shared ownership or rented (excluding living rent free)","5 rooms",{"$f":"VLOOKUP(G2198,Cntrol!$F$3:$G$9,2,FALSE)","v":3},27,11,7,5,2,2]
["E01022203","E01022203 Cotswold 009B","E01022203",{"$f":"VLOOKUP(A2199,'Output Areas'!$A:$E,5,FALSE)","v":"Rural"},"Detached; semi-detached; terraced whole house or bungalow","Shared ownership or rented (excluding living rent free)","6 rooms",{"$f":"VLOOKUP(G2199,Cntrol!$F$3:$G$9,2,FALSE)","v":3},18,6,9,0,0,3]
["E01022203","E01022203 Cotswold 009B","E01022203",{"$f":"VLOOKUP(A2200,'Output Areas'!$A:$E,5,FALSE)","v":"Rural"},"Detached; semi-detached; terraced whole house or bungalow","Shared ownership or rented (excluding living rent free)","7 rooms",{"$f":"VLOOKUP(G2200,Cntrol!$F$3:$G$9,2,FALSE)","v":4},14,8,3,0,1,2]
["E01022203","E01022203 Cotswold 009B","E01022203",{"$f":"VLOOKUP(A2201,'Output Areas'!$A:$E,5,FALSE)","v":"Rural"},"Detached; semi-detached; terraced whole house or bungalow","Shared ownership or rented (excluding living rent free)","8 rooms or more",{"$f":"VLOOKUP(G2201,Cntrol!$F$3:$G$9,2,FALSE)","v":5},9,0,4,1,1,3]
["E01022203","E01022203 Cotswold 009B","E01022203",{"$f":"VLOOKUP(A2202,'Output Areas'!$A:$E,5,FALSE)","v":"Rural"},"A flat; maisonette; apartment","Total: Tenure (excluding living rent free)","Total: Number of rooms",{"$f":"VLOOKUP(G2202,Cntrol!$F$3:$G$9,2,FALSE)","v":0},24,8,9,0,1,6]
["E01022203","E01022203 Cotswold 009B","E01022203",{"$f":"VLOOKUP(A2203,'Output Areas'!$A:$E,5,FALSE)","v":"Rural"},"A flat; maisonette; apartment","Total: Tenure (excluding living rent free)","3 rooms or less",{"$f":"VLOOKUP(G2203,Cntrol!$F$3:$G$9,2,FALSE)","v":2},8,2,3,0,0,3]
["E01022203","E01022203 Cotswold 009B","E01022203",{"$f":"VLOOKUP(A2204,'Output Areas'!$A:$E,5,FALSE)","v":"Rural"},"A flat; maisonette; apartment","Total: Tenure (excluding living rent free)","4 rooms",{"$f":"VLOOKUP(G2204,Cntrol!$F$3:$G$9,2,FALSE)","v":2},7,4,2,0,0,1]
["E01022203","E01022203 Cotswold 009B","E01022203",{"$f":"VLOOKUP(A2205,'Output Areas'!$A:$E,5,FALSE)","v":"Rural"},"A flat; maisonette; apartment","Total: Tenure (excluding living rent free)","5 rooms",{"$f":"VLOOKUP(G2205,Cntrol!$F$3:$G$9,2,FALSE)","v":3},3,2,1,0,0,0]
["E01022203","E01022203 Cotswold 009B","E01022203",{"$f":"VLOOKUP(A2206,'Output Areas'!$A:$E,5,FALSE)","v":"Rural"},"A flat; maisonette; apartment","Total: Tenure (excluding living rent free)","6 rooms",{"$f":"VLOOKUP(G2206,Cntrol!$F$3:$G$9,2,FALSE)","v":3},4,0,3,0,1,0]
["E01022203","E01022203 Cotswold 009B","E01022203",{"$f":"VLOOKUP(A2207,'Output Areas'!$A:$E,5,FALSE)","v":"Rural"},"A flat; maisonette; apartment","Total: Tenure (excluding living rent free)","7 rooms",{"$f":"VLOOKUP(G2207,Cntrol!$F$3:$G$9,2,FALSE)","v":4},1,0,0,0,0,1]
["E01022203","E01022203 Cotswold 009B","E01022203",{"$f":"VLOOKUP(A2208,'Output Areas'!$A:$E,5,FALSE)","v":"Rural"},"A flat; maisonette; apartment","Total: Tenure (excluding living rent free)","8 rooms or more",{"$f":"VLOOKUP(G2208,Cntrol!$F$3:$G$9,2,FALSE)","v":5},1,0,0,0,0,1]
["E01022203","E01022203 Cotswold 009B","E01022203",{"$f":"VLOOKUP(A2209,'Output Areas'!$A:$E,5,FALSE)","v":"Rural"},"A flat; maisonette; apartment","Owned","Total: Number of rooms",{"$f":"VLOOKUP(G2209,Cntrol!$F$3:$G$9,2,FALSE)","v":0},10,4,4,0,0,2]
["E01022203","E01022203 Cotswold 009B","E01022203",{"$f":"VLOOKUP(A2210,'Output Areas'!$A:$E,5,FALSE)","v":"Rural"},"A flat; maisonette; apartment","Owned","3 rooms or less",{"$f":"VLOOKUP(G2210,Cntrol!$F$3:$G$9,2,FALSE)","v":2},2,0,1,0,0,1]
["E01022203","E01022203 Cotswold 009B","E01022203",{"$f":"VLOOKUP(A2211,'Output Areas'!$A:$E,5,FALSE)","v":"Rural"},"A flat; maisonette; apartment","Owned","4 rooms",{"$f":"VLOOKUP(G2211,Cntrol!$F$3:$G$9,2,FALSE)","v":2},3,2,0,0,0,1]
["E01022203","E01022203 Cotswold 009B","E01022203",{"$f":"VLOOKUP(A2212,'Output Areas'!$A:$E,5,FALSE)","v":"Rural"},"A flat; maisonette; apartment","Owned","5 rooms",{"$f":"VLOOKUP(G2212,Cntrol!$F$3:$G$9,2,FALSE)","v":3},3,2,1,0,0,0]
["E01022203","E01022203 Cotswold 009B","E01022203",{"$f":"VLOOKUP(A2213,'Output Areas'!$A:$E,5,FALSE)","v":"Rural"},"A flat; maisonette; apartment","Owned","6 rooms",{"$f":"VLOOKUP(G2213,Cntrol!$F$3:$G$9,2,FALSE)","v":3},2,0,2,0,0,0]
["E01022203","E01022203 Cotswold 009B","E01022203",{"$f":"VLOOKUP(A2214,'Output Areas'!$A:$E,5,FALSE)","v":"Rural"},"A flat; maisonette; apartment","Shared ownership or rented (excluding living rent free)","Total: Number of rooms",{"$f":"VLOOKUP(G2214,Cntrol!$F$3:$G$9,2,FALSE)","v":0},14,4,5,0,1,4]
["E01022203","E01022203 Cotswold 009B","E01022203",{"$f":"VLOOKUP(A2215,'Output Areas'!$A:$E,5,FALSE)","v":"Rural"},"A flat; maisonette; apartment","Shared ownership or rented (excluding living rent free)","3 rooms or less",{"$f":"VLOOKUP(G2215,Cntrol!$F$3:$G$9,2,FALSE)","v":2},6,2,2,0,0,2]
["E01022203","E01022203 Cotswold 009B","E01022203",{"$f":"VLOOKUP(A2216,'Output Areas'!$A:$E,5,FALSE)","v":"Rural"},"A flat; maisonette; apartment","Shared ownership or rented (excluding living rent free)","4 rooms",{"$f":"VLOOKUP(G2216,Cntrol!$F$3:$G$9,2,FALSE)","v":2},4,2,2,0,0,0]
["E01022203","E01022203 Cotswold 009B","E01022203",{"$f":"VLOOKUP(A2217,'Output Areas'!$A:$E,5,FALSE)","v":"Rural"},"A flat; maisonette; apartment","Shared ownership or rented (excluding living rent free)","6 rooms",{"$f":"VLOOKUP(G2217,Cntrol!$F$3:$G$9,2,FALSE)","v":3},2,0,1,0,1,0]
["E01022203","E01022203 Cotswold 009B","E01022203",{"$f":"VLOOKUP(A2218,'Output Areas'!$A:$E,5,FALSE)","v":"Rural"},"A flat; maisonette; apartment","Shared ownership or rented (excluding living rent free)","7 rooms",{"$f":"VLOOKUP(G2218,Cntrol!$F$3:$G$9,2,FALSE)","v":4},1,0,0,0,0,1]
["E01022203","E01022203 Cotswold 009B","E01022203",{"$f":"VLOOKUP(A2219,'Output Areas'!$A:$E,5,FALSE)","v":"Rural"},"A flat; maisonette; apartment","Shared ownership or rented (excluding living rent free)","8 rooms or more",{"$f":"VLOOKUP(G2219,Cntrol!$F$3:$G$9,2,FALSE)","v":5},1,0,0,0,0,1]
["E01022204","E01022204 Cotswold 009C","E01022204",{"$f":"VLOOKUP(A2220,'Output Areas'!$A:$E,5,FALSE)","v":"Small Settlements"},"Total: Accommodation type (excluding caravans / temporary structures)","Total: Tenure (excluding living rent free)","Total: Number of rooms",{"$f":"VLOOKUP(G2220,Cntrol!$F$3:$G$9,2,FALSE)","v":0},595,254,214,39,15,73]
["E01022204","E01022204 Cotswold 009C","E01022204",{"$f":"VLOOKUP(A2221,'Output Areas'!$A:$E,5,FALSE)","v":"Small Settlements"},"Total: Accommodation type (excluding caravans / temporary structures)","Total: Tenure (excluding living rent free)","3 rooms or less",{"$f":"VLOOKUP(G2221,Cntrol!$F$3:$G$9,2,FALSE)","v":2},42,26,2,0,0,14]
["E01022204","E01022204 Cotswold 009C","E01022204",{"$f":"VLOOKUP(A2222,'Output Areas'!$A:$E,5,FALSE)","v":"Small Settlements"},"Total: Accommodation type (excluding caravans / temporary structures)","Total: Tenure (excluding living rent free)","4 rooms",{"$f":"VLOOKUP(G2222,Cntrol!$F$3:$G$9,2,FALSE)","v":2},127,66,33,1,1,26]
["E01022204","E01022204 Cotswold 009C","E01022204",{"$f":"VLOOKUP(A2223,'Output Areas'!$A:$E,5,FALSE)","v":"Small Settlements"},"Total: Accommodation type (excluding caravans / temporary structures)","Total: Tenure (excluding living rent free)","5 rooms",{"$f":"VLOOKUP(G2223,Cntrol!$F$3:$G$9,2,FALSE)","v":3},156,79,49,10,3,15]
["E01022204","E01022204 Cotswold 009C","E01022204",{"$f":"VLOOKUP(A2224,'Output Areas'!$A:$E,5,FALSE)","v":"Small Settlements"},"Total: Accommodation type (excluding caravans / temporary structures)","Total: Tenure (excluding living rent free)","6 rooms",{"$f":"VLOOKUP(G2224,Cntrol!$F$3:$G$9,2,FALSE)","v":3},103,39,40,10,3,11]
["E01022204","E01022204 Cotswold 009C","E01022204",{"$f":"VLOOKUP(A2225,'Output Areas'!$A:$E,5,FALSE)","v":"Small Settlements"},"Total: Accommodation type (excluding caravans / temporary structures)","Total: Tenure (excluding living rent free)","7 rooms",{"$f":"VLOOKUP(G2225,Cntrol!$F$3:$G$9,2,FALSE)","v":4},56,15,32,6,0,3]
["E01022204","E01022204 Cotswold 009C","E01022204",{"$f":"VLOOKUP(A2226,'Output Areas'!$A:$E,5,FALSE)","v":"Small Settlements"},"Total: Accommodation type (excluding caravans / temporary structures)","Total: Tenure (excluding living rent free)","8 rooms or more",{"$f":"VLOOKUP(G2226,Cntrol!$F$3:$G$9,2,FALSE)","v":5},111,29,58,12,8,4]
["E01022204","E01022204 Cotswold 009C","E01022204",{"$f":"VLOOKUP(A2227,'Output Areas'!$A:$E,5,FALSE)","v":"Small Settlements"},"Total: Accommodation type (excluding caravans / temporary structures)","Owned","Total: Number of rooms",{"$f":"VLOOKUP(G2227,Cntrol!$F$3:$G$9,2,FALSE)","v":0},393,155,165,33,14,26]
["E01022204","E01022204 Cotswold 009C","E01022204",{"$f":"VLOOKUP(A2228,'Output Areas'!$A:$E,5,FALSE)","v":"Small Settlements"},"Total: Accommodation type (excluding caravans / temporary structures)","Owned","3 rooms or less",{"$f":"VLOOKUP(G2228,Cntrol!$F$3:$G$9,2,FALSE)","v":2},7,4,2,0,0,1]
["E01022204","E01022204 Cotswold 009C","E01022204",{"$f":"VLOOKUP(A2229,'Output Areas'!$A:$E,5,FALSE)","v":"Small Settlements"},"Total: Accommodation type (excluding caravans / temporary structures)","Owned","4 rooms",{"$f":"VLOOKUP(G2229,Cntrol!$F$3:$G$9,2,FALSE)","v":2},56,35,15,0,1,5]
["E01022204","E01022204 Cotswold 009C","E01022204",{"$f":"VLOOKUP(A2230,'Output Areas'!$A:$E,5,FALSE)","v":"Small Settlements"},"Total: Accommodation type (excluding caravans / temporary structures)","Owned","5 rooms",{"$f":"VLOOKUP(G2230,Cntrol!$F$3:$G$9,2,FALSE)","v":3},110,49,37,8,3,13]
["E01022204","E01022204 Cotswold 009C","E01022204",{"$f":"VLOOKUP(A2231,'Output Areas'!$A:$E,5,FALSE)","v":"Small Settlements"},"Total: Accommodation type (excluding caravans / temporary structures)","Owned","6 rooms",{"$f":"VLOOKUP(G2231,Cntrol!$F$3:$G$9,2,FALSE)","v":3},71,28,30,7,2,4]
["E01022204","E01022204 Cotswold 009C","E01022204",{"$f":"VLOOKUP(A2232,'Output Areas'!$A:$E,5,FALSE)","v":"Small Settlements"},"Total: Accommodation type (excluding caravans / temporary structures)","Owned","7 rooms",{"$f":"VLOOKUP(G2232,Cntrol!$F$3:$G$9,2,FALSE)","v":4},49,14,27,6,0,2]
["E01022204","E01022204 Cotswold 009C","E01022204",{"$f":"VLOOKUP(A2233,'Output Areas'!$A:$E,5,FALSE)","v":"Small Settlements"},"Total: Accommodation type (excluding caravans / temporary structures)","Owned","8 rooms or more",{"$f":"VLOOKUP(G2233,Cntrol!$F$3:$G$9,2,FALSE)","v":5},100,25,54,12,8,1]
["E01022204","E01022204 Cotswold 009C","E01022204",{"$f":"VLOOKUP(A2234,'Output Areas'!$A:$E,5,FALSE)","v":"Small Settlements"},"Total: Accommodation type (excluding caravans / temporary structures)","Shared ownership or rented (excluding living rent free)","Total: Number of rooms",{"$f":"VLOOKUP(G2234,Cntrol!$F$3:$G$9,2,FALSE)","v":0},202,99,49,6,1,47]
["E01022204","E01022204 Cotswold 009C","E01022204",{"$f":"VLOOKUP(A2235,'Output Areas'!$A:$E,5,FALSE)","v":"Small Settlements"},"Total: Accommodation type (excluding caravans / temporary structures)","Shared ownership or rented (excluding living rent free)","3 rooms or less",{"$f":"VLOOKUP(G2235,Cntrol!$F$3:$G$9,2,FALSE)","v":2},35,22,0,0,0,13]
["E01022204","E01022204 Cotswold 009C","E01022204",{"$f":"VLOOKUP(A2236,'Output Areas'!$A:$E,5,FALSE)","v":"Small Settlements"},"Total: Accommodation type (excluding caravans / temporary structures)","Shared ownership or rented (excluding living rent free)","4 rooms",{"$f":"VLOOKUP(G2236,Cntrol!$F$3:$G$9,2,FALSE)","v":2},71,31,18,1,0,21]
["E01022204","E01022204 Cotswold 009C","E01022204",{"$f":"VLOOKUP(A2237,'Output Areas'!$A:$E,5,FALSE)","v":"Small Settlements"},"Total: Accommodation type (excluding caravans / temporary structures)","Shared ownership or rented (excluding living rent free)","5 rooms",{"$f":"VLOOKUP(G2237,Cntrol!$F$3:$G$9,2,FALSE)","v":3},46,30,12,2,0,2]
["E01022204","E01022204 Cotswold 009C","E01022204",{"$f":"VLOOKUP(A2238,'Output Areas'!$A:$E,5,FALSE)","v":"Small Settlements"},"Total: Accommodation type (excluding caravans / temporary structures)","Shared ownership or rented (excluding living rent free)","6 rooms",{"$f":"VLOOKUP(G2238,Cntrol!$F$3:$G$9,2,FALSE)","v":3},32,11,10,3,1,7]
["E01022204","E01022204 Cotswold 009C","E01022204",{"$f":"VLOOKUP(A2239,'Output Areas'!$A:$E,5,FALSE)","v":"Small Settlements"},"Total: Accommodation type (excluding caravans / temporary structures)","Shared ownership or rented (excluding living rent free)","7 rooms",{"$f":"VLOOKUP(G2239,Cntrol!$F$3:$G$9,2,FALSE)","v":4},7,1,5,0,0,1]
["E01022204","E01022204 Cotswold 009C","E01022204",{"$f":"VLOOKUP(A2240,'Output Areas'!$A:$E,5,FALSE)","v":"Small Settlements"},"Total: Accommodation type (excluding caravans / temporary structures)","Shared ownership or rented (excluding living rent free)","8 rooms or more",{"$f":"VLOOKUP(G2240,Cntrol!$F$3:$G$9,2,FALSE)","v":5},11,4,4,0,0,3]
["E01022204","E01022204 Cotswold 009C","E01022204",{"$f":"VLOOKUP(A2241,'Output Areas'!$A:$E,5,FALSE)","v":"Small Settlements"},"Detached; semi-detached; terraced whole house or bungalow","Total: Tenure (excluding living rent free)","Total: Number of rooms",{"$f":"VLOOKUP(G2241,Cntrol!$F$3:$G$9,2,FALSE)","v":0},538,220,207,39,14,58]
["E01022204","E01022204 Cotswold 009C","E01022204",{"$f":"VLOOKUP(A2242,'Output Areas'!$A:$E,5,FALSE)","v":"Small Settlements"},"Detached; semi-detached; terraced whole house or bungalow","Total: Tenure (excluding living rent free)","3 rooms or less",{"$f":"VLOOKUP(G2242,Cntrol!$F$3:$G$9,2,FALSE)","v":2},10,5,1,0,0,4]
["E01022204","E01022204 Cotswold 009C","E01022204",{"$f":"VLOOKUP(A2243,'Output Areas'!$A:$E,5,FALSE)","v":"Small Settlements"},"Detached; semi-detached; terraced whole house or bungalow","Total: Tenure (excluding living rent free)","4 rooms",{"$f":"VLOOKUP(G2243,Cntrol!$F$3:$G$9,2,FALSE)","v":2},104,54,27,1,1,21]
["E01022204","E01022204 Cotswold 009C","E01022204",{"$f":"VLOOKUP(A2244,'Output Areas'!$A:$E,5,FALSE)","v":"Small Settlements"},"Detached; semi-detached; terraced whole house or bungalow","Total: Tenure (excluding living rent free)","5 rooms",{"$f":"VLOOKUP(G2244,Cntrol!$F$3:$G$9,2,FALSE)","v":3},155,78,49,10,3,15]
["E01022204","E01022204 Cotswold 009C","E01022204",{"$f":"VLOOKUP(A2245,'Output Areas'!$A:$E,5,FALSE)","v":"Small Settlements"},"Detached; semi-detached; terraced whole house or bungalow","Total: Tenure (excluding living rent free)","6 rooms",{"$f":"VLOOKUP(G2245,Cntrol!$F$3:$G$9,2,FALSE)","v":3},102,39,40,10,2,11]
["E01022204","E01022204 Cotswold 009C","E01022204",{"$f":"VLOOKUP(A2246,'Output Areas'!$A:$E,5,FALSE)","v":"Small Settlements"},"Detached; semi-detached; terraced whole house or bungalow","Total: Tenure (excluding living rent free)","7 rooms",{"$f":"VLOOKUP(G2246,Cntrol!$F$3:$G$9,2,FALSE)","v":4},56,15,32,6,0,3]
["E01022204","E01022204 Cotswold 009C","E01022204",{"$f":"VLOOKUP(A2247,'Output Areas'!$A:$E,5,FALSE)","v":"Small Settlements"},"Detached; semi-detached; terraced whole house or bungalow","Total: Tenure (excluding living rent free)","8 rooms or more",{"$f":"VLOOKUP(G2247,Cntrol!$F$3:$G$9,2,FALSE)","v":5},111,29,58,12,8,4]
["E01022204","E01022204 Cotswold 009C","E01022204",{"$f":"VLOOKUP(A2248,'Output Areas'!$A:$E,5,FALSE)","v":"Small Settlements"},"Detached; semi-detached; terraced whole house or bungalow","Owned","Total: Number of rooms",{"$f":"VLOOKUP(G2248,Cntrol!$F$3:$G$9,2,FALSE)","v":0},385,150,162,33,14,26]
["E01022204","E01022204 Cotswold 009C","E01022204",{"$f":"VLOOKUP(A2249,'Output Areas'!$A:$E,5,FALSE)","v":"Small Settlements"},"Detached; semi-detached; terraced whole house or bungalow","Owned","3 rooms or less",{"$f":"VLOOKUP(G2249,Cntrol!$F$3:$G$9,2,FALSE)","v":2},4,2,1,0,0,1]
["E01022204","E01022204 Cotswold 009C","E01022204",{"$f":"VLOOKUP(A2250,'Output Areas'!$A:$E,5,FALSE)","v":"Small Settlements"},"Detached; semi-detached; terraced whole house or bungalow","Owned","4 rooms",{"$f":"VLOOKUP(G2250,Cntrol!$F$3:$G$9,2,FALSE)","v":2},52,33,13,0,1,5]
["E01022204","E01022204 Cotswold 009C","E01022204",{"$f":"VLOOKUP(A2251,'Output Areas'!$A:$E,5,FALSE)","v":"Small Settlements"},"Detached; semi-detached; terraced whole house or bungalow","Owned","5 rooms",{"$f":"VLOOKUP(G2251,Cntrol!$F$3:$G$9,2,FALSE)","v":3},109,48,37,8,3,13]
["E01022204","E01022204 Cotswold 009C","E01022204",{"$f":"VLOOKUP(A2252,'Output Areas'!$A:$E,5,FALSE)","v":"Small Settlements"},"Detached; semi-detached; terraced whole house or bungalow","Owned","6 rooms",{"$f":"VLOOKUP(G2252,Cntrol!$F$3:$G$9,2,FALSE)","v":3},71,28,30,7,2,4]
["E01022204","E01022204 Cotswold 009C","E01022204",{"$f":"VLOOKUP(A2253,'Output Areas'!$A:$E,5,FALSE)","v":"Small Settlements"},"Detached; semi-detached; terraced whole house or bungalow","Owned","7 rooms",{"$f":"VLOOKUP(G2253,Cntrol!$F$3:$G$9,2,FALSE)","v":4},49,14,27,6,0,2]
["E01022204","E01022204 Cotswold 009C","E01022204",{"$f":"VLOOKUP(A2254,'Output Areas'!$A:$E,5,FALSE)","v":"Small Settlements"},"Detached; semi-detached; terraced whole house or bungalow","Owned","8 rooms or more",{"$f":"VLOOKUP(G2254,Cntrol!$F$3:$G$9,2,FALSE)","v":5},100,25,54,12,8,1]
["E01022204","E01022204 Cotswold 009C","E01022204",{"$f":"VLOOKUP(A2255,'Output Areas'!$A:$E,5,FALSE)","v":"Small Settlements"},"Detached; semi-detached; terraced whole house or bungalow","Shared ownership or rented (excluding living rent free)","Total: Number of rooms",{"$f":"VLOOKUP(G2255,Cntrol!$F$3:$G$9,2,FALSE)","v":0},153,70,45,6,0,32]
["E01022204","E01022204 Cotswold 009C","E01022204",{"$f":"VLOOKUP(A2256,'Output Areas'!$A:$E,5,FALSE)","v":"Small Settlements"},"Detached; semi-detached; terraced whole house or bungalow","Shared ownership or rented (excluding living rent free)","3 rooms or less",{"$f":"VLOOKUP(G2256,Cntrol!$F$3:$G$9,2,FALSE)","v":2},6,3,0,0,0,3]
["E01022204","E01022204 Cotswold 009C","E01022204",{"$f":"VLOOKUP(A2257,'Output Areas'!$A:$E,5,FALSE)","v":"Small Settlements"},"Detached; semi-detached; terraced whole house or bungalow","Shared ownership or rented (excluding living rent free)","4 rooms",{"$f":"VLOOKUP(G2257,Cntrol!$F$3:$G$9,2,FALSE)","v":2},52,21,14,1,0,16]
["E01022204","E01022204 Cotswold 009C","E01022204",{"$f":"VLOOKUP(A2258,'Output Areas'!$A:$E,5,FALSE)","v":"Small Settlements"},"Detached; semi-detached; terraced whole house or bungalow","Shared ownership or rented (excluding living rent free)","5 rooms",{"$f":"VLOOKUP(G2258,Cntrol!$F$3:$G$9,2,FALSE)","v":3},46,30,12,2,0,2]
["E01022204","E01022204 Cotswold 009C","E01022204",{"$f":"VLOOKUP(A2259,'Output Areas'!$A:$E,5,FALSE)","v":"Small Settlements"},"Detached; semi-detached; terraced whole house or bungalow","Shared ownership or rented (excluding living rent free)","6 rooms",{"$f":"VLOOKUP(G2259,Cntrol!$F$3:$G$9,2,FALSE)","v":3},31,11,10,3,0,7]
["E01022204","E01022204 Cotswold 009C","E01022204",{"$f":"VLOOKUP(A2260,'Output Areas'!$A:$E,5,FALSE)","v":"Small Settlements"},"Detached; semi-detached; terraced whole house or bungalow","Shared ownership or rented (excluding living rent free)","7 rooms",{"$f":"VLOOKUP(G2260,Cntrol!$F$3:$G$9,2,FALSE)","v":4},7,1,5,0,0,1]
["E01022204","E01022204 Cotswold 009C","E01022204",{"$f":"VLOOKUP(A2261,'Output Areas'!$A:$E,5,FALSE)","v":"Small Settlements"},"Detached; semi-detached; terraced whole house or bungalow","Shared ownership or rented (excluding living rent free)","8 rooms or more",{"$f":"VLOOKUP(G2261,Cntrol!$F$3:$G$9,2,FALSE)","v":5},11,4,4,0,0,3]
["E01022204","E01022204 Cotswold 009C","E01022204",{"$f":"VLOOKUP(A2262,'Output Areas'!$A:$E,5,FALSE)","v":"Small Settlements"},"A flat; maisonette; apartment","Total: Tenure (excluding living rent free)","Total: Number of rooms",{"$f":"VLOOKUP(G2262,Cntrol!$F$3:$G$9,2,FALSE)","v":0},57,34,7,0,1,15]
["E01022204","E01022204 Cotswold 009C","E01022204",{"$f":"VLOOKUP(A2263,'Output Areas'!$A:$E,5,FALSE)","v":"Small Settlements"},"A flat; maisonette; apartment","Total: Tenure (excluding living rent free)","3 rooms or less",{"$f":"VLOOKUP(G2263,Cntrol!$F$3:$G$9,2,FALSE)","v":2},32,21,1,0,0,10]
["E01022204","E01022204 Cotswold 009C","E01022204",{"$f":"VLOOKUP(A2264,'Output Areas'!$A:$E,5,FALSE)","v":"Small Settlements"},"A flat; maisonette; apartment","Total: Tenure (excluding living rent free)","4 rooms",{"$f":"VLOOKUP(G2264,Cntrol!$F$3:$G$9,2,FALSE)","v":2},23,12,6,0,0,5]
["E01022204","E01022204 Cotswold 009C","E01022204",{"$f":"VLOOKUP(A2265,'Output Areas'!$A:$E,5,FALSE)","v":"Small Settlements"},"A flat; maisonette; apartment","Total: Tenure (excluding living rent free)","5 rooms",{"$f":"VLOOKUP(G2265,Cntrol!$F$3:$G$9,2,FALSE)","v":3},1,1,0,0,0,0]
["E01022204","E01022204 Cotswold 009C","E01022204",{"$f":"VLOOKUP(A2266,'Output Areas'!$A:$E,5,FALSE)","v":"Small Settlements"},"A flat; maisonette; apartment","Total: Tenure (excluding living rent free)","6 rooms",{"$f":"VLOOKUP(G2266,Cntrol!$F$3:$G$9,2,FALSE)","v":3},1,0,0,0,1,0]
["E01022204","E01022204 Cotswold 009C","E01022204",{"$f":"VLOOKUP(A2267,'Output Areas'!$A:$E,5,FALSE)","v":"Small Settlements"},"A flat; maisonette; apartment","Owned","Total: Number of rooms",{"$f":"VLOOKUP(G2267,Cntrol!$F$3:$G$9,2,FALSE)","v":0},8,5,3,0,0,0]
["E01022204","E01022204 Cotswold 009C","E01022204",{"$f":"VLOOKUP(A2268,'Output Areas'!$A:$E,5,FALSE)","v":"Small Settlements"},"A flat; maisonette; apartment","Owned","3 rooms or less",{"$f":"VLOOKUP(G2268,Cntrol!$F$3:$G$9,2,FALSE)","v":2},3,2,1,0,0,0]
["E01022204","E01022204 Cotswold 009C","E01022204",{"$f":"VLOOKUP(A2269,'Output Areas'!$A:$E,5,FALSE)","v":"Small Settlements"},"A flat; maisonette; apartment","Owned","4 rooms",{"$f":"VLOOKUP(G2269,Cntrol!$F$3:$G$9,2,FALSE)","v":2},4,2,2,0,0,0]
["E01022204","E01022204 Cotswold 009C","E01022204",{"$f":"VLOOKUP(A2270,'Output Areas'!$A:$E,5,FALSE)","v":"Small Settlements"},"A flat; maisonette; apartment","Owned","5 rooms",{"$f":"VLOOKUP(G2270,Cntrol!$F$3:$G$9,2,FALSE)","v":3},1,1,0,0,0,0]
["E01022204","E01022204 Cotswold 009C","E01022204",{"$f":"VLOOKUP(A2271,'Output Areas'!$A:$E,5,FALSE)","v":"Small Settlements"},"A flat; maisonette; apartment","Shared ownership or rented (excluding living rent free)","Total: Number of rooms",{"$f":"VLOOKUP(G2271,Cntrol!$F$3:$G$9,2,FALSE)","v":0},49,29,4,0,1,15]
["E01022204","E01022204 Cotswold 009C","E01022204",{"$f":"VLOOKUP(A2272,'Output Areas'!$A:$E,5,FALSE)","v":"Small Settlements"},"A flat; maisonette; apartment","Shared ownership or rented (excluding living rent free)","3 rooms or less",{"$f":"VLOOKUP(G2272,Cntrol!$F$3:$G$9,2,FALSE)","v":2},29,19,0,0,0,10]
["E01022204","E01022204 Cotswold 009C","E01022204",{"$f":"VLOOKUP(A2273,'Output Areas'!$A:$E,5,FALSE)","v":"Small Settlements"},"A flat; maisonette; apartment","Shared ownership or rented (excluding living rent free)","4 rooms",{"$f":"VLOOKUP(G2273,Cntrol!$F$3:$G$9,2,FALSE)","v":2},19,10,4,0,0,5]
["E01022204","E01022204 Cotswold 009C","E01022204",{"$f":"VLOOKUP(A2274,'Output Areas'!$A:$E,5,FALSE)","v":"Small Settlements"},"A flat; maisonette; apartment","Shared ownership or rented (excluding living rent free)","6 rooms",{"$f":"VLOOKUP(G2274,Cntrol!$F$3:$G$9,2,FALSE)","v":3},1,0,0,0,1,0]
["E01022208","E01022208 Cotswold 009D","E01022208",{"$f":"VLOOKUP(A2275,'Output Areas'!$A:$E,5,FALSE)","v":"Small Settlements"},"Total: Accommodation type (excluding caravans / temporary structures)","Total: Tenure (excluding living rent free)","Total: Number of rooms",{"$f":"VLOOKUP(G2275,Cntrol!$F$3:$G$9,2,FALSE)","v":0},654,249,277,79,28,21]
["E01022208","E01022208 Cotswold 009D","E01022208",{"$f":"VLOOKUP(A2276,'Output Areas'!$A:$E,5,FALSE)","v":"Small Settlements"},"Total: Accommodation type (excluding caravans / temporary structures)","Total: Tenure (excluding living rent free)","3 rooms or less",{"$f":"VLOOKUP(G2276,Cntrol!$F$3:$G$9,2,FALSE)","v":2},9,6,1,0,0,2]
["E01022208","E01022208 Cotswold 009D","E01022208",{"$f":"VLOOKUP(A2277,'Output Areas'!$A:$E,5,FALSE)","v":"Small Settlements"},"Total: Accommodation type (excluding caravans / temporary structures)","Total: Tenure (excluding living rent free)","4 rooms",{"$f":"VLOOKUP(G2277,Cntrol!$F$3:$G$9,2,FALSE)","v":2},61,35,19,4,1,2]
["E01022208","E01022208 Cotswold 009D","E01022208",{"$f":"VLOOKUP(A2278,'Output Areas'!$A:$E,5,FALSE)","v":"Small Settlements"},"Total: Accommodation type (excluding caravans / temporary structures)","Total: Tenure (excluding living rent free)","5 rooms",{"$f":"VLOOKUP(G2278,Cntrol!$F$3:$G$9,2,FALSE)","v":3},89,50,32,4,0,3]
["E01022208","E01022208 Cotswold 009D","E01022208",{"$f":"VLOOKUP(A2279,'Output Areas'!$A:$E,5,FALSE)","v":"Small Settlements"},"Total: Accommodation type (excluding caravans / temporary structures)","Total: Tenure (excluding living rent free)","6 rooms",{"$f":"VLOOKUP(G2279,Cntrol!$F$3:$G$9,2,FALSE)","v":3},109,51,32,17,1,8]
["E01022208","E01022208 Cotswold 009D","E01022208",{"$f":"VLOOKUP(A2280,'Output Areas'!$A:$E,5,FALSE)","v":"Small Settlements"},"Total: Accommodation type (excluding caravans / temporary structures)","Total: Tenure (excluding living rent free)","7 rooms",{"$f":"VLOOKUP(G2280,Cntrol!$F$3:$G$9,2,FALSE)","v":4},102,39,44,12,6,1]
["E01022208","E01022208 Cotswold 009D","E01022208",{"$f":"VLOOKUP(A2281,'Output Areas'!$A:$E,5,FALSE)","v":"Small Settlements"},"Total: Accommodation type (excluding caravans / temporary structures)","Total: Tenure (excluding living rent free)","8 rooms or more",{"$f":"VLOOKUP(G2281,Cntrol!$F$3:$G$9,2,FALSE)","v":5},284,68,149,42,20,5]
["E01022208","E01022208 Cotswold 009D","E01022208",{"$f":"VLOOKUP(A2282,'Output Areas'!$A:$E,5,FALSE)","v":"Small Settlements"},"Total: Accommodation type (excluding caravans / temporary structures)","Owned","Total: Number of rooms",{"$f":"VLOOKUP(G2282,Cntrol!$F$3:$G$9,2,FALSE)","v":0},547,198,238,70,26,15]
["E01022208","E01022208 Cotswold 009D","E01022208",{"$f":"VLOOKUP(A2283,'Output Areas'!$A:$E,5,FALSE)","v":"Small Settlements"},"Total: Accommodation type (excluding caravans / temporary structures)","Owned","3 rooms or less",{"$f":"VLOOKUP(G2283,Cntrol!$F$3:$G$9,2,FALSE)","v":2},1,1,0,0,0,0]
["E01022208","E01022208 Cotswold 009D","E01022208",{"$f":"VLOOKUP(A2284,'Output Areas'!$A:$E,5,FALSE)","v":"Small Settlements"},"Total: Accommodation type (excluding caravans / temporary structures)","Owned","4 rooms",{"$f":"VLOOKUP(G2284,Cntrol!$F$3:$G$9,2,FALSE)","v":2},26,15,9,2,0,0]
["E01022208","E01022208 Cotswold 009D","E01022208",{"$f":"VLOOKUP(A2285,'Output Areas'!$A:$E,5,FALSE)","v":"Small Settlements"},"Total: Accommodation type (excluding caravans / temporary structures)","Owned","5 rooms",{"$f":"VLOOKUP(G2285,Cntrol!$F$3:$G$9,2,FALSE)","v":3},62,34,23,3,0,2]
["E01022208","E01022208 Cotswold 009D","E01022208",{"$f":"VLOOKUP(A2286,'Output Areas'!$A:$E,5,FALSE)","v":"Small Settlements"},"Total: Accommodation type (excluding caravans / temporary structures)","Owned","6 rooms",{"$f":"VLOOKUP(G2286,Cntrol!$F$3:$G$9,2,FALSE)","v":3},93,47,27,11,1,7]
["E01022208","E01022208 Cotswold 009D","E01022208",{"$f":"VLOOKUP(A2287,'Output Areas'!$A:$E,5,FALSE)","v":"Small Settlements"},"Total: Accommodation type (excluding caravans / temporary structures)","Owned","7 rooms",{"$f":"VLOOKUP(G2287,Cntrol!$F$3:$G$9,2,FALSE)","v":4},93,36,38,12,6,1]
["E01022208","E01022208 Cotswold 009D","E01022208",{"$f":"VLOOKUP(A2288,'Output Areas'!$A:$E,5,FALSE)","v":"Small Settlements"},"Total: Accommodation type (excluding caravans / temporary structures)","Owned","8 rooms or more",{"$f":"VLOOKUP(G2288,Cntrol!$F$3:$G$9,2,FALSE)","v":5},272,65,141,42,19,5]
["E01022208","E01022208 Cotswold 009D","E01022208",{"$f":"VLOOKUP(A2289,'Output Areas'!$A:$E,5,FALSE)","v":"Small Settlements"},"Total: Accommodation type (excluding caravans / temporary structures)","Shared ownership or rented (excluding living rent free)","Total: Number of rooms",{"$f":"VLOOKUP(G2289,Cntrol!$F$3:$G$9,2,FALSE)","v":0},107,51,39,9,2,6]
["E01022208","E01022208 Cotswold 009D","E01022208",{"$f":"VLOOKUP(A2290,'Output Areas'!$A:$E,5,FALSE)","v":"Small Settlements"},"Total: Accommodation type (excluding caravans / temporary structures)","Shared ownership or rented (excluding living rent free)","3 rooms or less",{"$f":"VLOOKUP(G2290,Cntrol!$F$3:$G$9,2,FALSE)","v":2},8,5,1,0,0,2]
["E01022208","E01022208 Cotswold 009D","E01022208",{"$f":"VLOOKUP(A2291,'Output Areas'!$A:$E,5,FALSE)","v":"Small Settlements"},"Total: Accommodation type (excluding caravans / temporary structures)","Shared ownership or rented (excluding living rent free)","4 rooms",{"$f":"VLOOKUP(G2291,Cntrol!$F$3:$G$9,2,FALSE)","v":2},35,20,10,2,1,2]
["E01022208","E01022208 Cotswold 009D","E01022208",{"$f":"VLOOKUP(A2292,'Output Areas'!$A:$E,5,FALSE)","v":"Small Settlements"},"Total: Accommodation type (excluding caravans / temporary structures)","Shared ownership or rented (excluding living rent free)","5 rooms",{"$f":"VLOOKUP(G2292,Cntrol!$F$3:$G$9,2,FALSE)","v":3},27,16,9,1,0,1]
["E01022208","E01022208 Cotswold 009D","E01022208",{"$f":"VLOOKUP(A2293,'Output Areas'!$A:$E,5,FALSE)","v":"Small Settlements"},"Total: Accommodation type (excluding caravans / temporary structures)","Shared ownership or rented (excluding living rent free)","6 rooms",{"$f":"VLOOKUP(G2293,Cntrol!$F$3:$G$9,2,FALSE)","v":3},16,4,5,6,0,1]
["E01022208","E01022208 Cotswold 009D","E01022208",{"$f":"VLOOKUP(A2294,'Output Areas'!$A:$E,5,FALSE)","v":"Small Settlements"},"Total: Accommodation type (excluding caravans / temporary structures)","Shared ownership or rented (excluding living rent free)","7 rooms",{"$f":"VLOOKUP(G2294,Cntrol!$F$3:$G$9,2,FALSE)","v":4},9,3,6,0,0,0]
["E01022208","E01022208 Cotswold 009D","E01022208",{"$f":"VLOOKUP(A2295,'Output Areas'!$A:$E,5,FALSE)","v":"Small Settlements"},"Total: Accommodation type (excluding caravans / temporary structures)","Shared ownership or rented (excluding living rent free)","8 rooms or more",{"$f":"VLOOKUP(G2295,Cntrol!$F$3:$G$9,2,FALSE)","v":5},12,3,8,0,1,0]
["E01022208","E01022208 Cotswold 009D","E01022208",{"$f":"VLOOKUP(A2296,'Output Areas'!$A:$E,5,FALSE)","v":"Small Settlements"},"Detached; semi-detached; terraced whole house or bungalow","Total: Tenure (excluding living rent free)","Total: Number of rooms",{"$f":"VLOOKUP(G2296,Cntrol!$F$3:$G$9,2,FALSE)","v":0},637,240,273,78,27,19]
["E01022208","E01022208 Cotswold 009D","E01022208",{"$f":"VLOOKUP(A2297,'Output Areas'!$A:$E,5,FALSE)","v":"Small Settlements"},"Detached; semi-detached; terraced whole house or bungalow","Total: Tenure (excluding living rent free)","3 rooms or less",{"$f":"VLOOKUP(G2297,Cntrol!$F$3:$G$9,2,FALSE)","v":2},4,4,0,0,0,0]
["E01022208","E01022208 Cotswold 009D","E01022208",{"$f":"VLOOKUP(A2298,'Output Areas'!$A:$E,5,FALSE)","v":"Small Settlements"},"Detached; semi-detached; terraced whole house or bungalow","Total: Tenure (excluding living rent free)","4 rooms",{"$f":"VLOOKUP(G2298,Cntrol!$F$3:$G$9,2,FALSE)","v":2},55,32,18,3,0,2]
["E01022208","E01022208 Cotswold 009D","E01022208",{"$f":"VLOOKUP(A2299,'Output Areas'!$A:$E,5,FALSE)","v":"Small Settlements"},"Detached; semi-detached; terraced whole house or bungalow","Total: Tenure (excluding living rent free)","5 rooms",{"$f":"VLOOKUP(G2299,Cntrol!$F$3:$G$9,2,FALSE)","v":3},84,46,31,4,0,3]
["E01022208","E01022208 Cotswold 009D","E01022208",{"$f":"VLOOKUP(A2300,'Output Areas'!$A:$E,5,FALSE)","v":"Small Settlements"},"Detached; semi-detached; terraced whole house or bungalow","Total: Tenure (excluding living rent free)","6 rooms",{"$f":"VLOOKUP(G2300,Cntrol!$F$3:$G$9,2,FALSE)","v":3},109,51,32,17,1,8]
["E01022208","E01022208 Cotswold 009D","E01022208",{"$f":"VLOOKUP(A2301,'Output Areas'!$A:$E,5,FALSE)","v":"Small Settlements"},"Detached; semi-detached; terraced whole house or bungalow","Total: Tenure (excluding living rent free)","7 rooms",{"$f":"VLOOKUP(G2301,Cntrol!$F$3:$G$9,2,FALSE)","v":4},102,39,44,12,6,1]
["E01022208","E01022208 Cotswold 009D","E01022208",{"$f":"VLOOKUP(A2302,'Output Areas'!$A:$E,5,FALSE)","v":"Small Settlements"},"Detached; semi-detached; terraced whole house or bungalow","Total: Tenure (excluding living rent free)","8 rooms or more",{"$f":"VLOOKUP(G2302,Cntrol!$F$3:$G$9,2,FALSE)","v":5},283,68,148,42,20,5]
["E01022208","E01022208 Cotswold 009D","E01022208",{"$f":"VLOOKUP(A2303,'Output Areas'!$A:$E,5,FALSE)","v":"Small Settlements"},"Detached; semi-detached; terraced whole house or bungalow","Owned","Total: Number of rooms",{"$f":"VLOOKUP(G2303,Cntrol!$F$3:$G$9,2,FALSE)","v":0},539,194,235,69,26,15]
["E01022208","E01022208 Cotswold 009D","E01022208",{"$f":"VLOOKUP(A2304,'Output Areas'!$A:$E,5,FALSE)","v":"Small Settlements"},"Detached; semi-detached; terraced whole house or bungalow","Owned","3 rooms or less",{"$f":"VLOOKUP(G2304,Cntrol!$F$3:$G$9,2,FALSE)","v":2},1,1,0,0,0,0]
["E01022208","E01022208 Cotswold 009D","E01022208",{"$f":"VLOOKUP(A2305,'Output Areas'!$A:$E,5,FALSE)","v":"Small Settlements"},"Detached; semi-detached; terraced whole house or bungalow","Owned","4 rooms",{"$f":"VLOOKUP(G2305,Cntrol!$F$3:$G$9,2,FALSE)","v":2},23,14,8,1,0,0]
["E01022208","E01022208 Cotswold 009D","E01022208",{"$f":"VLOOKUP(A2306,'Output Areas'!$A:$E,5,FALSE)","v":"Small Settlements"},"Detached; semi-detached; terraced whole house or bungalow","Owned","5 rooms",{"$f":"VLOOKUP(G2306,Cntrol!$F$3:$G$9,2,FALSE)","v":3},58,31,22,3,0,2]
["E01022208","E01022208 Cotswold 009D","E01022208",{"$f":"VLOOKUP(A2307,'Output Areas'!$A:$E,5,FALSE)","v":"Small Settlements"},"Detached; semi-detached; terraced whole house or bungalow","Owned","6 rooms",{"$f":"VLOOKUP(G2307,Cntrol!$F$3:$G$9,2,FALSE)","v":3},93,47,27,11,1,7]
["E01022208","E01022208 Cotswold 009D","E01022208",{"$f":"VLOOKUP(A2308,'Output Areas'!$A:$E,5,FALSE)","v":"Small Settlements"},"Detached; semi-detached; terraced whole house or bungalow","Owned","7 rooms",{"$f":"VLOOKUP(G2308,Cntrol!$F$3:$G$9,2,FALSE)","v":4},93,36,38,12,6,1]
["E01022208","E01022208 Cotswold 009D","E01022208",{"$f":"VLOOKUP(A2309,'Output Areas'!$A:$E,5,FALSE)","v":"Small Settlements"},"Detached; semi-detached; terraced whole house or bungalow","Owned","8 rooms or more",{"$f":"VLOOKUP(G2309,Cntrol!$F$3:$G$9,2,FALSE)","v":5},271,65,140,42,19,5]
["E01022208","E01022208 Cotswold 009D","E01022208",{"$f":"VLOOKUP(A2310,'Output Areas'!$A:$E,5,FALSE)","v":"Small Settlements"},"Detached; semi-detached; terraced whole house or bungalow","Shared ownership or rented (excluding living rent free)","Total: Number of rooms",{"$f":"VLOOKUP(G2310,Cntrol!$F$3:$G$9,2,FALSE)","v":0},98,46,38,9,1,4]
["E01022208","E01022208 Cotswold 009D","E01022208",{"$f":"VLOOKUP(A2311,'Output Areas'!$A:$E,5,FALSE)","v":"Small Settlements"},"Detached; semi-detached; terraced whole house or bungalow","Shared ownership or rented (excluding living rent free)","3 rooms or less",{"$f":"VLOOKUP(G2311,Cntrol!$F$3:$G$9,2,FALSE)","v":2},3,3,0,0,0,0]
["E01022208","E01022208 Cotswold 009D","E01022208",{"$f":"VLOOKUP(A2312,'Output Areas'!$A:$E,5,FALSE)","v":"Small Settlements"},"Detached; semi-detached; terraced whole house or bungalow","Shared ownership or rented (excluding living rent free)","4 rooms",{"$f":"VLOOKUP(G2312,Cntrol!$F$3:$G$9,2,FALSE)","v":2},32,18,10,2,0,2]
["E01022208","E01022208 Cotswold 009D","E01022208",{"$f":"VLOOKUP(A2313,'Output Areas'!$A:$E,5,FALSE)","v":"Small Settlements"},"Detached; semi-detached; terraced whole house or bungalow","Shared ownership or rented (excluding living rent free)","5 rooms",{"$f":"VLOOKUP(G2313,Cntrol!$F$3:$G$9,2,FALSE)","v":3},26,15,9,1,0,1]
["E01022208","E01022208 Cotswold 009D","E01022208",{"$f":"VLOOKUP(A2314,'Output Areas'!$A:$E,5,FALSE)","v":"Small Settlements"},"Detached; semi-detached; terraced whole house or bungalow","Shared ownership or rented (excluding living rent free)","6 rooms",{"$f":"VLOOKUP(G2314,Cntrol!$F$3:$G$9,2,FALSE)","v":3},16,4,5,6,0,1]
["E01022208","E01022208 Cotswold 009D","E01022208",{"$f":"VLOOKUP(A2315,'Output Areas'!$A:$E,5,FALSE)","v":"Small Settlements"},"Detached; semi-detached; terraced whole house or bungalow","Shared ownership or rented (excluding living rent free)","7 rooms",{"$f":"VLOOKUP(G2315,Cntrol!$F$3:$G$9,2,FALSE)","v":4},9,3,6,0,0,0]
["E01022208","E01022208 Cotswold 009D","E01022208",{"$f":"VLOOKUP(A2316,'Output Areas'!$A:$E,5,FALSE)","v":"Small Settlements"},"Detached; semi-detached; terraced whole house or bungalow","Shared ownership or rented (excluding living rent free)","8 rooms or more",{"$f":"VLOOKUP(G2316,Cntrol!$F$3:$G$9,2,FALSE)","v":5},12,3,8,0,1,0]
["E01022208","E01022208 Cotswold 009D","E01022208",{"$f":"VLOOKUP(A2317,'Output Areas'!$A:$E,5,FALSE)","v":"Small Settlements"},"A flat; maisonette; apartment","Total: Tenure (excluding living rent free)","Total: Number of rooms",{"$f":"VLOOKUP(G2317,Cntrol!$F$3:$G$9,2,FALSE)","v":0},17,9,4,1,1,2]
["E01022208","E01022208 Cotswold 009D","E01022208",{"$f":"VLOOKUP(A2318,'Output Areas'!$A:$E,5,FALSE)","v":"Small Settlements"},"A flat; maisonette; apartment","Total: Tenure (excluding living rent free)","3 rooms or less",{"$f":"VLOOKUP(G2318,Cntrol!$F$3:$G$9,2,FALSE)","v":2},5,2,1,0,0,2]
["E01022208","E01022208 Cotswold 009D","E01022208",{"$f":"VLOOKUP(A2319,'Output Areas'!$A:$E,5,FALSE)","v":"Small Settlements"},"A flat; maisonette; apartment","Total: Tenure (excluding living rent free)","4 rooms",{"$f":"VLOOKUP(G2319,Cntrol!$F$3:$G$9,2,FALSE)","v":2},6,3,1,1,1,0]
["E01022208","E01022208 Cotswold 009D","E01022208",{"$f":"VLOOKUP(A2320,'Output Areas'!$A:$E,5,FALSE)","v":"Small Settlements"},"A flat; maisonette; apartment","Total: Tenure (excluding living rent free)","5 rooms",{"$f":"VLOOKUP(G2320,Cntrol!$F$3:$G$9,2,FALSE)","v":3},5,4,1,0,0,0]
["E01022208","E01022208 Cotswold 009D","E01022208",{"$f":"VLOOKUP(A2321,'Output Areas'!$A:$E,5,FALSE)","v":"Small Settlements"},"A flat; maisonette; apartment","Total: Tenure (excluding living rent free)","8 rooms or more",{"$f":"VLOOKUP(G2321,Cntrol!$F$3:$G$9,2,FALSE)","v":5},1,0,1,0,0,0]
["E01022208","E01022208 Cotswold 009D","E01022208",{"$f":"VLOOKUP(A2322,'Output Areas'!$A:$E,5,FALSE)","v":"Small Settlements"},"A flat; maisonette; apartment","Owned","Total: Number of rooms",{"$f":"VLOOKUP(G2322,Cntrol!$F$3:$G$9,2,FALSE)","v":0},8,4,3,1,0,0]
["E01022208","E01022208 Cotswold 009D","E01022208",{"$f":"VLOOKUP(A2323,'Output Areas'!$A:$E,5,FALSE)","v":"Small Settlements"},"A flat; maisonette; apartment","Owned","4 rooms",{"$f":"VLOOKUP(G2323,Cntrol!$F$3:$G$9,2,FALSE)","v":2},3,1,1,1,0,0]
["E01022208","E01022208 Cotswold 009D","E01022208",{"$f":"VLOOKUP(A2324,'Output Areas'!$A:$E,5,FALSE)","v":"Small Settlements"},"A flat; maisonette; apartment","Owned","5 rooms",{"$f":"VLOOKUP(G2324,Cntrol!$F$3:$G$9,2,FALSE)","v":3},4,3,1,0,0,0]
["E01022208","E01022208 Cotswold 009D","E01022208",{"$f":"VLOOKUP(A2325,'Output Areas'!$A:$E,5,FALSE)","v":"Small Settlements"},"A flat; maisonette; apartment","Owned","8 rooms or more",{"$f":"VLOOKUP(G2325,Cntrol!$F$3:$G$9,2,FALSE)","v":5},1,0,1,0,0,0]
["E01022208","E01022208 Cotswold 009D","E01022208",{"$f":"VLOOKUP(A2326,'Output Areas'!$A:$E,5,FALSE)","v":"Small Settlements"},"A flat; maisonette; apartment","Shared ownership or rented (excluding living rent free)","Total: Number of rooms",{"$f":"VLOOKUP(G2326,Cntrol!$F$3:$G$9,2,FALSE)","v":0},9,5,1,0,1,2]
["E01022208","E01022208 Cotswold 009D","E01022208",{"$f":"VLOOKUP(A2327,'Output Areas'!$A:$E,5,FALSE)","v":"Small Settlements"},"A flat; maisonette; apartment","Shared ownership or rented (excluding living rent free)","3 rooms or less",{"$f":"VLOOKUP(G2327,Cntrol!$F$3:$G$9,2,FALSE)","v":2},5,2,1,0,0,2]
["E01022208","E01022208 Cotswold 009D","E01022208",{"$f":"VLOOKUP(A2328,'Output Areas'!$A:$E,5,FALSE)","v":"Small Settlements"},"A flat; maisonette; apartment","Shared ownership or rented (excluding living rent free)","4 rooms",{"$f":"VLOOKUP(G2328,Cntrol!$F$3:$G$9,2,FALSE)","v":2},3,2,0,0,1,0]
["E01022208","E01022208 Cotswold 009D","E01022208",{"$f":"VLOOKUP(A2329,'Output Areas'!$A:$E,5,FALSE)","v":"Small Settlements"},"A flat; maisonette; apartment","Shared ownership or rented (excluding living rent free)","5 rooms",{"$f":"VLOOKUP(G2329,Cntrol!$F$3:$G$9,2,FALSE)","v":3},1,1,0,0,0,0]
["E01022209","E01022209 Cotswold 009E","E01022209",{"$f":"VLOOKUP(A2330,'Output Areas'!$A:$E,5,FALSE)","v":"Rural"},"Total: Accommodation type (excluding caravans / temporary structures)","Total: Tenure (excluding living rent free)","Total: Number of rooms",{"$f":"VLOOKUP(G2330,Cntrol!$F$3:$G$9,2,FALSE)","v":0},435,128,188,66,29,24]
["E01022209","E01022209 Cotswold 009E","E01022209",{"$f":"VLOOKUP(A2331,'Output Areas'!$A:$E,5,FALSE)","v":"Rural"},"Total: Accommodation type (excluding caravans / temporary structures)","Total: Tenure (excluding living rent free)","3 rooms or less",{"$f":"VLOOKUP(G2331,Cntrol!$F$3:$G$9,2,FALSE)","v":2},12,3,1,1,0,7]
["E01022209","E01022209 Cotswold 009E","E01022209",{"$f":"VLOOKUP(A2332,'Output Areas'!$A:$E,5,FALSE)","v":"Rural"},"Total: Accommodation type (excluding caravans / temporary structures)","Total: Tenure (excluding living rent free)","4 rooms",{"$f":"VLOOKUP(G2332,Cntrol!$F$3:$G$9,2,FALSE)","v":2},49,27,11,2,0,9]
["E01022209","E01022209 Cotswold 009E","E01022209",{"$f":"VLOOKUP(A2333,'Output Areas'!$A:$E,5,FALSE)","v":"Rural"},"Total: Accommodation type (excluding caravans / temporary structures)","Total: Tenure (excluding living rent free)","5 rooms",{"$f":"VLOOKUP(G2333,Cntrol!$F$3:$G$9,2,FALSE)","v":3},102,45,35,12,4,6]
["E01022209","E01022209 Cotswold 009E","E01022209",{"$f":"VLOOKUP(A2334,'Output Areas'!$A:$E,5,FALSE)","v":"Rural"},"Total: Accommodation type (excluding caravans / temporary structures)","Total: Tenure (excluding living rent free)","6 rooms",{"$f":"VLOOKUP(G2334,Cntrol!$F$3:$G$9,2,FALSE)","v":3},63,16,35,9,2,1]
["E01022209","E01022209 Cotswold 009E","E01022209",{"$f":"VLOOKUP(A2335,'Output Areas'!$A:$E,5,FALSE)","v":"Rural"},"Total: Accommodation type (excluding caravans / temporary structures)","Total: Tenure (excluding living rent free)","7 rooms",{"$f":"VLOOKUP(G2335,Cntrol!$F$3:$G$9,2,FALSE)","v":4},70,18,32,15,4,1]
["E01022209","E01022209 Cotswold 009E","E01022209",{"$f":"VLOOKUP(A2336,'Output Areas'!$A:$E,5,FALSE)","v":"Rural"},"Total: Accommodation type (excluding caravans / temporary structures)","Total: Tenure (excluding living rent free)","8 rooms or more",{"$f":"VLOOKUP(G2336,Cntrol!$F$3:$G$9,2,FALSE)","v":5},139,19,74,27,19,0]
["E01022209","E01022209 Cotswold 009E","E01022209",{"$f":"VLOOKUP(A2337,'Output Areas'!$A:$E,5,FALSE)","v":"Rural"},"Total: Accommodation type (excluding caravans / temporary structures)","Owned","Total: Number of rooms",{"$f":"VLOOKUP(G2337,Cntrol!$F$3:$G$9,2,FALSE)","v":0},328,77,155,58,28,10]
["E01022209","E01022209 Cotswold 009E","E01022209",{"$f":"VLOOKUP(A2338,'Output Areas'!$A:$E,5,FALSE)","v":"Rural"},"Total: Accommodation type (excluding caravans / temporary structures)","Owned","3 rooms or less",{"$f":"VLOOKUP(G2338,Cntrol!$F$3:$G$9,2,FALSE)","v":2},1,0,0,0,0,1]
["E01022209","E01022209 Cotswold 009E","E01022209",{"$f":"VLOOKUP(A2339,'Output Areas'!$A:$E,5,FALSE)","v":"Rural"},"Total: Accommodation type (excluding caravans / temporary structures)","Owned","4 rooms",{"$f":"VLOOKUP(G2339,Cntrol!$F$3:$G$9,2,FALSE)","v":2},17,8,2,2,0,5]
["E01022209","E01022209 Cotswold 009E","E01022209",{"$f":"VLOOKUP(A2340,'Output Areas'!$A:$E,5,FALSE)","v":"Rural"},"Total: Accommodation type (excluding caravans / temporary structures)","Owned","5 rooms",{"$f":"VLOOKUP(G2340,Cntrol!$F$3:$G$9,2,FALSE)","v":3},62,23,24,10,3,2]
["E01022209","E01022209 Cotswold 009E","E01022209",{"$f":"VLOOKUP(A2341,'Output Areas'!$A:$E,5,FALSE)","v":"Rural"},"Total: Accommodation type (excluding caravans / temporary structures)","Owned","6 rooms",{"$f":"VLOOKUP(G2341,Cntrol!$F$3:$G$9,2,FALSE)","v":3},48,11,28,6,2,1]
["E01022209","E01022209 Cotswold 009E","E01022209",{"$f":"VLOOKUP(A2342,'Output Areas'!$A:$E,5,FALSE)","v":"Rural"},"Total: Accommodation type (excluding caravans / temporary structures)","Owned","7 rooms",{"$f":"VLOOKUP(G2342,Cntrol!$F$3:$G$9,2,FALSE)","v":4},67,18,30,14,4,1]
["E01022209","E01022209 Cotswold 009E","E01022209",{"$f":"VLOOKUP(A2343,'Output Areas'!$A:$E,5,FALSE)","v":"Rural"},"Total: Accommodation type (excluding caravans / temporary structures)","Owned","8 rooms or more",{"$f":"VLOOKUP(G2343,Cntrol!$F$3:$G$9,2,FALSE)","v":5},133,17,71,26,19,0]
["E01022209","E01022209 Cotswold 009E","E01022209",{"$f":"VLOOKUP(A2344,'Output Areas'!$A:$E,5,FALSE)","v":"Rural"},"Total: Accommodation type (excluding caravans / temporary structures)","Shared ownership or rented (excluding living rent free)","Total: Number of rooms",{"$f":"VLOOKUP(G2344,Cntrol!$F$3:$G$9,2,FALSE)","v":0},107,51,33,8,1,14]
["E01022209","E01022209 Cotswold 009E","E01022209",{"$f":"VLOOKUP(A2345,'Output Areas'!$A:$E,5,FALSE)","v":"Rural"},"Total: Accommodation type (excluding caravans / temporary structures)","Shared ownership or rented (excluding living rent free)","3 rooms or less",{"$f":"VLOOKUP(G2345,Cntrol!$F$3:$G$9,2,FALSE)","v":2},11,3,1,1,0,6]
["E01022209","E01022209 Cotswold 009E","E01022209",{"$f":"VLOOKUP(A2346,'Output Areas'!$A:$E,5,FALSE)","v":"Rural"},"Total: Accommodation type (excluding caravans / temporary structures)","Shared ownership or rented (excluding living rent free)","4 rooms",{"$f":"VLOOKUP(G2346,Cntrol!$F$3:$G$9,2,FALSE)","v":2},32,19,9,0,0,4]
["E01022209","E01022209 Cotswold 009E","E01022209",{"$f":"VLOOKUP(A2347,'Output Areas'!$A:$E,5,FALSE)","v":"Rural"},"Total: Accommodation type (excluding caravans / temporary structures)","Shared ownership or rented (excluding living rent free)","5 rooms",{"$f":"VLOOKUP(G2347,Cntrol!$F$3:$G$9,2,FALSE)","v":3},40,22,11,2,1,4]
["E01022209","E01022209 Cotswold 009E","E01022209",{"$f":"VLOOKUP(A2348,'Output Areas'!$A:$E,5,FALSE)","v":"Rural"},"Total: Accommodation type (excluding caravans / temporary structures)","Shared ownership or rented (excluding living rent free)","6 rooms",{"$f":"VLOOKUP(G2348,Cntrol!$F$3:$G$9,2,FALSE)","v":3},15,5,7,3,0,0]
["E01022209","E01022209 Cotswold 009E","E01022209",{"$f":"VLOOKUP(A2349,'Output Areas'!$A:$E,5,FALSE)","v":"Rural"},"Total: Accommodation type (excluding caravans / temporary structures)","Shared ownership or rented (excluding living rent free)","7 rooms",{"$f":"VLOOKUP(G2349,Cntrol!$F$3:$G$9,2,FALSE)","v":4},3,0,2,1,0,0]
["E01022209","E01022209 Cotswold 009E","E01022209",{"$f":"VLOOKUP(A2350,'Output Areas'!$A:$E,5,FALSE)","v":"Rural"},"Total: Accommodation type (excluding caravans / temporary structures)","Shared ownership or rented (excluding living rent free)","8 rooms or more",{"$f":"VLOOKUP(G2350,Cntrol!$F$3:$G$9,2,FALSE)","v":5},6,2,3,1,0,0]
["E01022209","E01022209 Cotswold 009E","E01022209",{"$f":"VLOOKUP(A2351,'Output Areas'!$A:$E,5,FALSE)","v":"Rural"},"Detached; semi-detached; terraced whole house or bungalow","Total: Tenure (excluding living rent free)","Total: Number of rooms",{"$f":"VLOOKUP(G2351,Cntrol!$F$3:$G$9,2,FALSE)","v":0},410,116,183,66,29,16]
["E01022209","E01022209 Cotswold 009E","E01022209",{"$f":"VLOOKUP(A2352,'Output Areas'!$A:$E,5,FALSE)","v":"Rural"},"Detached; semi-detached; terraced whole house or bungalow","Total: Tenure (excluding living rent free)","3 rooms or less",{"$f":"VLOOKUP(G2352,Cntrol!$F$3:$G$9,2,FALSE)","v":2},3,0,0,1,0,2]
["E01022209","E01022209 Cotswold 009E","E01022209",{"$f":"VLOOKUP(A2353,'Output Areas'!$A:$E,5,FALSE)","v":"Rural"},"Detached; semi-detached; terraced whole house or bungalow","Total: Tenure (excluding living rent free)","4 rooms",{"$f":"VLOOKUP(G2353,Cntrol!$F$3:$G$9,2,FALSE)","v":2},36,20,8,2,0,6]
["E01022209","E01022209 Cotswold 009E","E01022209",{"$f":"VLOOKUP(A2354,'Output Areas'!$A:$E,5,FALSE)","v":"Rural"},"Detached; semi-detached; terraced whole house or bungalow","Total: Tenure (excluding living rent free)","5 rooms",{"$f":"VLOOKUP(G2354,Cntrol!$F$3:$G$9,2,FALSE)","v":3},101,44,35,12,4,6]
["E01022209","E01022209 Cotswold 009E","E01022209",{"$f":"VLOOKUP(A2355,'Output Areas'!$A:$E,5,FALSE)","v":"Rural"},"Detached; semi-detached; terraced whole house or bungalow","Total: Tenure (excluding living rent free)","6 rooms",{"$f":"VLOOKUP(G2355,Cntrol!$F$3:$G$9,2,FALSE)","v":3},62,15,35,9,2,1]
["E01022209","E01022209 Cotswold 009E","E01022209",{"$f":"VLOOKUP(A2356,'Output Areas'!$A:$E,5,FALSE)","v":"Rural"},"Detached; semi-detached; terraced whole house or bungalow","Total: Tenure (excluding living rent free)","7 rooms",{"$f":"VLOOKUP(G2356,Cntrol!$F$3:$G$9,2,FALSE)","v":4},70,18,32,15,4,1]
["E01022209","E01022209 Cotswold 009E","E01022209",{"$f":"VLOOKUP(A2357,'Output Areas'!$A:$E,5,FALSE)","v":"Rural"},"Detached; semi-detached; terraced whole house or bungalow","Total: Tenure (excluding living rent free)","8 rooms or more",{"$f":"VLOOKUP(G2357,Cntrol!$F$3:$G$9,2,FALSE)","v":5},138,19,73,27,19,0]
["E01022209","E01022209 Cotswold 009E","E01022209",{"$f":"VLOOKUP(A2358,'Output Areas'!$A:$E,5,FALSE)","v":"Rural"},"Detached; semi-detached; terraced whole house or bungalow","Owned","Total: Number of rooms",{"$f":"VLOOKUP(G2358,Cntrol!$F$3:$G$9,2,FALSE)","v":0},326,75,155,58,28,10]
["E01022209","E01022209 Cotswold 009E","E01022209",{"$f":"VLOOKUP(A2359,'Output Areas'!$A:$E,5,FALSE)","v":"Rural"},"Detached; semi-detached; terraced whole house or bungalow","Owned","3 rooms or less",{"$f":"VLOOKUP(G2359,Cntrol!$F$3:$G$9,2,FALSE)","v":2},1,0,0,0,0,1]
["E01022209","E01022209 Cotswold 009E","E01022209",{"$f":"VLOOKUP(A2360,'Output Areas'!$A:$E,5,FALSE)","v":"Rural"},"Detached; semi-detached; terraced whole house or bungalow","Owned","4 rooms",{"$f":"VLOOKUP(G2360,Cntrol!$F$3:$G$9,2,FALSE)","v":2},17,8,2,2,0,5]
["E01022209","E01022209 Cotswold 009E","E01022209",{"$f":"VLOOKUP(A2361,'Output Areas'!$A:$E,5,FALSE)","v":"Rural"},"Detached; semi-detached; terraced whole house or bungalow","Owned","5 rooms",{"$f":"VLOOKUP(G2361,Cntrol!$F$3:$G$9,2,FALSE)","v":3},61,22,24,10,3,2]
["E01022209","E01022209 Cotswold 009E","E01022209",{"$f":"VLOOKUP(A2362,'Output Areas'!$A:$E,5,FALSE)","v":"Rural"},"Detached; semi-detached; terraced whole house or bungalow","Owned","6 rooms",{"$f":"VLOOKUP(G2362,Cntrol!$F$3:$G$9,2,FALSE)","v":3},47,10,28,6,2,1]
["E01022209","E01022209 Cotswold 009E","E01022209",{"$f":"VLOOKUP(A2363,'Output Areas'!$A:$E,5,FALSE)","v":"Rural"},"Detached; semi-detached; terraced whole house or bungalow","Owned","7 rooms",{"$f":"VLOOKUP(G2363,Cntrol!$F$3:$G$9,2,FALSE)","v":4},67,18,30,14,4,1]
["E01022209","E01022209 Cotswold 009E","E01022209",{"$f":"VLOOKUP(A2364,'Output Areas'!$A:$E,5,FALSE)","v":"Rural"},"Detached; semi-detached; terraced whole house or bungalow","Owned","8 rooms or more",{"$f":"VLOOKUP(G2364,Cntrol!$F$3:$G$9,2,FALSE)","v":5},133,17,71,26,19,0]
["E01022209","E01022209 Cotswold 009E","E01022209",{"$f":"VLOOKUP(A2365,'Output Areas'!$A:$E,5,FALSE)","v":"Rural"},"Detached; semi-detached; terraced whole house or bungalow","Shared ownership or rented (excluding living rent free)","Total: Number of rooms",{"$f":"VLOOKUP(G2365,Cntrol!$F$3:$G$9,2,FALSE)","v":0},84,41,28,8,1,6]
["E01022209","E01022209 Cotswold 009E","E01022209",{"$f":"VLOOKUP(A2366,'Output Areas'!$A:$E,5,FALSE)","v":"Rural"},"Detached; semi-detached; terraced whole house or bungalow","Shared ownership or rented (excluding living rent free)","3 rooms or less",{"$f":"VLOOKUP(G2366,Cntrol!$F$3:$G$9,2,FALSE)","v":2},2,0,0,1,0,1]
["E01022209","E01022209 Cotswold 009E","E01022209",{"$f":"VLOOKUP(A2367,'Output Areas'!$A:$E,5,FALSE)","v":"Rural"},"Detached; semi-detached; terraced whole house or bungalow","Shared ownership or rented (excluding living rent free)","4 rooms",{"$f":"VLOOKUP(G2367,Cntrol!$F$3:$G$9,2,FALSE)","v":2},19,12,6,0,0,1]
["E01022209","E01022209 Cotswold 009E","E01022209",{"$f":"VLOOKUP(A2368,'Output Areas'!$A:$E,5,FALSE)","v":"Rural"},"Detached; semi-detached; terraced whole house or bungalow","Shared ownership or rented (excluding living rent free)","5 rooms",{"$f":"VLOOKUP(G2368,Cntrol!$F$3:$G$9,2,FALSE)","v":3},40,22,11,2,1,4]
["E01022209","E01022209 Cotswold 009E","E01022209",{"$f":"VLOOKUP(A2369,'Output Areas'!$A:$E,5,FALSE)","v":"Rural"},"Detached; semi-detached; terraced whole house or bungalow","Shared ownership or rented (excluding living rent free)","6 rooms",{"$f":"VLOOKUP(G2369,Cntrol!$F$3:$G$9,2,FALSE)","v":3},15,5,7,3,0,0]
["E01022209","E01022209 Cotswold 009E","E01022209",{"$f":"VLOOKUP(A2370,'Output Areas'!$A:$E,5,FALSE)","v":"Rural"},"Detached; semi-detached; terraced whole house or bungalow","Shared ownership or rented (excluding living rent free)","7 rooms",{"$f":"VLOOKUP(G2370,Cntrol!$F$3:$G$9,2,FALSE)","v":4},3,0,2,1,0,0]
["E01022209","E01022209 Cotswold 009E","E01022209",{"$f":"VLOOKUP(A2371,'Output Areas'!$A:$E,5,FALSE)","v":"Rural"},"Detached; semi-detached; terraced whole house or bungalow","Shared ownership or rented (excluding living rent free)","8 rooms or more",{"$f":"VLOOKUP(G2371,Cntrol!$F$3:$G$9,2,FALSE)","v":5},5,2,2,1,0,0]
["E01022209","E01022209 Cotswold 009E","E01022209",{"$f":"VLOOKUP(A2372,'Output Areas'!$A:$E,5,FALSE)","v":"Rural"},"A flat; maisonette; apartment","Total: Tenure (excluding living rent free)","Total: Number of rooms",{"$f":"VLOOKUP(G2372,Cntrol!$F$3:$G$9,2,FALSE)","v":0},25,12,5,0,0,8]
["E01022209","E01022209 Cotswold 009E","E01022209",{"$f":"VLOOKUP(A2373,'Output Areas'!$A:$E,5,FALSE)","v":"Rural"},"A flat; maisonette; apartment","Total: Tenure (excluding living rent free)","3 rooms or less",{"$f":"VLOOKUP(G2373,Cntrol!$F$3:$G$9,2,FALSE)","v":2},9,3,1,0,0,5]
["E01022209","E01022209 Cotswold 009E","E01022209",{"$f":"VLOOKUP(A2374,'Output Areas'!$A:$E,5,FALSE)","v":"Rural"},"A flat; maisonette; apartment","Total: Tenure (excluding living rent free)","4 rooms",{"$f":"VLOOKUP(G2374,Cntrol!$F$3:$G$9,2,FALSE)","v":2},13,7,3,0,0,3]
["E01022209","E01022209 Cotswold 009E","E01022209",{"$f":"VLOOKUP(A2375,'Output Areas'!$A:$E,5,FALSE)","v":"Rural"},"A flat; maisonette; apartment","Total: Tenure (excluding living rent free)","5 rooms",{"$f":"VLOOKUP(G2375,Cntrol!$F$3:$G$9,2,FALSE)","v":3},1,1,0,0,0,0]
["E01022209","E01022209 Cotswold 009E","E01022209",{"$f":"VLOOKUP(A2376,'Output Areas'!$A:$E,5,FALSE)","v":"Rural"},"A flat; maisonette; apartment","Total: Tenure (excluding living rent free)","6 rooms",{"$f":"VLOOKUP(G2376,Cntrol!$F$3:$G$9,2,FALSE)","v":3},1,1,0,0,0,0]
["E01022209","E01022209 Cotswold 009E","E01022209",{"$f":"VLOOKUP(A2377,'Output Areas'!$A:$E,5,FALSE)","v":"Rural"},"A flat; maisonette; apartment","Total: Tenure (excluding living rent free)","8 rooms or more",{"$f":"VLOOKUP(G2377,Cntrol!$F$3:$G$9,2,FALSE)","v":5},1,0,1,0,0,0]
["E01022209","E01022209 Cotswold 009E","E01022209",{"$f":"VLOOKUP(A2378,'Output Areas'!$A:$E,5,FALSE)","v":"Rural"},"A flat; maisonette; apartment","Owned","Total: Number of rooms",{"$f":"VLOOKUP(G2378,Cntrol!$F$3:$G$9,2,FALSE)","v":0},2,2,0,0,0,0]
["E01022209","E01022209 Cotswold 009E","E01022209",{"$f":"VLOOKUP(A2379,'Output Areas'!$A:$E,5,FALSE)","v":"Rural"},"A flat; maisonette; apartment","Owned","5 rooms",{"$f":"VLOOKUP(G2379,Cntrol!$F$3:$G$9,2,FALSE)","v":3},1,1,0,0,0,0]
["E01022209","E01022209 Cotswold 009E","E01022209",{"$f":"VLOOKUP(A2380,'Output Areas'!$A:$E,5,FALSE)","v":"Rural"},"A flat; maisonette; apartment","Owned","6 rooms",{"$f":"VLOOKUP(G2380,Cntrol!$F$3:$G$9,2,FALSE)","v":3},1,1,0,0,0,0]
["E01022209","E01022209 Cotswold 009E","E01022209",{"$f":"VLOOKUP(A2381,'Output Areas'!$A:$E,5,FALSE)","v":"Rural"},"A flat; maisonette; apartment","Shared ownership or rented (excluding living rent free)","Total: Number of rooms",{"$f":"VLOOKUP(G2381,Cntrol!$F$3:$G$9,2,FALSE)","v":0},23,10,5,0,0,8]
["E01022209","E01022209 Cotswold 009E","E01022209",{"$f":"VLOOKUP(A2382,'Output Areas'!$A:$E,5,FALSE)","v":"Rural"},"A flat; maisonette; apartment","Shared ownership or rented (excluding living rent free)","3 rooms or less",{"$f":"VLOOKUP(G2382,Cntrol!$F$3:$G$9,2,FALSE)","v":2},9,3,1,0,0,5]
["E01022209","E01022209 Cotswold 009E","E01022209",{"$f":"VLOOKUP(A2383,'Output Areas'!$A:$E,5,FALSE)","v":"Rural"},"A flat; maisonette; apartment","Shared ownership or rented (excluding living rent free)","4 rooms",{"$f":"VLOOKUP(G2383,Cntrol!$F$3:$G$9,2,FALSE)","v":2},13,7,3,0,0,3]
["E01022209","E01022209 Cotswold 009E","E01022209",{"$f":"VLOOKUP(A2384,'Output Areas'!$A:$E,5,FALSE)","v":"Rural"},"A flat; maisonette; apartment","Shared ownership or rented (excluding living rent free)","8 rooms or more",{"$f":"VLOOKUP(G2384,Cntrol!$F$3:$G$9,2,FALSE)","v":5},1,0,1,0,0,0]
["E01022210","E01022210 Cotswold 009F","E01022210",{"$f":"VLOOKUP(A2385,'Output Areas'!$A:$E,5,FALSE)","v":"Small Settlements"},"Total: Accommodation type (excluding caravans / temporary structures)","Total: Tenure (excluding living rent free)","Total: Number of rooms",{"$f":"VLOOKUP(G2385,Cntrol!$F$3:$G$9,2,FALSE)","v":0},521,253,146,26,9,87]
["E01022210","E01022210 Cotswold 009F","E01022210",{"$f":"VLOOKUP(A2386,'Output Areas'!$A:$E,5,FALSE)","v":"Small Settlements"},"Total: Accommodation type (excluding caravans / temporary structures)","Total: Tenure (excluding living rent free)","3 rooms or less",{"$f":"VLOOKUP(G2386,Cntrol!$F$3:$G$9,2,FALSE)","v":2},75,27,13,0,0,35]
["E01022210","E01022210 Cotswold 009F","E01022210",{"$f":"VLOOKUP(A2387,'Output Areas'!$A:$E,5,FALSE)","v":"Small Settlements"},"Total: Accommodation type (excluding caravans / temporary structures)","Total: Tenure (excluding living rent free)","4 rooms",{"$f":"VLOOKUP(G2387,Cntrol!$F$3:$G$9,2,FALSE)","v":2},108,65,18,0,0,25]
["E01022210","E01022210 Cotswold 009F","E01022210",{"$f":"VLOOKUP(A2388,'Output Areas'!$A:$E,5,FALSE)","v":"Small Settlements"},"Total: Accommodation type (excluding caravans / temporary structures)","Total: Tenure (excluding living rent free)","5 rooms",{"$f":"VLOOKUP(G2388,Cntrol!$F$3:$G$9,2,FALSE)","v":3},129,78,29,7,1,14]
["E01022210","E01022210 Cotswold 009F","E01022210",{"$f":"VLOOKUP(A2389,'Output Areas'!$A:$E,5,FALSE)","v":"Small Settlements"},"Total: Accommodation type (excluding caravans / temporary structures)","Total: Tenure (excluding living rent free)","6 rooms",{"$f":"VLOOKUP(G2389,Cntrol!$F$3:$G$9,2,FALSE)","v":3},89,46,31,2,1,9]
["E01022210","E01022210 Cotswold 009F","E01022210",{"$f":"VLOOKUP(A2390,'Output Areas'!$A:$E,5,FALSE)","v":"Small Settlements"},"Total: Accommodation type (excluding caravans / temporary structures)","Total: Tenure (excluding living rent free)","7 rooms",{"$f":"VLOOKUP(G2390,Cntrol!$F$3:$G$9,2,FALSE)","v":4},48,17,19,6,3,3]
["E01022210","E01022210 Cotswold 009F","E01022210",{"$f":"VLOOKUP(A2391,'Output Areas'!$A:$E,5,FALSE)","v":"Small Settlements"},"Total: Accommodation type (excluding caravans / temporary structures)","Total: Tenure (excluding living rent free)","8 rooms or more",{"$f":"VLOOKUP(G2391,Cntrol!$F$3:$G$9,2,FALSE)","v":5},72,20,36,11,4,1]
["E01022210","E01022210 Cotswold 009F","E01022210",{"$f":"VLOOKUP(A2392,'Output Areas'!$A:$E,5,FALSE)","v":"Small Settlements"},"Total: Accommodation type (excluding caravans / temporary structures)","Owned","Total: Number of rooms",{"$f":"VLOOKUP(G2392,Cntrol!$F$3:$G$9,2,FALSE)","v":0},271,125,101,21,7,17]
["E01022210","E01022210 Cotswold 009F","E01022210",{"$f":"VLOOKUP(A2393,'Output Areas'!$A:$E,5,FALSE)","v":"Small Settlements"},"Total: Accommodation type (excluding caravans / temporary structures)","Owned","3 rooms or less",{"$f":"VLOOKUP(G2393,Cntrol!$F$3:$G$9,2,FALSE)","v":2},6,2,4,0,0,0]
["E01022210","E01022210 Cotswold 009F","E01022210",{"$f":"VLOOKUP(A2394,'Output Areas'!$A:$E,5,FALSE)","v":"Small Settlements"},"Total: Accommodation type (excluding caravans / temporary structures)","Owned","4 rooms",{"$f":"VLOOKUP(G2394,Cntrol!$F$3:$G$9,2,FALSE)","v":2},22,13,6,0,0,3]
["E01022210","E01022210 Cotswold 009F","E01022210",{"$f":"VLOOKUP(A2395,'Output Areas'!$A:$E,5,FALSE)","v":"Small Settlements"},"Total: Accommodation type (excluding caravans / temporary structures)","Owned","5 rooms",{"$f":"VLOOKUP(G2395,Cntrol!$F$3:$G$9,2,FALSE)","v":3},74,47,18,4,0,5]
["E01022210","E01022210 Cotswold 009F","E01022210",{"$f":"VLOOKUP(A2396,'Output Areas'!$A:$E,5,FALSE)","v":"Small Settlements"},"Total: Accommodation type (excluding caravans / temporary structures)","Owned","6 rooms",{"$f":"VLOOKUP(G2396,Cntrol!$F$3:$G$9,2,FALSE)","v":3},68,33,25,2,1,7]
["E01022210","E01022210 Cotswold 009F","E01022210",{"$f":"VLOOKUP(A2397,'Output Areas'!$A:$E,5,FALSE)","v":"Small Settlements"},"Total: Accommodation type (excluding caravans / temporary structures)","Owned","7 rooms",{"$f":"VLOOKUP(G2397,Cntrol!$F$3:$G$9,2,FALSE)","v":4},38,14,15,4,3,2]
["E01022210","E01022210 Cotswold 009F","E01022210",{"$f":"VLOOKUP(A2398,'Output Areas'!$A:$E,5,FALSE)","v":"Small Settlements"},"Total: Accommodation type (excluding caravans / temporary structures)","Owned","8 rooms or more",{"$f":"VLOOKUP(G2398,Cntrol!$F$3:$G$9,2,FALSE)","v":5},63,16,33,11,3,0]
["E01022210","E01022210 Cotswold 009F","E01022210",{"$f":"VLOOKUP(A2399,'Output Areas'!$A:$E,5,FALSE)","v":"Small Settlements"},"Total: Accommodation type (excluding caravans / temporary structures)","Shared ownership or rented (excluding living rent free)","Total: Number of rooms",{"$f":"VLOOKUP(G2399,Cntrol!$F$3:$G$9,2,FALSE)","v":0},250,128,45,5,2,70]
["E01022210","E01022210 Cotswold 009F","E01022210",{"$f":"VLOOKUP(A2400,'Output Areas'!$A:$E,5,FALSE)","v":"Small Settlements"},"Total: Accommodation type (excluding caravans / temporary structures)","Shared ownership or rented (excluding living rent free)","3 rooms or less",{"$f":"VLOOKUP(G2400,Cntrol!$F$3:$G$9,2,FALSE)","v":2},69,25,9,0,0,35]
["E01022210","E01022210 Cotswold 009F","E01022210",{"$f":"VLOOKUP(A2401,'Output Areas'!$A:$E,5,FALSE)","v":"Small Settlements"},"Total: Accommodation type (excluding caravans / temporary structures)","Shared ownership or rented (excluding living rent free)","4 rooms",{"$f":"VLOOKUP(G2401,Cntrol!$F$3:$G$9,2,FALSE)","v":2},86,52,12,0,0,22]
["E01022210","E01022210 Cotswold 009F","E01022210",{"$f":"VLOOKUP(A2402,'Output Areas'!$A:$E,5,FALSE)","v":"Small Settlements"},"Total: Accommodation type (excluding caravans / temporary structures)","Shared ownership or rented (excluding living rent free)","5 rooms",{"$f":"VLOOKUP(G2402,Cntrol!$F$3:$G$9,2,FALSE)","v":3},55,31,11,3,1,9]
["E01022210","E01022210 Cotswold 009F","E01022210",{"$f":"VLOOKUP(A2403,'Output Areas'!$A:$E,5,FALSE)","v":"Small Settlements"},"Total: Accommodation type (excluding caravans / temporary structures)","Shared ownership or rented (excluding living rent free)","6 rooms",{"$f":"VLOOKUP(G2403,Cntrol!$F$3:$G$9,2,FALSE)","v":3},21,13,6,0,0,2]
["E01022210","E01022210 Cotswold 009F","E01022210",{"$f":"VLOOKUP(A2404,'Output Areas'!$A:$E,5,FALSE)","v":"Small Settlements"},"Total: Accommodation type (excluding caravans / temporary structures)","Shared ownership or rented (excluding living rent free)","7 rooms",{"$f":"VLOOKUP(G2404,Cntrol!$F$3:$G$9,2,FALSE)","v":4},10,3,4,2,0,1]
["E01022210","E01022210 Cotswold 009F","E01022210",{"$f":"VLOOKUP(A2405,'Output Areas'!$A:$E,5,FALSE)","v":"Small Settlements"},"Total: Accommodation type (excluding caravans / temporary structures)","Shared ownership or rented (excluding living rent free)","8 rooms or more",{"$f":"VLOOKUP(G2405,Cntrol!$F$3:$G$9,2,FALSE)","v":5},9,4,3,0,1,1]
["E01022210","E01022210 Cotswold 009F","E01022210",{"$f":"VLOOKUP(A2406,'Output Areas'!$A:$E,5,FALSE)","v":"Small Settlements"},"Detached; semi-detached; terraced whole house or bungalow","Total: Tenure (excluding living rent free)","Total: Number of rooms",{"$f":"VLOOKUP(G2406,Cntrol!$F$3:$G$9,2,FALSE)","v":0},414,203,133,26,9,43]
["E01022210","E01022210 Cotswold 009F","E01022210",{"$f":"VLOOKUP(A2407,'Output Areas'!$A:$E,5,FALSE)","v":"Small Settlements"},"Detached; semi-detached; terraced whole house or bungalow","Total: Tenure (excluding living rent free)","3 rooms or less",{"$f":"VLOOKUP(G2407,Cntrol!$F$3:$G$9,2,FALSE)","v":2},14,5,6,0,0,3]
["E01022210","E01022210 Cotswold 009F","E01022210",{"$f":"VLOOKUP(A2408,'Output Areas'!$A:$E,5,FALSE)","v":"Small Settlements"},"Detached; semi-detached; terraced whole house or bungalow","Total: Tenure (excluding living rent free)","4 rooms",{"$f":"VLOOKUP(G2408,Cntrol!$F$3:$G$9,2,FALSE)","v":2},78,45,17,0,0,16]
["E01022210","E01022210 Cotswold 009F","E01022210",{"$f":"VLOOKUP(A2409,'Output Areas'!$A:$E,5,FALSE)","v":"Small Settlements"},"Detached; semi-detached; terraced whole house or bungalow","Total: Tenure (excluding living rent free)","5 rooms",{"$f":"VLOOKUP(G2409,Cntrol!$F$3:$G$9,2,FALSE)","v":3},117,72,25,7,1,12]
["E01022210","E01022210 Cotswold 009F","E01022210",{"$f":"VLOOKUP(A2410,'Output Areas'!$A:$E,5,FALSE)","v":"Small Settlements"},"Detached; semi-detached; terraced whole house or bungalow","Total: Tenure (excluding living rent free)","6 rooms",{"$f":"VLOOKUP(G2410,Cntrol!$F$3:$G$9,2,FALSE)","v":3},87,44,31,2,1,9]
["E01022210","E01022210 Cotswold 009F","E01022210",{"$f":"VLOOKUP(A2411,'Output Areas'!$A:$E,5,FALSE)","v":"Small Settlements"},"Detached; semi-detached; terraced whole house or bungalow","Total: Tenure (excluding living rent free)","7 rooms",{"$f":"VLOOKUP(G2411,Cntrol!$F$3:$G$9,2,FALSE)","v":4},47,17,18,6,3,3]
["E01022210","E01022210 Cotswold 009F","E01022210",{"$f":"VLOOKUP(A2412,'Output Areas'!$A:$E,5,FALSE)","v":"Small Settlements"},"Detached; semi-detached; terraced whole house or bungalow","Total: Tenure (excluding living rent free)","8 rooms or more",{"$f":"VLOOKUP(G2412,Cntrol!$F$3:$G$9,2,FALSE)","v":5},71,20,36,11,4,0]
["E01022210","E01022210 Cotswold 009F","E01022210",{"$f":"VLOOKUP(A2413,'Output Areas'!$A:$E,5,FALSE)","v":"Small Settlements"},"Detached; semi-detached; terraced whole house or bungalow","Owned","Total: Number of rooms",{"$f":"VLOOKUP(G2413,Cntrol!$F$3:$G$9,2,FALSE)","v":0},270,125,100,21,7,17]
["E01022210","E01022210 Cotswold 009F","E01022210",{"$f":"VLOOKUP(A2414,'Output Areas'!$A:$E,5,FALSE)","v":"Small Settlements"},"Detached; semi-detached; terraced whole house or bungalow","Owned","3 rooms or less",{"$f":"VLOOKUP(G2414,Cntrol!$F$3:$G$9,2,FALSE)","v":2},5,2,3,0,0,0]
["E01022210","E01022210 Cotswold 009F","E01022210",{"$f":"VLOOKUP(A2415,'Output Areas'!$A:$E,5,FALSE)","v":"Small Settlements"},"Detached; semi-detached; terraced whole house or bungalow","Owned","4 rooms",{"$f":"VLOOKUP(G2415,Cntrol!$F$3:$G$9,2,FALSE)","v":2},22,13,6,0,0,3]
["E01022210","E01022210 Cotswold 009F","E01022210",{"$f":"VLOOKUP(A2416,'Output Areas'!$A:$E,5,FALSE)","v":"Small Settlements"},"Detached; semi-detached; terraced whole house or bungalow","Owned","5 rooms",{"$f":"VLOOKUP(G2416,Cntrol!$F$3:$G$9,2,FALSE)","v":3},74,47,18,4,0,5]
["E01022210","E01022210 Cotswold 009F","E01022210",{"$f":"VLOOKUP(A2417,'Output Areas'!$A:$E,5,FALSE)","v":"Small Settlements"},"Detached; semi-detached; terraced whole house or bungalow","Owned","6 rooms",{"$f":"VLOOKUP(G2417,Cntrol!$F$3:$G$9,2,FALSE)","v":3},68,33,25,2,1,7]
["E01022210","E01022210 Cotswold 009F","E01022210",{"$f":"VLOOKUP(A2418,'Output Areas'!$A:$E,5,FALSE)","v":"Small Settlements"},"Detached; semi-detached; terraced whole house or bungalow","Owned","7 rooms",{"$f":"VLOOKUP(G2418,Cntrol!$F$3:$G$9,2,FALSE)","v":4},38,14,15,4,3,2]
["E01022210","E01022210 Cotswold 009F","E01022210",{"$f":"VLOOKUP(A2419,'Output Areas'!$A:$E,5,FALSE)","v":"Small Settlements"},"Detached; semi-detached; terraced whole house or bungalow","Owned","8 rooms or more",{"$f":"VLOOKUP(G2419,Cntrol!$F$3:$G$9,2,FALSE)","v":5},63,16,33,11,3,0]
["E01022210","E01022210 Cotswold 009F","E01022210",{"$f":"VLOOKUP(A2420,'Output Areas'!$A:$E,5,FALSE)","v":"Small Settlements"},"Detached; semi-detached; terraced whole house or bungalow","Shared ownership or rented (excluding living rent free)","Total: Number of rooms",{"$f":"VLOOKUP(G2420,Cntrol!$F$3:$G$9,2,FALSE)","v":0},144,78,33,5,2,26]
["E01022210","E01022210 Cotswold 009F","E01022210",{"$f":"VLOOKUP(A2421,'Output Areas'!$A:$E,5,FALSE)","v":"Small Settlements"},"Detached; semi-detached; terraced whole house or bungalow","Shared ownership or rented (excluding living rent free)","3 rooms or less",{"$f":"VLOOKUP(G2421,Cntrol!$F$3:$G$9,2,FALSE)","v":2},9,3,3,0,0,3]
["E01022210","E01022210 Cotswold 009F","E01022210",{"$f":"VLOOKUP(A2422,'Output Areas'!$A:$E,5,FALSE)","v":"Small Settlements"},"Detached; semi-detached; terraced whole house or bungalow","Shared ownership or rented (excluding living rent free)","4 rooms",{"$f":"VLOOKUP(G2422,Cntrol!$F$3:$G$9,2,FALSE)","v":2},56,32,11,0,0,13]
["E01022210","E01022210 Cotswold 009F","E01022210",{"$f":"VLOOKUP(A2423,'Output Areas'!$A:$E,5,FALSE)","v":"Small Settlements"},"Detached; semi-detached; terraced whole house or bungalow","Shared ownership or rented (excluding living rent free)","5 rooms",{"$f":"VLOOKUP(G2423,Cntrol!$F$3:$G$9,2,FALSE)","v":3},43,25,7,3,1,7]
["E01022210","E01022210 Cotswold 009F","E01022210",{"$f":"VLOOKUP(A2424,'Output Areas'!$A:$E,5,FALSE)","v":"Small Settlements"},"Detached; semi-detached; terraced whole house or bungalow","Shared ownership or rented (excluding living rent free)","6 rooms",{"$f":"VLOOKUP(G2424,Cntrol!$F$3:$G$9,2,FALSE)","v":3},19,11,6,0,0,2]
["E01022210","E01022210 Cotswold 009F","E01022210",{"$f":"VLOOKUP(A2425,'Output Areas'!$A:$E,5,FALSE)","v":"Small Settlements"},"Detached; semi-detached; terraced whole house or bungalow","Shared ownership or rented (excluding living rent free)","7 rooms",{"$f":"VLOOKUP(G2425,Cntrol!$F$3:$G$9,2,FALSE)","v":4},9,3,3,2,0,1]
["E01022210","E01022210 Cotswold 009F","E01022210",{"$f":"VLOOKUP(A2426,'Output Areas'!$A:$E,5,FALSE)","v":"Small Settlements"},"Detached; semi-detached; terraced whole house or bungalow","Shared ownership or rented (excluding living rent free)","8 rooms or more",{"$f":"VLOOKUP(G2426,Cntrol!$F$3:$G$9,2,FALSE)","v":5},8,4,3,0,1,0]
["E01022210","E01022210 Cotswold 009F","E01022210",{"$f":"VLOOKUP(A2427,'Output Areas'!$A:$E,5,FALSE)","v":"Small Settlements"},"A flat; maisonette; apartment","Total: Tenure (excluding living rent free)","Total: Number of rooms",{"$f":"VLOOKUP(G2427,Cntrol!$F$3:$G$9,2,FALSE)","v":0},107,50,13,0,0,44]
["E01022210","E01022210 Cotswold 009F","E01022210",{"$f":"VLOOKUP(A2428,'Output Areas'!$A:$E,5,FALSE)","v":"Small Settlements"},"A flat; maisonette; apartment","Total: Tenure (excluding living rent free)","3 rooms or less",{"$f":"VLOOKUP(G2428,Cntrol!$F$3:$G$9,2,FALSE)","v":2},61,22,7,0,0,32]
["E01022210","E01022210 Cotswold 009F","E01022210",{"$f":"VLOOKUP(A2429,'Output Areas'!$A:$E,5,FALSE)","v":"Small Settlements"},"A flat; maisonette; apartment","Total: Tenure (excluding living rent free)","4 rooms",{"$f":"VLOOKUP(G2429,Cntrol!$F$3:$G$9,2,FALSE)","v":2},30,20,1,0,0,9]
["E01022210","E01022210 Cotswold 009F","E01022210",{"$f":"VLOOKUP(A2430,'Output Areas'!$A:$E,5,FALSE)","v":"Small Settlements"},"A flat; maisonette; apartment","Total: Tenure (excluding living rent free)","5 rooms",{"$f":"VLOOKUP(G2430,Cntrol!$F$3:$G$9,2,FALSE)","v":3},12,6,4,0,0,2]
["E01022210","E01022210 Cotswold 009F","E01022210",{"$f":"VLOOKUP(A2431,'Output Areas'!$A:$E,5,FALSE)","v":"Small Settlements"},"A flat; maisonette; apartment","Total: Tenure (excluding living rent free)","6 rooms",{"$f":"VLOOKUP(G2431,Cntrol!$F$3:$G$9,2,FALSE)","v":3},2,2,0,0,0,0]
["E01022210","E01022210 Cotswold 009F","E01022210",{"$f":"VLOOKUP(A2432,'Output Areas'!$A:$E,5,FALSE)","v":"Small Settlements"},"A flat; maisonette; apartment","Total: Tenure (excluding living rent free)","7 rooms",{"$f":"VLOOKUP(G2432,Cntrol!$F$3:$G$9,2,FALSE)","v":4},1,0,1,0,0,0]
["E01022210","E01022210 Cotswold 009F","E01022210",{"$f":"VLOOKUP(A2433,'Output Areas'!$A:$E,5,FALSE)","v":"Small Settlements"},"A flat; maisonette; apartment","Total: Tenure (excluding living rent free)","8 rooms or more",{"$f":"VLOOKUP(G2433,Cntrol!$F$3:$G$9,2,FALSE)","v":5},1,0,0,0,0,1]
["E01022210","E01022210 Cotswold 009F","E01022210",{"$f":"VLOOKUP(A2434,'Output Areas'!$A:$E,5,FALSE)","v":"Small Settlements"},"A flat; maisonette; apartment","Owned","Total: Number of rooms",{"$f":"VLOOKUP(G2434,Cntrol!$F$3:$G$9,2,FALSE)","v":0},1,0,1,0,0,0]
["E01022210","E01022210 Cotswold 009F","E01022210",{"$f":"VLOOKUP(A2435,'Output Areas'!$A:$E,5,FALSE)","v":"Small Settlements"},"A flat; maisonette; apartment","Owned","3 rooms or less",{"$f":"VLOOKUP(G2435,Cntrol!$F$3:$G$9,2,FALSE)","v":2},1,0,1,0,0,0]
["E01022210","E01022210 Cotswold 009F","E01022210",{"$f":"VLOOKUP(A2436,'Output Areas'!$A:$E,5,FALSE)","v":"Small Settlements"},"A flat; maisonette; apartment","Shared ownership or rented (excluding living rent free)","Total: Number of rooms",{"$f":"VLOOKUP(G2436,Cntrol!$F$3:$G$9,2,FALSE)","v":0},106,50,12,0,0,44]
["E01022210","E01022210 Cotswold 009F","E01022210",{"$f":"VLOOKUP(A2437,'Output Areas'!$A:$E,5,FALSE)","v":"Small Settlements"},"A flat; maisonette; apartment","Shared ownership or rented (excluding living rent free)","3 rooms or less",{"$f":"VLOOKUP(G2437,Cntrol!$F$3:$G$9,2,FALSE)","v":2},60,22,6,0,0,32]
["E01022210","E01022210 Cotswold 009F","E01022210",{"$f":"VLOOKUP(A2438,'Output Areas'!$A:$E,5,FALSE)","v":"Small Settlements"},"A flat; maisonette; apartment","Shared ownership or rented (excluding living rent free)","4 rooms",{"$f":"VLOOKUP(G2438,Cntrol!$F$3:$G$9,2,FALSE)","v":2},30,20,1,0,0,9]
["E01022210","E01022210 Cotswold 009F","E01022210",{"$f":"VLOOKUP(A2439,'Output Areas'!$A:$E,5,FALSE)","v":"Small Settlements"},"A flat; maisonette; apartment","Shared ownership or rented (excluding living rent free)","5 rooms",{"$f":"VLOOKUP(G2439,Cntrol!$F$3:$G$9,2,FALSE)","v":3},12,6,4,0,0,2]
["E01022210","E01022210 Cotswold 009F","E01022210",{"$f":"VLOOKUP(A2440,'Output Areas'!$A:$E,5,FALSE)","v":"Small Settlements"},"A flat; maisonette; apartment","Shared ownership or rented (excluding living rent free)","6 rooms",{"$f":"VLOOKUP(G2440,Cntrol!$F$3:$G$9,2,FALSE)","v":3},2,2,0,0,0,0]
["E01022210","E01022210 Cotswold 009F","E01022210",{"$f":"VLOOKUP(A2441,'Output Areas'!$A:$E,5,FALSE)","v":"Small Settlements"},"A flat; maisonette; apartment","Shared ownership or rented (excluding living rent free)","7 rooms",{"$f":"VLOOKUP(G2441,Cntrol!$F$3:$G$9,2,FALSE)","v":4},1,0,1,0,0,0]
["E01022210","E01022210 Cotswold 009F","E01022210",{"$f":"VLOOKUP(A2442,'Output Areas'!$A:$E,5,FALSE)","v":"Small Settlements"},"A flat; maisonette; apartment","Shared ownership or rented (excluding living rent free)","8 rooms or more",{"$f":"VLOOKUP(G2442,Cntrol!$F$3:$G$9,2,FALSE)","v":5},1,0,0,0,0,1]
["E01022221","E01022221 Cotswold 010A","E01022221",{"$f":"VLOOKUP(A2443,'Output Areas'!$A:$E,5,FALSE)","v":"Rural"},"Total: Accommodation type (excluding caravans / temporary structures)","Total: Tenure (excluding living rent free)","Total: Number of rooms",{"$f":"VLOOKUP(G2443,Cntrol!$F$3:$G$9,2,FALSE)","v":0},768,267,324,94,34,49]
["E01022221","E01022221 Cotswold 010A","E01022221",{"$f":"VLOOKUP(A2444,'Output Areas'!$A:$E,5,FALSE)","v":"Rural"},"Total: Accommodation type (excluding caravans / temporary structures)","Total: Tenure (excluding living rent free)","3 rooms or less",{"$f":"VLOOKUP(G2444,Cntrol!$F$3:$G$9,2,FALSE)","v":2},22,17,2,0,0,3]
["E01022221","E01022221 Cotswold 010A","E01022221",{"$f":"VLOOKUP(A2445,'Output Areas'!$A:$E,5,FALSE)","v":"Rural"},"Total: Accommodation type (excluding caravans / temporary structures)","Total: Tenure (excluding living rent free)","4 rooms",{"$f":"VLOOKUP(G2445,Cntrol!$F$3:$G$9,2,FALSE)","v":2},103,58,29,3,0,13]
["E01022221","E01022221 Cotswold 010A","E01022221",{"$f":"VLOOKUP(A2446,'Output Areas'!$A:$E,5,FALSE)","v":"Rural"},"Total: Accommodation type (excluding caravans / temporary structures)","Total: Tenure (excluding living rent free)","5 rooms",{"$f":"VLOOKUP(G2446,Cntrol!$F$3:$G$9,2,FALSE)","v":3},141,59,53,8,4,17]
["E01022221","E01022221 Cotswold 010A","E01022221",{"$f":"VLOOKUP(A2447,'Output Areas'!$A:$E,5,FALSE)","v":"Rural"},"Total: Accommodation type (excluding caravans / temporary structures)","Total: Tenure (excluding living rent free)","6 rooms",{"$f":"VLOOKUP(G2447,Cntrol!$F$3:$G$9,2,FALSE)","v":3},115,46,46,11,6,6]
["E01022221","E01022221 Cotswold 010A","E01022221",{"$f":"VLOOKUP(A2448,'Output Areas'!$A:$E,5,FALSE)","v":"Rural"},"Total: Accommodation type (excluding caravans / temporary structures)","Total: Tenure (excluding living rent free)","7 rooms",{"$f":"VLOOKUP(G2448,Cntrol!$F$3:$G$9,2,FALSE)","v":4},110,38,48,14,5,5]
["E01022221","E01022221 Cotswold 010A","E01022221",{"$f":"VLOOKUP(A2449,'Output Areas'!$A:$E,5,FALSE)","v":"Rural"},"Total: Accommodation type (excluding caravans / temporary structures)","Total: Tenure (excluding living rent free)","8 rooms or more",{"$f":"VLOOKUP(G2449,Cntrol!$F$3:$G$9,2,FALSE)","v":5},277,49,146,58,19,5]
["E01022221","E01022221 Cotswold 010A","E01022221",{"$f":"VLOOKUP(A2450,'Output Areas'!$A:$E,5,FALSE)","v":"Rural"},"Total: Accommodation type (excluding caravans / temporary structures)","Owned","Total: Number of rooms",{"$f":"VLOOKUP(G2450,Cntrol!$F$3:$G$9,2,FALSE)","v":0},482,137,229,74,27,15]
["E01022221","E01022221 Cotswold 010A","E01022221",{"$f":"VLOOKUP(A2451,'Output Areas'!$A:$E,5,FALSE)","v":"Rural"},"Total: Accommodation type (excluding caravans / temporary structures)","Owned","3 rooms or less",{"$f":"VLOOKUP(G2451,Cntrol!$F$3:$G$9,2,FALSE)","v":2},3,2,1,0,0,0]
["E01022221","E01022221 Cotswold 010A","E01022221",{"$f":"VLOOKUP(A2452,'Output Areas'!$A:$E,5,FALSE)","v":"Rural"},"Total: Accommodation type (excluding caravans / temporary structures)","Owned","4 rooms",{"$f":"VLOOKUP(G2452,Cntrol!$F$3:$G$9,2,FALSE)","v":2},17,10,4,2,0,1]
["E01022221","E01022221 Cotswold 010A","E01022221",{"$f":"VLOOKUP(A2453,'Output Areas'!$A:$E,5,FALSE)","v":"Rural"},"Total: Accommodation type (excluding caravans / temporary structures)","Owned","5 rooms",{"$f":"VLOOKUP(G2453,Cntrol!$F$3:$G$9,2,FALSE)","v":3},57,24,23,5,1,4]
["E01022221","E01022221 Cotswold 010A","E01022221",{"$f":"VLOOKUP(A2454,'Output Areas'!$A:$E,5,FALSE)","v":"Rural"},"Total: Accommodation type (excluding caravans / temporary structures)","Owned","6 rooms",{"$f":"VLOOKUP(G2454,Cntrol!$F$3:$G$9,2,FALSE)","v":3},63,23,26,5,6,3]
["E01022221","E01022221 Cotswold 010A","E01022221",{"$f":"VLOOKUP(A2455,'Output Areas'!$A:$E,5,FALSE)","v":"Rural"},"Total: Accommodation type (excluding caravans / temporary structures)","Owned","7 rooms",{"$f":"VLOOKUP(G2455,Cntrol!$F$3:$G$9,2,FALSE)","v":4},90,32,42,9,3,4]
["E01022221","E01022221 Cotswold 010A","E01022221",{"$f":"VLOOKUP(A2456,'Output Areas'!$A:$E,5,FALSE)","v":"Rural"},"Total: Accommodation type (excluding caravans / temporary structures)","Owned","8 rooms or more",{"$f":"VLOOKUP(G2456,Cntrol!$F$3:$G$9,2,FALSE)","v":5},252,46,133,53,17,3]
["E01022221","E01022221 Cotswold 010A","E01022221",{"$f":"VLOOKUP(A2457,'Output Areas'!$A:$E,5,FALSE)","v":"Rural"},"Total: Accommodation type (excluding caravans / temporary structures)","Shared ownership or rented (excluding living rent free)","Total: Number of rooms",{"$f":"VLOOKUP(G2457,Cntrol!$F$3:$G$9,2,FALSE)","v":0},286,130,95,20,7,34]
["E01022221","E01022221 Cotswold 010A","E01022221",{"$f":"VLOOKUP(A2458,'Output Areas'!$A:$E,5,FALSE)","v":"Rural"},"Total: Accommodation type (excluding caravans / temporary structures)","Shared ownership or rented (excluding living rent free)","3 rooms or less",{"$f":"VLOOKUP(G2458,Cntrol!$F$3:$G$9,2,FALSE)","v":2},19,15,1,0,0,3]
["E01022221","E01022221 Cotswold 010A","E01022221",{"$f":"VLOOKUP(A2459,'Output Areas'!$A:$E,5,FALSE)","v":"Rural"},"Total: Accommodation type (excluding caravans / temporary structures)","Shared ownership or rented (excluding living rent free)","4 rooms",{"$f":"VLOOKUP(G2459,Cntrol!$F$3:$G$9,2,FALSE)","v":2},86,48,25,1,0,12]
["E01022221","E01022221 Cotswold 010A","E01022221",{"$f":"VLOOKUP(A2460,'Output Areas'!$A:$E,5,FALSE)","v":"Rural"},"Total: Accommodation type (excluding caravans / temporary structures)","Shared ownership or rented (excluding living rent free)","5 rooms",{"$f":"VLOOKUP(G2460,Cntrol!$F$3:$G$9,2,FALSE)","v":3},84,35,30,3,3,13]
["E01022221","E01022221 Cotswold 010A","E01022221",{"$f":"VLOOKUP(A2461,'Output Areas'!$A:$E,5,FALSE)","v":"Rural"},"Total: Accommodation type (excluding caravans / temporary structures)","Shared ownership or rented (excluding living rent free)","6 rooms",{"$f":"VLOOKUP(G2461,Cntrol!$F$3:$G$9,2,FALSE)","v":3},52,23,20,6,0,3]
["E01022221","E01022221 Cotswold 010A","E01022221",{"$f":"VLOOKUP(A2462,'Output Areas'!$A:$E,5,FALSE)","v":"Rural"},"Total: Accommodation type (excluding caravans / temporary structures)","Shared ownership or rented (excluding living rent free)","7 rooms",{"$f":"VLOOKUP(G2462,Cntrol!$F$3:$G$9,2,FALSE)","v":4},20,6,6,5,2,1]
["E01022221","E01022221 Cotswold 010A","E01022221",{"$f":"VLOOKUP(A2463,'Output Areas'!$A:$E,5,FALSE)","v":"Rural"},"Total: Accommodation type (excluding caravans / temporary structures)","Shared ownership or rented (excluding living rent free)","8 rooms or more",{"$f":"VLOOKUP(G2463,Cntrol!$F$3:$G$9,2,FALSE)","v":5},25,3,13,5,2,2]
["E01022221","E01022221 Cotswold 010A","E01022221",{"$f":"VLOOKUP(A2464,'Output Areas'!$A:$E,5,FALSE)","v":"Rural"},"Detached; semi-detached; terraced whole house or bungalow","Total: Tenure (excluding living rent free)","Total: Number of rooms",{"$f":"VLOOKUP(G2464,Cntrol!$F$3:$G$9,2,FALSE)","v":0},756,258,321,94,34,49]
["E01022221","E01022221 Cotswold 010A","E01022221",{"$f":"VLOOKUP(A2465,'Output Areas'!$A:$E,5,FALSE)","v":"Rural"},"Detached; semi-detached; terraced whole house or bungalow","Total: Tenure (excluding living rent free)","3 rooms or less",{"$f":"VLOOKUP(G2465,Cntrol!$F$3:$G$9,2,FALSE)","v":2},18,13,2,0,0,3]
["E01022221","E01022221 Cotswold 010A","E01022221",{"$f":"VLOOKUP(A2466,'Output Areas'!$A:$E,5,FALSE)","v":"Rural"},"Detached; semi-detached; terraced whole house or bungalow","Total: Tenure (excluding living rent free)","4 rooms",{"$f":"VLOOKUP(G2466,Cntrol!$F$3:$G$9,2,FALSE)","v":2},98,55,27,3,0,13]
["E01022221","E01022221 Cotswold 010A","E01022221",{"$f":"VLOOKUP(A2467,'Output Areas'!$A:$E,5,FALSE)","v":"Rural"},"Detached; semi-detached; terraced whole house or bungalow","Total: Tenure (excluding living rent free)","5 rooms",{"$f":"VLOOKUP(G2467,Cntrol!$F$3:$G$9,2,FALSE)","v":3},140,58,53,8,4,17]
["E01022221","E01022221 Cotswold 010A","E01022221",{"$f":"VLOOKUP(A2468,'Output Areas'!$A:$E,5,FALSE)","v":"Rural"},"Detached; semi-detached; terraced whole house or bungalow","Total: Tenure (excluding living rent free)","6 rooms",{"$f":"VLOOKUP(G2468,Cntrol!$F$3:$G$9,2,FALSE)","v":3},114,45,46,11,6,6]
["E01022221","E01022221 Cotswold 010A","E01022221",{"$f":"VLOOKUP(A2469,'Output Areas'!$A:$E,5,FALSE)","v":"Rural"},"Detached; semi-detached; terraced whole house or bungalow","Total: Tenure (excluding living rent free)","7 rooms",{"$f":"VLOOKUP(G2469,Cntrol!$F$3:$G$9,2,FALSE)","v":4},110,38,48,14,5,5]
["E01022221","E01022221 Cotswold 010A","E01022221",{"$f":"VLOOKUP(A2470,'Output Areas'!$A:$E,5,FALSE)","v":"Rural"},"Detached; semi-detached; terraced whole house or bungalow","Total: Tenure (excluding living rent free)","8 rooms or more",{"$f":"VLOOKUP(G2470,Cntrol!$F$3:$G$9,2,FALSE)","v":5},276,49,145,58,19,5]
["E01022221","E01022221 Cotswold 010A","E01022221",{"$f":"VLOOKUP(A2471,'Output Areas'!$A:$E,5,FALSE)","v":"Rural"},"Detached; semi-detached; terraced whole house or bungalow","Owned","Total: Number of rooms",{"$f":"VLOOKUP(G2471,Cntrol!$F$3:$G$9,2,FALSE)","v":0},481,137,228,74,27,15]
["E01022221","E01022221 Cotswold 010A","E01022221",{"$f":"VLOOKUP(A2472,'Output Areas'!$A:$E,5,FALSE)","v":"Rural"},"Detached; semi-detached; terraced whole house or bungalow","Owned","3 rooms or less",{"$f":"VLOOKUP(G2472,Cntrol!$F$3:$G$9,2,FALSE)","v":2},3,2,1,0,0,0]
["E01022221","E01022221 Cotswold 010A","E01022221",{"$f":"VLOOKUP(A2473,'Output Areas'!$A:$E,5,FALSE)","v":"Rural"},"Detached; semi-detached; terraced whole house or bungalow","Owned","4 rooms",{"$f":"VLOOKUP(G2473,Cntrol!$F$3:$G$9,2,FALSE)","v":2},17,10,4,2,0,1]
["E01022221","E01022221 Cotswold 010A","E01022221",{"$f":"VLOOKUP(A2474,'Output Areas'!$A:$E,5,FALSE)","v":"Rural"},"Detached; semi-detached; terraced whole house or bungalow","Owned","5 rooms",{"$f":"VLOOKUP(G2474,Cntrol!$F$3:$G$9,2,FALSE)","v":3},57,24,23,5,1,4]
["E01022221","E01022221 Cotswold 010A","E01022221",{"$f":"VLOOKUP(A2475,'Output Areas'!$A:$E,5,FALSE)","v":"Rural"},"Detached; semi-detached; terraced whole house or bungalow","Owned","6 rooms",{"$f":"VLOOKUP(G2475,Cntrol!$F$3:$G$9,2,FALSE)","v":3},63,23,26,5,6,3]
["E01022221","E01022221 Cotswold 010A","E01022221",{"$f":"VLOOKUP(A2476,'Output Areas'!$A:$E,5,FALSE)","v":"Rural"},"Detached; semi-detached; terraced whole house or bungalow","Owned","7 rooms",{"$f":"VLOOKUP(G2476,Cntrol!$F$3:$G$9,2,FALSE)","v":4},90,32,42,9,3,4]
["E01022221","E01022221 Cotswold 010A","E01022221",{"$f":"VLOOKUP(A2477,'Output Areas'!$A:$E,5,FALSE)","v":"Rural"},"Detached; semi-detached; terraced whole house or bungalow","Owned","8 rooms or more",{"$f":"VLOOKUP(G2477,Cntrol!$F$3:$G$9,2,FALSE)","v":5},251,46,132,53,17,3]
["E01022221","E01022221 Cotswold 010A","E01022221",{"$f":"VLOOKUP(A2478,'Output Areas'!$A:$E,5,FALSE)","v":"Rural"},"Detached; semi-detached; terraced whole house or bungalow","Shared ownership or rented (excluding living rent free)","Total: Number of rooms",{"$f":"VLOOKUP(G2478,Cntrol!$F$3:$G$9,2,FALSE)","v":0},275,121,93,20,7,34]
["E01022221","E01022221 Cotswold 010A","E01022221",{"$f":"VLOOKUP(A2479,'Output Areas'!$A:$E,5,FALSE)","v":"Rural"},"Detached; semi-detached; terraced whole house or bungalow","Shared ownership or rented (excluding living rent free)","3 rooms or less",{"$f":"VLOOKUP(G2479,Cntrol!$F$3:$G$9,2,FALSE)","v":2},15,11,1,0,0,3]
["E01022221","E01022221 Cotswold 010A","E01022221",{"$f":"VLOOKUP(A2480,'Output Areas'!$A:$E,5,FALSE)","v":"Rural"},"Detached; semi-detached; terraced whole house or bungalow","Shared ownership or rented (excluding living rent free)","4 rooms",{"$f":"VLOOKUP(G2480,Cntrol!$F$3:$G$9,2,FALSE)","v":2},81,45,23,1,0,12]
["E01022221","E01022221 Cotswold 010A","E01022221",{"$f":"VLOOKUP(A2481,'Output Areas'!$A:$E,5,FALSE)","v":"Rural"},"Detached; semi-detached; terraced whole house or bungalow","Shared ownership or rented (excluding living rent free)","5 rooms",{"$f":"VLOOKUP(G2481,Cntrol!$F$3:$G$9,2,FALSE)","v":3},83,34,30,3,3,13]
["E01022221","E01022221 Cotswold 010A","E01022221",{"$f":"VLOOKUP(A2482,'Output Areas'!$A:$E,5,FALSE)","v":"Rural"},"Detached; semi-detached; terraced whole house or bungalow","Shared ownership or rented (excluding living rent free)","6 rooms",{"$f":"VLOOKUP(G2482,Cntrol!$F$3:$G$9,2,FALSE)","v":3},51,22,20,6,0,3]
["E01022221","E01022221 Cotswold 010A","E01022221",{"$f":"VLOOKUP(A2483,'Output Areas'!$A:$E,5,FALSE)","v":"Rural"},"Detached; semi-detached; terraced whole house or bungalow","Shared ownership or rented (excluding living rent free)","7 rooms",{"$f":"VLOOKUP(G2483,Cntrol!$F$3:$G$9,2,FALSE)","v":4},20,6,6,5,2,1]
["E01022221","E01022221 Cotswold 010A","E01022221",{"$f":"VLOOKUP(A2484,'Output Areas'!$A:$E,5,FALSE)","v":"Rural"},"Detached; semi-detached; terraced whole house or bungalow","Shared ownership or rented (excluding living rent free)","8 rooms or more",{"$f":"VLOOKUP(G2484,Cntrol!$F$3:$G$9,2,FALSE)","v":5},25,3,13,5,2,2]
["E01022221","E01022221 Cotswold 010A","E01022221",{"$f":"VLOOKUP(A2485,'Output Areas'!$A:$E,5,FALSE)","v":"Rural"},"A flat; maisonette; apartment","Total: Tenure (excluding living rent free)","Total: Number of rooms",{"$f":"VLOOKUP(G2485,Cntrol!$F$3:$G$9,2,FALSE)","v":0},12,9,3,0,0,0]
["E01022221","E01022221 Cotswold 010A","E01022221",{"$f":"VLOOKUP(A2486,'Output Areas'!$A:$E,5,FALSE)","v":"Rural"},"A flat; maisonette; apartment","Total: Tenure (excluding living rent free)","3 rooms or less",{"$f":"VLOOKUP(G2486,Cntrol!$F$3:$G$9,2,FALSE)","v":2},4,4,0,0,0,0]
["E01022221","E01022221 Cotswold 010A","E01022221",{"$f":"VLOOKUP(A2487,'Output Areas'!$A:$E,5,FALSE)","v":"Rural"},"A flat; maisonette; apartment","Total: Tenure (excluding living rent free)","4 rooms",{"$f":"VLOOKUP(G2487,Cntrol!$F$3:$G$9,2,FALSE)","v":2},5,3,2,0,0,0]
["E01022221","E01022221 Cotswold 010A","E01022221",{"$f":"VLOOKUP(A2488,'Output Areas'!$A:$E,5,FALSE)","v":"Rural"},"A flat; maisonette; apartment","Total: Tenure (excluding living rent free)","5 rooms",{"$f":"VLOOKUP(G2488,Cntrol!$F$3:$G$9,2,FALSE)","v":3},1,1,0,0,0,0]
["E01022221","E01022221 Cotswold 010A","E01022221",{"$f":"VLOOKUP(A2489,'Output Areas'!$A:$E,5,FALSE)","v":"Rural"},"A flat; maisonette; apartment","Total: Tenure (excluding living rent free)","6 rooms",{"$f":"VLOOKUP(G2489,Cntrol!$F$3:$G$9,2,FALSE)","v":3},1,1,0,0,0,0]
["E01022221","E01022221 Cotswold 010A","E01022221",{"$f":"VLOOKUP(A2490,'Output Areas'!$A:$E,5,FALSE)","v":"Rural"},"A flat; maisonette; apartment","Total: Tenure (excluding living rent free)","8 rooms or more",{"$f":"VLOOKUP(G2490,Cntrol!$F$3:$G$9,2,FALSE)","v":5},1,0,1,0,0,0]
["E01022221","E01022221 Cotswold 010A","E01022221",{"$f":"VLOOKUP(A2491,'Output Areas'!$A:$E,5,FALSE)","v":"Rural"},"A flat; maisonette; apartment","Owned","Total: Number of rooms",{"$f":"VLOOKUP(G2491,Cntrol!$F$3:$G$9,2,FALSE)","v":0},1,0,1,0,0,0]
["E01022221","E01022221 Cotswold 010A","E01022221",{"$f":"VLOOKUP(A2492,'Output Areas'!$A:$E,5,FALSE)","v":"Rural"},"A flat; maisonette; apartment","Owned","8 rooms or more",{"$f":"VLOOKUP(G2492,Cntrol!$F$3:$G$9,2,FALSE)","v":5},1,0,1,0,0,0]
["E01022221","E01022221 Cotswold 010A","E01022221",{"$f":"VLOOKUP(A2493,'Output Areas'!$A:$E,5,FALSE)","v":"Rural"},"A flat; maisonette; apartment","Shared ownership or rented (excluding living rent free)","Total: Number of rooms",{"$f":"VLOOKUP(G2493,Cntrol!$F$3:$G$9,2,FALSE)","v":0},11,9,2,0,0,0]
["E01022221","E01022221 Cotswold 010A","E01022221",{"$f":"VLOOKUP(A2494,'Output Areas'!$A:$E,5,FALSE)","v":"Rural"},"A flat; maisonette; apartment","Shared ownership or rented (excluding living rent free)","3 rooms or less",{"$f":"VLOOKUP(G2494,Cntrol!$F$3:$G$9,2,FALSE)","v":2},4,4,0,0,0,0]
["E01022221","E01022221 Cotswold 010A","E01022221",{"$f":"VLOOKUP(A2495,'Output Areas'!$A:$E,5,FALSE)","v":"Rural"},"A flat; maisonette; apartment","Shared ownership or rented (excluding living rent free)","4 rooms",{"$f":"VLOOKUP(G2495,Cntrol!$F$3:$G$9,2,FALSE)","v":2},5,3,2,0,0,0]
["E01022221","E01022221 Cotswold 010A","E01022221",{"$f":"VLOOKUP(A2496,'Output Areas'!$A:$E,5,FALSE)","v":"Rural"},"A flat; maisonette; apartment","Shared ownership or rented (excluding living rent free)","5 rooms",{"$f":"VLOOKUP(G2496,Cntrol!$F$3:$G$9,2,FALSE)","v":3},1,1,0,0,0,0]
["E01022221","E01022221 Cotswold 010A","E01022221",{"$f":"VLOOKUP(A2497,'Output Areas'!$A:$E,5,FALSE)","v":"Rural"},"A flat; maisonette; apartment","Shared ownership or rented (excluding living rent free)","6 rooms",{"$f":"VLOOKUP(G2497,Cntrol!$F$3:$G$9,2,FALSE)","v":3},1,1,0,0,0,0]
["E01022223","E01022223 Cotswold 010B","E01022223",{"$f":"VLOOKUP(A2498,'Output Areas'!$A:$E,5,FALSE)","v":"Small Settlements"},"Total: Accommodation type (excluding caravans / temporary structures)","Total: Tenure (excluding living rent free)","Total: Number of rooms",{"$f":"VLOOKUP(G2498,Cntrol!$F$3:$G$9,2,FALSE)","v":0},1006,390,391,104,33,88]
["E01022223","E01022223 Cotswold 010B","E01022223",{"$f":"VLOOKUP(A2499,'Output Areas'!$A:$E,5,FALSE)","v":"Small Settlements"},"Total: Accommodation type (excluding caravans / temporary structures)","Total: Tenure (excluding living rent free)","3 rooms or less",{"$f":"VLOOKUP(G2499,Cntrol!$F$3:$G$9,2,FALSE)","v":2},54,30,7,1,0,16]
["E01022223","E01022223 Cotswold 010B","E01022223",{"$f":"VLOOKUP(A2500,'Output Areas'!$A:$E,5,FALSE)","v":"Small Settlements"},"Total: Accommodation type (excluding caravans / temporary structures)","Total: Tenure (excluding living rent free)","4 rooms",{"$f":"VLOOKUP(G2500,Cntrol!$F$3:$G$9,2,FALSE)","v":2},186,101,44,3,1,37]
["E01022223","E01022223 Cotswold 010B","E01022223",{"$f":"VLOOKUP(A2501,'Output Areas'!$A:$E,5,FALSE)","v":"Small Settlements"},"Total: Accommodation type (excluding caravans / temporary structures)","Total: Tenure (excluding living rent free)","5 rooms",{"$f":"VLOOKUP(G2501,Cntrol!$F$3:$G$9,2,FALSE)","v":3},246,106,97,22,3,18]
["E01022223","E01022223 Cotswold 010B","E01022223",{"$f":"VLOOKUP(A2502,'Output Areas'!$A:$E,5,FALSE)","v":"Small Settlements"},"Total: Accommodation type (excluding caravans / temporary structures)","Total: Tenure (excluding living rent free)","6 rooms",{"$f":"VLOOKUP(G2502,Cntrol!$F$3:$G$9,2,FALSE)","v":3},187,79,72,15,8,13]
["E01022223","E01022223 Cotswold 010B","E01022223",{"$f":"VLOOKUP(A2503,'Output Areas'!$A:$E,5,FALSE)","v":"Small Settlements"},"Total: Accommodation type (excluding caravans / temporary structures)","Total: Tenure (excluding living rent free)","7 rooms",{"$f":"VLOOKUP(G2503,Cntrol!$F$3:$G$9,2,FALSE)","v":4},120,30,58,25,4,3]
["E01022223","E01022223 Cotswold 010B","E01022223",{"$f":"VLOOKUP(A2504,'Output Areas'!$A:$E,5,FALSE)","v":"Small Settlements"},"Total: Accommodation type (excluding caravans / temporary structures)","Total: Tenure (excluding living rent free)","8 rooms or more",{"$f":"VLOOKUP(G2504,Cntrol!$F$3:$G$9,2,FALSE)","v":5},213,44,113,38,17,1]
["E01022223","E01022223 Cotswold 010B","E01022223",{"$f":"VLOOKUP(A2505,'Output Areas'!$A:$E,5,FALSE)","v":"Small Settlements"},"Total: Accommodation type (excluding caravans / temporary structures)","Owned","Total: Number of rooms",{"$f":"VLOOKUP(G2505,Cntrol!$F$3:$G$9,2,FALSE)","v":0},678,219,307,87,32,33]
["E01022223","E01022223 Cotswold 010B","E01022223",{"$f":"VLOOKUP(A2506,'Output Areas'!$A:$E,5,FALSE)","v":"Small Settlements"},"Total: Accommodation type (excluding caravans / temporary structures)","Owned","3 rooms or less",{"$f":"VLOOKUP(G2506,Cntrol!$F$3:$G$9,2,FALSE)","v":2},13,5,5,1,0,2]
["E01022223","E01022223 Cotswold 010B","E01022223",{"$f":"VLOOKUP(A2507,'Output Areas'!$A:$E,5,FALSE)","v":"Small Settlements"},"Total: Accommodation type (excluding caravans / temporary structures)","Owned","4 rooms",{"$f":"VLOOKUP(G2507,Cntrol!$F$3:$G$9,2,FALSE)","v":2},62,29,22,2,0,9]
["E01022223","E01022223 Cotswold 010B","E01022223",{"$f":"VLOOKUP(A2508,'Output Areas'!$A:$E,5,FALSE)","v":"Small Settlements"},"Total: Accommodation type (excluding caravans / temporary structures)","Owned","5 rooms",{"$f":"VLOOKUP(G2508,Cntrol!$F$3:$G$9,2,FALSE)","v":3},146,60,60,13,3,10]
["E01022223","E01022223 Cotswold 010B","E01022223",{"$f":"VLOOKUP(A2509,'Output Areas'!$A:$E,5,FALSE)","v":"Small Settlements"},"Total: Accommodation type (excluding caravans / temporary structures)","Owned","6 rooms",{"$f":"VLOOKUP(G2509,Cntrol!$F$3:$G$9,2,FALSE)","v":3},148,60,60,11,8,9]
["E01022223","E01022223 Cotswold 010B","E01022223",{"$f":"VLOOKUP(A2510,'Output Areas'!$A:$E,5,FALSE)","v":"Small Settlements"},"Total: Accommodation type (excluding caravans / temporary structures)","Owned","7 rooms",{"$f":"VLOOKUP(G2510,Cntrol!$F$3:$G$9,2,FALSE)","v":4},107,28,51,22,4,2]
["E01022223","E01022223 Cotswold 010B","E01022223",{"$f":"VLOOKUP(A2511,'Output Areas'!$A:$E,5,FALSE)","v":"Small Settlements"},"Total: Accommodation type (excluding caravans / temporary structures)","Owned","8 rooms or more",{"$f":"VLOOKUP(G2511,Cntrol!$F$3:$G$9,2,FALSE)","v":5},202,37,109,38,17,1]
["E01022223","E01022223 Cotswold 010B","E01022223",{"$f":"VLOOKUP(A2512,'Output Areas'!$A:$E,5,FALSE)","v":"Small Settlements"},"Total: Accommodation type (excluding caravans / temporary structures)","Shared ownership or rented (excluding living rent free)","Total: Number of rooms",{"$f":"VLOOKUP(G2512,Cntrol!$F$3:$G$9,2,FALSE)","v":0},328,171,84,17,1,55]
["E01022223","E01022223 Cotswold 010B","E01022223",{"$f":"VLOOKUP(A2513,'Output Areas'!$A:$E,5,FALSE)","v":"Small Settlements"},"Total: Accommodation type (excluding caravans / temporary structures)","Shared ownership or rented (excluding living rent free)","3 rooms or less",{"$f":"VLOOKUP(G2513,Cntrol!$F$3:$G$9,2,FALSE)","v":2},41,25,2,0,0,14]
["E01022223","E01022223 Cotswold 010B","E01022223",{"$f":"VLOOKUP(A2514,'Output Areas'!$A:$E,5,FALSE)","v":"Small Settlements"},"Total: Accommodation type (excluding caravans / temporary structures)","Shared ownership or rented (excluding living rent free)","4 rooms",{"$f":"VLOOKUP(G2514,Cntrol!$F$3:$G$9,2,FALSE)","v":2},124,72,22,1,1,28]
["E01022223","E01022223 Cotswold 010B","E01022223",{"$f":"VLOOKUP(A2515,'Output Areas'!$A:$E,5,FALSE)","v":"Small Settlements"},"Total: Accommodation type (excluding caravans / temporary structures)","Shared ownership or rented (excluding living rent free)","5 rooms",{"$f":"VLOOKUP(G2515,Cntrol!$F$3:$G$9,2,FALSE)","v":3},100,46,37,9,0,8]
["E01022223","E01022223 Cotswold 010B","E01022223",{"$f":"VLOOKUP(A2516,'Output Areas'!$A:$E,5,FALSE)","v":"Small Settlements"},"Total: Accommodation type (excluding caravans / temporary structures)","Shared ownership or rented (excluding living rent free)","6 rooms",{"$f":"VLOOKUP(G2516,Cntrol!$F$3:$G$9,2,FALSE)","v":3},39,19,12,4,0,4]
["E01022223","E01022223 Cotswold 010B","E01022223",{"$f":"VLOOKUP(A2517,'Output Areas'!$A:$E,5,FALSE)","v":"Small Settlements"},"Total: Accommodation type (excluding caravans / temporary structures)","Shared ownership or rented (excluding living rent free)","7 rooms",{"$f":"VLOOKUP(G2517,Cntrol!$F$3:$G$9,2,FALSE)","v":4},13,2,7,3,0,1]
["E01022223","E01022223 Cotswold 010B","E01022223",{"$f":"VLOOKUP(A2518,'Output Areas'!$A:$E,5,FALSE)","v":"Small Settlements"},"Total: Accommodation type (excluding caravans / temporary structures)","Shared ownership or rented (excluding living rent free)","8 rooms or more",{"$f":"VLOOKUP(G2518,Cntrol!$F$3:$G$9,2,FALSE)","v":5},11,7,4,0,0,0]
["E01022223","E01022223 Cotswold 010B","E01022223",{"$f":"VLOOKUP(A2519,'Output Areas'!$A:$E,5,FALSE)","v":"Small Settlements"},"Detached; semi-detached; terraced whole house or bungalow","Total: Tenure (excluding living rent free)","Total: Number of rooms",{"$f":"VLOOKUP(G2519,Cntrol!$F$3:$G$9,2,FALSE)","v":0},963,369,381,103,32,78]
["E01022223","E01022223 Cotswold 010B","E01022223",{"$f":"VLOOKUP(A2520,'Output Areas'!$A:$E,5,FALSE)","v":"Small Settlements"},"Detached; semi-detached; terraced whole house or bungalow","Total: Tenure (excluding living rent free)","3 rooms or less",{"$f":"VLOOKUP(G2520,Cntrol!$F$3:$G$9,2,FALSE)","v":2},45,25,5,1,0,14]
["E01022223","E01022223 Cotswold 010B","E01022223",{"$f":"VLOOKUP(A2521,'Output Areas'!$A:$E,5,FALSE)","v":"Small Settlements"},"Detached; semi-detached; terraced whole house or bungalow","Total: Tenure (excluding living rent free)","4 rooms",{"$f":"VLOOKUP(G2521,Cntrol!$F$3:$G$9,2,FALSE)","v":2},156,87,36,3,1,29]
["E01022223","E01022223 Cotswold 010B","E01022223",{"$f":"VLOOKUP(A2522,'Output Areas'!$A:$E,5,FALSE)","v":"Small Settlements"},"Detached; semi-detached; terraced whole house or bungalow","Total: Tenure (excluding living rent free)","5 rooms",{"$f":"VLOOKUP(G2522,Cntrol!$F$3:$G$9,2,FALSE)","v":3},245,105,97,22,3,18]
["E01022223","E01022223 Cotswold 010B","E01022223",{"$f":"VLOOKUP(A2523,'Output Areas'!$A:$E,5,FALSE)","v":"Small Settlements"},"Detached; semi-detached; terraced whole house or bungalow","Total: Tenure (excluding living rent free)","6 rooms",{"$f":"VLOOKUP(G2523,Cntrol!$F$3:$G$9,2,FALSE)","v":3},186,78,72,15,8,13]
["E01022223","E01022223 Cotswold 010B","E01022223",{"$f":"VLOOKUP(A2524,'Output Areas'!$A:$E,5,FALSE)","v":"Small Settlements"},"Detached; semi-detached; terraced whole house or bungalow","Total: Tenure (excluding living rent free)","7 rooms",{"$f":"VLOOKUP(G2524,Cntrol!$F$3:$G$9,2,FALSE)","v":4},120,30,58,25,4,3]
["E01022223","E01022223 Cotswold 010B","E01022223",{"$f":"VLOOKUP(A2525,'Output Areas'!$A:$E,5,FALSE)","v":"Small Settlements"},"Detached; semi-detached; terraced whole house or bungalow","Total: Tenure (excluding living rent free)","8 rooms or more",{"$f":"VLOOKUP(G2525,Cntrol!$F$3:$G$9,2,FALSE)","v":5},211,44,113,37,16,1]
["E01022223","E01022223 Cotswold 010B","E01022223",{"$f":"VLOOKUP(A2526,'Output Areas'!$A:$E,5,FALSE)","v":"Small Settlements"},"Detached; semi-detached; terraced whole house or bungalow","Owned","Total: Number of rooms",{"$f":"VLOOKUP(G2526,Cntrol!$F$3:$G$9,2,FALSE)","v":0},666,215,303,86,31,31]
["E01022223","E01022223 Cotswold 010B","E01022223",{"$f":"VLOOKUP(A2527,'Output Areas'!$A:$E,5,FALSE)","v":"Small Settlements"},"Detached; semi-detached; terraced whole house or bungalow","Owned","3 rooms or less",{"$f":"VLOOKUP(G2527,Cntrol!$F$3:$G$9,2,FALSE)","v":2},11,4,4,1,0,2]
["E01022223","E01022223 Cotswold 010B","E01022223",{"$f":"VLOOKUP(A2528,'Output Areas'!$A:$E,5,FALSE)","v":"Small Settlements"},"Detached; semi-detached; terraced whole house or bungalow","Owned","4 rooms",{"$f":"VLOOKUP(G2528,Cntrol!$F$3:$G$9,2,FALSE)","v":2},54,26,19,2,0,7]
["E01022223","E01022223 Cotswold 010B","E01022223",{"$f":"VLOOKUP(A2529,'Output Areas'!$A:$E,5,FALSE)","v":"Small Settlements"},"Detached; semi-detached; terraced whole house or bungalow","Owned","5 rooms",{"$f":"VLOOKUP(G2529,Cntrol!$F$3:$G$9,2,FALSE)","v":3},146,60,60,13,3,10]
["E01022223","E01022223 Cotswold 010B","E01022223",{"$f":"VLOOKUP(A2530,'Output Areas'!$A:$E,5,FALSE)","v":"Small Settlements"},"Detached; semi-detached; terraced whole house or bungalow","Owned","6 rooms",{"$f":"VLOOKUP(G2530,Cntrol!$F$3:$G$9,2,FALSE)","v":3},148,60,60,11,8,9]
["E01022223","E01022223 Cotswold 010B","E01022223",{"$f":"VLOOKUP(A2531,'Output Areas'!$A:$E,5,FALSE)","v":"Small Settlements"},"Detached; semi-detached; terraced whole house or bungalow","Owned","7 rooms",{"$f":"VLOOKUP(G2531,Cntrol!$F$3:$G$9,2,FALSE)","v":4},107,28,51,22,4,2]
["E01022223","E01022223 Cotswold 010B","E01022223",{"$f":"VLOOKUP(A2532,'Output Areas'!$A:$E,5,FALSE)","v":"Small Settlements"},"Detached; semi-detached; terraced whole house or bungalow","Owned","8 rooms or more",{"$f":"VLOOKUP(G2532,Cntrol!$F$3:$G$9,2,FALSE)","v":5},200,37,109,37,16,1]
["E01022223","E01022223 Cotswold 010B","E01022223",{"$f":"VLOOKUP(A2533,'Output Areas'!$A:$E,5,FALSE)","v":"Small Settlements"},"Detached; semi-detached; terraced whole house or bungalow","Shared ownership or rented (excluding living rent free)","Total: Number of rooms",{"$f":"VLOOKUP(G2533,Cntrol!$F$3:$G$9,2,FALSE)","v":0},297,154,78,17,1,47]
["E01022223","E01022223 Cotswold 010B","E01022223",{"$f":"VLOOKUP(A2534,'Output Areas'!$A:$E,5,FALSE)","v":"Small Settlements"},"Detached; semi-detached; terraced whole house or bungalow","Shared ownership or rented (excluding living rent free)","3 rooms or less",{"$f":"VLOOKUP(G2534,Cntrol!$F$3:$G$9,2,FALSE)","v":2},34,21,1,0,0,12]
["E01022223","E01022223 Cotswold 010B","E01022223",{"$f":"VLOOKUP(A2535,'Output Areas'!$A:$E,5,FALSE)","v":"Small Settlements"},"Detached; semi-detached; terraced whole house or bungalow","Shared ownership or rented (excluding living rent free)","4 rooms",{"$f":"VLOOKUP(G2535,Cntrol!$F$3:$G$9,2,FALSE)","v":2},102,61,17,1,1,22]
["E01022223","E01022223 Cotswold 010B","E01022223",{"$f":"VLOOKUP(A2536,'Output Areas'!$A:$E,5,FALSE)","v":"Small Settlements"},"Detached; semi-detached; terraced whole house or bungalow","Shared ownership or rented (excluding living rent free)","5 rooms",{"$f":"VLOOKUP(G2536,Cntrol!$F$3:$G$9,2,FALSE)","v":3},99,45,37,9,0,8]
["E01022223","E01022223 Cotswold 010B","E01022223",{"$f":"VLOOKUP(A2537,'Output Areas'!$A:$E,5,FALSE)","v":"Small Settlements"},"Detached; semi-detached; terraced whole house or bungalow","Shared ownership or rented (excluding living rent free)","6 rooms",{"$f":"VLOOKUP(G2537,Cntrol!$F$3:$G$9,2,FALSE)","v":3},38,18,12,4,0,4]
["E01022223","E01022223 Cotswold 010B","E01022223",{"$f":"VLOOKUP(A2538,'Output Areas'!$A:$E,5,FALSE)","v":"Small Settlements"},"Detached; semi-detached; terraced whole house or bungalow","Shared ownership or rented (excluding living rent free)","7 rooms",{"$f":"VLOOKUP(G2538,Cntrol!$F$3:$G$9,2,FALSE)","v":4},13,2,7,3,0,1]
["E01022223","E01022223 Cotswold 010B","E01022223",{"$f":"VLOOKUP(A2539,'Output Areas'!$A:$E,5,FALSE)","v":"Small Settlements"},"Detached; semi-detached; terraced whole house or bungalow","Shared ownership or rented (excluding living rent free)","8 rooms or more",{"$f":"VLOOKUP(G2539,Cntrol!$F$3:$G$9,2,FALSE)","v":5},11,7,4,0,0,0]
["E01022223","E01022223 Cotswold 010B","E01022223",{"$f":"VLOOKUP(A2540,'Output Areas'!$A:$E,5,FALSE)","v":"Small Settlements"},"A flat; maisonette; apartment","Total: Tenure (excluding living rent free)","Total: Number of rooms",{"$f":"VLOOKUP(G2540,Cntrol!$F$3:$G$9,2,FALSE)","v":0},43,21,10,1,1,10]
["E01022223","E01022223 Cotswold 010B","E01022223",{"$f":"VLOOKUP(A2541,'Output Areas'!$A:$E,5,FALSE)","v":"Small Settlements"},"A flat; maisonette; apartment","Total: Tenure (excluding living rent free)","3 rooms or less",{"$f":"VLOOKUP(G2541,Cntrol!$F$3:$G$9,2,FALSE)","v":2},9,5,2,0,0,2]
["E01022223","E01022223 Cotswold 010B","E01022223",{"$f":"VLOOKUP(A2542,'Output Areas'!$A:$E,5,FALSE)","v":"Small Settlements"},"A flat; maisonette; apartment","Total: Tenure (excluding living rent free)","4 rooms",{"$f":"VLOOKUP(G2542,Cntrol!$F$3:$G$9,2,FALSE)","v":2},30,14,8,0,0,8]
["E01022223","E01022223 Cotswold 010B","E01022223",{"$f":"VLOOKUP(A2543,'Output Areas'!$A:$E,5,FALSE)","v":"Small Settlements"},"A flat; maisonette; apartment","Total: Tenure (excluding living rent free)","5 rooms",{"$f":"VLOOKUP(G2543,Cntrol!$F$3:$G$9,2,FALSE)","v":3},1,1,0,0,0,0]
["E01022223","E01022223 Cotswold 010B","E01022223",{"$f":"VLOOKUP(A2544,'Output Areas'!$A:$E,5,FALSE)","v":"Small Settlements"},"A flat; maisonette; apartment","Total: Tenure (excluding living rent free)","6 rooms",{"$f":"VLOOKUP(G2544,Cntrol!$F$3:$G$9,2,FALSE)","v":3},1,1,0,0,0,0]
["E01022223","E01022223 Cotswold 010B","E01022223",{"$f":"VLOOKUP(A2545,'Output Areas'!$A:$E,5,FALSE)","v":"Small Settlements"},"A flat; maisonette; apartment","Total: Tenure (excluding living rent free)","8 rooms or more",{"$f":"VLOOKUP(G2545,Cntrol!$F$3:$G$9,2,FALSE)","v":5},2,0,0,1,1,0]
["E01022223","E01022223 Cotswold 010B","E01022223",{"$f":"VLOOKUP(A2546,'Output Areas'!$A:$E,5,FALSE)","v":"Small Settlements"},"A flat; maisonette; apartment","Owned","Total: Number of rooms",{"$f":"VLOOKUP(G2546,Cntrol!$F$3:$G$9,2,FALSE)","v":0},12,4,4,1,1,2]
["E01022223","E01022223 Cotswold 010B","E01022223",{"$f":"VLOOKUP(A2547,'Output Areas'!$A:$E,5,FALSE)","v":"Small Settlements"},"A flat; maisonette; apartment","Owned","3 rooms or less",{"$f":"VLOOKUP(G2547,Cntrol!$F$3:$G$9,2,FALSE)","v":2},2,1,1,0,0,0]
["E01022223","E01022223 Cotswold 010B","E01022223",{"$f":"VLOOKUP(A2548,'Output Areas'!$A:$E,5,FALSE)","v":"Small Settlements"},"A flat; maisonette; apartment","Owned","4 rooms",{"$f":"VLOOKUP(G2548,Cntrol!$F$3:$G$9,2,FALSE)","v":2},8,3,3,0,0,2]
["E01022223","E01022223 Cotswold 010B","E01022223",{"$f":"VLOOKUP(A2549,'Output Areas'!$A:$E,5,FALSE)","v":"Small Settlements"},"A flat; maisonette; apartment","Owned","8 rooms or more",{"$f":"VLOOKUP(G2549,Cntrol!$F$3:$G$9,2,FALSE)","v":5},2,0,0,1,1,0]
["E01022223","E01022223 Cotswold 010B","E01022223",{"$f":"VLOOKUP(A2550,'Output Areas'!$A:$E,5,FALSE)","v":"Small Settlements"},"A flat; maisonette; apartment","Shared ownership or rented (excluding living rent free)","Total: Number of rooms",{"$f":"VLOOKUP(G2550,Cntrol!$F$3:$G$9,2,FALSE)","v":0},31,17,6,0,0,8]
["E01022223","E01022223 Cotswold 010B","E01022223",{"$f":"VLOOKUP(A2551,'Output Areas'!$A:$E,5,FALSE)","v":"Small Settlements"},"A flat; maisonette; apartment","Shared ownership or rented (excluding living rent free)","3 rooms or less",{"$f":"VLOOKUP(G2551,Cntrol!$F$3:$G$9,2,FALSE)","v":2},7,4,1,0,0,2]
["E01022223","E01022223 Cotswold 010B","E01022223",{"$f":"VLOOKUP(A2552,'Output Areas'!$A:$E,5,FALSE)","v":"Small Settlements"},"A flat; maisonette; apartment","Shared ownership or rented (excluding living rent free)","4 rooms",{"$f":"VLOOKUP(G2552,Cntrol!$F$3:$G$9,2,FALSE)","v":2},22,11,5,0,0,6]
["E01022223","E01022223 Cotswold 010B","E01022223",{"$f":"VLOOKUP(A2553,'Output Areas'!$A:$E,5,FALSE)","v":"Small Settlements"},"A flat; maisonette; apartment","Shared ownership or rented (excluding living rent free)","5 rooms",{"$f":"VLOOKUP(G2553,Cntrol!$F$3:$G$9,2,FALSE)","v":3},1,1,0,0,0,0]
["E01022223","E01022223 Cotswold 010B","E01022223",{"$f":"VLOOKUP(A2554,'Output Areas'!$A:$E,5,FALSE)","v":"Small Settlements"},"A flat; maisonette; apartment","Shared ownership or rented (excluding living rent free)","6 rooms",{"$f":"VLOOKUP(G2554,Cntrol!$F$3:$G$9,2,FALSE)","v":3},1,1,0,0,0,0]
["E01022224","E01022224 Cotswold 010C","E01022224",{"$f":"VLOOKUP(A2555,'Output Areas'!$A:$E,5,FALSE)","v":"Rural"},"Total: Accommodation type (excluding caravans / temporary structures)","Total: Tenure (excluding living rent free)","Total: Number of rooms",{"$f":"VLOOKUP(G2555,Cntrol!$F$3:$G$9,2,FALSE)","v":0},676,248,278,80,30,40]
["E01022224","E01022224 Cotswold 010C","E01022224",{"$f":"VLOOKUP(A2556,'Output Areas'!$A:$E,5,FALSE)","v":"Rural"},"Total: Accommodation type (excluding caravans / temporary structures)","Total: Tenure (excluding living rent free)","3 rooms or less",{"$f":"VLOOKUP(G2556,Cntrol!$F$3:$G$9,2,FALSE)","v":2},31,23,1,2,0,5]
["E01022224","E01022224 Cotswold 010C","E01022224",{"$f":"VLOOKUP(A2557,'Output Areas'!$A:$E,5,FALSE)","v":"Rural"},"Total: Accommodation type (excluding caravans / temporary structures)","Total: Tenure (excluding living rent free)","4 rooms",{"$f":"VLOOKUP(G2557,Cntrol!$F$3:$G$9,2,FALSE)","v":2},57,30,17,2,0,8]
["E01022224","E01022224 Cotswold 010C","E01022224",{"$f":"VLOOKUP(A2558,'Output Areas'!$A:$E,5,FALSE)","v":"Rural"},"Total: Accommodation type (excluding caravans / temporary structures)","Total: Tenure (excluding living rent free)","5 rooms",{"$f":"VLOOKUP(G2558,Cntrol!$F$3:$G$9,2,FALSE)","v":3},133,65,43,8,3,14]
["E01022224","E01022224 Cotswold 010C","E01022224",{"$f":"VLOOKUP(A2559,'Output Areas'!$A:$E,5,FALSE)","v":"Rural"},"Total: Accommodation type (excluding caravans / temporary structures)","Total: Tenure (excluding living rent free)","6 rooms",{"$f":"VLOOKUP(G2559,Cntrol!$F$3:$G$9,2,FALSE)","v":3},140,65,46,15,6,8]
["E01022224","E01022224 Cotswold 010C","E01022224",{"$f":"VLOOKUP(A2560,'Output Areas'!$A:$E,5,FALSE)","v":"Rural"},"Total: Accommodation type (excluding caravans / temporary structures)","Total: Tenure (excluding living rent free)","7 rooms",{"$f":"VLOOKUP(G2560,Cntrol!$F$3:$G$9,2,FALSE)","v":4},101,28,50,15,4,4]
["E01022224","E01022224 Cotswold 010C","E01022224",{"$f":"VLOOKUP(A2561,'Output Areas'!$A:$E,5,FALSE)","v":"Rural"},"Total: Accommodation type (excluding caravans / temporary structures)","Total: Tenure (excluding living rent free)","8 rooms or more",{"$f":"VLOOKUP(G2561,Cntrol!$F$3:$G$9,2,FALSE)","v":5},214,37,121,38,17,1]
["E01022224","E01022224 Cotswold 010C","E01022224",{"$f":"VLOOKUP(A2562,'Output Areas'!$A:$E,5,FALSE)","v":"Rural"},"Total: Accommodation type (excluding caravans / temporary structures)","Owned","Total: Number of rooms",{"$f":"VLOOKUP(G2562,Cntrol!$F$3:$G$9,2,FALSE)","v":0},542,176,248,68,23,27]
["E01022224","E01022224 Cotswold 010C","E01022224",{"$f":"VLOOKUP(A2563,'Output Areas'!$A:$E,5,FALSE)","v":"Rural"},"Total: Accommodation type (excluding caravans / temporary structures)","Owned","3 rooms or less",{"$f":"VLOOKUP(G2563,Cntrol!$F$3:$G$9,2,FALSE)","v":2},6,5,0,0,0,1]
["E01022224","E01022224 Cotswold 010C","E01022224",{"$f":"VLOOKUP(A2564,'Output Areas'!$A:$E,5,FALSE)","v":"Rural"},"Total: Accommodation type (excluding caravans / temporary structures)","Owned","4 rooms",{"$f":"VLOOKUP(G2564,Cntrol!$F$3:$G$9,2,FALSE)","v":2},33,13,12,2,0,6]
["E01022224","E01022224 Cotswold 010C","E01022224",{"$f":"VLOOKUP(A2565,'Output Areas'!$A:$E,5,FALSE)","v":"Rural"},"Total: Accommodation type (excluding caravans / temporary structures)","Owned","5 rooms",{"$f":"VLOOKUP(G2565,Cntrol!$F$3:$G$9,2,FALSE)","v":3},93,44,31,7,1,10]
["E01022224","E01022224 Cotswold 010C","E01022224",{"$f":"VLOOKUP(A2566,'Output Areas'!$A:$E,5,FALSE)","v":"Rural"},"Total: Accommodation type (excluding caravans / temporary structures)","Owned","6 rooms",{"$f":"VLOOKUP(G2566,Cntrol!$F$3:$G$9,2,FALSE)","v":3},119,54,43,14,3,5]
["E01022224","E01022224 Cotswold 010C","E01022224",{"$f":"VLOOKUP(A2567,'Output Areas'!$A:$E,5,FALSE)","v":"Rural"},"Total: Accommodation type (excluding caravans / temporary structures)","Owned","7 rooms",{"$f":"VLOOKUP(G2567,Cntrol!$F$3:$G$9,2,FALSE)","v":4},94,28,46,12,4,4]
["E01022224","E01022224 Cotswold 010C","E01022224",{"$f":"VLOOKUP(A2568,'Output Areas'!$A:$E,5,FALSE)","v":"Rural"},"Total: Accommodation type (excluding caravans / temporary structures)","Owned","8 rooms or more",{"$f":"VLOOKUP(G2568,Cntrol!$F$3:$G$9,2,FALSE)","v":5},197,32,116,33,15,1]
["E01022224","E01022224 Cotswold 010C","E01022224",{"$f":"VLOOKUP(A2569,'Output Areas'!$A:$E,5,FALSE)","v":"Rural"},"Total: Accommodation type (excluding caravans / temporary structures)","Shared ownership or rented (excluding living rent free)","Total: Number of rooms",{"$f":"VLOOKUP(G2569,Cntrol!$F$3:$G$9,2,FALSE)","v":0},134,72,30,12,7,13]
["E01022224","E01022224 Cotswold 010C","E01022224",{"$f":"VLOOKUP(A2570,'Output Areas'!$A:$E,5,FALSE)","v":"Rural"},"Total: Accommodation type (excluding caravans / temporary structures)","Shared ownership or rented (excluding living rent free)","3 rooms or less",{"$f":"VLOOKUP(G2570,Cntrol!$F$3:$G$9,2,FALSE)","v":2},25,18,1,2,0,4]
["E01022224","E01022224 Cotswold 010C","E01022224",{"$f":"VLOOKUP(A2571,'Output Areas'!$A:$E,5,FALSE)","v":"Rural"},"Total: Accommodation type (excluding caravans / temporary structures)","Shared ownership or rented (excluding living rent free)","4 rooms",{"$f":"VLOOKUP(G2571,Cntrol!$F$3:$G$9,2,FALSE)","v":2},24,17,5,0,0,2]
["E01022224","E01022224 Cotswold 010C","E01022224",{"$f":"VLOOKUP(A2572,'Output Areas'!$A:$E,5,FALSE)","v":"Rural"},"Total: Accommodation type (excluding caravans / temporary structures)","Shared ownership or rented (excluding living rent free)","5 rooms",{"$f":"VLOOKUP(G2572,Cntrol!$F$3:$G$9,2,FALSE)","v":3},40,21,12,1,2,4]
["E01022224","E01022224 Cotswold 010C","E01022224",{"$f":"VLOOKUP(A2573,'Output Areas'!$A:$E,5,FALSE)","v":"Rural"},"Total: Accommodation type (excluding caravans / temporary structures)","Shared ownership or rented (excluding living rent free)","6 rooms",{"$f":"VLOOKUP(G2573,Cntrol!$F$3:$G$9,2,FALSE)","v":3},21,11,3,1,3,3]
["E01022224","E01022224 Cotswold 010C","E01022224",{"$f":"VLOOKUP(A2574,'Output Areas'!$A:$E,5,FALSE)","v":"Rural"},"Total: Accommodation type (excluding caravans / temporary structures)","Shared ownership or rented (excluding living rent free)","7 rooms",{"$f":"VLOOKUP(G2574,Cntrol!$F$3:$G$9,2,FALSE)","v":4},7,0,4,3,0,0]
["E01022224","E01022224 Cotswold 010C","E01022224",{"$f":"VLOOKUP(A2575,'Output Areas'!$A:$E,5,FALSE)","v":"Rural"},"Total: Accommodation type (excluding caravans / temporary structures)","Shared ownership or rented (excluding living rent free)","8 rooms or more",{"$f":"VLOOKUP(G2575,Cntrol!$F$3:$G$9,2,FALSE)","v":5},17,5,5,5,2,0]
["E01022224","E01022224 Cotswold 010C","E01022224",{"$f":"VLOOKUP(A2576,'Output Areas'!$A:$E,5,FALSE)","v":"Rural"},"Detached; semi-detached; terraced whole house or bungalow","Total: Tenure (excluding living rent free)","Total: Number of rooms",{"$f":"VLOOKUP(G2576,Cntrol!$F$3:$G$9,2,FALSE)","v":0},645,224,274,79,30,38]
["E01022224","E01022224 Cotswold 010C","E01022224",{"$f":"VLOOKUP(A2577,'Output Areas'!$A:$E,5,FALSE)","v":"Rural"},"Detached; semi-detached; terraced whole house or bungalow","Total: Tenure (excluding living rent free)","3 rooms or less",{"$f":"VLOOKUP(G2577,Cntrol!$F$3:$G$9,2,FALSE)","v":2},12,8,0,1,0,3]
["E01022224","E01022224 Cotswold 010C","E01022224",{"$f":"VLOOKUP(A2578,'Output Areas'!$A:$E,5,FALSE)","v":"Rural"},"Detached; semi-detached; terraced whole house or bungalow","Total: Tenure (excluding living rent free)","4 rooms",{"$f":"VLOOKUP(G2578,Cntrol!$F$3:$G$9,2,FALSE)","v":2},49,25,14,2,0,8]
["E01022224","E01022224 Cotswold 010C","E01022224",{"$f":"VLOOKUP(A2579,'Output Areas'!$A:$E,5,FALSE)","v":"Rural"},"Detached; semi-detached; terraced whole house or bungalow","Total: Tenure (excluding living rent free)","5 rooms",{"$f":"VLOOKUP(G2579,Cntrol!$F$3:$G$9,2,FALSE)","v":3},131,63,43,8,3,14]
["E01022224","E01022224 Cotswold 010C","E01022224",{"$f":"VLOOKUP(A2580,'Output Areas'!$A:$E,5,FALSE)","v":"Rural"},"Detached; semi-detached; terraced whole house or bungalow","Total: Tenure (excluding living rent free)","6 rooms",{"$f":"VLOOKUP(G2580,Cntrol!$F$3:$G$9,2,FALSE)","v":3},139,64,46,15,6,8]
["E01022224","E01022224 Cotswold 010C","E01022224",{"$f":"VLOOKUP(A2581,'Output Areas'!$A:$E,5,FALSE)","v":"Rural"},"Detached; semi-detached; terraced whole house or bungalow","Total: Tenure (excluding living rent free)","7 rooms",{"$f":"VLOOKUP(G2581,Cntrol!$F$3:$G$9,2,FALSE)","v":4},101,28,50,15,4,4]
["E01022224","E01022224 Cotswold 010C","E01022224",{"$f":"VLOOKUP(A2582,'Output Areas'!$A:$E,5,FALSE)","v":"Rural"},"Detached; semi-detached; terraced whole house or bungalow","Total: Tenure (excluding living rent free)","8 rooms or more",{"$f":"VLOOKUP(G2582,Cntrol!$F$3:$G$9,2,FALSE)","v":5},213,36,121,38,17,1]
["E01022224","E01022224 Cotswold 010C","E01022224",{"$f":"VLOOKUP(A2583,'Output Areas'!$A:$E,5,FALSE)","v":"Rural"},"Detached; semi-detached; terraced whole house or bungalow","Owned","Total: Number of rooms",{"$f":"VLOOKUP(G2583,Cntrol!$F$3:$G$9,2,FALSE)","v":0},538,173,247,68,23,27]
["E01022224","E01022224 Cotswold 010C","E01022224",{"$f":"VLOOKUP(A2584,'Output Areas'!$A:$E,5,FALSE)","v":"Rural"},"Detached; semi-detached; terraced whole house or bungalow","Owned","3 rooms or less",{"$f":"VLOOKUP(G2584,Cntrol!$F$3:$G$9,2,FALSE)","v":2},4,3,0,0,0,1]
["E01022224","E01022224 Cotswold 010C","E01022224",{"$f":"VLOOKUP(A2585,'Output Areas'!$A:$E,5,FALSE)","v":"Rural"},"Detached; semi-detached; terraced whole house or bungalow","Owned","4 rooms",{"$f":"VLOOKUP(G2585,Cntrol!$F$3:$G$9,2,FALSE)","v":2},32,13,11,2,0,6]
["E01022224","E01022224 Cotswold 010C","E01022224",{"$f":"VLOOKUP(A2586,'Output Areas'!$A:$E,5,FALSE)","v":"Rural"},"Detached; semi-detached; terraced whole house or bungalow","Owned","5 rooms",{"$f":"VLOOKUP(G2586,Cntrol!$F$3:$G$9,2,FALSE)","v":3},93,44,31,7,1,10]
["E01022224","E01022224 Cotswold 010C","E01022224",{"$f":"VLOOKUP(A2587,'Output Areas'!$A:$E,5,FALSE)","v":"Rural"},"Detached; semi-detached; terraced whole house or bungalow","Owned","6 rooms",{"$f":"VLOOKUP(G2587,Cntrol!$F$3:$G$9,2,FALSE)","v":3},118,53,43,14,3,5]
["E01022224","E01022224 Cotswold 010C","E01022224",{"$f":"VLOOKUP(A2588,'Output Areas'!$A:$E,5,FALSE)","v":"Rural"},"Detached; semi-detached; terraced whole house or bungalow","Owned","7 rooms",{"$f":"VLOOKUP(G2588,Cntrol!$F$3:$G$9,2,FALSE)","v":4},94,28,46,12,4,4]
["E01022224","E01022224 Cotswold 010C","E01022224",{"$f":"VLOOKUP(A2589,'Output Areas'!$A:$E,5,FALSE)","v":"Rural"},"Detached; semi-detached; terraced whole house or bungalow","Owned","8 rooms or more",{"$f":"VLOOKUP(G2589,Cntrol!$F$3:$G$9,2,FALSE)","v":5},197,32,116,33,15,1]
["E01022224","E01022224 Cotswold 010C","E01022224",{"$f":"VLOOKUP(A2590,'Output Areas'!$A:$E,5,FALSE)","v":"Rural"},"Detached; semi-detached; terraced whole house or bungalow","Shared ownership or rented (excluding living rent free)","Total: Number of rooms",{"$f":"VLOOKUP(G2590,Cntrol!$F$3:$G$9,2,FALSE)","v":0},107,51,27,11,7,11]
["E01022224","E01022224 Cotswold 010C","E01022224",{"$f":"VLOOKUP(A2591,'Output Areas'!$A:$E,5,FALSE)","v":"Rural"},"Detached; semi-detached; terraced whole house or bungalow","Shared ownership or rented (excluding living rent free)","3 rooms or less",{"$f":"VLOOKUP(G2591,Cntrol!$F$3:$G$9,2,FALSE)","v":2},8,5,0,1,0,2]
["E01022224","E01022224 Cotswold 010C","E01022224",{"$f":"VLOOKUP(A2592,'Output Areas'!$A:$E,5,FALSE)","v":"Rural"},"Detached; semi-detached; terraced whole house or bungalow","Shared ownership or rented (excluding living rent free)","4 rooms",{"$f":"VLOOKUP(G2592,Cntrol!$F$3:$G$9,2,FALSE)","v":2},17,12,3,0,0,2]
["E01022224","E01022224 Cotswold 010C","E01022224",{"$f":"VLOOKUP(A2593,'Output Areas'!$A:$E,5,FALSE)","v":"Rural"},"Detached; semi-detached; terraced whole house or bungalow","Shared ownership or rented (excluding living rent free)","5 rooms",{"$f":"VLOOKUP(G2593,Cntrol!$F$3:$G$9,2,FALSE)","v":3},38,19,12,1,2,4]
["E01022224","E01022224 Cotswold 010C","E01022224",{"$f":"VLOOKUP(A2594,'Output Areas'!$A:$E,5,FALSE)","v":"Rural"},"Detached; semi-detached; terraced whole house or bungalow","Shared ownership or rented (excluding living rent free)","6 rooms",{"$f":"VLOOKUP(G2594,Cntrol!$F$3:$G$9,2,FALSE)","v":3},21,11,3,1,3,3]
["E01022224","E01022224 Cotswold 010C","E01022224",{"$f":"VLOOKUP(A2595,'Output Areas'!$A:$E,5,FALSE)","v":"Rural"},"Detached; semi-detached; terraced whole house or bungalow","Shared ownership or rented (excluding living rent free)","7 rooms",{"$f":"VLOOKUP(G2595,Cntrol!$F$3:$G$9,2,FALSE)","v":4},7,0,4,3,0,0]
["E01022224","E01022224 Cotswold 010C","E01022224",{"$f":"VLOOKUP(A2596,'Output Areas'!$A:$E,5,FALSE)","v":"Rural"},"Detached; semi-detached; terraced whole house or bungalow","Shared ownership or rented (excluding living rent free)","8 rooms or more",{"$f":"VLOOKUP(G2596,Cntrol!$F$3:$G$9,2,FALSE)","v":5},16,4,5,5,2,0]
["E01022224","E01022224 Cotswold 010C","E01022224",{"$f":"VLOOKUP(A2597,'Output Areas'!$A:$E,5,FALSE)","v":"Rural"},"A flat; maisonette; apartment","Total: Tenure (excluding living rent free)","Total: Number of rooms",{"$f":"VLOOKUP(G2597,Cntrol!$F$3:$G$9,2,FALSE)","v":0},31,24,4,1,0,2]
["E01022224","E01022224 Cotswold 010C","E01022224",{"$f":"VLOOKUP(A2598,'Output Areas'!$A:$E,5,FALSE)","v":"Rural"},"A flat; maisonette; apartment","Total: Tenure (excluding living rent free)","3 rooms or less",{"$f":"VLOOKUP(G2598,Cntrol!$F$3:$G$9,2,FALSE)","v":2},19,15,1,1,0,2]
["E01022224","E01022224 Cotswold 010C","E01022224",{"$f":"VLOOKUP(A2599,'Output Areas'!$A:$E,5,FALSE)","v":"Rural"},"A flat; maisonette; apartment","Total: Tenure (excluding living rent free)","4 rooms",{"$f":"VLOOKUP(G2599,Cntrol!$F$3:$G$9,2,FALSE)","v":2},8,5,3,0,0,0]
["E01022224","E01022224 Cotswold 010C","E01022224",{"$f":"VLOOKUP(A2600,'Output Areas'!$A:$E,5,FALSE)","v":"Rural"},"A flat; maisonette; apartment","Total: Tenure (excluding living rent free)","5 rooms",{"$f":"VLOOKUP(G2600,Cntrol!$F$3:$G$9,2,FALSE)","v":3},2,2,0,0,0,0]
["E01022224","E01022224 Cotswold 010C","E01022224",{"$f":"VLOOKUP(A2601,'Output Areas'!$A:$E,5,FALSE)","v":"Rural"},"A flat; maisonette; apartment","Total: Tenure (excluding living rent free)","6 rooms",{"$f":"VLOOKUP(G2601,Cntrol!$F$3:$G$9,2,FALSE)","v":3},1,1,0,0,0,0]
["E01022224","E01022224 Cotswold 010C","E01022224",{"$f":"VLOOKUP(A2602,'Output Areas'!$A:$E,5,FALSE)","v":"Rural"},"A flat; maisonette; apartment","Total: Tenure (excluding living rent free)","8 rooms or more",{"$f":"VLOOKUP(G2602,Cntrol!$F$3:$G$9,2,FALSE)","v":5},1,1,0,0,0,0]
["E01022224","E01022224 Cotswold 010C","E01022224",{"$f":"VLOOKUP(A2603,'Output Areas'!$A:$E,5,FALSE)","v":"Rural"},"A flat; maisonette; apartment","Owned","Total: Number of rooms",{"$f":"VLOOKUP(G2603,Cntrol!$F$3:$G$9,2,FALSE)","v":0},4,3,1,0,0,0]
["E01022224","E01022224 Cotswold 010C","E01022224",{"$f":"VLOOKUP(A2604,'Output Areas'!$A:$E,5,FALSE)","v":"Rural"},"A flat; maisonette; apartment","Owned","3 rooms or less",{"$f":"VLOOKUP(G2604,Cntrol!$F$3:$G$9,2,FALSE)","v":2},2,2,0,0,0,0]
["E01022224","E01022224 Cotswold 010C","E01022224",{"$f":"VLOOKUP(A2605,'Output Areas'!$A:$E,5,FALSE)","v":"Rural"},"A flat; maisonette; apartment","Owned","4 rooms",{"$f":"VLOOKUP(G2605,Cntrol!$F$3:$G$9,2,FALSE)","v":2},1,0,1,0,0,0]
["E01022224","E01022224 Cotswold 010C","E01022224",{"$f":"VLOOKUP(A2606,'Output Areas'!$A:$E,5,FALSE)","v":"Rural"},"A flat; maisonette; apartment","Owned","6 rooms",{"$f":"VLOOKUP(G2606,Cntrol!$F$3:$G$9,2,FALSE)","v":3},1,1,0,0,0,0]
["E01022224","E01022224 Cotswold 010C","E01022224",{"$f":"VLOOKUP(A2607,'Output Areas'!$A:$E,5,FALSE)","v":"Rural"},"A flat; maisonette; apartment","Shared ownership or rented (excluding living rent free)","Total: Number of rooms",{"$f":"VLOOKUP(G2607,Cntrol!$F$3:$G$9,2,FALSE)","v":0},27,21,3,1,0,2]
["E01022224","E01022224 Cotswold 010C","E01022224",{"$f":"VLOOKUP(A2608,'Output Areas'!$A:$E,5,FALSE)","v":"Rural"},"A flat; maisonette; apartment","Shared ownership or rented (excluding living rent free)","3 rooms or less",{"$f":"VLOOKUP(G2608,Cntrol!$F$3:$G$9,2,FALSE)","v":2},17,13,1,1,0,2]
["E01022224","E01022224 Cotswold 010C","E01022224",{"$f":"VLOOKUP(A2609,'Output Areas'!$A:$E,5,FALSE)","v":"Rural"},"A flat; maisonette; apartment","Shared ownership or rented (excluding living rent free)","4 rooms",{"$f":"VLOOKUP(G2609,Cntrol!$F$3:$G$9,2,FALSE)","v":2},7,5,2,0,0,0]
["E01022224","E01022224 Cotswold 010C","E01022224",{"$f":"VLOOKUP(A2610,'Output Areas'!$A:$E,5,FALSE)","v":"Rural"},"A flat; maisonette; apartment","Shared ownership or rented (excluding living rent free)","5 rooms",{"$f":"VLOOKUP(G2610,Cntrol!$F$3:$G$9,2,FALSE)","v":3},2,2,0,0,0,0]
["E01022224","E01022224 Cotswold 010C","E01022224",{"$f":"VLOOKUP(A2611,'Output Areas'!$A:$E,5,FALSE)","v":"Rural"},"A flat; maisonette; apartment","Shared ownership or rented (excluding living rent free)","8 rooms or more",{"$f":"VLOOKUP(G2611,Cntrol!$F$3:$G$9,2,FALSE)","v":5},1,1,0,0,0,0]
["E01022176","E01022176 Cotswold 011A","E01022176",{"$f":"VLOOKUP(A2612,'Output Areas'!$A:$E,5,FALSE)","v":"Rural"},"Total: Accommodation type (excluding caravans / temporary structures)","Total: Tenure (excluding living rent free)","Total: Number of rooms",{"$f":"VLOOKUP(G2612,Cntrol!$F$3:$G$9,2,FALSE)","v":0},788,296,315,81,49,47]
["E01022176","E01022176 Cotswold 011A","E01022176",{"$f":"VLOOKUP(A2613,'Output Areas'!$A:$E,5,FALSE)","v":"Rural"},"Total: Accommodation type (excluding caravans / temporary structures)","Total: Tenure (excluding living rent free)","3 rooms or less",{"$f":"VLOOKUP(G2613,Cntrol!$F$3:$G$9,2,FALSE)","v":2},50,25,9,0,1,15]
["E01022176","E01022176 Cotswold 011A","E01022176",{"$f":"VLOOKUP(A2614,'Output Areas'!$A:$E,5,FALSE)","v":"Rural"},"Total: Accommodation type (excluding caravans / temporary structures)","Total: Tenure (excluding living rent free)","4 rooms",{"$f":"VLOOKUP(G2614,Cntrol!$F$3:$G$9,2,FALSE)","v":2},78,42,20,4,2,10]
["E01022176","E01022176 Cotswold 011A","E01022176",{"$f":"VLOOKUP(A2615,'Output Areas'!$A:$E,5,FALSE)","v":"Rural"},"Total: Accommodation type (excluding caravans / temporary structures)","Total: Tenure (excluding living rent free)","5 rooms",{"$f":"VLOOKUP(G2615,Cntrol!$F$3:$G$9,2,FALSE)","v":3},176,103,47,11,6,9]
["E01022176","E01022176 Cotswold 011A","E01022176",{"$f":"VLOOKUP(A2616,'Output Areas'!$A:$E,5,FALSE)","v":"Rural"},"Total: Accommodation type (excluding caravans / temporary structures)","Total: Tenure (excluding living rent free)","6 rooms",{"$f":"VLOOKUP(G2616,Cntrol!$F$3:$G$9,2,FALSE)","v":3},150,50,67,20,5,8]
["E01022176","E01022176 Cotswold 011A","E01022176",{"$f":"VLOOKUP(A2617,'Output Areas'!$A:$E,5,FALSE)","v":"Rural"},"Total: Accommodation type (excluding caravans / temporary structures)","Total: Tenure (excluding living rent free)","7 rooms",{"$f":"VLOOKUP(G2617,Cntrol!$F$3:$G$9,2,FALSE)","v":4},107,30,58,12,5,2]
["E01022176","E01022176 Cotswold 011A","E01022176",{"$f":"VLOOKUP(A2618,'Output Areas'!$A:$E,5,FALSE)","v":"Rural"},"Total: Accommodation type (excluding caravans / temporary structures)","Total: Tenure (excluding living rent free)","8 rooms or more",{"$f":"VLOOKUP(G2618,Cntrol!$F$3:$G$9,2,FALSE)","v":5},227,46,114,34,30,3]
["E01022176","E01022176 Cotswold 011A","E01022176",{"$f":"VLOOKUP(A2619,'Output Areas'!$A:$E,5,FALSE)","v":"Rural"},"Total: Accommodation type (excluding caravans / temporary structures)","Owned","Total: Number of rooms",{"$f":"VLOOKUP(G2619,Cntrol!$F$3:$G$9,2,FALSE)","v":0},494,147,227,65,35,20]
["E01022176","E01022176 Cotswold 011A","E01022176",{"$f":"VLOOKUP(A2620,'Output Areas'!$A:$E,5,FALSE)","v":"Rural"},"Total: Accommodation type (excluding caravans / temporary structures)","Owned","3 rooms or less",{"$f":"VLOOKUP(G2620,Cntrol!$F$3:$G$9,2,FALSE)","v":2},12,5,4,0,0,3]
["E01022176","E01022176 Cotswold 011A","E01022176",{"$f":"VLOOKUP(A2621,'Output Areas'!$A:$E,5,FALSE)","v":"Rural"},"Total: Accommodation type (excluding caravans / temporary structures)","Owned","4 rooms",{"$f":"VLOOKUP(G2621,Cntrol!$F$3:$G$9,2,FALSE)","v":2},26,11,6,4,1,4]
["E01022176","E01022176 Cotswold 011A","E01022176",{"$f":"VLOOKUP(A2622,'Output Areas'!$A:$E,5,FALSE)","v":"Rural"},"Total: Accommodation type (excluding caravans / temporary structures)","Owned","5 rooms",{"$f":"VLOOKUP(G2622,Cntrol!$F$3:$G$9,2,FALSE)","v":3},71,38,20,4,3,6]
["E01022176","E01022176 Cotswold 011A","E01022176",{"$f":"VLOOKUP(A2623,'Output Areas'!$A:$E,5,FALSE)","v":"Rural"},"Total: Accommodation type (excluding caravans / temporary structures)","Owned","6 rooms",{"$f":"VLOOKUP(G2623,Cntrol!$F$3:$G$9,2,FALSE)","v":3},98,33,43,16,3,3]
["E01022176","E01022176 Cotswold 011A","E01022176",{"$f":"VLOOKUP(A2624,'Output Areas'!$A:$E,5,FALSE)","v":"Rural"},"Total: Accommodation type (excluding caravans / temporary structures)","Owned","7 rooms",{"$f":"VLOOKUP(G2624,Cntrol!$F$3:$G$9,2,FALSE)","v":4},88,19,50,12,5,2]
["E01022176","E01022176 Cotswold 011A","E01022176",{"$f":"VLOOKUP(A2625,'Output Areas'!$A:$E,5,FALSE)","v":"Rural"},"Total: Accommodation type (excluding caravans / temporary structures)","Owned","8 rooms or more",{"$f":"VLOOKUP(G2625,Cntrol!$F$3:$G$9,2,FALSE)","v":5},199,41,104,29,23,2]
["E01022176","E01022176 Cotswold 011A","E01022176",{"$f":"VLOOKUP(A2626,'Output Areas'!$A:$E,5,FALSE)","v":"Rural"},"Total: Accommodation type (excluding caravans / temporary structures)","Shared ownership or rented (excluding living rent free)","Total: Number of rooms",{"$f":"VLOOKUP(G2626,Cntrol!$F$3:$G$9,2,FALSE)","v":0},294,149,88,16,14,27]
["E01022176","E01022176 Cotswold 011A","E01022176",{"$f":"VLOOKUP(A2627,'Output Areas'!$A:$E,5,FALSE)","v":"Rural"},"Total: Accommodation type (excluding caravans / temporary structures)","Shared ownership or rented (excluding living rent free)","3 rooms or less",{"$f":"VLOOKUP(G2627,Cntrol!$F$3:$G$9,2,FALSE)","v":2},38,20,5,0,1,12]
["E01022176","E01022176 Cotswold 011A","E01022176",{"$f":"VLOOKUP(A2628,'Output Areas'!$A:$E,5,FALSE)","v":"Rural"},"Total: Accommodation type (excluding caravans / temporary structures)","Shared ownership or rented (excluding living rent free)","4 rooms",{"$f":"VLOOKUP(G2628,Cntrol!$F$3:$G$9,2,FALSE)","v":2},52,31,14,0,1,6]
["E01022176","E01022176 Cotswold 011A","E01022176",{"$f":"VLOOKUP(A2629,'Output Areas'!$A:$E,5,FALSE)","v":"Rural"},"Total: Accommodation type (excluding caravans / temporary structures)","Shared ownership or rented (excluding living rent free)","5 rooms",{"$f":"VLOOKUP(G2629,Cntrol!$F$3:$G$9,2,FALSE)","v":3},105,65,27,7,3,3]
["E01022176","E01022176 Cotswold 011A","E01022176",{"$f":"VLOOKUP(A2630,'Output Areas'!$A:$E,5,FALSE)","v":"Rural"},"Total: Accommodation type (excluding caravans / temporary structures)","Shared ownership or rented (excluding living rent free)","6 rooms",{"$f":"VLOOKUP(G2630,Cntrol!$F$3:$G$9,2,FALSE)","v":3},52,17,24,4,2,5]
["E01022176","E01022176 Cotswold 011A","E01022176",{"$f":"VLOOKUP(A2631,'Output Areas'!$A:$E,5,FALSE)","v":"Rural"},"Total: Accommodation type (excluding caravans / temporary structures)","Shared ownership or rented (excluding living rent free)","7 rooms",{"$f":"VLOOKUP(G2631,Cntrol!$F$3:$G$9,2,FALSE)","v":4},19,11,8,0,0,0]
["E01022176","E01022176 Cotswold 011A","E01022176",{"$f":"VLOOKUP(A2632,'Output Areas'!$A:$E,5,FALSE)","v":"Rural"},"Total: Accommodation type (excluding caravans / temporary structures)","Shared ownership or rented (excluding living rent free)","8 rooms or more",{"$f":"VLOOKUP(G2632,Cntrol!$F$3:$G$9,2,FALSE)","v":5},28,5,10,5,7,1]
["E01022176","E01022176 Cotswold 011A","E01022176",{"$f":"VLOOKUP(A2633,'Output Areas'!$A:$E,5,FALSE)","v":"Rural"},"Detached; semi-detached; terraced whole house or bungalow","Total: Tenure (excluding living rent free)","Total: Number of rooms",{"$f":"VLOOKUP(G2633,Cntrol!$F$3:$G$9,2,FALSE)","v":0},745,271,310,81,47,36]
["E01022176","E01022176 Cotswold 011A","E01022176",{"$f":"VLOOKUP(A2634,'Output Areas'!$A:$E,5,FALSE)","v":"Rural"},"Detached; semi-detached; terraced whole house or bungalow","Total: Tenure (excluding living rent free)","3 rooms or less",{"$f":"VLOOKUP(G2634,Cntrol!$F$3:$G$9,2,FALSE)","v":2},22,10,7,0,0,5]
["E01022176","E01022176 Cotswold 011A","E01022176",{"$f":"VLOOKUP(A2635,'Output Areas'!$A:$E,5,FALSE)","v":"Rural"},"Detached; semi-detached; terraced whole house or bungalow","Total: Tenure (excluding living rent free)","4 rooms",{"$f":"VLOOKUP(G2635,Cntrol!$F$3:$G$9,2,FALSE)","v":2},66,34,18,4,1,9]
["E01022176","E01022176 Cotswold 011A","E01022176",{"$f":"VLOOKUP(A2636,'Output Areas'!$A:$E,5,FALSE)","v":"Rural"},"Detached; semi-detached; terraced whole house or bungalow","Total: Tenure (excluding living rent free)","5 rooms",{"$f":"VLOOKUP(G2636,Cntrol!$F$3:$G$9,2,FALSE)","v":3},174,102,46,11,6,9]
["E01022176","E01022176 Cotswold 011A","E01022176",{"$f":"VLOOKUP(A2637,'Output Areas'!$A:$E,5,FALSE)","v":"Rural"},"Detached; semi-detached; terraced whole house or bungalow","Total: Tenure (excluding living rent free)","6 rooms",{"$f":"VLOOKUP(G2637,Cntrol!$F$3:$G$9,2,FALSE)","v":3},150,50,67,20,5,8]
["E01022176","E01022176 Cotswold 011A","E01022176",{"$f":"VLOOKUP(A2638,'Output Areas'!$A:$E,5,FALSE)","v":"Rural"},"Detached; semi-detached; terraced whole house or bungalow","Total: Tenure (excluding living rent free)","7 rooms",{"$f":"VLOOKUP(G2638,Cntrol!$F$3:$G$9,2,FALSE)","v":4},107,30,58,12,5,2]
["E01022176","E01022176 Cotswold 011A","E01022176",{"$f":"VLOOKUP(A2639,'Output Areas'!$A:$E,5,FALSE)","v":"Rural"},"Detached; semi-detached; terraced whole house or bungalow","Total: Tenure (excluding living rent free)","8 rooms or more",{"$f":"VLOOKUP(G2639,Cntrol!$F$3:$G$9,2,FALSE)","v":5},226,45,114,34,30,3]
["E01022176","E01022176 Cotswold 011A","E01022176",{"$f":"VLOOKUP(A2640,'Output Areas'!$A:$E,5,FALSE)","v":"Rural"},"Detached; semi-detached; terraced whole house or bungalow","Owned","Total: Number of rooms",{"$f":"VLOOKUP(G2640,Cntrol!$F$3:$G$9,2,FALSE)","v":0},482,138,227,65,35,17]
["E01022176","E01022176 Cotswold 011A","E01022176",{"$f":"VLOOKUP(A2641,'Output Areas'!$A:$E,5,FALSE)","v":"Rural"},"Detached; semi-detached; terraced whole house or bungalow","Owned","3 rooms or less",{"$f":"VLOOKUP(G2641,Cntrol!$F$3:$G$9,2,FALSE)","v":2},6,1,4,0,0,1]
["E01022176","E01022176 Cotswold 011A","E01022176",{"$f":"VLOOKUP(A2642,'Output Areas'!$A:$E,5,FALSE)","v":"Rural"},"Detached; semi-detached; terraced whole house or bungalow","Owned","4 rooms",{"$f":"VLOOKUP(G2642,Cntrol!$F$3:$G$9,2,FALSE)","v":2},21,7,6,4,1,3]
["E01022176","E01022176 Cotswold 011A","E01022176",{"$f":"VLOOKUP(A2643,'Output Areas'!$A:$E,5,FALSE)","v":"Rural"},"Detached; semi-detached; terraced whole house or bungalow","Owned","5 rooms",{"$f":"VLOOKUP(G2643,Cntrol!$F$3:$G$9,2,FALSE)","v":3},71,38,20,4,3,6]
["E01022176","E01022176 Cotswold 011A","E01022176",{"$f":"VLOOKUP(A2644,'Output Areas'!$A:$E,5,FALSE)","v":"Rural"},"Detached; semi-detached; terraced whole house or bungalow","Owned","6 rooms",{"$f":"VLOOKUP(G2644,Cntrol!$F$3:$G$9,2,FALSE)","v":3},98,33,43,16,3,3]
["E01022176","E01022176 Cotswold 011A","E01022176",{"$f":"VLOOKUP(A2645,'Output Areas'!$A:$E,5,FALSE)","v":"Rural"},"Detached; semi-detached; terraced whole house or bungalow","Owned","7 rooms",{"$f":"VLOOKUP(G2645,Cntrol!$F$3:$G$9,2,FALSE)","v":4},88,19,50,12,5,2]
["E01022176","E01022176 Cotswold 011A","E01022176",{"$f":"VLOOKUP(A2646,'Output Areas'!$A:$E,5,FALSE)","v":"Rural"},"Detached; semi-detached; terraced whole house or bungalow","Owned","8 rooms or more",{"$f":"VLOOKUP(G2646,Cntrol!$F$3:$G$9,2,FALSE)","v":5},198,40,104,29,23,2]
["E01022176","E01022176 Cotswold 011A","E01022176",{"$f":"VLOOKUP(A2647,'Output Areas'!$A:$E,5,FALSE)","v":"Rural"},"Detached; semi-detached; terraced whole house or bungalow","Shared ownership or rented (excluding living rent free)","Total: Number of rooms",{"$f":"VLOOKUP(G2647,Cntrol!$F$3:$G$9,2,FALSE)","v":0},263,133,83,16,12,19]
["E01022176","E01022176 Cotswold 011A","E01022176",{"$f":"VLOOKUP(A2648,'Output Areas'!$A:$E,5,FALSE)","v":"Rural"},"Detached; semi-detached; terraced whole house or bungalow","Shared ownership or rented (excluding living rent free)","3 rooms or less",{"$f":"VLOOKUP(G2648,Cntrol!$F$3:$G$9,2,FALSE)","v":2},16,9,3,0,0,4]
["E01022176","E01022176 Cotswold 011A","E01022176",{"$f":"VLOOKUP(A2649,'Output Areas'!$A:$E,5,FALSE)","v":"Rural"},"Detached; semi-detached; terraced whole house or bungalow","Shared ownership or rented (excluding living rent free)","4 rooms",{"$f":"VLOOKUP(G2649,Cntrol!$F$3:$G$9,2,FALSE)","v":2},45,27,12,0,0,6]
["E01022176","E01022176 Cotswold 011A","E01022176",{"$f":"VLOOKUP(A2650,'Output Areas'!$A:$E,5,FALSE)","v":"Rural"},"Detached; semi-detached; terraced whole house or bungalow","Shared ownership or rented (excluding living rent free)","5 rooms",{"$f":"VLOOKUP(G2650,Cntrol!$F$3:$G$9,2,FALSE)","v":3},103,64,26,7,3,3]
["E01022176","E01022176 Cotswold 011A","E01022176",{"$f":"VLOOKUP(A2651,'Output Areas'!$A:$E,5,FALSE)","v":"Rural"},"Detached; semi-detached; terraced whole house or bungalow","Shared ownership or rented (excluding living rent free)","6 rooms",{"$f":"VLOOKUP(G2651,Cntrol!$F$3:$G$9,2,FALSE)","v":3},52,17,24,4,2,5]
["E01022176","E01022176 Cotswold 011A","E01022176",{"$f":"VLOOKUP(A2652,'Output Areas'!$A:$E,5,FALSE)","v":"Rural"},"Detached; semi-detached; terraced whole house or bungalow","Shared ownership or rented (excluding living rent free)","7 rooms",{"$f":"VLOOKUP(G2652,Cntrol!$F$3:$G$9,2,FALSE)","v":4},19,11,8,0,0,0]
["E01022176","E01022176 Cotswold 011A","E01022176",{"$f":"VLOOKUP(A2653,'Output Areas'!$A:$E,5,FALSE)","v":"Rural"},"Detached; semi-detached; terraced whole house or bungalow","Shared ownership or rented (excluding living rent free)","8 rooms or more",{"$f":"VLOOKUP(G2653,Cntrol!$F$3:$G$9,2,FALSE)","v":5},28,5,10,5,7,1]
["E01022176","E01022176 Cotswold 011A","E01022176",{"$f":"VLOOKUP(A2654,'Output Areas'!$A:$E,5,FALSE)","v":"Rural"},"A flat; maisonette; apartment","Total: Tenure (excluding living rent free)","Total: Number of rooms",{"$f":"VLOOKUP(G2654,Cntrol!$F$3:$G$9,2,FALSE)","v":0},43,25,5,0,2,11]
["E01022176","E01022176 Cotswold 011A","E01022176",{"$f":"VLOOKUP(A2655,'Output Areas'!$A:$E,5,FALSE)","v":"Rural"},"A flat; maisonette; apartment","Total: Tenure (excluding living rent free)","3 rooms or less",{"$f":"VLOOKUP(G2655,Cntrol!$F$3:$G$9,2,FALSE)","v":2},28,15,2,0,1,10]
["E01022176","E01022176 Cotswold 011A","E01022176",{"$f":"VLOOKUP(A2656,'Output Areas'!$A:$E,5,FALSE)","v":"Rural"},"A flat; maisonette; apartment","Total: Tenure (excluding living rent free)","4 rooms",{"$f":"VLOOKUP(G2656,Cntrol!$F$3:$G$9,2,FALSE)","v":2},12,8,2,0,1,1]
["E01022176","E01022176 Cotswold 011A","E01022176",{"$f":"VLOOKUP(A2657,'Output Areas'!$A:$E,5,FALSE)","v":"Rural"},"A flat; maisonette; apartment","Total: Tenure (excluding living rent free)","5 rooms",{"$f":"VLOOKUP(G2657,Cntrol!$F$3:$G$9,2,FALSE)","v":3},2,1,1,0,0,0]
["E01022176","E01022176 Cotswold 011A","E01022176",{"$f":"VLOOKUP(A2658,'Output Areas'!$A:$E,5,FALSE)","v":"Rural"},"A flat; maisonette; apartment","Total: Tenure (excluding living rent free)","8 rooms or more",{"$f":"VLOOKUP(G2658,Cntrol!$F$3:$G$9,2,FALSE)","v":5},1,1,0,0,0,0]
["E01022176","E01022176 Cotswold 011A","E01022176",{"$f":"VLOOKUP(A2659,'Output Areas'!$A:$E,5,FALSE)","v":"Rural"},"A flat; maisonette; apartment","Owned","Total: Number of rooms",{"$f":"VLOOKUP(G2659,Cntrol!$F$3:$G$9,2,FALSE)","v":0},12,9,0,0,0,3]
["E01022176","E01022176 Cotswold 011A","E01022176",{"$f":"VLOOKUP(A2660,'Output Areas'!$A:$E,5,FALSE)","v":"Rural"},"A flat; maisonette; apartment","Owned","3 rooms or less",{"$f":"VLOOKUP(G2660,Cntrol!$F$3:$G$9,2,FALSE)","v":2},6,4,0,0,0,2]
["E01022176","E01022176 Cotswold 011A","E01022176",{"$f":"VLOOKUP(A2661,'Output Areas'!$A:$E,5,FALSE)","v":"Rural"},"A flat; maisonette; apartment","Owned","4 rooms",{"$f":"VLOOKUP(G2661,Cntrol!$F$3:$G$9,2,FALSE)","v":2},5,4,0,0,0,1]
["E01022176","E01022176 Cotswold 011A","E01022176",{"$f":"VLOOKUP(A2662,'Output Areas'!$A:$E,5,FALSE)","v":"Rural"},"A flat; maisonette; apartment","Owned","8 rooms or more",{"$f":"VLOOKUP(G2662,Cntrol!$F$3:$G$9,2,FALSE)","v":5},1,1,0,0,0,0]
["E01022176","E01022176 Cotswold 011A","E01022176",{"$f":"VLOOKUP(A2663,'Output Areas'!$A:$E,5,FALSE)","v":"Rural"},"A flat; maisonette; apartment","Shared ownership or rented (excluding living rent free)","Total: Number of rooms",{"$f":"VLOOKUP(G2663,Cntrol!$F$3:$G$9,2,FALSE)","v":0},31,16,5,0,2,8]
["E01022176","E01022176 Cotswold 011A","E01022176",{"$f":"VLOOKUP(A2664,'Output Areas'!$A:$E,5,FALSE)","v":"Rural"},"A flat; maisonette; apartment","Shared ownership or rented (excluding living rent free)","3 rooms or less",{"$f":"VLOOKUP(G2664,Cntrol!$F$3:$G$9,2,FALSE)","v":2},22,11,2,0,1,8]
["E01022176","E01022176 Cotswold 011A","E01022176",{"$f":"VLOOKUP(A2665,'Output Areas'!$A:$E,5,FALSE)","v":"Rural"},"A flat; maisonette; apartment","Shared ownership or rented (excluding living rent free)","4 rooms",{"$f":"VLOOKUP(G2665,Cntrol!$F$3:$G$9,2,FALSE)","v":2},7,4,2,0,1,0]
["E01022176","E01022176 Cotswold 011A","E01022176",{"$f":"VLOOKUP(A2666,'Output Areas'!$A:$E,5,FALSE)","v":"Rural"},"A flat; maisonette; apartment","Shared ownership or rented (excluding living rent free)","5 rooms",{"$f":"VLOOKUP(G2666,Cntrol!$F$3:$G$9,2,FALSE)","v":3},2,1,1,0,0,0]
["E01022206","E01022206 Cotswold 011B","E01022206",{"$f":"VLOOKUP(A2667,'Output Areas'!$A:$E,5,FALSE)","v":"Rural"},"Total: Accommodation type (excluding caravans / temporary structures)","Total: Tenure (excluding living rent free)","Total: Number of rooms",{"$f":"VLOOKUP(G2667,Cntrol!$F$3:$G$9,2,FALSE)","v":0},728,222,320,113,38,35]
["E01022206","E01022206 Cotswold 011B","E01022206",{"$f":"VLOOKUP(A2668,'Output Areas'!$A:$E,5,FALSE)","v":"Rural"},"Total: Accommodation type (excluding caravans / temporary structures)","Total: Tenure (excluding living rent free)","3 rooms or less",{"$f":"VLOOKUP(G2668,Cntrol!$F$3:$G$9,2,FALSE)","v":2},23,15,5,1,0,2]
["E01022206","E01022206 Cotswold 011B","E01022206",{"$f":"VLOOKUP(A2669,'Output Areas'!$A:$E,5,FALSE)","v":"Rural"},"Total: Accommodation type (excluding caravans / temporary structures)","Total: Tenure (excluding living rent free)","4 rooms",{"$f":"VLOOKUP(G2669,Cntrol!$F$3:$G$9,2,FALSE)","v":2},70,36,21,2,0,11]
["E01022206","E01022206 Cotswold 011B","E01022206",{"$f":"VLOOKUP(A2670,'Output Areas'!$A:$E,5,FALSE)","v":"Rural"},"Total: Accommodation type (excluding caravans / temporary structures)","Total: Tenure (excluding living rent free)","5 rooms",{"$f":"VLOOKUP(G2670,Cntrol!$F$3:$G$9,2,FALSE)","v":3},118,53,47,7,4,7]
["E01022206","E01022206 Cotswold 011B","E01022206",{"$f":"VLOOKUP(A2671,'Output Areas'!$A:$E,5,FALSE)","v":"Rural"},"Total: Accommodation type (excluding caravans / temporary structures)","Total: Tenure (excluding living rent free)","6 rooms",{"$f":"VLOOKUP(G2671,Cntrol!$F$3:$G$9,2,FALSE)","v":3},149,51,71,16,3,8]
["E01022206","E01022206 Cotswold 011B","E01022206",{"$f":"VLOOKUP(A2672,'Output Areas'!$A:$E,5,FALSE)","v":"Rural"},"Total: Accommodation type (excluding caravans / temporary structures)","Total: Tenure (excluding living rent free)","7 rooms",{"$f":"VLOOKUP(G2672,Cntrol!$F$3:$G$9,2,FALSE)","v":4},99,25,52,15,4,3]
["E01022206","E01022206 Cotswold 011B","E01022206",{"$f":"VLOOKUP(A2673,'Output Areas'!$A:$E,5,FALSE)","v":"Rural"},"Total: Accommodation type (excluding caravans / temporary structures)","Total: Tenure (excluding living rent free)","8 rooms or more",{"$f":"VLOOKUP(G2673,Cntrol!$F$3:$G$9,2,FALSE)","v":5},269,42,124,72,27,4]
["E01022206","E01022206 Cotswold 011B","E01022206",{"$f":"VLOOKUP(A2674,'Output Areas'!$A:$E,5,FALSE)","v":"Rural"},"Total: Accommodation type (excluding caravans / temporary structures)","Owned","Total: Number of rooms",{"$f":"VLOOKUP(G2674,Cntrol!$F$3:$G$9,2,FALSE)","v":0},501,121,235,96,33,16]
["E01022206","E01022206 Cotswold 011B","E01022206",{"$f":"VLOOKUP(A2675,'Output Areas'!$A:$E,5,FALSE)","v":"Rural"},"Total: Accommodation type (excluding caravans / temporary structures)","Owned","3 rooms or less",{"$f":"VLOOKUP(G2675,Cntrol!$F$3:$G$9,2,FALSE)","v":2},2,1,0,1,0,0]
["E01022206","E01022206 Cotswold 011B","E01022206",{"$f":"VLOOKUP(A2676,'Output Areas'!$A:$E,5,FALSE)","v":"Rural"},"Total: Accommodation type (excluding caravans / temporary structures)","Owned","4 rooms",{"$f":"VLOOKUP(G2676,Cntrol!$F$3:$G$9,2,FALSE)","v":2},21,11,6,0,0,4]
["E01022206","E01022206 Cotswold 011B","E01022206",{"$f":"VLOOKUP(A2677,'Output Areas'!$A:$E,5,FALSE)","v":"Rural"},"Total: Accommodation type (excluding caravans / temporary structures)","Owned","5 rooms",{"$f":"VLOOKUP(G2677,Cntrol!$F$3:$G$9,2,FALSE)","v":3},61,25,24,5,2,5]
["E01022206","E01022206 Cotswold 011B","E01022206",{"$f":"VLOOKUP(A2678,'Output Areas'!$A:$E,5,FALSE)","v":"Rural"},"Total: Accommodation type (excluding caravans / temporary structures)","Owned","6 rooms",{"$f":"VLOOKUP(G2678,Cntrol!$F$3:$G$9,2,FALSE)","v":3},99,31,50,13,2,3]
["E01022206","E01022206 Cotswold 011B","E01022206",{"$f":"VLOOKUP(A2679,'Output Areas'!$A:$E,5,FALSE)","v":"Rural"},"Total: Accommodation type (excluding caravans / temporary structures)","Owned","7 rooms",{"$f":"VLOOKUP(G2679,Cntrol!$F$3:$G$9,2,FALSE)","v":4},78,16,43,14,4,1]
["E01022206","E01022206 Cotswold 011B","E01022206",{"$f":"VLOOKUP(A2680,'Output Areas'!$A:$E,5,FALSE)","v":"Rural"},"Total: Accommodation type (excluding caravans / temporary structures)","Owned","8 rooms or more",{"$f":"VLOOKUP(G2680,Cntrol!$F$3:$G$9,2,FALSE)","v":5},240,37,112,63,25,3]
["E01022206","E01022206 Cotswold 011B","E01022206",{"$f":"VLOOKUP(A2681,'Output Areas'!$A:$E,5,FALSE)","v":"Rural"},"Total: Accommodation type (excluding caravans / temporary structures)","Shared ownership or rented (excluding living rent free)","Total: Number of rooms",{"$f":"VLOOKUP(G2681,Cntrol!$F$3:$G$9,2,FALSE)","v":0},227,101,85,17,5,19]
["E01022206","E01022206 Cotswold 011B","E01022206",{"$f":"VLOOKUP(A2682,'Output Areas'!$A:$E,5,FALSE)","v":"Rural"},"Total: Accommodation type (excluding caravans / temporary structures)","Shared ownership or rented (excluding living rent free)","3 rooms or less",{"$f":"VLOOKUP(G2682,Cntrol!$F$3:$G$9,2,FALSE)","v":2},21,14,5,0,0,2]
["E01022206","E01022206 Cotswold 011B","E01022206",{"$f":"VLOOKUP(A2683,'Output Areas'!$A:$E,5,FALSE)","v":"Rural"},"Total: Accommodation type (excluding caravans / temporary structures)","Shared ownership or rented (excluding living rent free)","4 rooms",{"$f":"VLOOKUP(G2683,Cntrol!$F$3:$G$9,2,FALSE)","v":2},49,25,15,2,0,7]
["E01022206","E01022206 Cotswold 011B","E01022206",{"$f":"VLOOKUP(A2684,'Output Areas'!$A:$E,5,FALSE)","v":"Rural"},"Total: Accommodation type (excluding caravans / temporary structures)","Shared ownership or rented (excluding living rent free)","5 rooms",{"$f":"VLOOKUP(G2684,Cntrol!$F$3:$G$9,2,FALSE)","v":3},57,28,23,2,2,2]
["E01022206","E01022206 Cotswold 011B","E01022206",{"$f":"VLOOKUP(A2685,'Output Areas'!$A:$E,5,FALSE)","v":"Rural"},"Total: Accommodation type (excluding caravans / temporary structures)","Shared ownership or rented (excluding living rent free)","6 rooms",{"$f":"VLOOKUP(G2685,Cntrol!$F$3:$G$9,2,FALSE)","v":3},50,20,21,3,1,5]
["E01022206","E01022206 Cotswold 011B","E01022206",{"$f":"VLOOKUP(A2686,'Output Areas'!$A:$E,5,FALSE)","v":"Rural"},"Total: Accommodation type (excluding caravans / temporary structures)","Shared ownership or rented (excluding living rent free)","7 rooms",{"$f":"VLOOKUP(G2686,Cntrol!$F$3:$G$9,2,FALSE)","v":4},21,9,9,1,0,2]
["E01022206","E01022206 Cotswold 011B","E01022206",{"$f":"VLOOKUP(A2687,'Output Areas'!$A:$E,5,FALSE)","v":"Rural"},"Total: Accommodation type (excluding caravans / temporary structures)","Shared ownership or rented (excluding living rent free)","8 rooms or more",{"$f":"VLOOKUP(G2687,Cntrol!$F$3:$G$9,2,FALSE)","v":5},29,5,12,9,2,1]
["E01022206","E01022206 Cotswold 011B","E01022206",{"$f":"VLOOKUP(A2688,'Output Areas'!$A:$E,5,FALSE)","v":"Rural"},"Detached; semi-detached; terraced whole house or bungalow","Total: Tenure (excluding living rent free)","Total: Number of rooms",{"$f":"VLOOKUP(G2688,Cntrol!$F$3:$G$9,2,FALSE)","v":0},706,210,315,113,38,30]
["E01022206","E01022206 Cotswold 011B","E01022206",{"$f":"VLOOKUP(A2689,'Output Areas'!$A:$E,5,FALSE)","v":"Rural"},"Detached; semi-detached; terraced whole house or bungalow","Total: Tenure (excluding living rent free)","3 rooms or less",{"$f":"VLOOKUP(G2689,Cntrol!$F$3:$G$9,2,FALSE)","v":2},12,9,2,1,0,0]
["E01022206","E01022206 Cotswold 011B","E01022206",{"$f":"VLOOKUP(A2690,'Output Areas'!$A:$E,5,FALSE)","v":"Rural"},"Detached; semi-detached; terraced whole house or bungalow","Total: Tenure (excluding living rent free)","4 rooms",{"$f":"VLOOKUP(G2690,Cntrol!$F$3:$G$9,2,FALSE)","v":2},66,35,20,2,0,9]
["E01022206","E01022206 Cotswold 011B","E01022206",{"$f":"VLOOKUP(A2691,'Output Areas'!$A:$E,5,FALSE)","v":"Rural"},"Detached; semi-detached; terraced whole house or bungalow","Total: Tenure (excluding living rent free)","5 rooms",{"$f":"VLOOKUP(G2691,Cntrol!$F$3:$G$9,2,FALSE)","v":3},112,48,46,7,4,7]
["E01022206","E01022206 Cotswold 011B","E01022206",{"$f":"VLOOKUP(A2692,'Output Areas'!$A:$E,5,FALSE)","v":"Rural"},"Detached; semi-detached; terraced whole house or bungalow","Total: Tenure (excluding living rent free)","6 rooms",{"$f":"VLOOKUP(G2692,Cntrol!$F$3:$G$9,2,FALSE)","v":3},149,51,71,16,3,8]
["E01022206","E01022206 Cotswold 011B","E01022206",{"$f":"VLOOKUP(A2693,'Output Areas'!$A:$E,5,FALSE)","v":"Rural"},"Detached; semi-detached; terraced whole house or bungalow","Total: Tenure (excluding living rent free)","7 rooms",{"$f":"VLOOKUP(G2693,Cntrol!$F$3:$G$9,2,FALSE)","v":4},98,25,52,15,4,2]
["E01022206","E01022206 Cotswold 011B","E01022206",{"$f":"VLOOKUP(A2694,'Output Areas'!$A:$E,5,FALSE)","v":"Rural"},"Detached; semi-detached; terraced whole house or bungalow","Total: Tenure (excluding living rent free)","8 rooms or more",{"$f":"VLOOKUP(G2694,Cntrol!$F$3:$G$9,2,FALSE)","v":5},269,42,124,72,27,4]
["E01022206","E01022206 Cotswold 011B","E01022206",{"$f":"VLOOKUP(A2695,'Output Areas'!$A:$E,5,FALSE)","v":"Rural"},"Detached; semi-detached; terraced whole house or bungalow","Owned","Total: Number of rooms",{"$f":"VLOOKUP(G2695,Cntrol!$F$3:$G$9,2,FALSE)","v":0},498,119,234,96,33,16]
["E01022206","E01022206 Cotswold 011B","E01022206",{"$f":"VLOOKUP(A2696,'Output Areas'!$A:$E,5,FALSE)","v":"Rural"},"Detached; semi-detached; terraced whole house or bungalow","Owned","3 rooms or less",{"$f":"VLOOKUP(G2696,Cntrol!$F$3:$G$9,2,FALSE)","v":2},1,0,0,1,0,0]
["E01022206","E01022206 Cotswold 011B","E01022206",{"$f":"VLOOKUP(A2697,'Output Areas'!$A:$E,5,FALSE)","v":"Rural"},"Detached; semi-detached; terraced whole house or bungalow","Owned","4 rooms",{"$f":"VLOOKUP(G2697,Cntrol!$F$3:$G$9,2,FALSE)","v":2},21,11,6,0,0,4]
["E01022206","E01022206 Cotswold 011B","E01022206",{"$f":"VLOOKUP(A2698,'Output Areas'!$A:$E,5,FALSE)","v":"Rural"},"Detached; semi-detached; terraced whole house or bungalow","Owned","5 rooms",{"$f":"VLOOKUP(G2698,Cntrol!$F$3:$G$9,2,FALSE)","v":3},59,24,23,5,2,5]
["E01022206","E01022206 Cotswold 011B","E01022206",{"$f":"VLOOKUP(A2699,'Output Areas'!$A:$E,5,FALSE)","v":"Rural"},"Detached; semi-detached; terraced whole house or bungalow","Owned","6 rooms",{"$f":"VLOOKUP(G2699,Cntrol!$F$3:$G$9,2,FALSE)","v":3},99,31,50,13,2,3]
["E01022206","E01022206 Cotswold 011B","E01022206",{"$f":"VLOOKUP(A2700,'Output Areas'!$A:$E,5,FALSE)","v":"Rural"},"Detached; semi-detached; terraced whole house or bungalow","Owned","7 rooms",{"$f":"VLOOKUP(G2700,Cntrol!$F$3:$G$9,2,FALSE)","v":4},78,16,43,14,4,1]
["E01022206","E01022206 Cotswold 011B","E01022206",{"$f":"VLOOKUP(A2701,'Output Areas'!$A:$E,5,FALSE)","v":"Rural"},"Detached; semi-detached; terraced whole house or bungalow","Owned","8 rooms or more",{"$f":"VLOOKUP(G2701,Cntrol!$F$3:$G$9,2,FALSE)","v":5},240,37,112,63,25,3]
["E01022206","E01022206 Cotswold 011B","E01022206",{"$f":"VLOOKUP(A2702,'Output Areas'!$A:$E,5,FALSE)","v":"Rural"},"Detached; semi-detached; terraced whole house or bungalow","Shared ownership or rented (excluding living rent free)","Total: Number of rooms",{"$f":"VLOOKUP(G2702,Cntrol!$F$3:$G$9,2,FALSE)","v":0},208,91,81,17,5,14]
["E01022206","E01022206 Cotswold 011B","E01022206",{"$f":"VLOOKUP(A2703,'Output Areas'!$A:$E,5,FALSE)","v":"Rural"},"Detached; semi-detached; terraced whole house or bungalow","Shared ownership or rented (excluding living rent free)","3 rooms or less",{"$f":"VLOOKUP(G2703,Cntrol!$F$3:$G$9,2,FALSE)","v":2},11,9,2,0,0,0]
["E01022206","E01022206 Cotswold 011B","E01022206",{"$f":"VLOOKUP(A2704,'Output Areas'!$A:$E,5,FALSE)","v":"Rural"},"Detached; semi-detached; terraced whole house or bungalow","Shared ownership or rented (excluding living rent free)","4 rooms",{"$f":"VLOOKUP(G2704,Cntrol!$F$3:$G$9,2,FALSE)","v":2},45,24,14,2,0,5]
["E01022206","E01022206 Cotswold 011B","E01022206",{"$f":"VLOOKUP(A2705,'Output Areas'!$A:$E,5,FALSE)","v":"Rural"},"Detached; semi-detached; terraced whole house or bungalow","Shared ownership or rented (excluding living rent free)","5 rooms",{"$f":"VLOOKUP(G2705,Cntrol!$F$3:$G$9,2,FALSE)","v":3},53,24,23,2,2,2]
["E01022206","E01022206 Cotswold 011B","E01022206",{"$f":"VLOOKUP(A2706,'Output Areas'!$A:$E,5,FALSE)","v":"Rural"},"Detached; semi-detached; terraced whole house or bungalow","Shared ownership or rented (excluding living rent free)","6 rooms",{"$f":"VLOOKUP(G2706,Cntrol!$F$3:$G$9,2,FALSE)","v":3},50,20,21,3,1,5]
["E01022206","E01022206 Cotswold 011B","E01022206",{"$f":"VLOOKUP(A2707,'Output Areas'!$A:$E,5,FALSE)","v":"Rural"},"Detached; semi-detached; terraced whole house or bungalow","Shared ownership or rented (excluding living rent free)","7 rooms",{"$f":"VLOOKUP(G2707,Cntrol!$F$3:$G$9,2,FALSE)","v":4},20,9,9,1,0,1]
["E01022206","E01022206 Cotswold 011B","E01022206",{"$f":"VLOOKUP(A2708,'Output Areas'!$A:$E,5,FALSE)","v":"Rural"},"Detached; semi-detached; terraced whole house or bungalow","Shared ownership or rented (excluding living rent free)","8 rooms or more",{"$f":"VLOOKUP(G2708,Cntrol!$F$3:$G$9,2,FALSE)","v":5},29,5,12,9,2,1]
["E01022206","E01022206 Cotswold 011B","E01022206",{"$f":"VLOOKUP(A2709,'Output Areas'!$A:$E,5,FALSE)","v":"Rural"},"A flat; maisonette; apartment","Total: Tenure (excluding living rent free)","Total: Number of rooms",{"$f":"VLOOKUP(G2709,Cntrol!$F$3:$G$9,2,FALSE)","v":0},22,12,5,0,0,5]
["E01022206","E01022206 Cotswold 011B","E01022206",{"$f":"VLOOKUP(A2710,'Output Areas'!$A:$E,5,FALSE)","v":"Rural"},"A flat; maisonette; apartment","Total: Tenure (excluding living rent free)","3 rooms or less",{"$f":"VLOOKUP(G2710,Cntrol!$F$3:$G$9,2,FALSE)","v":2},11,6,3,0,0,2]
["E01022206","E01022206 Cotswold 011B","E01022206",{"$f":"VLOOKUP(A2711,'Output Areas'!$A:$E,5,FALSE)","v":"Rural"},"A flat; maisonette; apartment","Total: Tenure (excluding living rent free)","4 rooms",{"$f":"VLOOKUP(G2711,Cntrol!$F$3:$G$9,2,FALSE)","v":2},4,1,1,0,0,2]
["E01022206","E01022206 Cotswold 011B","E01022206",{"$f":"VLOOKUP(A2712,'Output Areas'!$A:$E,5,FALSE)","v":"Rural"},"A flat; maisonette; apartment","Total: Tenure (excluding living rent free)","5 rooms",{"$f":"VLOOKUP(G2712,Cntrol!$F$3:$G$9,2,FALSE)","v":3},6,5,1,0,0,0]
["E01022206","E01022206 Cotswold 011B","E01022206",{"$f":"VLOOKUP(A2713,'Output Areas'!$A:$E,5,FALSE)","v":"Rural"},"A flat; maisonette; apartment","Total: Tenure (excluding living rent free)","7 rooms",{"$f":"VLOOKUP(G2713,Cntrol!$F$3:$G$9,2,FALSE)","v":4},1,0,0,0,0,1]
["E01022206","E01022206 Cotswold 011B","E01022206",{"$f":"VLOOKUP(A2714,'Output Areas'!$A:$E,5,FALSE)","v":"Rural"},"A flat; maisonette; apartment","Owned","Total: Number of rooms",{"$f":"VLOOKUP(G2714,Cntrol!$F$3:$G$9,2,FALSE)","v":0},3,2,1,0,0,0]
["E01022206","E01022206 Cotswold 011B","E01022206",{"$f":"VLOOKUP(A2715,'Output Areas'!$A:$E,5,FALSE)","v":"Rural"},"A flat; maisonette; apartment","Owned","3 rooms or less",{"$f":"VLOOKUP(G2715,Cntrol!$F$3:$G$9,2,FALSE)","v":2},1,1,0,0,0,0]
["E01022206","E01022206 Cotswold 011B","E01022206",{"$f":"VLOOKUP(A2716,'Output Areas'!$A:$E,5,FALSE)","v":"Rural"},"A flat; maisonette; apartment","Owned","5 rooms",{"$f":"VLOOKUP(G2716,Cntrol!$F$3:$G$9,2,FALSE)","v":3},2,1,1,0,0,0]
["E01022206","E01022206 Cotswold 011B","E01022206",{"$f":"VLOOKUP(A2717,'Output Areas'!$A:$E,5,FALSE)","v":"Rural"},"A flat; maisonette; apartment","Shared ownership or rented (excluding living rent free)","Total: Number of rooms",{"$f":"VLOOKUP(G2717,Cntrol!$F$3:$G$9,2,FALSE)","v":0},19,10,4,0,0,5]
["E01022206","E01022206 Cotswold 011B","E01022206",{"$f":"VLOOKUP(A2718,'Output Areas'!$A:$E,5,FALSE)","v":"Rural"},"A flat; maisonette; apartment","Shared ownership or rented (excluding living rent free)","3 rooms or less",{"$f":"VLOOKUP(G2718,Cntrol!$F$3:$G$9,2,FALSE)","v":2},10,5,3,0,0,2]
["E01022206","E01022206 Cotswold 011B","E01022206",{"$f":"VLOOKUP(A2719,'Output Areas'!$A:$E,5,FALSE)","v":"Rural"},"A flat; maisonette; apartment","Shared ownership or rented (excluding living rent free)","4 rooms",{"$f":"VLOOKUP(G2719,Cntrol!$F$3:$G$9,2,FALSE)","v":2},4,1,1,0,0,2]
["E01022206","E01022206 Cotswold 011B","E01022206",{"$f":"VLOOKUP(A2720,'Output Areas'!$A:$E,5,FALSE)","v":"Rural"},"A flat; maisonette; apartment","Shared ownership or rented (excluding living rent free)","5 rooms",{"$f":"VLOOKUP(G2720,Cntrol!$F$3:$G$9,2,FALSE)","v":3},4,4,0,0,0,0]
["E01022206","E01022206 Cotswold 011B","E01022206",{"$f":"VLOOKUP(A2721,'Output Areas'!$A:$E,5,FALSE)","v":"Rural"},"A flat; maisonette; apartment","Shared ownership or rented (excluding living rent free)","7 rooms",{"$f":"VLOOKUP(G2721,Cntrol!$F$3:$G$9,2,FALSE)","v":4},1,0,0,0,0,1]
["E01022217","E01022217 Cotswold 011C","E01022217",{"$f":"VLOOKUP(A2722,'Output Areas'!$A:$E,5,FALSE)","v":"Small Settlements"},"Total: Accommodation type (excluding caravans / temporary structures)","Total: Tenure (excluding living rent free)","Total: Number of rooms",{"$f":"VLOOKUP(G2722,Cntrol!$F$3:$G$9,2,FALSE)","v":0},551,235,195,36,15,70]
["E01022217","E01022217 Cotswold 011C","E01022217",{"$f":"VLOOKUP(A2723,'Output Areas'!$A:$E,5,FALSE)","v":"Small Settlements"},"Total: Accommodation type (excluding caravans / temporary structures)","Total: Tenure (excluding living rent free)","3 rooms or less",{"$f":"VLOOKUP(G2723,Cntrol!$F$3:$G$9,2,FALSE)","v":2},45,18,9,0,0,18]
["E01022217","E01022217 Cotswold 011C","E01022217",{"$f":"VLOOKUP(A2724,'Output Areas'!$A:$E,5,FALSE)","v":"Small Settlements"},"Total: Accommodation type (excluding caravans / temporary structures)","Total: Tenure (excluding living rent free)","4 rooms",{"$f":"VLOOKUP(G2724,Cntrol!$F$3:$G$9,2,FALSE)","v":2},98,52,20,2,0,24]
["E01022217","E01022217 Cotswold 011C","E01022217",{"$f":"VLOOKUP(A2725,'Output Areas'!$A:$E,5,FALSE)","v":"Small Settlements"},"Total: Accommodation type (excluding caravans / temporary structures)","Total: Tenure (excluding living rent free)","5 rooms",{"$f":"VLOOKUP(G2725,Cntrol!$F$3:$G$9,2,FALSE)","v":3},111,49,33,9,5,15]
["E01022217","E01022217 Cotswold 011C","E01022217",{"$f":"VLOOKUP(A2726,'Output Areas'!$A:$E,5,FALSE)","v":"Small Settlements"},"Total: Accommodation type (excluding caravans / temporary structures)","Total: Tenure (excluding living rent free)","6 rooms",{"$f":"VLOOKUP(G2726,Cntrol!$F$3:$G$9,2,FALSE)","v":3},105,58,29,6,2,10]
["E01022217","E01022217 Cotswold 011C","E01022217",{"$f":"VLOOKUP(A2727,'Output Areas'!$A:$E,5,FALSE)","v":"Small Settlements"},"Total: Accommodation type (excluding caravans / temporary structures)","Total: Tenure (excluding living rent free)","7 rooms",{"$f":"VLOOKUP(G2727,Cntrol!$F$3:$G$9,2,FALSE)","v":4},79,24,40,11,2,2]
["E01022217","E01022217 Cotswold 011C","E01022217",{"$f":"VLOOKUP(A2728,'Output Areas'!$A:$E,5,FALSE)","v":"Small Settlements"},"Total: Accommodation type (excluding caravans / temporary structures)","Total: Tenure (excluding living rent free)","8 rooms or more",{"$f":"VLOOKUP(G2728,Cntrol!$F$3:$G$9,2,FALSE)","v":5},113,34,64,8,6,1]
["E01022217","E01022217 Cotswold 011C","E01022217",{"$f":"VLOOKUP(A2729,'Output Areas'!$A:$E,5,FALSE)","v":"Small Settlements"},"Total: Accommodation type (excluding caravans / temporary structures)","Owned","Total: Number of rooms",{"$f":"VLOOKUP(G2729,Cntrol!$F$3:$G$9,2,FALSE)","v":0},392,161,160,34,13,24]
["E01022217","E01022217 Cotswold 011C","E01022217",{"$f":"VLOOKUP(A2730,'Output Areas'!$A:$E,5,FALSE)","v":"Small Settlements"},"Total: Accommodation type (excluding caravans / temporary structures)","Owned","3 rooms or less",{"$f":"VLOOKUP(G2730,Cntrol!$F$3:$G$9,2,FALSE)","v":2},10,4,5,0,0,1]
["E01022217","E01022217 Cotswold 011C","E01022217",{"$f":"VLOOKUP(A2731,'Output Areas'!$A:$E,5,FALSE)","v":"Small Settlements"},"Total: Accommodation type (excluding caravans / temporary structures)","Owned","4 rooms",{"$f":"VLOOKUP(G2731,Cntrol!$F$3:$G$9,2,FALSE)","v":2},46,26,10,2,0,8]
["E01022217","E01022217 Cotswold 011C","E01022217",{"$f":"VLOOKUP(A2732,'Output Areas'!$A:$E,5,FALSE)","v":"Small Settlements"},"Total: Accommodation type (excluding caravans / temporary structures)","Owned","5 rooms",{"$f":"VLOOKUP(G2732,Cntrol!$F$3:$G$9,2,FALSE)","v":3},63,28,21,7,4,3]
["E01022217","E01022217 Cotswold 011C","E01022217",{"$f":"VLOOKUP(A2733,'Output Areas'!$A:$E,5,FALSE)","v":"Small Settlements"},"Total: Accommodation type (excluding caravans / temporary structures)","Owned","6 rooms",{"$f":"VLOOKUP(G2733,Cntrol!$F$3:$G$9,2,FALSE)","v":3},87,46,24,6,2,9]
["E01022217","E01022217 Cotswold 011C","E01022217",{"$f":"VLOOKUP(A2734,'Output Areas'!$A:$E,5,FALSE)","v":"Small Settlements"},"Total: Accommodation type (excluding caravans / temporary structures)","Owned","7 rooms",{"$f":"VLOOKUP(G2734,Cntrol!$F$3:$G$9,2,FALSE)","v":4},77,24,38,11,2,2]
["E01022217","E01022217 Cotswold 011C","E01022217",{"$f":"VLOOKUP(A2735,'Output Areas'!$A:$E,5,FALSE)","v":"Small Settlements"},"Total: Accommodation type (excluding caravans / temporary structures)","Owned","8 rooms or more",{"$f":"VLOOKUP(G2735,Cntrol!$F$3:$G$9,2,FALSE)","v":5},109,33,62,8,5,1]
["E01022217","E01022217 Cotswold 011C","E01022217",{"$f":"VLOOKUP(A2736,'Output Areas'!$A:$E,5,FALSE)","v":"Small Settlements"},"Total: Accommodation type (excluding caravans / temporary structures)","Shared ownership or rented (excluding living rent free)","Total: Number of rooms",{"$f":"VLOOKUP(G2736,Cntrol!$F$3:$G$9,2,FALSE)","v":0},159,74,35,2,2,46]
["E01022217","E01022217 Cotswold 011C","E01022217",{"$f":"VLOOKUP(A2737,'Output Areas'!$A:$E,5,FALSE)","v":"Small Settlements"},"Total: Accommodation type (excluding caravans / temporary structures)","Shared ownership or rented (excluding living rent free)","3 rooms or less",{"$f":"VLOOKUP(G2737,Cntrol!$F$3:$G$9,2,FALSE)","v":2},35,14,4,0,0,17]
["E01022217","E01022217 Cotswold 011C","E01022217",{"$f":"VLOOKUP(A2738,'Output Areas'!$A:$E,5,FALSE)","v":"Small Settlements"},"Total: Accommodation type (excluding caravans / temporary structures)","Shared ownership or rented (excluding living rent free)","4 rooms",{"$f":"VLOOKUP(G2738,Cntrol!$F$3:$G$9,2,FALSE)","v":2},52,26,10,0,0,16]
["E01022217","E01022217 Cotswold 011C","E01022217",{"$f":"VLOOKUP(A2739,'Output Areas'!$A:$E,5,FALSE)","v":"Small Settlements"},"Total: Accommodation type (excluding caravans / temporary structures)","Shared ownership or rented (excluding living rent free)","5 rooms",{"$f":"VLOOKUP(G2739,Cntrol!$F$3:$G$9,2,FALSE)","v":3},48,21,12,2,1,12]
["E01022217","E01022217 Cotswold 011C","E01022217",{"$f":"VLOOKUP(A2740,'Output Areas'!$A:$E,5,FALSE)","v":"Small Settlements"},"Total: Accommodation type (excluding caravans / temporary structures)","Shared ownership or rented (excluding living rent free)","6 rooms",{"$f":"VLOOKUP(G2740,Cntrol!$F$3:$G$9,2,FALSE)","v":3},18,12,5,0,0,1]
["E01022217","E01022217 Cotswold 011C","E01022217",{"$f":"VLOOKUP(A2741,'Output Areas'!$A:$E,5,FALSE)","v":"Small Settlements"},"Total: Accommodation type (excluding caravans / temporary structures)","Shared ownership or rented (excluding living rent free)","7 rooms",{"$f":"VLOOKUP(G2741,Cntrol!$F$3:$G$9,2,FALSE)","v":4},2,0,2,0,0,0]
["E01022217","E01022217 Cotswold 011C","E01022217",{"$f":"VLOOKUP(A2742,'Output Areas'!$A:$E,5,FALSE)","v":"Small Settlements"},"Total: Accommodation type (excluding caravans / temporary structures)","Shared ownership or rented (excluding living rent free)","8 rooms or more",{"$f":"VLOOKUP(G2742,Cntrol!$F$3:$G$9,2,FALSE)","v":5},4,1,2,0,1,0]
["E01022217","E01022217 Cotswold 011C","E01022217",{"$f":"VLOOKUP(A2743,'Output Areas'!$A:$E,5,FALSE)","v":"Small Settlements"},"Detached; semi-detached; terraced whole house or bungalow","Total: Tenure (excluding living rent free)","Total: Number of rooms",{"$f":"VLOOKUP(G2743,Cntrol!$F$3:$G$9,2,FALSE)","v":0},453,180,180,35,15,43]
["E01022217","E01022217 Cotswold 011C","E01022217",{"$f":"VLOOKUP(A2744,'Output Areas'!$A:$E,5,FALSE)","v":"Small Settlements"},"Detached; semi-detached; terraced whole house or bungalow","Total: Tenure (excluding living rent free)","3 rooms or less",{"$f":"VLOOKUP(G2744,Cntrol!$F$3:$G$9,2,FALSE)","v":2},17,4,3,0,0,10]
["E01022217","E01022217 Cotswold 011C","E01022217",{"$f":"VLOOKUP(A2745,'Output Areas'!$A:$E,5,FALSE)","v":"Small Settlements"},"Detached; semi-detached; terraced whole house or bungalow","Total: Tenure (excluding living rent free)","4 rooms",{"$f":"VLOOKUP(G2745,Cntrol!$F$3:$G$9,2,FALSE)","v":2},57,30,16,2,0,9]
["E01022217","E01022217 Cotswold 011C","E01022217",{"$f":"VLOOKUP(A2746,'Output Areas'!$A:$E,5,FALSE)","v":"Small Settlements"},"Detached; semi-detached; terraced whole house or bungalow","Total: Tenure (excluding living rent free)","5 rooms",{"$f":"VLOOKUP(G2746,Cntrol!$F$3:$G$9,2,FALSE)","v":3},87,33,29,8,5,12]
["E01022217","E01022217 Cotswold 011C","E01022217",{"$f":"VLOOKUP(A2747,'Output Areas'!$A:$E,5,FALSE)","v":"Small Settlements"},"Detached; semi-detached; terraced whole house or bungalow","Total: Tenure (excluding living rent free)","6 rooms",{"$f":"VLOOKUP(G2747,Cntrol!$F$3:$G$9,2,FALSE)","v":3},102,57,28,6,2,9]
["E01022217","E01022217 Cotswold 011C","E01022217",{"$f":"VLOOKUP(A2748,'Output Areas'!$A:$E,5,FALSE)","v":"Small Settlements"},"Detached; semi-detached; terraced whole house or bungalow","Total: Tenure (excluding living rent free)","7 rooms",{"$f":"VLOOKUP(G2748,Cntrol!$F$3:$G$9,2,FALSE)","v":4},78,23,40,11,2,2]
["E01022217","E01022217 Cotswold 011C","E01022217",{"$f":"VLOOKUP(A2749,'Output Areas'!$A:$E,5,FALSE)","v":"Small Settlements"},"Detached; semi-detached; terraced whole house or bungalow","Total: Tenure (excluding living rent free)","8 rooms or more",{"$f":"VLOOKUP(G2749,Cntrol!$F$3:$G$9,2,FALSE)","v":5},112,33,64,8,6,1]
["E01022217","E01022217 Cotswold 011C","E01022217",{"$f":"VLOOKUP(A2750,'Output Areas'!$A:$E,5,FALSE)","v":"Small Settlements"},"Detached; semi-detached; terraced whole house or bungalow","Owned","Total: Number of rooms",{"$f":"VLOOKUP(G2750,Cntrol!$F$3:$G$9,2,FALSE)","v":0},355,137,153,33,13,19]
["E01022217","E01022217 Cotswold 011C","E01022217",{"$f":"VLOOKUP(A2751,'Output Areas'!$A:$E,5,FALSE)","v":"Small Settlements"},"Detached; semi-detached; terraced whole house or bungalow","Owned","3 rooms or less",{"$f":"VLOOKUP(G2751,Cntrol!$F$3:$G$9,2,FALSE)","v":2},1,0,1,0,0,0]
["E01022217","E01022217 Cotswold 011C","E01022217",{"$f":"VLOOKUP(A2752,'Output Areas'!$A:$E,5,FALSE)","v":"Small Settlements"},"Detached; semi-detached; terraced whole house or bungalow","Owned","4 rooms",{"$f":"VLOOKUP(G2752,Cntrol!$F$3:$G$9,2,FALSE)","v":2},33,17,9,2,0,5]
["E01022217","E01022217 Cotswold 011C","E01022217",{"$f":"VLOOKUP(A2753,'Output Areas'!$A:$E,5,FALSE)","v":"Small Settlements"},"Detached; semi-detached; terraced whole house or bungalow","Owned","5 rooms",{"$f":"VLOOKUP(G2753,Cntrol!$F$3:$G$9,2,FALSE)","v":3},52,20,19,6,4,3]
["E01022217","E01022217 Cotswold 011C","E01022217",{"$f":"VLOOKUP(A2754,'Output Areas'!$A:$E,5,FALSE)","v":"Small Settlements"},"Detached; semi-detached; terraced whole house or bungalow","Owned","6 rooms",{"$f":"VLOOKUP(G2754,Cntrol!$F$3:$G$9,2,FALSE)","v":3},85,45,24,6,2,8]
["E01022217","E01022217 Cotswold 011C","E01022217",{"$f":"VLOOKUP(A2755,'Output Areas'!$A:$E,5,FALSE)","v":"Small Settlements"},"Detached; semi-detached; terraced whole house or bungalow","Owned","7 rooms",{"$f":"VLOOKUP(G2755,Cntrol!$F$3:$G$9,2,FALSE)","v":4},76,23,38,11,2,2]
["E01022217","E01022217 Cotswold 011C","E01022217",{"$f":"VLOOKUP(A2756,'Output Areas'!$A:$E,5,FALSE)","v":"Small Settlements"},"Detached; semi-detached; terraced whole house or bungalow","Owned","8 rooms or more",{"$f":"VLOOKUP(G2756,Cntrol!$F$3:$G$9,2,FALSE)","v":5},108,32,62,8,5,1]
["E01022217","E01022217 Cotswold 011C","E01022217",{"$f":"VLOOKUP(A2757,'Output Areas'!$A:$E,5,FALSE)","v":"Small Settlements"},"Detached; semi-detached; terraced whole house or bungalow","Shared ownership or rented (excluding living rent free)","Total: Number of rooms",{"$f":"VLOOKUP(G2757,Cntrol!$F$3:$G$9,2,FALSE)","v":0},98,43,27,2,2,24]
["E01022217","E01022217 Cotswold 011C","E01022217",{"$f":"VLOOKUP(A2758,'Output Areas'!$A:$E,5,FALSE)","v":"Small Settlements"},"Detached; semi-detached; terraced whole house or bungalow","Shared ownership or rented (excluding living rent free)","3 rooms or less",{"$f":"VLOOKUP(G2758,Cntrol!$F$3:$G$9,2,FALSE)","v":2},16,4,2,0,0,10]
["E01022217","E01022217 Cotswold 011C","E01022217",{"$f":"VLOOKUP(A2759,'Output Areas'!$A:$E,5,FALSE)","v":"Small Settlements"},"Detached; semi-detached; terraced whole house or bungalow","Shared ownership or rented (excluding living rent free)","4 rooms",{"$f":"VLOOKUP(G2759,Cntrol!$F$3:$G$9,2,FALSE)","v":2},24,13,7,0,0,4]
["E01022217","E01022217 Cotswold 011C","E01022217",{"$f":"VLOOKUP(A2760,'Output Areas'!$A:$E,5,FALSE)","v":"Small Settlements"},"Detached; semi-detached; terraced whole house or bungalow","Shared ownership or rented (excluding living rent free)","5 rooms",{"$f":"VLOOKUP(G2760,Cntrol!$F$3:$G$9,2,FALSE)","v":3},35,13,10,2,1,9]
["E01022217","E01022217 Cotswold 011C","E01022217",{"$f":"VLOOKUP(A2761,'Output Areas'!$A:$E,5,FALSE)","v":"Small Settlements"},"Detached; semi-detached; terraced whole house or bungalow","Shared ownership or rented (excluding living rent free)","6 rooms",{"$f":"VLOOKUP(G2761,Cntrol!$F$3:$G$9,2,FALSE)","v":3},17,12,4,0,0,1]
["E01022217","E01022217 Cotswold 011C","E01022217",{"$f":"VLOOKUP(A2762,'Output Areas'!$A:$E,5,FALSE)","v":"Small Settlements"},"Detached; semi-detached; terraced whole house or bungalow","Shared ownership or rented (excluding living rent free)","7 rooms",{"$f":"VLOOKUP(G2762,Cntrol!$F$3:$G$9,2,FALSE)","v":4},2,0,2,0,0,0]
["E01022217","E01022217 Cotswold 011C","E01022217",{"$f":"VLOOKUP(A2763,'Output Areas'!$A:$E,5,FALSE)","v":"Small Settlements"},"Detached; semi-detached; terraced whole house or bungalow","Shared ownership or rented (excluding living rent free)","8 rooms or more",{"$f":"VLOOKUP(G2763,Cntrol!$F$3:$G$9,2,FALSE)","v":5},4,1,2,0,1,0]
["E01022217","E01022217 Cotswold 011C","E01022217",{"$f":"VLOOKUP(A2764,'Output Areas'!$A:$E,5,FALSE)","v":"Small Settlements"},"A flat; maisonette; apartment","Total: Tenure (excluding living rent free)","Total: Number of rooms",{"$f":"VLOOKUP(G2764,Cntrol!$F$3:$G$9,2,FALSE)","v":0},98,55,15,1,0,27]
["E01022217","E01022217 Cotswold 011C","E01022217",{"$f":"VLOOKUP(A2765,'Output Areas'!$A:$E,5,FALSE)","v":"Small Settlements"},"A flat; maisonette; apartment","Total: Tenure (excluding living rent free)","3 rooms or less",{"$f":"VLOOKUP(G2765,Cntrol!$F$3:$G$9,2,FALSE)","v":2},28,14,6,0,0,8]
["E01022217","E01022217 Cotswold 011C","E01022217",{"$f":"VLOOKUP(A2766,'Output Areas'!$A:$E,5,FALSE)","v":"Small Settlements"},"A flat; maisonette; apartment","Total: Tenure (excluding living rent free)","4 rooms",{"$f":"VLOOKUP(G2766,Cntrol!$F$3:$G$9,2,FALSE)","v":2},41,22,4,0,0,15]
["E01022217","E01022217 Cotswold 011C","E01022217",{"$f":"VLOOKUP(A2767,'Output Areas'!$A:$E,5,FALSE)","v":"Small Settlements"},"A flat; maisonette; apartment","Total: Tenure (excluding living rent free)","5 rooms",{"$f":"VLOOKUP(G2767,Cntrol!$F$3:$G$9,2,FALSE)","v":3},24,16,4,1,0,3]
["E01022217","E01022217 Cotswold 011C","E01022217",{"$f":"VLOOKUP(A2768,'Output Areas'!$A:$E,5,FALSE)","v":"Small Settlements"},"A flat; maisonette; apartment","Total: Tenure (excluding living rent free)","6 rooms",{"$f":"VLOOKUP(G2768,Cntrol!$F$3:$G$9,2,FALSE)","v":3},3,1,1,0,0,1]
["E01022217","E01022217 Cotswold 011C","E01022217",{"$f":"VLOOKUP(A2769,'Output Areas'!$A:$E,5,FALSE)","v":"Small Settlements"},"A flat; maisonette; apartment","Total: Tenure (excluding living rent free)","7 rooms",{"$f":"VLOOKUP(G2769,Cntrol!$F$3:$G$9,2,FALSE)","v":4},1,1,0,0,0,0]
["E01022217","E01022217 Cotswold 011C","E01022217",{"$f":"VLOOKUP(A2770,'Output Areas'!$A:$E,5,FALSE)","v":"Small Settlements"},"A flat; maisonette; apartment","Total: Tenure (excluding living rent free)","8 rooms or more",{"$f":"VLOOKUP(G2770,Cntrol!$F$3:$G$9,2,FALSE)","v":5},1,1,0,0,0,0]
["E01022217","E01022217 Cotswold 011C","E01022217",{"$f":"VLOOKUP(A2771,'Output Areas'!$A:$E,5,FALSE)","v":"Small Settlements"},"A flat; maisonette; apartment","Owned","Total: Number of rooms",{"$f":"VLOOKUP(G2771,Cntrol!$F$3:$G$9,2,FALSE)","v":0},37,24,7,1,0,5]
["E01022217","E01022217 Cotswold 011C","E01022217",{"$f":"VLOOKUP(A2772,'Output Areas'!$A:$E,5,FALSE)","v":"Small Settlements"},"A flat; maisonette; apartment","Owned","3 rooms or less",{"$f":"VLOOKUP(G2772,Cntrol!$F$3:$G$9,2,FALSE)","v":2},9,4,4,0,0,1]
["E01022217","E01022217 Cotswold 011C","E01022217",{"$f":"VLOOKUP(A2773,'Output Areas'!$A:$E,5,FALSE)","v":"Small Settlements"},"A flat; maisonette; apartment","Owned","4 rooms",{"$f":"VLOOKUP(G2773,Cntrol!$F$3:$G$9,2,FALSE)","v":2},13,9,1,0,0,3]
["E01022217","E01022217 Cotswold 011C","E01022217",{"$f":"VLOOKUP(A2774,'Output Areas'!$A:$E,5,FALSE)","v":"Small Settlements"},"A flat; maisonette; apartment","Owned","5 rooms",{"$f":"VLOOKUP(G2774,Cntrol!$F$3:$G$9,2,FALSE)","v":3},11,8,2,1,0,0]
["E01022217","E01022217 Cotswold 011C","E01022217",{"$f":"VLOOKUP(A2775,'Output Areas'!$A:$E,5,FALSE)","v":"Small Settlements"},"A flat; maisonette; apartment","Owned","6 rooms",{"$f":"VLOOKUP(G2775,Cntrol!$F$3:$G$9,2,FALSE)","v":3},2,1,0,0,0,1]
["E01022217","E01022217 Cotswold 011C","E01022217",{"$f":"VLOOKUP(A2776,'Output Areas'!$A:$E,5,FALSE)","v":"Small Settlements"},"A flat; maisonette; apartment","Owned","7 rooms",{"$f":"VLOOKUP(G2776,Cntrol!$F$3:$G$9,2,FALSE)","v":4},1,1,0,0,0,0]
["E01022217","E01022217 Cotswold 011C","E01022217",{"$f":"VLOOKUP(A2777,'Output Areas'!$A:$E,5,FALSE)","v":"Small Settlements"},"A flat; maisonette; apartment","Owned","8 rooms or more",{"$f":"VLOOKUP(G2777,Cntrol!$F$3:$G$9,2,FALSE)","v":5},1,1,0,0,0,0]
["E01022217","E01022217 Cotswold 011C","E01022217",{"$f":"VLOOKUP(A2778,'Output Areas'!$A:$E,5,FALSE)","v":"Small Settlements"},"A flat; maisonette; apartment","Shared ownership or rented (excluding living rent free)","Total: Number of rooms",{"$f":"VLOOKUP(G2778,Cntrol!$F$3:$G$9,2,FALSE)","v":0},61,31,8,0,0,22]
["E01022217","E01022217 Cotswold 011C","E01022217",{"$f":"VLOOKUP(A2779,'Output Areas'!$A:$E,5,FALSE)","v":"Small Settlements"},"A flat; maisonette; apartment","Shared ownership or rented (excluding living rent free)","3 rooms or less",{"$f":"VLOOKUP(G2779,Cntrol!$F$3:$G$9,2,FALSE)","v":2},19,10,2,0,0,7]
["E01022217","E01022217 Cotswold 011C","E01022217",{"$f":"VLOOKUP(A2780,'Output Areas'!$A:$E,5,FALSE)","v":"Small Settlements"},"A flat; maisonette; apartment","Shared ownership or rented (excluding living rent free)","4 rooms",{"$f":"VLOOKUP(G2780,Cntrol!$F$3:$G$9,2,FALSE)","v":2},28,13,3,0,0,12]
["E01022217","E01022217 Cotswold 011C","E01022217",{"$f":"VLOOKUP(A2781,'Output Areas'!$A:$E,5,FALSE)","v":"Small Settlements"},"A flat; maisonette; apartment","Shared ownership or rented (excluding living rent free)","5 rooms",{"$f":"VLOOKUP(G2781,Cntrol!$F$3:$G$9,2,FALSE)","v":3},13,8,2,0,0,3]
["E01022217","E01022217 Cotswold 011C","E01022217",{"$f":"VLOOKUP(A2782,'Output Areas'!$A:$E,5,FALSE)","v":"Small Settlements"},"A flat; maisonette; apartment","Shared ownership or rented (excluding living rent free)","6 rooms",{"$f":"VLOOKUP(G2782,Cntrol!$F$3:$G$9,2,FALSE)","v":3},1,0,1,0,0,0]
["E01022218","E01022218 Cotswold 011D","E01022218",{"$f":"VLOOKUP(A2783,'Output Areas'!$A:$E,5,FALSE)","v":"Small Settlements"},"Total: Accommodation type (excluding caravans / temporary structures)","Total: Tenure (excluding living rent free)","Total: Number of rooms",{"$f":"VLOOKUP(G2783,Cntrol!$F$3:$G$9,2,FALSE)","v":0},515,231,148,49,8,79]
["E01022218","E01022218 Cotswold 011D","E01022218",{"$f":"VLOOKUP(A2784,'Output Areas'!$A:$E,5,FALSE)","v":"Small Settlements"},"Total: Accommodation type (excluding caravans / temporary structures)","Total: Tenure (excluding living rent free)","3 rooms or less",{"$f":"VLOOKUP(G2784,Cntrol!$F$3:$G$9,2,FALSE)","v":2},44,26,3,0,0,15]
["E01022218","E01022218 Cotswold 011D","E01022218",{"$f":"VLOOKUP(A2785,'Output Areas'!$A:$E,5,FALSE)","v":"Small Settlements"},"Total: Accommodation type (excluding caravans / temporary structures)","Total: Tenure (excluding living rent free)","4 rooms",{"$f":"VLOOKUP(G2785,Cntrol!$F$3:$G$9,2,FALSE)","v":2},119,68,24,5,0,22]
["E01022218","E01022218 Cotswold 011D","E01022218",{"$f":"VLOOKUP(A2786,'Output Areas'!$A:$E,5,FALSE)","v":"Small Settlements"},"Total: Accommodation type (excluding caravans / temporary structures)","Total: Tenure (excluding living rent free)","5 rooms",{"$f":"VLOOKUP(G2786,Cntrol!$F$3:$G$9,2,FALSE)","v":3},173,80,47,20,3,23]
["E01022218","E01022218 Cotswold 011D","E01022218",{"$f":"VLOOKUP(A2787,'Output Areas'!$A:$E,5,FALSE)","v":"Small Settlements"},"Total: Accommodation type (excluding caravans / temporary structures)","Total: Tenure (excluding living rent free)","6 rooms",{"$f":"VLOOKUP(G2787,Cntrol!$F$3:$G$9,2,FALSE)","v":3},94,37,29,11,2,15]
["E01022218","E01022218 Cotswold 011D","E01022218",{"$f":"VLOOKUP(A2788,'Output Areas'!$A:$E,5,FALSE)","v":"Small Settlements"},"Total: Accommodation type (excluding caravans / temporary structures)","Total: Tenure (excluding living rent free)","7 rooms",{"$f":"VLOOKUP(G2788,Cntrol!$F$3:$G$9,2,FALSE)","v":4},54,13,26,9,2,4]
["E01022218","E01022218 Cotswold 011D","E01022218",{"$f":"VLOOKUP(A2789,'Output Areas'!$A:$E,5,FALSE)","v":"Small Settlements"},"Total: Accommodation type (excluding caravans / temporary structures)","Total: Tenure (excluding living rent free)","8 rooms or more",{"$f":"VLOOKUP(G2789,Cntrol!$F$3:$G$9,2,FALSE)","v":5},31,7,19,4,1,0]
["E01022218","E01022218 Cotswold 011D","E01022218",{"$f":"VLOOKUP(A2790,'Output Areas'!$A:$E,5,FALSE)","v":"Small Settlements"},"Total: Accommodation type (excluding caravans / temporary structures)","Owned","Total: Number of rooms",{"$f":"VLOOKUP(G2790,Cntrol!$F$3:$G$9,2,FALSE)","v":0},238,89,92,35,6,16]
["E01022218","E01022218 Cotswold 011D","E01022218",{"$f":"VLOOKUP(A2791,'Output Areas'!$A:$E,5,FALSE)","v":"Small Settlements"},"Total: Accommodation type (excluding caravans / temporary structures)","Owned","3 rooms or less",{"$f":"VLOOKUP(G2791,Cntrol!$F$3:$G$9,2,FALSE)","v":2},2,1,0,0,0,1]
["E01022218","E01022218 Cotswold 011D","E01022218",{"$f":"VLOOKUP(A2792,'Output Areas'!$A:$E,5,FALSE)","v":"Small Settlements"},"Total: Accommodation type (excluding caravans / temporary structures)","Owned","4 rooms",{"$f":"VLOOKUP(G2792,Cntrol!$F$3:$G$9,2,FALSE)","v":2},40,21,10,4,0,5]
["E01022218","E01022218 Cotswold 011D","E01022218",{"$f":"VLOOKUP(A2793,'Output Areas'!$A:$E,5,FALSE)","v":"Small Settlements"},"Total: Accommodation type (excluding caravans / temporary structures)","Owned","5 rooms",{"$f":"VLOOKUP(G2793,Cntrol!$F$3:$G$9,2,FALSE)","v":3},71,30,23,10,1,7]
["E01022218","E01022218 Cotswold 011D","E01022218",{"$f":"VLOOKUP(A2794,'Output Areas'!$A:$E,5,FALSE)","v":"Small Settlements"},"Total: Accommodation type (excluding caravans / temporary structures)","Owned","6 rooms",{"$f":"VLOOKUP(G2794,Cntrol!$F$3:$G$9,2,FALSE)","v":3},55,22,20,9,2,2]
["E01022218","E01022218 Cotswold 011D","E01022218",{"$f":"VLOOKUP(A2795,'Output Areas'!$A:$E,5,FALSE)","v":"Small Settlements"},"Total: Accommodation type (excluding caravans / temporary structures)","Owned","7 rooms",{"$f":"VLOOKUP(G2795,Cntrol!$F$3:$G$9,2,FALSE)","v":4},40,9,20,8,2,1]
["E01022218","E01022218 Cotswold 011D","E01022218",{"$f":"VLOOKUP(A2796,'Output Areas'!$A:$E,5,FALSE)","v":"Small Settlements"},"Total: Accommodation type (excluding caravans / temporary structures)","Owned","8 rooms or more",{"$f":"VLOOKUP(G2796,Cntrol!$F$3:$G$9,2,FALSE)","v":5},30,6,19,4,1,0]
["E01022218","E01022218 Cotswold 011D","E01022218",{"$f":"VLOOKUP(A2797,'Output Areas'!$A:$E,5,FALSE)","v":"Small Settlements"},"Total: Accommodation type (excluding caravans / temporary structures)","Shared ownership or rented (excluding living rent free)","Total: Number of rooms",{"$f":"VLOOKUP(G2797,Cntrol!$F$3:$G$9,2,FALSE)","v":0},277,142,56,14,2,63]
["E01022218","E01022218 Cotswold 011D","E01022218",{"$f":"VLOOKUP(A2798,'Output Areas'!$A:$E,5,FALSE)","v":"Small Settlements"},"Total: Accommodation type (excluding caravans / temporary structures)","Shared ownership or rented (excluding living rent free)","3 rooms or less",{"$f":"VLOOKUP(G2798,Cntrol!$F$3:$G$9,2,FALSE)","v":2},42,25,3,0,0,14]
["E01022218","E01022218 Cotswold 011D","E01022218",{"$f":"VLOOKUP(A2799,'Output Areas'!$A:$E,5,FALSE)","v":"Small Settlements"},"Total: Accommodation type (excluding caravans / temporary structures)","Shared ownership or rented (excluding living rent free)","4 rooms",{"$f":"VLOOKUP(G2799,Cntrol!$F$3:$G$9,2,FALSE)","v":2},79,47,14,1,0,17]
["E01022218","E01022218 Cotswold 011D","E01022218",{"$f":"VLOOKUP(A2800,'Output Areas'!$A:$E,5,FALSE)","v":"Small Settlements"},"Total: Accommodation type (excluding caravans / temporary structures)","Shared ownership or rented (excluding living rent free)","5 rooms",{"$f":"VLOOKUP(G2800,Cntrol!$F$3:$G$9,2,FALSE)","v":3},102,50,24,10,2,16]
["E01022218","E01022218 Cotswold 011D","E01022218",{"$f":"VLOOKUP(A2801,'Output Areas'!$A:$E,5,FALSE)","v":"Small Settlements"},"Total: Accommodation type (excluding caravans / temporary structures)","Shared ownership or rented (excluding living rent free)","6 rooms",{"$f":"VLOOKUP(G2801,Cntrol!$F$3:$G$9,2,FALSE)","v":3},39,15,9,2,0,13]
["E01022218","E01022218 Cotswold 011D","E01022218",{"$f":"VLOOKUP(A2802,'Output Areas'!$A:$E,5,FALSE)","v":"Small Settlements"},"Total: Accommodation type (excluding caravans / temporary structures)","Shared ownership or rented (excluding living rent free)","7 rooms",{"$f":"VLOOKUP(G2802,Cntrol!$F$3:$G$9,2,FALSE)","v":4},14,4,6,1,0,3]
["E01022218","E01022218 Cotswold 011D","E01022218",{"$f":"VLOOKUP(A2803,'Output Areas'!$A:$E,5,FALSE)","v":"Small Settlements"},"Total: Accommodation type (excluding caravans / temporary structures)","Shared ownership or rented (excluding living rent free)","8 rooms or more",{"$f":"VLOOKUP(G2803,Cntrol!$F$3:$G$9,2,FALSE)","v":5},1,1,0,0,0,0]
["E01022218","E01022218 Cotswold 011D","E01022218",{"$f":"VLOOKUP(A2804,'Output Areas'!$A:$E,5,FALSE)","v":"Small Settlements"},"Detached; semi-detached; terraced whole house or bungalow","Total: Tenure (excluding living rent free)","Total: Number of rooms",{"$f":"VLOOKUP(G2804,Cntrol!$F$3:$G$9,2,FALSE)","v":0},490,216,144,48,8,74]
["E01022218","E01022218 Cotswold 011D","E01022218",{"$f":"VLOOKUP(A2805,'Output Areas'!$A:$E,5,FALSE)","v":"Small Settlements"},"Detached; semi-detached; terraced whole house or bungalow","Total: Tenure (excluding living rent free)","3 rooms or less",{"$f":"VLOOKUP(G2805,Cntrol!$F$3:$G$9,2,FALSE)","v":2},34,18,2,0,0,14]
["E01022218","E01022218 Cotswold 011D","E01022218",{"$f":"VLOOKUP(A2806,'Output Areas'!$A:$E,5,FALSE)","v":"Small Settlements"},"Detached; semi-detached; terraced whole house or bungalow","Total: Tenure (excluding living rent free)","4 rooms",{"$f":"VLOOKUP(G2806,Cntrol!$F$3:$G$9,2,FALSE)","v":2},106,61,22,5,0,18]
["E01022218","E01022218 Cotswold 011D","E01022218",{"$f":"VLOOKUP(A2807,'Output Areas'!$A:$E,5,FALSE)","v":"Small Settlements"},"Detached; semi-detached; terraced whole house or bungalow","Total: Tenure (excluding living rent free)","5 rooms",{"$f":"VLOOKUP(G2807,Cntrol!$F$3:$G$9,2,FALSE)","v":3},173,80,47,20,3,23]
["E01022218","E01022218 Cotswold 011D","E01022218",{"$f":"VLOOKUP(A2808,'Output Areas'!$A:$E,5,FALSE)","v":"Small Settlements"},"Detached; semi-detached; terraced whole house or bungalow","Total: Tenure (excluding living rent free)","6 rooms",{"$f":"VLOOKUP(G2808,Cntrol!$F$3:$G$9,2,FALSE)","v":3},93,37,28,11,2,15]
["E01022218","E01022218 Cotswold 011D","E01022218",{"$f":"VLOOKUP(A2809,'Output Areas'!$A:$E,5,FALSE)","v":"Small Settlements"},"Detached; semi-detached; terraced whole house or bungalow","Total: Tenure (excluding living rent free)","7 rooms",{"$f":"VLOOKUP(G2809,Cntrol!$F$3:$G$9,2,FALSE)","v":4},53,13,26,8,2,4]
["E01022218","E01022218 Cotswold 011D","E01022218",{"$f":"VLOOKUP(A2810,'Output Areas'!$A:$E,5,FALSE)","v":"Small Settlements"},"Detached; semi-detached; terraced whole house or bungalow","Total: Tenure (excluding living rent free)","8 rooms or more",{"$f":"VLOOKUP(G2810,Cntrol!$F$3:$G$9,2,FALSE)","v":5},31,7,19,4,1,0]
["E01022218","E01022218 Cotswold 011D","E01022218",{"$f":"VLOOKUP(A2811,'Output Areas'!$A:$E,5,FALSE)","v":"Small Settlements"},"Detached; semi-detached; terraced whole house or bungalow","Owned","Total: Number of rooms",{"$f":"VLOOKUP(G2811,Cntrol!$F$3:$G$9,2,FALSE)","v":0},235,89,91,34,6,15]
["E01022218","E01022218 Cotswold 011D","E01022218",{"$f":"VLOOKUP(A2812,'Output Areas'!$A:$E,5,FALSE)","v":"Small Settlements"},"Detached; semi-detached; terraced whole house or bungalow","Owned","3 rooms or less",{"$f":"VLOOKUP(G2812,Cntrol!$F$3:$G$9,2,FALSE)","v":2},2,1,0,0,0,1]
["E01022218","E01022218 Cotswold 011D","E01022218",{"$f":"VLOOKUP(A2813,'Output Areas'!$A:$E,5,FALSE)","v":"Small Settlements"},"Detached; semi-detached; terraced whole house or bungalow","Owned","4 rooms",{"$f":"VLOOKUP(G2813,Cntrol!$F$3:$G$9,2,FALSE)","v":2},38,21,9,4,0,4]
["E01022218","E01022218 Cotswold 011D","E01022218",{"$f":"VLOOKUP(A2814,'Output Areas'!$A:$E,5,FALSE)","v":"Small Settlements"},"Detached; semi-detached; terraced whole house or bungalow","Owned","5 rooms",{"$f":"VLOOKUP(G2814,Cntrol!$F$3:$G$9,2,FALSE)","v":3},71,30,23,10,1,7]
["E01022218","E01022218 Cotswold 011D","E01022218",{"$f":"VLOOKUP(A2815,'Output Areas'!$A:$E,5,FALSE)","v":"Small Settlements"},"Detached; semi-detached; terraced whole house or bungalow","Owned","6 rooms",{"$f":"VLOOKUP(G2815,Cntrol!$F$3:$G$9,2,FALSE)","v":3},55,22,20,9,2,2]
["E01022218","E01022218 Cotswold 011D","E01022218",{"$f":"VLOOKUP(A2816,'Output Areas'!$A:$E,5,FALSE)","v":"Small Settlements"},"Detached; semi-detached; terraced whole house or bungalow","Owned","7 rooms",{"$f":"VLOOKUP(G2816,Cntrol!$F$3:$G$9,2,FALSE)","v":4},39,9,20,7,2,1]
["E01022218","E01022218 Cotswold 011D","E01022218",{"$f":"VLOOKUP(A2817,'Output Areas'!$A:$E,5,FALSE)","v":"Small Settlements"},"Detached; semi-detached; terraced whole house or bungalow","Owned","8 rooms or more",{"$f":"VLOOKUP(G2817,Cntrol!$F$3:$G$9,2,FALSE)","v":5},30,6,19,4,1,0]
["E01022218","E01022218 Cotswold 011D","E01022218",{"$f":"VLOOKUP(A2818,'Output Areas'!$A:$E,5,FALSE)","v":"Small Settlements"},"Detached; semi-detached; terraced whole house or bungalow","Shared ownership or rented (excluding living rent free)","Total: Number of rooms",{"$f":"VLOOKUP(G2818,Cntrol!$F$3:$G$9,2,FALSE)","v":0},255,127,53,14,2,59]
["E01022218","E01022218 Cotswold 011D","E01022218",{"$f":"VLOOKUP(A2819,'Output Areas'!$A:$E,5,FALSE)","v":"Small Settlements"},"Detached; semi-detached; terraced whole house or bungalow","Shared ownership or rented (excluding living rent free)","3 rooms or less",{"$f":"VLOOKUP(G2819,Cntrol!$F$3:$G$9,2,FALSE)","v":2},32,17,2,0,0,13]
["E01022218","E01022218 Cotswold 011D","E01022218",{"$f":"VLOOKUP(A2820,'Output Areas'!$A:$E,5,FALSE)","v":"Small Settlements"},"Detached; semi-detached; terraced whole house or bungalow","Shared ownership or rented (excluding living rent free)","4 rooms",{"$f":"VLOOKUP(G2820,Cntrol!$F$3:$G$9,2,FALSE)","v":2},68,40,13,1,0,14]
["E01022218","E01022218 Cotswold 011D","E01022218",{"$f":"VLOOKUP(A2821,'Output Areas'!$A:$E,5,FALSE)","v":"Small Settlements"},"Detached; semi-detached; terraced whole house or bungalow","Shared ownership or rented (excluding living rent free)","5 rooms",{"$f":"VLOOKUP(G2821,Cntrol!$F$3:$G$9,2,FALSE)","v":3},102,50,24,10,2,16]
["E01022218","E01022218 Cotswold 011D","E01022218",{"$f":"VLOOKUP(A2822,'Output Areas'!$A:$E,5,FALSE)","v":"Small Settlements"},"Detached; semi-detached; terraced whole house or bungalow","Shared ownership or rented (excluding living rent free)","6 rooms",{"$f":"VLOOKUP(G2822,Cntrol!$F$3:$G$9,2,FALSE)","v":3},38,15,8,2,0,13]
["E01022218","E01022218 Cotswold 011D","E01022218",{"$f":"VLOOKUP(A2823,'Output Areas'!$A:$E,5,FALSE)","v":"Small Settlements"},"Detached; semi-detached; terraced whole house or bungalow","Shared ownership or rented (excluding living rent free)","7 rooms",{"$f":"VLOOKUP(G2823,Cntrol!$F$3:$G$9,2,FALSE)","v":4},14,4,6,1,0,3]
["E01022218","E01022218 Cotswold 011D","E01022218",{"$f":"VLOOKUP(A2824,'Output Areas'!$A:$E,5,FALSE)","v":"Small Settlements"},"Detached; semi-detached; terraced whole house or bungalow","Shared ownership or rented (excluding living rent free)","8 rooms or more",{"$f":"VLOOKUP(G2824,Cntrol!$F$3:$G$9,2,FALSE)","v":5},1,1,0,0,0,0]
["E01022218","E01022218 Cotswold 011D","E01022218",{"$f":"VLOOKUP(A2825,'Output Areas'!$A:$E,5,FALSE)","v":"Small Settlements"},"A flat; maisonette; apartment","Total: Tenure (excluding living rent free)","Total: Number of rooms",{"$f":"VLOOKUP(G2825,Cntrol!$F$3:$G$9,2,FALSE)","v":0},25,15,4,1,0,5]
["E01022218","E01022218 Cotswold 011D","E01022218",{"$f":"VLOOKUP(A2826,'Output Areas'!$A:$E,5,FALSE)","v":"Small Settlements"},"A flat; maisonette; apartment","Total: Tenure (excluding living rent free)","3 rooms or less",{"$f":"VLOOKUP(G2826,Cntrol!$F$3:$G$9,2,FALSE)","v":2},10,8,1,0,0,1]
["E01022218","E01022218 Cotswold 011D","E01022218",{"$f":"VLOOKUP(A2827,'Output Areas'!$A:$E,5,FALSE)","v":"Small Settlements"},"A flat; maisonette; apartment","Total: Tenure (excluding living rent free)","4 rooms",{"$f":"VLOOKUP(G2827,Cntrol!$F$3:$G$9,2,FALSE)","v":2},13,7,2,0,0,4]
["E01022218","E01022218 Cotswold 011D","E01022218",{"$f":"VLOOKUP(A2828,'Output Areas'!$A:$E,5,FALSE)","v":"Small Settlements"},"A flat; maisonette; apartment","Total: Tenure (excluding living rent free)","6 rooms",{"$f":"VLOOKUP(G2828,Cntrol!$F$3:$G$9,2,FALSE)","v":3},1,0,1,0,0,0]
["E01022218","E01022218 Cotswold 011D","E01022218",{"$f":"VLOOKUP(A2829,'Output Areas'!$A:$E,5,FALSE)","v":"Small Settlements"},"A flat; maisonette; apartment","Total: Tenure (excluding living rent free)","7 rooms",{"$f":"VLOOKUP(G2829,Cntrol!$F$3:$G$9,2,FALSE)","v":4},1,0,0,1,0,0]
["E01022218","E01022218 Cotswold 011D","E01022218",{"$f":"VLOOKUP(A2830,'Output Areas'!$A:$E,5,FALSE)","v":"Small Settlements"},"A flat; maisonette; apartment","Owned","Total: Number of rooms",{"$f":"VLOOKUP(G2830,Cntrol!$F$3:$G$9,2,FALSE)","v":0},3,0,1,1,0,1]
["E01022218","E01022218 Cotswold 011D","E01022218",{"$f":"VLOOKUP(A2831,'Output Areas'!$A:$E,5,FALSE)","v":"Small Settlements"},"A flat; maisonette; apartment","Owned","4 rooms",{"$f":"VLOOKUP(G2831,Cntrol!$F$3:$G$9,2,FALSE)","v":2},2,0,1,0,0,1]
["E01022218","E01022218 Cotswold 011D","E01022218",{"$f":"VLOOKUP(A2832,'Output Areas'!$A:$E,5,FALSE)","v":"Small Settlements"},"A flat; maisonette; apartment","Owned","7 rooms",{"$f":"VLOOKUP(G2832,Cntrol!$F$3:$G$9,2,FALSE)","v":4},1,0,0,1,0,0]
["E01022218","E01022218 Cotswold 011D","E01022218",{"$f":"VLOOKUP(A2833,'Output Areas'!$A:$E,5,FALSE)","v":"Small Settlements"},"A flat; maisonette; apartment","Shared ownership or rented (excluding living rent free)","Total: Number of rooms",{"$f":"VLOOKUP(G2833,Cntrol!$F$3:$G$9,2,FALSE)","v":0},22,15,3,0,0,4]
["E01022218","E01022218 Cotswold 011D","E01022218",{"$f":"VLOOKUP(A2834,'Output Areas'!$A:$E,5,FALSE)","v":"Small Settlements"},"A flat; maisonette; apartment","Shared ownership or rented (excluding living rent free)","3 rooms or less",{"$f":"VLOOKUP(G2834,Cntrol!$F$3:$G$9,2,FALSE)","v":2},10,8,1,0,0,1]
["E01022218","E01022218 Cotswold 011D","E01022218",{"$f":"VLOOKUP(A2835,'Output Areas'!$A:$E,5,FALSE)","v":"Small Settlements"},"A flat; maisonette; apartment","Shared ownership or rented (excluding living rent free)","4 rooms",{"$f":"VLOOKUP(G2835,Cntrol!$F$3:$G$9,2,FALSE)","v":2},11,7,1,0,0,3]
["E01022218","E01022218 Cotswold 011D","E01022218",{"$f":"VLOOKUP(A2836,'Output Areas'!$A:$E,5,FALSE)","v":"Small Settlements"},"A flat; maisonette; apartment","Shared ownership or rented (excluding living rent free)","6 rooms",{"$f":"VLOOKUP(G2836,Cntrol!$F$3:$G$9,2,FALSE)","v":3},1,0,1,0,0,0]
["E01022219","E01022219 Cotswold 011E","E01022219",{"$f":"VLOOKUP(A2837,'Output Areas'!$A:$E,5,FALSE)","v":"Small Settlements"},"Total: Accommodation type (excluding caravans / temporary structures)","Total: Tenure (excluding living rent free)","Total: Number of rooms",{"$f":"VLOOKUP(G2837,Cntrol!$F$3:$G$9,2,FALSE)","v":0},515,207,213,42,15,38]
["E01022219","E01022219 Cotswold 011E","E01022219",{"$f":"VLOOKUP(A2838,'Output Areas'!$A:$E,5,FALSE)","v":"Small Settlements"},"Total: Accommodation type (excluding caravans / temporary structures)","Total: Tenure (excluding living rent free)","3 rooms or less",{"$f":"VLOOKUP(G2838,Cntrol!$F$3:$G$9,2,FALSE)","v":2},24,16,1,0,0,7]
["E01022219","E01022219 Cotswold 011E","E01022219",{"$f":"VLOOKUP(A2839,'Output Areas'!$A:$E,5,FALSE)","v":"Small Settlements"},"Total: Accommodation type (excluding caravans / temporary structures)","Total: Tenure (excluding living rent free)","4 rooms",{"$f":"VLOOKUP(G2839,Cntrol!$F$3:$G$9,2,FALSE)","v":2},27,12,11,1,0,3]
["E01022219","E01022219 Cotswold 011E","E01022219",{"$f":"VLOOKUP(A2840,'Output Areas'!$A:$E,5,FALSE)","v":"Small Settlements"},"Total: Accommodation type (excluding caravans / temporary structures)","Total: Tenure (excluding living rent free)","5 rooms",{"$f":"VLOOKUP(G2840,Cntrol!$F$3:$G$9,2,FALSE)","v":3},109,65,28,4,1,11]
["E01022219","E01022219 Cotswold 011E","E01022219",{"$f":"VLOOKUP(A2841,'Output Areas'!$A:$E,5,FALSE)","v":"Small Settlements"},"Total: Accommodation type (excluding caravans / temporary structures)","Total: Tenure (excluding living rent free)","6 rooms",{"$f":"VLOOKUP(G2841,Cntrol!$F$3:$G$9,2,FALSE)","v":3},116,53,41,11,2,9]
["E01022219","E01022219 Cotswold 011E","E01022219",{"$f":"VLOOKUP(A2842,'Output Areas'!$A:$E,5,FALSE)","v":"Small Settlements"},"Total: Accommodation type (excluding caravans / temporary structures)","Total: Tenure (excluding living rent free)","7 rooms",{"$f":"VLOOKUP(G2842,Cntrol!$F$3:$G$9,2,FALSE)","v":4},94,36,42,8,6,2]
["E01022219","E01022219 Cotswold 011E","E01022219",{"$f":"VLOOKUP(A2843,'Output Areas'!$A:$E,5,FALSE)","v":"Small Settlements"},"Total: Accommodation type (excluding caravans / temporary structures)","Total: Tenure (excluding living rent free)","8 rooms or more",{"$f":"VLOOKUP(G2843,Cntrol!$F$3:$G$9,2,FALSE)","v":5},145,25,90,18,6,6]
["E01022219","E01022219 Cotswold 011E","E01022219",{"$f":"VLOOKUP(A2844,'Output Areas'!$A:$E,5,FALSE)","v":"Small Settlements"},"Total: Accommodation type (excluding caravans / temporary structures)","Owned","Total: Number of rooms",{"$f":"VLOOKUP(G2844,Cntrol!$F$3:$G$9,2,FALSE)","v":0},434,159,194,40,14,27]
["E01022219","E01022219 Cotswold 011E","E01022219",{"$f":"VLOOKUP(A2845,'Output Areas'!$A:$E,5,FALSE)","v":"Small Settlements"},"Total: Accommodation type (excluding caravans / temporary structures)","Owned","3 rooms or less",{"$f":"VLOOKUP(G2845,Cntrol!$F$3:$G$9,2,FALSE)","v":2},2,1,1,0,0,0]
["E01022219","E01022219 Cotswold 011E","E01022219",{"$f":"VLOOKUP(A2846,'Output Areas'!$A:$E,5,FALSE)","v":"Small Settlements"},"Total: Accommodation type (excluding caravans / temporary structures)","Owned","4 rooms",{"$f":"VLOOKUP(G2846,Cntrol!$F$3:$G$9,2,FALSE)","v":2},17,8,7,0,0,2]
["E01022219","E01022219 Cotswold 011E","E01022219",{"$f":"VLOOKUP(A2847,'Output Areas'!$A:$E,5,FALSE)","v":"Small Settlements"},"Total: Accommodation type (excluding caravans / temporary structures)","Owned","5 rooms",{"$f":"VLOOKUP(G2847,Cntrol!$F$3:$G$9,2,FALSE)","v":3},84,46,24,4,1,9]
["E01022219","E01022219 Cotswold 011E","E01022219",{"$f":"VLOOKUP(A2848,'Output Areas'!$A:$E,5,FALSE)","v":"Small Settlements"},"Total: Accommodation type (excluding caravans / temporary structures)","Owned","6 rooms",{"$f":"VLOOKUP(G2848,Cntrol!$F$3:$G$9,2,FALSE)","v":3},102,47,35,10,2,8]
["E01022219","E01022219 Cotswold 011E","E01022219",{"$f":"VLOOKUP(A2849,'Output Areas'!$A:$E,5,FALSE)","v":"Small Settlements"},"Total: Accommodation type (excluding caravans / temporary structures)","Owned","7 rooms",{"$f":"VLOOKUP(G2849,Cntrol!$F$3:$G$9,2,FALSE)","v":4},91,35,40,8,6,2]
["E01022219","E01022219 Cotswold 011E","E01022219",{"$f":"VLOOKUP(A2850,'Output Areas'!$A:$E,5,FALSE)","v":"Small Settlements"},"Total: Accommodation type (excluding caravans / temporary structures)","Owned","8 rooms or more",{"$f":"VLOOKUP(G2850,Cntrol!$F$3:$G$9,2,FALSE)","v":5},138,22,87,18,5,6]
["E01022219","E01022219 Cotswold 011E","E01022219",{"$f":"VLOOKUP(A2851,'Output Areas'!$A:$E,5,FALSE)","v":"Small Settlements"},"Total: Accommodation type (excluding caravans / temporary structures)","Shared ownership or rented (excluding living rent free)","Total: Number of rooms",{"$f":"VLOOKUP(G2851,Cntrol!$F$3:$G$9,2,FALSE)","v":0},81,48,19,2,1,11]
["E01022219","E01022219 Cotswold 011E","E01022219",{"$f":"VLOOKUP(A2852,'Output Areas'!$A:$E,5,FALSE)","v":"Small Settlements"},"Total: Accommodation type (excluding caravans / temporary structures)","Shared ownership or rented (excluding living rent free)","3 rooms or less",{"$f":"VLOOKUP(G2852,Cntrol!$F$3:$G$9,2,FALSE)","v":2},22,15,0,0,0,7]
["E01022219","E01022219 Cotswold 011E","E01022219",{"$f":"VLOOKUP(A2853,'Output Areas'!$A:$E,5,FALSE)","v":"Small Settlements"},"Total: Accommodation type (excluding caravans / temporary structures)","Shared ownership or rented (excluding living rent free)","4 rooms",{"$f":"VLOOKUP(G2853,Cntrol!$F$3:$G$9,2,FALSE)","v":2},10,4,4,1,0,1]
["E01022219","E01022219 Cotswold 011E","E01022219",{"$f":"VLOOKUP(A2854,'Output Areas'!$A:$E,5,FALSE)","v":"Small Settlements"},"Total: Accommodation type (excluding caravans / temporary structures)","Shared ownership or rented (excluding living rent free)","5 rooms",{"$f":"VLOOKUP(G2854,Cntrol!$F$3:$G$9,2,FALSE)","v":3},25,19,4,0,0,2]
["E01022219","E01022219 Cotswold 011E","E01022219",{"$f":"VLOOKUP(A2855,'Output Areas'!$A:$E,5,FALSE)","v":"Small Settlements"},"Total: Accommodation type (excluding caravans / temporary structures)","Shared ownership or rented (excluding living rent free)","6 rooms",{"$f":"VLOOKUP(G2855,Cntrol!$F$3:$G$9,2,FALSE)","v":3},14,6,6,1,0,1]
["E01022219","E01022219 Cotswold 011E","E01022219",{"$f":"VLOOKUP(A2856,'Output Areas'!$A:$E,5,FALSE)","v":"Small Settlements"},"Total: Accommodation type (excluding caravans / temporary structures)","Shared ownership or rented (excluding living rent free)","7 rooms",{"$f":"VLOOKUP(G2856,Cntrol!$F$3:$G$9,2,FALSE)","v":4},3,1,2,0,0,0]
["E01022219","E01022219 Cotswold 011E","E01022219",{"$f":"VLOOKUP(A2857,'Output Areas'!$A:$E,5,FALSE)","v":"Small Settlements"},"Total: Accommodation type (excluding caravans / temporary structures)","Shared ownership or rented (excluding living rent free)","8 rooms or more",{"$f":"VLOOKUP(G2857,Cntrol!$F$3:$G$9,2,FALSE)","v":5},7,3,3,0,1,0]
["E01022219","E01022219 Cotswold 011E","E01022219",{"$f":"VLOOKUP(A2858,'Output Areas'!$A:$E,5,FALSE)","v":"Small Settlements"},"Detached; semi-detached; terraced whole house or bungalow","Total: Tenure (excluding living rent free)","Total: Number of rooms",{"$f":"VLOOKUP(G2858,Cntrol!$F$3:$G$9,2,FALSE)","v":0},491,192,212,42,15,30]
["E01022219","E01022219 Cotswold 011E","E01022219",{"$f":"VLOOKUP(A2859,'Output Areas'!$A:$E,5,FALSE)","v":"Small Settlements"},"Detached; semi-detached; terraced whole house or bungalow","Total: Tenure (excluding living rent free)","3 rooms or less",{"$f":"VLOOKUP(G2859,Cntrol!$F$3:$G$9,2,FALSE)","v":2},3,3,0,0,0,0]
["E01022219","E01022219 Cotswold 011E","E01022219",{"$f":"VLOOKUP(A2860,'Output Areas'!$A:$E,5,FALSE)","v":"Small Settlements"},"Detached; semi-detached; terraced whole house or bungalow","Total: Tenure (excluding living rent free)","4 rooms",{"$f":"VLOOKUP(G2860,Cntrol!$F$3:$G$9,2,FALSE)","v":2},25,11,11,1,0,2]
["E01022219","E01022219 Cotswold 011E","E01022219",{"$f":"VLOOKUP(A2861,'Output Areas'!$A:$E,5,FALSE)","v":"Small Settlements"},"Detached; semi-detached; terraced whole house or bungalow","Total: Tenure (excluding living rent free)","5 rooms",{"$f":"VLOOKUP(G2861,Cntrol!$F$3:$G$9,2,FALSE)","v":3},108,64,28,4,1,11]
["E01022219","E01022219 Cotswold 011E","E01022219",{"$f":"VLOOKUP(A2862,'Output Areas'!$A:$E,5,FALSE)","v":"Small Settlements"},"Detached; semi-detached; terraced whole house or bungalow","Total: Tenure (excluding living rent free)","6 rooms",{"$f":"VLOOKUP(G2862,Cntrol!$F$3:$G$9,2,FALSE)","v":3},116,53,41,11,2,9]
["E01022219","E01022219 Cotswold 011E","E01022219",{"$f":"VLOOKUP(A2863,'Output Areas'!$A:$E,5,FALSE)","v":"Small Settlements"},"Detached; semi-detached; terraced whole house or bungalow","Total: Tenure (excluding living rent free)","7 rooms",{"$f":"VLOOKUP(G2863,Cntrol!$F$3:$G$9,2,FALSE)","v":4},94,36,42,8,6,2]
["E01022219","E01022219 Cotswold 011E","E01022219",{"$f":"VLOOKUP(A2864,'Output Areas'!$A:$E,5,FALSE)","v":"Small Settlements"},"Detached; semi-detached; terraced whole house or bungalow","Total: Tenure (excluding living rent free)","8 rooms or more",{"$f":"VLOOKUP(G2864,Cntrol!$F$3:$G$9,2,FALSE)","v":5},145,25,90,18,6,6]
["E01022219","E01022219 Cotswold 011E","E01022219",{"$f":"VLOOKUP(A2865,'Output Areas'!$A:$E,5,FALSE)","v":"Small Settlements"},"Detached; semi-detached; terraced whole house or bungalow","Owned","Total: Number of rooms",{"$f":"VLOOKUP(G2865,Cntrol!$F$3:$G$9,2,FALSE)","v":0},432,158,193,40,14,27]
["E01022219","E01022219 Cotswold 011E","E01022219",{"$f":"VLOOKUP(A2866,'Output Areas'!$A:$E,5,FALSE)","v":"Small Settlements"},"Detached; semi-detached; terraced whole house or bungalow","Owned","3 rooms or less",{"$f":"VLOOKUP(G2866,Cntrol!$F$3:$G$9,2,FALSE)","v":2},1,1,0,0,0,0]
["E01022219","E01022219 Cotswold 011E","E01022219",{"$f":"VLOOKUP(A2867,'Output Areas'!$A:$E,5,FALSE)","v":"Small Settlements"},"Detached; semi-detached; terraced whole house or bungalow","Owned","4 rooms",{"$f":"VLOOKUP(G2867,Cntrol!$F$3:$G$9,2,FALSE)","v":2},16,7,7,0,0,2]
["E01022219","E01022219 Cotswold 011E","E01022219",{"$f":"VLOOKUP(A2868,'Output Areas'!$A:$E,5,FALSE)","v":"Small Settlements"},"Detached; semi-detached; terraced whole house or bungalow","Owned","5 rooms",{"$f":"VLOOKUP(G2868,Cntrol!$F$3:$G$9,2,FALSE)","v":3},84,46,24,4,1,9]
["E01022219","E01022219 Cotswold 011E","E01022219",{"$f":"VLOOKUP(A2869,'Output Areas'!$A:$E,5,FALSE)","v":"Small Settlements"},"Detached; semi-detached; terraced whole house or bungalow","Owned","6 rooms",{"$f":"VLOOKUP(G2869,Cntrol!$F$3:$G$9,2,FALSE)","v":3},102,47,35,10,2,8]
["E01022219","E01022219 Cotswold 011E","E01022219",{"$f":"VLOOKUP(A2870,'Output Areas'!$A:$E,5,FALSE)","v":"Small Settlements"},"Detached; semi-detached; terraced whole house or bungalow","Owned","7 rooms",{"$f":"VLOOKUP(G2870,Cntrol!$F$3:$G$9,2,FALSE)","v":4},91,35,40,8,6,2]
["E01022219","E01022219 Cotswold 011E","E01022219",{"$f":"VLOOKUP(A2871,'Output Areas'!$A:$E,5,FALSE)","v":"Small Settlements"},"Detached; semi-detached; terraced whole house or bungalow","Owned","8 rooms or more",{"$f":"VLOOKUP(G2871,Cntrol!$F$3:$G$9,2,FALSE)","v":5},138,22,87,18,5,6]
["E01022219","E01022219 Cotswold 011E","E01022219",{"$f":"VLOOKUP(A2872,'Output Areas'!$A:$E,5,FALSE)","v":"Small Settlements"},"Detached; semi-detached; terraced whole house or bungalow","Shared ownership or rented (excluding living rent free)","Total: Number of rooms",{"$f":"VLOOKUP(G2872,Cntrol!$F$3:$G$9,2,FALSE)","v":0},59,34,19,2,1,3]
["E01022219","E01022219 Cotswold 011E","E01022219",{"$f":"VLOOKUP(A2873,'Output Areas'!$A:$E,5,FALSE)","v":"Small Settlements"},"Detached; semi-detached; terraced whole house or bungalow","Shared ownership or rented (excluding living rent free)","3 rooms or less",{"$f":"VLOOKUP(G2873,Cntrol!$F$3:$G$9,2,FALSE)","v":2},2,2,0,0,0,0]
["E01022219","E01022219 Cotswold 011E","E01022219",{"$f":"VLOOKUP(A2874,'Output Areas'!$A:$E,5,FALSE)","v":"Small Settlements"},"Detached; semi-detached; terraced whole house or bungalow","Shared ownership or rented (excluding living rent free)","4 rooms",{"$f":"VLOOKUP(G2874,Cntrol!$F$3:$G$9,2,FALSE)","v":2},9,4,4,1,0,0]
["E01022219","E01022219 Cotswold 011E","E01022219",{"$f":"VLOOKUP(A2875,'Output Areas'!$A:$E,5,FALSE)","v":"Small Settlements"},"Detached; semi-detached; terraced whole house or bungalow","Shared ownership or rented (excluding living rent free)","5 rooms",{"$f":"VLOOKUP(G2875,Cntrol!$F$3:$G$9,2,FALSE)","v":3},24,18,4,0,0,2]
["E01022219","E01022219 Cotswold 011E","E01022219",{"$f":"VLOOKUP(A2876,'Output Areas'!$A:$E,5,FALSE)","v":"Small Settlements"},"Detached; semi-detached; terraced whole house or bungalow","Shared ownership or rented (excluding living rent free)","6 rooms",{"$f":"VLOOKUP(G2876,Cntrol!$F$3:$G$9,2,FALSE)","v":3},14,6,6,1,0,1]
["E01022219","E01022219 Cotswold 011E","E01022219",{"$f":"VLOOKUP(A2877,'Output Areas'!$A:$E,5,FALSE)","v":"Small Settlements"},"Detached; semi-detached; terraced whole house or bungalow","Shared ownership or rented (excluding living rent free)","7 rooms",{"$f":"VLOOKUP(G2877,Cntrol!$F$3:$G$9,2,FALSE)","v":4},3,1,2,0,0,0]
["E01022219","E01022219 Cotswold 011E","E01022219",{"$f":"VLOOKUP(A2878,'Output Areas'!$A:$E,5,FALSE)","v":"Small Settlements"},"Detached; semi-detached; terraced whole house or bungalow","Shared ownership or rented (excluding living rent free)","8 rooms or more",{"$f":"VLOOKUP(G2878,Cntrol!$F$3:$G$9,2,FALSE)","v":5},7,3,3,0,1,0]
["E01022219","E01022219 Cotswold 011E","E01022219",{"$f":"VLOOKUP(A2879,'Output Areas'!$A:$E,5,FALSE)","v":"Small Settlements"},"A flat; maisonette; apartment","Total: Tenure (excluding living rent free)","Total: Number of rooms",{"$f":"VLOOKUP(G2879,Cntrol!$F$3:$G$9,2,FALSE)","v":0},24,15,1,0,0,8]
["E01022219","E01022219 Cotswold 011E","E01022219",{"$f":"VLOOKUP(A2880,'Output Areas'!$A:$E,5,FALSE)","v":"Small Settlements"},"A flat; maisonette; apartment","Total: Tenure (excluding living rent free)","3 rooms or less",{"$f":"VLOOKUP(G2880,Cntrol!$F$3:$G$9,2,FALSE)","v":2},21,13,1,0,0,7]
["E01022219","E01022219 Cotswold 011E","E01022219",{"$f":"VLOOKUP(A2881,'Output Areas'!$A:$E,5,FALSE)","v":"Small Settlements"},"A flat; maisonette; apartment","Total: Tenure (excluding living rent free)","4 rooms",{"$f":"VLOOKUP(G2881,Cntrol!$F$3:$G$9,2,FALSE)","v":2},2,1,0,0,0,1]
["E01022219","E01022219 Cotswold 011E","E01022219",{"$f":"VLOOKUP(A2882,'Output Areas'!$A:$E,5,FALSE)","v":"Small Settlements"},"A flat; maisonette; apartment","Total: Tenure (excluding living rent free)","5 rooms",{"$f":"VLOOKUP(G2882,Cntrol!$F$3:$G$9,2,FALSE)","v":3},1,1,0,0,0,0]
["E01022219","E01022219 Cotswold 011E","E01022219",{"$f":"VLOOKUP(A2883,'Output Areas'!$A:$E,5,FALSE)","v":"Small Settlements"},"A flat; maisonette; apartment","Owned","Total: Number of rooms",{"$f":"VLOOKUP(G2883,Cntrol!$F$3:$G$9,2,FALSE)","v":0},2,1,1,0,0,0]
["E01022219","E01022219 Cotswold 011E","E01022219",{"$f":"VLOOKUP(A2884,'Output Areas'!$A:$E,5,FALSE)","v":"Small Settlements"},"A flat; maisonette; apartment","Owned","3 rooms or less",{"$f":"VLOOKUP(G2884,Cntrol!$F$3:$G$9,2,FALSE)","v":2},1,0,1,0,0,0]
["E01022219","E01022219 Cotswold 011E","E01022219",{"$f":"VLOOKUP(A2885,'Output Areas'!$A:$E,5,FALSE)","v":"Small Settlements"},"A flat; maisonette; apartment","Owned","4 rooms",{"$f":"VLOOKUP(G2885,Cntrol!$F$3:$G$9,2,FALSE)","v":2},1,1,0,0,0,0]
["E01022219","E01022219 Cotswold 011E","E01022219",{"$f":"VLOOKUP(A2886,'Output Areas'!$A:$E,5,FALSE)","v":"Small Settlements"},"A flat; maisonette; apartment","Shared ownership or rented (excluding living rent free)","Total: Number of rooms",{"$f":"VLOOKUP(G2886,Cntrol!$F$3:$G$9,2,FALSE)","v":0},22,14,0,0,0,8]
["E01022219","E01022219 Cotswold 011E","E01022219",{"$f":"VLOOKUP(A2887,'Output Areas'!$A:$E,5,FALSE)","v":"Small Settlements"},"A flat; maisonette; apartment","Shared ownership or rented (excluding living rent free)","3 rooms or less",{"$f":"VLOOKUP(G2887,Cntrol!$F$3:$G$9,2,FALSE)","v":2},20,13,0,0,0,7]
["E01022219","E01022219 Cotswold 011E","E01022219",{"$f":"VLOOKUP(A2888,'Output Areas'!$A:$E,5,FALSE)","v":"Small Settlements"},"A flat; maisonette; apartment","Shared ownership or rented (excluding living rent free)","4 rooms",{"$f":"VLOOKUP(G2888,Cntrol!$F$3:$G$9,2,FALSE)","v":2},1,0,0,0,0,1]
["E01022219","E01022219 Cotswold 011E","E01022219",{"$f":"VLOOKUP(A2889,'Output Areas'!$A:$E,5,FALSE)","v":"Small Settlements"},"A flat; maisonette; apartment","Shared ownership or rented (excluding living rent free)","5 rooms",{"$f":"VLOOKUP(G2889,Cntrol!$F$3:$G$9,2,FALSE)","v":3},1,1,0,0,0,0]
["E01022220","E01022220 Cotswold 011F","E01022220",{"$f":"VLOOKUP(A2890,'Output Areas'!$A:$E,5,FALSE)","v":"Small Settlements"},"Total: Accommodation type (excluding caravans / temporary structures)","Total: Tenure (excluding living rent free)","Total: Number of rooms",{"$f":"VLOOKUP(G2890,Cntrol!$F$3:$G$9,2,FALSE)","v":0},773,331,244,39,13,146]
["E01022220","E01022220 Cotswold 011F","E01022220",{"$f":"VLOOKUP(A2891,'Output Areas'!$A:$E,5,FALSE)","v":"Small Settlements"},"Total: Accommodation type (excluding caravans / temporary structures)","Total: Tenure (excluding living rent free)","3 rooms or less",{"$f":"VLOOKUP(G2891,Cntrol!$F$3:$G$9,2,FALSE)","v":2},119,50,14,1,0,54]
["E01022220","E01022220 Cotswold 011F","E01022220",{"$f":"VLOOKUP(A2892,'Output Areas'!$A:$E,5,FALSE)","v":"Small Settlements"},"Total: Accommodation type (excluding caravans / temporary structures)","Total: Tenure (excluding living rent free)","4 rooms",{"$f":"VLOOKUP(G2892,Cntrol!$F$3:$G$9,2,FALSE)","v":2},130,62,28,5,0,35]
["E01022220","E01022220 Cotswold 011F","E01022220",{"$f":"VLOOKUP(A2893,'Output Areas'!$A:$E,5,FALSE)","v":"Small Settlements"},"Total: Accommodation type (excluding caravans / temporary structures)","Total: Tenure (excluding living rent free)","5 rooms",{"$f":"VLOOKUP(G2893,Cntrol!$F$3:$G$9,2,FALSE)","v":3},159,77,45,5,2,30]
["E01022220","E01022220 Cotswold 011F","E01022220",{"$f":"VLOOKUP(A2894,'Output Areas'!$A:$E,5,FALSE)","v":"Small Settlements"},"Total: Accommodation type (excluding caravans / temporary structures)","Total: Tenure (excluding living rent free)","6 rooms",{"$f":"VLOOKUP(G2894,Cntrol!$F$3:$G$9,2,FALSE)","v":3},141,59,63,4,1,14]
["E01022220","E01022220 Cotswold 011F","E01022220",{"$f":"VLOOKUP(A2895,'Output Areas'!$A:$E,5,FALSE)","v":"Small Settlements"},"Total: Accommodation type (excluding caravans / temporary structures)","Total: Tenure (excluding living rent free)","7 rooms",{"$f":"VLOOKUP(G2895,Cntrol!$F$3:$G$9,2,FALSE)","v":4},91,44,32,6,3,6]
["E01022220","E01022220 Cotswold 011F","E01022220",{"$f":"VLOOKUP(A2896,'Output Areas'!$A:$E,5,FALSE)","v":"Small Settlements"},"Total: Accommodation type (excluding caravans / temporary structures)","Total: Tenure (excluding living rent free)","8 rooms or more",{"$f":"VLOOKUP(G2896,Cntrol!$F$3:$G$9,2,FALSE)","v":5},133,39,62,18,7,7]
["E01022220","E01022220 Cotswold 011F","E01022220",{"$f":"VLOOKUP(A2897,'Output Areas'!$A:$E,5,FALSE)","v":"Small Settlements"},"Total: Accommodation type (excluding caravans / temporary structures)","Owned","Total: Number of rooms",{"$f":"VLOOKUP(G2897,Cntrol!$F$3:$G$9,2,FALSE)","v":0},549,228,205,36,12,68]
["E01022220","E01022220 Cotswold 011F","E01022220",{"$f":"VLOOKUP(A2898,'Output Areas'!$A:$E,5,FALSE)","v":"Small Settlements"},"Total: Accommodation type (excluding caravans / temporary structures)","Owned","3 rooms or less",{"$f":"VLOOKUP(G2898,Cntrol!$F$3:$G$9,2,FALSE)","v":2},28,14,8,0,0,6]
["E01022220","E01022220 Cotswold 011F","E01022220",{"$f":"VLOOKUP(A2899,'Output Areas'!$A:$E,5,FALSE)","v":"Small Settlements"},"Total: Accommodation type (excluding caravans / temporary structures)","Owned","4 rooms",{"$f":"VLOOKUP(G2899,Cntrol!$F$3:$G$9,2,FALSE)","v":2},70,33,16,4,0,17]
["E01022220","E01022220 Cotswold 011F","E01022220",{"$f":"VLOOKUP(A2900,'Output Areas'!$A:$E,5,FALSE)","v":"Small Settlements"},"Total: Accommodation type (excluding caravans / temporary structures)","Owned","5 rooms",{"$f":"VLOOKUP(G2900,Cntrol!$F$3:$G$9,2,FALSE)","v":3},124,56,36,4,2,26]
["E01022220","E01022220 Cotswold 011F","E01022220",{"$f":"VLOOKUP(A2901,'Output Areas'!$A:$E,5,FALSE)","v":"Small Settlements"},"Total: Accommodation type (excluding caravans / temporary structures)","Owned","6 rooms",{"$f":"VLOOKUP(G2901,Cntrol!$F$3:$G$9,2,FALSE)","v":3},123,52,55,4,1,11]
["E01022220","E01022220 Cotswold 011F","E01022220",{"$f":"VLOOKUP(A2902,'Output Areas'!$A:$E,5,FALSE)","v":"Small Settlements"},"Total: Accommodation type (excluding caravans / temporary structures)","Owned","7 rooms",{"$f":"VLOOKUP(G2902,Cntrol!$F$3:$G$9,2,FALSE)","v":4},81,36,31,6,3,5]
["E01022220","E01022220 Cotswold 011F","E01022220",{"$f":"VLOOKUP(A2903,'Output Areas'!$A:$E,5,FALSE)","v":"Small Settlements"},"Total: Accommodation type (excluding caravans / temporary structures)","Owned","8 rooms or more",{"$f":"VLOOKUP(G2903,Cntrol!$F$3:$G$9,2,FALSE)","v":5},123,37,59,18,6,3]
["E01022220","E01022220 Cotswold 011F","E01022220",{"$f":"VLOOKUP(A2904,'Output Areas'!$A:$E,5,FALSE)","v":"Small Settlements"},"Total: Accommodation type (excluding caravans / temporary structures)","Shared ownership or rented (excluding living rent free)","Total: Number of rooms",{"$f":"VLOOKUP(G2904,Cntrol!$F$3:$G$9,2,FALSE)","v":0},224,103,39,3,1,78]
["E01022220","E01022220 Cotswold 011F","E01022220",{"$f":"VLOOKUP(A2905,'Output Areas'!$A:$E,5,FALSE)","v":"Small Settlements"},"Total: Accommodation type (excluding caravans / temporary structures)","Shared ownership or rented (excluding living rent free)","3 rooms or less",{"$f":"VLOOKUP(G2905,Cntrol!$F$3:$G$9,2,FALSE)","v":2},91,36,6,1,0,48]
["E01022220","E01022220 Cotswold 011F","E01022220",{"$f":"VLOOKUP(A2906,'Output Areas'!$A:$E,5,FALSE)","v":"Small Settlements"},"Total: Accommodation type (excluding caravans / temporary structures)","Shared ownership or rented (excluding living rent free)","4 rooms",{"$f":"VLOOKUP(G2906,Cntrol!$F$3:$G$9,2,FALSE)","v":2},60,29,12,1,0,18]
["E01022220","E01022220 Cotswold 011F","E01022220",{"$f":"VLOOKUP(A2907,'Output Areas'!$A:$E,5,FALSE)","v":"Small Settlements"},"Total: Accommodation type (excluding caravans / temporary structures)","Shared ownership or rented (excluding living rent free)","5 rooms",{"$f":"VLOOKUP(G2907,Cntrol!$F$3:$G$9,2,FALSE)","v":3},35,21,9,1,0,4]
["E01022220","E01022220 Cotswold 011F","E01022220",{"$f":"VLOOKUP(A2908,'Output Areas'!$A:$E,5,FALSE)","v":"Small Settlements"},"Total: Accommodation type (excluding caravans / temporary structures)","Shared ownership or rented (excluding living rent free)","6 rooms",{"$f":"VLOOKUP(G2908,Cntrol!$F$3:$G$9,2,FALSE)","v":3},18,7,8,0,0,3]
["E01022220","E01022220 Cotswold 011F","E01022220",{"$f":"VLOOKUP(A2909,'Output Areas'!$A:$E,5,FALSE)","v":"Small Settlements"},"Total: Accommodation type (excluding caravans / temporary structures)","Shared ownership or rented (excluding living rent free)","7 rooms",{"$f":"VLOOKUP(G2909,Cntrol!$F$3:$G$9,2,FALSE)","v":4},10,8,1,0,0,1]
["E01022220","E01022220 Cotswold 011F","E01022220",{"$f":"VLOOKUP(A2910,'Output Areas'!$A:$E,5,FALSE)","v":"Small Settlements"},"Total: Accommodation type (excluding caravans / temporary structures)","Shared ownership or rented (excluding living rent free)","8 rooms or more",{"$f":"VLOOKUP(G2910,Cntrol!$F$3:$G$9,2,FALSE)","v":5},10,2,3,0,1,4]
["E01022220","E01022220 Cotswold 011F","E01022220",{"$f":"VLOOKUP(A2911,'Output Areas'!$A:$E,5,FALSE)","v":"Small Settlements"},"Detached; semi-detached; terraced whole house or bungalow","Total: Tenure (excluding living rent free)","Total: Number of rooms",{"$f":"VLOOKUP(G2911,Cntrol!$F$3:$G$9,2,FALSE)","v":0},594,244,223,36,13,78]
["E01022220","E01022220 Cotswold 011F","E01022220",{"$f":"VLOOKUP(A2912,'Output Areas'!$A:$E,5,FALSE)","v":"Small Settlements"},"Detached; semi-detached; terraced whole house or bungalow","Total: Tenure (excluding living rent free)","3 rooms or less",{"$f":"VLOOKUP(G2912,Cntrol!$F$3:$G$9,2,FALSE)","v":2},21,4,10,0,0,7]
["E01022220","E01022220 Cotswold 011F","E01022220",{"$f":"VLOOKUP(A2913,'Output Areas'!$A:$E,5,FALSE)","v":"Small Settlements"},"Detached; semi-detached; terraced whole house or bungalow","Total: Tenure (excluding living rent free)","4 rooms",{"$f":"VLOOKUP(G2913,Cntrol!$F$3:$G$9,2,FALSE)","v":2},76,33,20,3,0,20]
["E01022220","E01022220 Cotswold 011F","E01022220",{"$f":"VLOOKUP(A2914,'Output Areas'!$A:$E,5,FALSE)","v":"Small Settlements"},"Detached; semi-detached; terraced whole house or bungalow","Total: Tenure (excluding living rent free)","5 rooms",{"$f":"VLOOKUP(G2914,Cntrol!$F$3:$G$9,2,FALSE)","v":3},146,71,40,5,2,28]
["E01022220","E01022220 Cotswold 011F","E01022220",{"$f":"VLOOKUP(A2915,'Output Areas'!$A:$E,5,FALSE)","v":"Small Settlements"},"Detached; semi-detached; terraced whole house or bungalow","Total: Tenure (excluding living rent free)","6 rooms",{"$f":"VLOOKUP(G2915,Cntrol!$F$3:$G$9,2,FALSE)","v":3},133,54,61,4,1,13]
["E01022220","E01022220 Cotswold 011F","E01022220",{"$f":"VLOOKUP(A2916,'Output Areas'!$A:$E,5,FALSE)","v":"Small Settlements"},"Detached; semi-detached; terraced whole house or bungalow","Total: Tenure (excluding living rent free)","7 rooms",{"$f":"VLOOKUP(G2916,Cntrol!$F$3:$G$9,2,FALSE)","v":4},90,43,32,6,3,6]
["E01022220","E01022220 Cotswold 011F","E01022220",{"$f":"VLOOKUP(A2917,'Output Areas'!$A:$E,5,FALSE)","v":"Small Settlements"},"Detached; semi-detached; terraced whole house or bungalow","Total: Tenure (excluding living rent free)","8 rooms or more",{"$f":"VLOOKUP(G2917,Cntrol!$F$3:$G$9,2,FALSE)","v":5},128,39,60,18,7,4]
["E01022220","E01022220 Cotswold 011F","E01022220",{"$f":"VLOOKUP(A2918,'Output Areas'!$A:$E,5,FALSE)","v":"Small Settlements"},"Detached; semi-detached; terraced whole house or bungalow","Owned","Total: Number of rooms",{"$f":"VLOOKUP(G2918,Cntrol!$F$3:$G$9,2,FALSE)","v":0},496,200,193,34,12,57]
["E01022220","E01022220 Cotswold 011F","E01022220",{"$f":"VLOOKUP(A2919,'Output Areas'!$A:$E,5,FALSE)","v":"Small Settlements"},"Detached; semi-detached; terraced whole house or bungalow","Owned","3 rooms or less",{"$f":"VLOOKUP(G2919,Cntrol!$F$3:$G$9,2,FALSE)","v":2},10,3,6,0,0,1]
["E01022220","E01022220 Cotswold 011F","E01022220",{"$f":"VLOOKUP(A2920,'Output Areas'!$A:$E,5,FALSE)","v":"Small Settlements"},"Detached; semi-detached; terraced whole house or bungalow","Owned","4 rooms",{"$f":"VLOOKUP(G2920,Cntrol!$F$3:$G$9,2,FALSE)","v":2},49,22,13,2,0,12]
["E01022220","E01022220 Cotswold 011F","E01022220",{"$f":"VLOOKUP(A2921,'Output Areas'!$A:$E,5,FALSE)","v":"Small Settlements"},"Detached; semi-detached; terraced whole house or bungalow","Owned","5 rooms",{"$f":"VLOOKUP(G2921,Cntrol!$F$3:$G$9,2,FALSE)","v":3},117,54,32,4,2,25]
["E01022220","E01022220 Cotswold 011F","E01022220",{"$f":"VLOOKUP(A2922,'Output Areas'!$A:$E,5,FALSE)","v":"Small Settlements"},"Detached; semi-detached; terraced whole house or bungalow","Owned","6 rooms",{"$f":"VLOOKUP(G2922,Cntrol!$F$3:$G$9,2,FALSE)","v":3},117,48,53,4,1,11]
["E01022220","E01022220 Cotswold 011F","E01022220",{"$f":"VLOOKUP(A2923,'Output Areas'!$A:$E,5,FALSE)","v":"Small Settlements"},"Detached; semi-detached; terraced whole house or bungalow","Owned","7 rooms",{"$f":"VLOOKUP(G2923,Cntrol!$F$3:$G$9,2,FALSE)","v":4},81,36,31,6,3,5]
["E01022220","E01022220 Cotswold 011F","E01022220",{"$f":"VLOOKUP(A2924,'Output Areas'!$A:$E,5,FALSE)","v":"Small Settlements"},"Detached; semi-detached; terraced whole house or bungalow","Owned","8 rooms or more",{"$f":"VLOOKUP(G2924,Cntrol!$F$3:$G$9,2,FALSE)","v":5},122,37,58,18,6,3]
["E01022220","E01022220 Cotswold 011F","E01022220",{"$f":"VLOOKUP(A2925,'Output Areas'!$A:$E,5,FALSE)","v":"Small Settlements"},"Detached; semi-detached; terraced whole house or bungalow","Shared ownership or rented (excluding living rent free)","Total: Number of rooms",{"$f":"VLOOKUP(G2925,Cntrol!$F$3:$G$9,2,FALSE)","v":0},98,44,30,2,1,21]
["E01022220","E01022220 Cotswold 011F","E01022220",{"$f":"VLOOKUP(A2926,'Output Areas'!$A:$E,5,FALSE)","v":"Small Settlements"},"Detached; semi-detached; terraced whole house or bungalow","Shared ownership or rented (excluding living rent free)","3 rooms or less",{"$f":"VLOOKUP(G2926,Cntrol!$F$3:$G$9,2,FALSE)","v":2},11,1,4,0,0,6]
["E01022220","E01022220 Cotswold 011F","E01022220",{"$f":"VLOOKUP(A2927,'Output Areas'!$A:$E,5,FALSE)","v":"Small Settlements"},"Detached; semi-detached; terraced whole house or bungalow","Shared ownership or rented (excluding living rent free)","4 rooms",{"$f":"VLOOKUP(G2927,Cntrol!$F$3:$G$9,2,FALSE)","v":2},27,11,7,1,0,8]
["E01022220","E01022220 Cotswold 011F","E01022220",{"$f":"VLOOKUP(A2928,'Output Areas'!$A:$E,5,FALSE)","v":"Small Settlements"},"Detached; semi-detached; terraced whole house or bungalow","Shared ownership or rented (excluding living rent free)","5 rooms",{"$f":"VLOOKUP(G2928,Cntrol!$F$3:$G$9,2,FALSE)","v":3},29,17,8,1,0,3]
["E01022220","E01022220 Cotswold 011F","E01022220",{"$f":"VLOOKUP(A2929,'Output Areas'!$A:$E,5,FALSE)","v":"Small Settlements"},"Detached; semi-detached; terraced whole house or bungalow","Shared ownership or rented (excluding living rent free)","6 rooms",{"$f":"VLOOKUP(G2929,Cntrol!$F$3:$G$9,2,FALSE)","v":3},16,6,8,0,0,2]
["E01022220","E01022220 Cotswold 011F","E01022220",{"$f":"VLOOKUP(A2930,'Output Areas'!$A:$E,5,FALSE)","v":"Small Settlements"},"Detached; semi-detached; terraced whole house or bungalow","Shared ownership or rented (excluding living rent free)","7 rooms",{"$f":"VLOOKUP(G2930,Cntrol!$F$3:$G$9,2,FALSE)","v":4},9,7,1,0,0,1]
["E01022220","E01022220 Cotswold 011F","E01022220",{"$f":"VLOOKUP(A2931,'Output Areas'!$A:$E,5,FALSE)","v":"Small Settlements"},"Detached; semi-detached; terraced whole house or bungalow","Shared ownership or rented (excluding living rent free)","8 rooms or more",{"$f":"VLOOKUP(G2931,Cntrol!$F$3:$G$9,2,FALSE)","v":5},6,2,2,0,1,1]
["E01022220","E01022220 Cotswold 011F","E01022220",{"$f":"VLOOKUP(A2932,'Output Areas'!$A:$E,5,FALSE)","v":"Small Settlements"},"A flat; maisonette; apartment","Total: Tenure (excluding living rent free)","Total: Number of rooms",{"$f":"VLOOKUP(G2932,Cntrol!$F$3:$G$9,2,FALSE)","v":0},179,87,21,3,0,68]
["E01022220","E01022220 Cotswold 011F","E01022220",{"$f":"VLOOKUP(A2933,'Output Areas'!$A:$E,5,FALSE)","v":"Small Settlements"},"A flat; maisonette; apartment","Total: Tenure (excluding living rent free)","3 rooms or less",{"$f":"VLOOKUP(G2933,Cntrol!$F$3:$G$9,2,FALSE)","v":2},98,46,4,1,0,47]
["E01022220","E01022220 Cotswold 011F","E01022220",{"$f":"VLOOKUP(A2934,'Output Areas'!$A:$E,5,FALSE)","v":"Small Settlements"},"A flat; maisonette; apartment","Total: Tenure (excluding living rent free)","4 rooms",{"$f":"VLOOKUP(G2934,Cntrol!$F$3:$G$9,2,FALSE)","v":2},54,29,8,2,0,15]
["E01022220","E01022220 Cotswold 011F","E01022220",{"$f":"VLOOKUP(A2935,'Output Areas'!$A:$E,5,FALSE)","v":"Small Settlements"},"A flat; maisonette; apartment","Total: Tenure (excluding living rent free)","5 rooms",{"$f":"VLOOKUP(G2935,Cntrol!$F$3:$G$9,2,FALSE)","v":3},13,6,5,0,0,2]
["E01022220","E01022220 Cotswold 011F","E01022220",{"$f":"VLOOKUP(A2936,'Output Areas'!$A:$E,5,FALSE)","v":"Small Settlements"},"A flat; maisonette; apartment","Total: Tenure (excluding living rent free)","6 rooms",{"$f":"VLOOKUP(G2936,Cntrol!$F$3:$G$9,2,FALSE)","v":3},8,5,2,0,0,1]
["E01022220","E01022220 Cotswold 011F","E01022220",{"$f":"VLOOKUP(A2937,'Output Areas'!$A:$E,5,FALSE)","v":"Small Settlements"},"A flat; maisonette; apartment","Total: Tenure (excluding living rent free)","7 rooms",{"$f":"VLOOKUP(G2937,Cntrol!$F$3:$G$9,2,FALSE)","v":4},1,1,0,0,0,0]
["E01022220","E01022220 Cotswold 011F","E01022220",{"$f":"VLOOKUP(A2938,'Output Areas'!$A:$E,5,FALSE)","v":"Small Settlements"},"A flat; maisonette; apartment","Total: Tenure (excluding living rent free)","8 rooms or more",{"$f":"VLOOKUP(G2938,Cntrol!$F$3:$G$9,2,FALSE)","v":5},5,0,2,0,0,3]
["E01022220","E01022220 Cotswold 011F","E01022220",{"$f":"VLOOKUP(A2939,'Output Areas'!$A:$E,5,FALSE)","v":"Small Settlements"},"A flat; maisonette; apartment","Owned","Total: Number of rooms",{"$f":"VLOOKUP(G2939,Cntrol!$F$3:$G$9,2,FALSE)","v":0},53,28,12,2,0,11]
["E01022220","E01022220 Cotswold 011F","E01022220",{"$f":"VLOOKUP(A2940,'Output Areas'!$A:$E,5,FALSE)","v":"Small Settlements"},"A flat; maisonette; apartment","Owned","3 rooms or less",{"$f":"VLOOKUP(G2940,Cntrol!$F$3:$G$9,2,FALSE)","v":2},18,11,2,0,0,5]
["E01022220","E01022220 Cotswold 011F","E01022220",{"$f":"VLOOKUP(A2941,'Output Areas'!$A:$E,5,FALSE)","v":"Small Settlements"},"A flat; maisonette; apartment","Owned","4 rooms",{"$f":"VLOOKUP(G2941,Cntrol!$F$3:$G$9,2,FALSE)","v":2},21,11,3,2,0,5]
["E01022220","E01022220 Cotswold 011F","E01022220",{"$f":"VLOOKUP(A2942,'Output Areas'!$A:$E,5,FALSE)","v":"Small Settlements"},"A flat; maisonette; apartment","Owned","5 rooms",{"$f":"VLOOKUP(G2942,Cntrol!$F$3:$G$9,2,FALSE)","v":3},7,2,4,0,0,1]
["E01022220","E01022220 Cotswold 011F","E01022220",{"$f":"VLOOKUP(A2943,'Output Areas'!$A:$E,5,FALSE)","v":"Small Settlements"},"A flat; maisonette; apartment","Owned","6 rooms",{"$f":"VLOOKUP(G2943,Cntrol!$F$3:$G$9,2,FALSE)","v":3},6,4,2,0,0,0]
["E01022220","E01022220 Cotswold 011F","E01022220",{"$f":"VLOOKUP(A2944,'Output Areas'!$A:$E,5,FALSE)","v":"Small Settlements"},"A flat; maisonette; apartment","Owned","8 rooms or more",{"$f":"VLOOKUP(G2944,Cntrol!$F$3:$G$9,2,FALSE)","v":5},1,0,1,0,0,0]
["E01022220","E01022220 Cotswold 011F","E01022220",{"$f":"VLOOKUP(A2945,'Output Areas'!$A:$E,5,FALSE)","v":"Small Settlements"},"A flat; maisonette; apartment","Shared ownership or rented (excluding living rent free)","Total: Number of rooms",{"$f":"VLOOKUP(G2945,Cntrol!$F$3:$G$9,2,FALSE)","v":0},126,59,9,1,0,57]
["E01022220","E01022220 Cotswold 011F","E01022220",{"$f":"VLOOKUP(A2946,'Output Areas'!$A:$E,5,FALSE)","v":"Small Settlements"},"A flat; maisonette; apartment","Shared ownership or rented (excluding living rent free)","3 rooms or less",{"$f":"VLOOKUP(G2946,Cntrol!$F$3:$G$9,2,FALSE)","v":2},80,35,2,1,0,42]
["E01022220","E01022220 Cotswold 011F","E01022220",{"$f":"VLOOKUP(A2947,'Output Areas'!$A:$E,5,FALSE)","v":"Small Settlements"},"A flat; maisonette; apartment","Shared ownership or rented (excluding living rent free)","4 rooms",{"$f":"VLOOKUP(G2947,Cntrol!$F$3:$G$9,2,FALSE)","v":2},33,18,5,0,0,10]
["E01022220","E01022220 Cotswold 011F","E01022220",{"$f":"VLOOKUP(A2948,'Output Areas'!$A:$E,5,FALSE)","v":"Small Settlements"},"A flat; maisonette; apartment","Shared ownership or rented (excluding living rent free)","5 rooms",{"$f":"VLOOKUP(G2948,Cntrol!$F$3:$G$9,2,FALSE)","v":3},6,4,1,0,0,1]
["E01022220","E01022220 Cotswold 011F","E01022220",{"$f":"VLOOKUP(A2949,'Output Areas'!$A:$E,5,FALSE)","v":"Small Settlements"},"A flat; maisonette; apartment","Shared ownership or rented (excluding living rent free)","6 rooms",{"$f":"VLOOKUP(G2949,Cntrol!$F$3:$G$9,2,FALSE)","v":3},2,1,0,0,0,1]
["E01022220","E01022220 Cotswold 011F","E01022220",{"$f":"VLOOKUP(A2950,'Output Areas'!$A:$E,5,FALSE)","v":"Small Settlements"},"A flat; maisonette; apartment","Shared ownership or rented (excluding living rent free)","7 rooms",{"$f":"VLOOKUP(G2950,Cntrol!$F$3:$G$9,2,FALSE)","v":4},1,1,0,0,0,0]
["E01022220","E01022220 Cotswold 011F","E01022220",{"$f":"VLOOKUP(A2951,'Output Areas'!$A:$E,5,FALSE)","v":"Small Settlements"},"A flat; maisonette; apartment","Shared ownership or rented (excluding living rent free)","8 rooms or more",{"$f":"VLOOKUP(G2951,Cntrol!$F$3:$G$9,2,FALSE)","v":5},4,0,1,0,0,3]
[]
[null,"Created on 4th December 2015"]
[]
[null,"Advisory note:"]
[null,"'3 rooms or less' includes households who indicated '0 bedrooms'. This is because all households where someone usually lives must have at least one room used as a bedroom."]
[]
[null,"Copyright"]
[null,"Terms and Conditions  "]
[null,"1. All material on the Office for National Statistics (ONS) website is subject to Crown Copyright protection unless otherwise indicated.    "]
[null,"2. These statistics may be used, excluding logos, under the terms of the Open Government Licence.     "]
[null,"http://www.nationalarchives.gov.uk/doc/open-government-licence/"]
[]
[null,"Source: Office for National Statistics   © Crown Copyright 2015"]
[]
[null,"Statistical Disclosure Control"]
[null,"In order to protect against disclosure of personal information, records have been swapped between different geographic areas."]
[null,"Some counts will be affected, particularly small counts at the lowest geographies."]
[]
[null,"More details on the ONS Census disclosure control strategy may be found at:"]
[null,"http://www.ons.gov.uk/ons/guide-method/census/2011/census-data/2011-census-prospectus/new-developments-for-2011-census-results/statistical-disclosure-control/index.html"]

{"sheet":"Cntrol","index":5,"n_rows":16,"n_cols":7,"rows_kept":16,"cut":false,"hidden":true,"merged":[]}
[]
[{"$nulls":5},"Number of Rooms","Number of bedrooms conversion"]
[null,"Total: Accommodation type (excluding caravans / temporary structures)",null,1,"Town and Fringe","Total: Number of rooms",0]
[null,"Detached; semi-detached; terraced whole house or bungalow",null,2,"Small Settlements","3 rooms or less",2]
[null,"A flat; maisonette; apartment",null,3,"Rural","4 rooms",2]
[{"$nulls":5},"5 rooms",3]
[null,"Total: Tenure (excluding living rent free)",null,null,null,"6 rooms",3]
[null,"Owned",null,null,null,"7 rooms",4]
[null,"Shared ownership or rented (excluding living rent free)",null,null,null,"8 rooms or more",5]
[]
[null,"Total: All households"]
[null,"1 car or van in household"]
[null,"2 cars or vans in household"]
[null,"3 cars or vans in household"]
[null,"4 cars or vans or more in household"]
[null,"No cars or vans in household"]

{"sheet":"Output Areas","index":6,"n_rows":52,"n_cols":5,"rows_kept":52,"cut":false,"hidden":true,"merged":[[12,9,13,9]]}
["Output Area","Classification","Output Area","Location","Classification 2"]
["E01022197",3,"E01022197","Cirencester",{"$f":"VLOOKUP(B2,Cntrol!$D$3:$E$5,2,FALSE)","v":"Rural"}]
["E01022196",1,"E01022196","Cirencester",{"$f":"VLOOKUP(B3,Cntrol!$D$3:$E$5,2,FALSE)","v":"Town and Fringe"}]
["E01022195",3,"E01022195","Cirencester",{"$f":"VLOOKUP(B4,Cntrol!$D$3:$E$5,2,FALSE)","v":"Rural"}]
["E01022194",1,"E01022194","Cirencester",{"$f":"VLOOKUP(B5,Cntrol!$D$3:$E$5,2,FALSE)","v":"Town and Fringe"}]
["E01022193",1,"E01022193","Cirencester",{"$f":"VLOOKUP(B6,Cntrol!$D$3:$E$5,2,FALSE)","v":"Town and Fringe"}]
["E01022192",1,"E01022192","Cirencester",{"$f":"VLOOKUP(B7,Cntrol!$D$3:$E$5,2,FALSE)","v":"Town and Fringe"}]
["E01022191",1,"E01022191","Cirencester",{"$f":"VLOOKUP(B8,Cntrol!$D$3:$E$5,2,FALSE)","v":"Town and Fringe"}]
["E01022190",1,"E01022190","Cirencester",{"$f":"VLOOKUP(B9,Cntrol!$D$3:$E$5,2,FALSE)","v":"Town and Fringe"}]
["E01022199",1,"E01022199","Cirencester",{"$f":"VLOOKUP(B10,Cntrol!$D$3:$E$5,2,FALSE)","v":"Town and Fringe"}]
["E01022198",1,"E01022198","Cirencester",{"$f":"VLOOKUP(B11,Cntrol!$D$3:$E$5,2,FALSE)","v":"Town and Fringe"}]
["E01022216",3,"E01022216",null,{"$f":"VLOOKUP(B12,Cntrol!$D$3:$E$5,2,FALSE)","v":"Rural"}]
["E01022217",2,"E01022217","Tetbury",{"$f":"VLOOKUP(B13,Cntrol!$D$3:$E$5,2,FALSE)","v":"Small Settlements"}]
["E01022214",3,"E01022214",null,{"$f":"VLOOKUP(B14,Cntrol!$D$3:$E$5,2,FALSE)","v":"Rural"}]
["E01022215",3,"E01022215",null,{"$f":"VLOOKUP(B15,Cntrol!$D$3:$E$5,2,FALSE)","v":"Rural"}]
["E01022212",2,"E01022212","Moreton in Marsh",{"$f":"VLOOKUP(B16,Cntrol!$D$3:$E$5,2,FALSE)","v":"Small Settlements"}]
["E01022213",2,"E01022213","Northleach",{"$f":"VLOOKUP(B17,Cntrol!$D$3:$E$5,2,FALSE)","v":"Small Settlements"}]
["E01022210",2,"E01022210","Lechlade on Thames",{"$f":"VLOOKUP(B18,Cntrol!$D$3:$E$5,2,FALSE)","v":"Small Settlements"}]
["E01022211",2,"E01022211","Moreton in Marsh",{"$f":"VLOOKUP(B19,Cntrol!$D$3:$E$5,2,FALSE)","v":"Small Settlements"}]
["E01022218",2,"E01022218","Tetbury",{"$f":"VLOOKUP(B20,Cntrol!$D$3:$E$5,2,FALSE)","v":"Small Settlements"}]
["E01022219",2,"E01022219","Tetbury",{"$f":"VLOOKUP(B21,Cntrol!$D$3:$E$5,2,FALSE)","v":"Small Settlements"}]
["E01022224",3,"E01022224",null,{"$f":"VLOOKUP(B22,Cntrol!$D$3:$E$5,2,FALSE)","v":"Rural"}]
["E01022225",3,"E01022225",null,{"$f":"VLOOKUP(B23,Cntrol!$D$3:$E$5,2,FALSE)","v":"Rural"}]
["E01022222",3,"E01022222",null,{"$f":"VLOOKUP(B24,Cntrol!$D$3:$E$5,2,FALSE)","v":"Rural"}]
["E01022223",2,"E01022223","South Cerney",{"$f":"VLOOKUP(B25,Cntrol!$D$3:$E$5,2,FALSE)","v":"Small Settlements"}]
["E01022220",2,"E01022220","Tetbury",{"$f":"VLOOKUP(B26,Cntrol!$D$3:$E$5,2,FALSE)","v":"Small Settlements"}]
["E01022221",3,"E01022221",null,{"$f":"VLOOKUP(B27,Cntrol!$D$3:$E$5,2,FALSE)","v":"Rural"}]
["E01022187",3,"E01022187",null,{"$f":"VLOOKUP(B28,Cntrol!$D$3:$E$5,2,FALSE)","v":"Rural"}]
["E01022186",3,"E01022186",null,{"$f":"VLOOKUP(B29,Cntrol!$D$3:$E$5,2,FALSE)","v":"Rural"}]
["E01022185",3,"E01022185",null,{"$f":"VLOOKUP(B30,Cntrol!$D$3:$E$5,2,FALSE)","v":"Rural"}]
["E01022184",3,"E01022184",null,{"$f":"VLOOKUP(B31,Cntrol!$D$3:$E$5,2,FALSE)","v":"Rural"}]
["E01022183",2,"E01022183","Chipping Camden",{"$f":"VLOOKUP(B32,Cntrol!$D$3:$E$5,2,FALSE)","v":"Small Settlements"}]
["E01022182",3,"E01022182",null,{"$f":"VLOOKUP(B33,Cntrol!$D$3:$E$5,2,FALSE)","v":"Rural"}]
["E01022181",3,"E01022181",null,{"$f":"VLOOKUP(B34,Cntrol!$D$3:$E$5,2,FALSE)","v":"Rural"}]
["E01022180",2,"E01022180","Bourton on the Water",{"$f":"VLOOKUP(B35,Cntrol!$D$3:$E$5,2,FALSE)","v":"Small Settlements"}]
["E01022189",1,"E01022189","Cirencester",{"$f":"VLOOKUP(B36,Cntrol!$D$3:$E$5,2,FALSE)","v":"Town and Fringe"}]
["E01022188",1,"E01022188","Cirencester",{"$f":"VLOOKUP(B37,Cntrol!$D$3:$E$5,2,FALSE)","v":"Town and Fringe"}]
["E01022206",3,"E01022206",null,{"$f":"VLOOKUP(B38,Cntrol!$D$3:$E$5,2,FALSE)","v":"Rural"}]
["E01022207",3,"E01022207",null,{"$f":"VLOOKUP(B39,Cntrol!$D$3:$E$5,2,FALSE)","v":"Rural"}]
["E01022204",2,"E01022204","Fairford",{"$f":"VLOOKUP(B40,Cntrol!$D$3:$E$5,2,FALSE)","v":"Small Settlements"}]
["E01022205",3,"E01022205",null,{"$f":"VLOOKUP(B41,Cntrol!$D$3:$E$5,2,FALSE)","v":"Rural"}]
["E01022202",3,"E01022202",null,{"$f":"VLOOKUP(B42,Cntrol!$D$3:$E$5,2,FALSE)","v":"Rural"}]
["E01022203",3,"E01022203",null,{"$f":"VLOOKUP(B43,Cntrol!$D$3:$E$5,2,FALSE)","v":"Rural"}]
["E01022200",1,"E01022200","Cirencester",{"$f":"VLOOKUP(B44,Cntrol!$D$3:$E$5,2,FALSE)","v":"Town and Fringe"}]
["E01022201",3,"E01022201",null,{"$f":"VLOOKUP(B45,Cntrol!$D$3:$E$5,2,FALSE)","v":"Rural"}]
["E01022208",2,"E01022208","Lechlade on Thames",{"$f":"VLOOKUP(B46,Cntrol!$D$3:$E$5,2,FALSE)","v":"Small Settlements"}]
["E01022209",3,"E01022209",null,{"$f":"VLOOKUP(B47,Cntrol!$D$3:$E$5,2,FALSE)","v":"Rural"}]
["E01022176",3,"E01022176",null,{"$f":"VLOOKUP(B48,Cntrol!$D$3:$E$5,2,FALSE)","v":"Rural"}]
["E01022177",2,"E01022177","Stow on the Wold",{"$f":"VLOOKUP(B49,Cntrol!$D$3:$E$5,2,FALSE)","v":"Small Settlements"}]
["E01022175",3,"E01022175",null,{"$f":"VLOOKUP(B50,Cntrol!$D$3:$E$5,2,FALSE)","v":"Rural"}]
["E01022178",3,"E01022178",null,{"$f":"VLOOKUP(B51,Cntrol!$D$3:$E$5,2,FALSE)","v":"Rural"}]
["E01022179",3,"E01022179",null,{"$f":"VLOOKUP(B52,Cntrol!$D$3:$E$5,2,FALSE)","v":"Rural"}]

{"sheet":"Defs","index":7,"n_rows":21,"n_cols":1,"rows_kept":21,"cut":false,"hidden":true,"merged":[]}
["Town and Fringe"]
["Smaller Settlements"]
["Rural"]
[]
[]
["Detached; semi-detached; terraced whole house or bungalow"]
["A flat; maisonette; apartment"]
[]
["Shared ownership or rented (excluding living rent free)"]
["Owned"]
[]
["1 or 2"]
[3]
[4]
["5+"]
[]
[]
[]
[0]
[1]
[2]

{"sheet":"Defs 2","index":8,"n_rows":5,"n_cols":4,"rows_kept":5,"cut":false,"hidden":true,"merged":[]}
["Detached; semi-detached; terraced whole house or bungalow",null,null,"House"]
["A flat; maisonette; apartment",null,null,"Flat"]
[]
["Shared ownership or rented (excluding living rent free)",null,null,"Shared Ownership/Rented"]
["Owned",null,null,"Owner Occupied"]